Report for Catalyst-Plugin-Cache-0.12

Back
From: metabase:user:7298ebcc-b357-11e4-8d18-8eca7e4756b9
Subject: PASS Catalyst-Plugin-Cache-0.12 v5.20.3 RC1 GNU/Linux
Date: 2015-08-24T06:26:15Z

This distribution has been tested as part of the CPAN Testers
project, supporting the Perl programming language.  See
http://wiki.cpantesters.org/ for more information or email
questions to cpan-testers-discuss@perl.org


--
Dear BOBTFISH,

This is a computer-generated report for Catalyst-Plugin-Cache-0.12
on perl 5.20.3, created by App::cpanminus::reporter 0.13 (1.7027).

Thank you for uploading your work to CPAN.  Congratulations!
All tests were successful.

Sections of this report:

    * Tester comments
    * Program output
    * Prerequisites
    * Environment and other context

------------------------------
TESTER COMMENTS
------------------------------

Additional comments from tester:

none provided

------------------------------
PROGRAM OUTPUT
------------------------------

Output from '':

Building and testing Catalyst-Plugin-Cache-0.12
cp lib/Catalyst/Plugin/Cache/Choose/KeyRegexes.pm blib/lib/Catalyst/Plugin/Cache/Choose/KeyRegexes.pm
cp lib/Catalyst/Plugin/Cache/Backend.pm blib/lib/Catalyst/Plugin/Cache/Backend.pm
cp lib/Catalyst/Plugin/Cache/Curried.pm blib/lib/Catalyst/Plugin/Cache/Curried.pm
cp lib/Catalyst/Plugin/Cache.pm blib/lib/Catalyst/Plugin/Cache.pm
cp lib/Catalyst/Plugin/Cache/Store.pod blib/lib/Catalyst/Plugin/Cache/Store.pod
cp lib/Catalyst/Plugin/Cache/Store/Memory.pm blib/lib/Catalyst/Plugin/Cache/Store/Memory.pm
cp lib/Catalyst/Plugin/Cache/Backend/Memory.pm blib/lib/Catalyst/Plugin/Cache/Backend/Memory.pm
Manifying blib/man3/Catalyst::Plugin::Cache.3
Manifying blib/man3/Catalyst::Plugin::Cache::Backend.3
Manifying blib/man3/Catalyst::Plugin::Cache::Backend::Memory.3
Manifying blib/man3/Catalyst::Plugin::Cache::Choose::KeyRegexes.3
Manifying blib/man3/Catalyst::Plugin::Cache::Curried.3
Manifying blib/man3/Catalyst::Plugin::Cache::Store.3
Manifying blib/man3/Catalyst::Plugin::Cache::Store::Memory.3
PERL_DL_NONLAZY=1 /home/mojolicious/perl5/perlbrew/perls/perl-5.20.3-RC1/bin/perl "-MExtUtils::Command::MM" "-MTest::Harness" "-e" "undef *Test::Harness::Switches; test_harness(0, 'inc', 'blib/lib', 'blib/arch')" t/*.t
t/basic.t ................. ok
t/config_backend_class.t .. ok
t/config_guess_backend.t .. ok
t/currying_conf.t ......... ok
t/key_regexes.t ........... ok
[warn] Catalyst::Plugin::Cache config not found, using empty config!
[warn] Catalyst::Plugin::Cache config not found, using empty config!
t/live_app.t .............. ok
All tests successful.
Files=6, Tests=65,  3 wallclock secs ( 0.04 usr  0.01 sys +  2.67 cusr  0.22 csys =  2.94 CPU)
Result: PASS

------------------------------
PREREQUISITES
------------------------------

Prerequisite modules loaded:

runtime:

    Module              Need Have    
    ------------------- ---- --------
  ! Catalyst            5.8  n/a     
  ! MRO::Compat         0    n/a     
    Storable            0    2.49_01 
  ! Task::Weaken        0    n/a     

build:

    Module              Need Have    
    ------------------- ---- --------
    ExtUtils::MakeMaker 6.36 6.98    
  ! Test::Deep          0    n/a     
  ! Test::Exception     0    n/a     
    Test::More          0.88 1.001002

configure:

    Module              Need Have    
    ------------------- ---- --------
    ExtUtils::MakeMaker 6.36 6.98    


------------------------------
ENVIRONMENT AND OTHER CONTEXT
------------------------------

Environment variables:

    PATH = /home/mojolicious/perl5/perlbrew/bin:/home/mojolicious/perl5/perlbrew/perls/perl-5.20.1/bin:/usr/local/bin:/usr/bin:/bin:/usr/local/games:/usr/games:/home/mojolicious/catalystlib/5.20.3-RC1/5.90050/bin
    PERLBREW_BASHRC_VERSION = 0.73
    PERLBREW_HOME = /home/mojolicious/.perlbrew
    PERLBREW_MANPATH = /home/mojolicious/perl5/perlbrew/perls/perl-5.20.1/man
    PERLBREW_PATH = /home/mojolicious/perl5/perlbrew/bin:/home/mojolicious/perl5/perlbrew/perls/perl-5.20.1/bin
    PERLBREW_PERL = perl-5.20.1
    PERLBREW_ROOT = /home/mojolicious/perl5/perlbrew
    PERLBREW_VERSION = 0.73
    SHELL = /bin/bash
    TERM = xterm

Perl special variables (and OS-specific diagnostics, for MSWin32):

    EGID = 1003 1003
    EUID = 1003
    EXECUTABLE_NAME = /home/mojolicious/perl5/perlbrew/perls/perl-5.20.3-RC1/bin/perl
    GID = 1003 1003
    UID = 1003

Perl module toolchain versions installed:

    Module              Have    
    ------------------- --------
    CPAN                2.05    
    CPAN::Meta          2.140640
    Cwd                 3.48_01 
    ExtUtils::CBuilder  0.280217
    ExtUtils::Command   1.18    
    ExtUtils::Install   1.67    
    ExtUtils::MakeMaker 6.98    
    ExtUtils::Manifest  1.63    
    ExtUtils::ParseXS   3.24    
    File::Spec          3.48_01 
    JSON                2.90    
    JSON::PP            2.27203 
    Module::Build       0.4205  
    Module::Signature   n/a     
    Parse::CPAN::Meta   1.4414  
    Test::Harness       3.30    
    Test::More          1.001002
    YAML                n/a     
    YAML::Syck          n/a     
    version             0.9909  


--

Summary of my perl5 (revision 5 version 20 subversion 3) configuration:
   
  Platform:
    osname=linux, osvers=3.13.0-042stab108.7, archname=x86_64-linux
    uname='linux lvps92-51-161-142.dedicated.hosteurope.de 3.13.0-042stab108.7 #1 smp wed jul 15 15:49:08 msk 2015 x86_64 x86_64 x86_64 gnulinux '
    config_args='-de -Dprefix=/home/mojolicious/perl5/perlbrew/perls/perl-5.20.3-RC1 -Aeval:scriptdir=/home/mojolicious/perl5/perlbrew/perls/perl-5.20.3-RC1/bin'
    hint=recommended, useposix=true, d_sigaction=define
    useithreads=undef, usemultiplicity=undef
    use64bitint=define, use64bitall=define, uselongdouble=undef
    usemymalloc=n, bincompat5005=undef
  Compiler:
    cc='cc', ccflags ='-fwrapv -fno-strict-aliasing -pipe -fstack-protector -I/usr/local/include -D_LARGEFILE_SOURCE -D_FILE_OFFSET_BITS=64',
    optimize='-O2',
    cppflags='-fwrapv -fno-strict-aliasing -pipe -fstack-protector -I/usr/local/include'
    ccversion='', gccversion='4.8.4', gccosandvers=''
    intsize=4, longsize=8, ptrsize=8, doublesize=8, byteorder=12345678
    d_longlong=define, longlongsize=8, d_longdbl=define, longdblsize=16
    ivtype='long', ivsize=8, nvtype='double', nvsize=8, Off_t='off_t', lseeksize=8
    alignbytes=8, prototype=define
  Linker and Libraries:
    ld='cc', ldflags =' -fstack-protector -L/usr/local/lib'
    libpth=/usr/local/lib /usr/lib/gcc/x86_64-linux-gnu/4.8/include-fixed /usr/include/x86_64-linux-gnu /usr/lib /lib/x86_64-linux-gnu /lib/../lib /usr/lib/x86_64-linux-gnu /usr/lib/../lib /lib
    libs=-lpthread -lnsl -ldl -lm -lcrypt -lutil -lc
    perllibs=-lpthread -lnsl -ldl -lm -lcrypt -lutil -lc
    libc=libc-2.19.so, so=so, useshrplib=false, libperl=libperl.a
    gnulibc_version='2.19'
  Dynamic Linking:
    dlsrc=dl_dlopen.xs, dlext=so, d_dlsymun=undef, ccdlflags='-Wl,-E'
    cccdlflags='-fPIC', lddlflags='-shared -O2 -L/usr/local/lib -fstack-protector'


Characteristics of this binary (from libperl): 
  Compile-time options: HAS_TIMES PERLIO_LAYERS PERL_DONT_CREATE_GVSV
                        PERL_HASH_FUNC_ONE_AT_A_TIME_HARD PERL_MALLOC_WRAP
                        PERL_NEW_COPY_ON_WRITE PERL_PRESERVE_IVUV
                        USE_64_BIT_ALL USE_64_BIT_INT USE_LARGE_FILES
                        USE_LOCALE USE_LOCALE_COLLATE USE_LOCALE_CTYPE
                        USE_LOCALE_NUMERIC USE_PERLIO USE_PERL_ATOF
  Locally applied patches:
	RC1
	Devel::PatchPerl 1.30
  Built under linux
  Compiled at Aug 23 2015 06:35:50
  %ENV:
    PERLBREW_BASHRC_VERSION="0.73"
    PERLBREW_HOME="/home/mojolicious/.perlbrew"
    PERLBREW_MANPATH="/home/mojolicious/perl5/perlbrew/perls/perl-5.20.1/man"
    PERLBREW_PATH="/home/mojolicious/perl5/perlbrew/bin:/home/mojolicious/perl5/perlbrew/perls/perl-5.20.1/bin"
    PERLBREW_PERL="perl-5.20.1"
    PERLBREW_ROOT="/home/mojolicious/perl5/perlbrew"
    PERLBREW_VERSION="0.73"
  @INC:
    /home/mojolicious/perl5/perlbrew/perls/perl-5.20.3-RC1/lib/site_perl/5.20.3/x86_64-linux
    /home/mojolicious/perl5/perlbrew/perls/perl-5.20.3-RC1/lib/site_perl/5.20.3
    /home/mojolicious/perl5/perlbrew/perls/perl-5.20.3-RC1/lib/5.20.3/x86_64-linux
    /home/mojolicious/perl5/perlbrew/perls/perl-5.20.3-RC1/lib/5.20.3
    .