Back
From: metabase:user:31d414ea-2aae-11df-837a-5e0a49663a4f
Subject: PASS App-pandoc-preprocess-0.7.1 v5.18.0 GNU/Linux
Date: 2014-03-18T13:12:57Z
This distribution has been tested as part of the CPAN Testers
project, supporting the Perl programming language. See
http://wiki.cpantesters.org/ for more information or email
questions to cpan-testers-discuss@perl.org
--
Dear Daniel,
This is a computer-generated report for App-pandoc-preprocess-0.7.1
on perl 5.18.0, created by CPAN-Reporter-1.2010.
Thank you for uploading your work to CPAN. Congratulations!
All tests were successful.
Sections of this report:
* Tester comments
* Program output
* Prerequisites
* Environment and other context
------------------------------
TESTER COMMENTS
------------------------------
Additional comments from tester:
this report is from an automated smoke testing program
and was not reviewed by a human for accuracy
------------------------------
PROGRAM OUTPUT
------------------------------
Output from './Build test':
t/00-check-deps.t ........ ok
t/00-load.t .............. ok
# Prerequisite Report:
# Version Module
# -------- ---------------------
# 1.29 Carp
# 0.35 Data::Printer
# 6.92 ExtUtils::MakeMaker
# 3.40 File::Spec::Functions
# 1.51 FindBin
# 1.38 List::Util
# 0.4205 Module::Build
# 1.38 Scalar::Util
# 0.010 Test::CheckDeps
# 1.001002 Test::More
# 0.14 Test::UseAllModules
# 0.63 lib
# 1.07 strict
# 1.18 warnings
t/00-report-prereqs.t .... ok
# Testing with Perl 5.018000, /home/david/cpantesting/perl-5.18.0/bin/perl
# Carp version is 1.29
# Data::Printer version is 0.35
# ExtUtils::MakeMaker version is 6.92
# File::Spec::Functions version is 3.40
# FindBin version is 1.51
# List::Util version is 1.38
# Module::Build version is 0.4205
# Scalar::Util version is 1.38
# Test::CheckDeps version is 0.010
# Test::More version is 1.001002
# Test::UseAllModules version is 0.14
# lib version is 0.63
# strict version is 1.07
# warnings version is 1.18
t/000-report-versions.t .. ok
All tests successful.
Files=4, Tests=33, 1 wallclock secs ( 0.02 usr 0.03 sys + 0.39 cusr 0.08 csys = 0.52 CPU)
Result: PASS
------------------------------
PREREQUISITES
------------------------------
Prerequisite modules loaded:
requires:
Module Need Have
--------------------- ------- --------
Data::Printer 0 0.35
FindBin 0 1.51
lib 0 0.63
perl v5.14.0 5.018000
strict 0 1.07
warnings 0 1.18
build_requires:
Module Need Have
--------------------- ------- --------
Carp 0 1.29
ExtUtils::MakeMaker 0 6.92
File::Spec::Functions 0 3.40
List::Util 0 1.38
Module::Build 0.3601 0.4205
Scalar::Util 0 1.38
Test::CheckDeps 0.006 0.010
Test::More 0.94 1.001002
Test::UseAllModules 0 0.14
configure_requires:
Module Need Have
--------------------- ------- --------
ExtUtils::MakeMaker 6.30 6.92
Module::Build 0.3601 0.4205
------------------------------
ENVIRONMENT AND OTHER CONTEXT
------------------------------
Environment variables:
AUTOMATED_TESTING = 1
PATH = /usr/local/bin:/usr/bin:/bin:/usr/games
PERL = 5.18.0
PERL5LIB =
PERL5OPT =
PERL5_CPANPLUS_IS_RUNNING = 9524
PERL5_CPAN_IS_RUNNING = 9524
PERLVER = 5.18.0
PERL_INLINE_DIRECTORY = /home/david/.Inline-5.18.0
PERL_MM_USE_DEFAULT = 1
SHELL = /bin/bash
TERM = screen
Perl special variables (and OS-specific diagnostics, for MSWin32):
$^X = /home/david/cpantesting/perl-5.18.0/bin/perl
$UID/$EUID = 1000 / 1000
$GID = 1000 1000
$EGID = 1000 1000
Perl module toolchain versions installed:
Module Have
------------------- --------
CPAN 2.00
CPAN::Meta 2.140640
Cwd 3.40
ExtUtils::CBuilder 0.280210
ExtUtils::Command 1.17
ExtUtils::Install 1.59
ExtUtils::MakeMaker 6.92
ExtUtils::Manifest 1.63
ExtUtils::ParseXS 3.24
File::Spec 3.40
JSON 2.57
JSON::PP 2.27203
Module::Build 0.4205
Module::Signature n/a
Parse::CPAN::Meta 1.4414
Test::Harness 3.30
Test::More 1.001002
YAML 0.90
YAML::Syck n/a
version 0.9902
--
Summary of my perl5 (revision 5 version 18 subversion 0) configuration:
Platform:
osname=linux, osvers=3.2.0-4-amd64, archname=x86_64-linux-thread-multi
uname='linux pigsty.barnyard.co.uk 3.2.0-4-amd64 #1 smp debian 3.2.35-2 x86_64 gnulinux '
config_args='-de -Dprefix=/home/david/cpantesting/perl-5.18.0 -Dusethreads -Duse64bitall'
hint=recommended, useposix=true, d_sigaction=define
useithreads=define, usemultiplicity=define
useperlio=define, d_sfio=undef, uselargefiles=define, usesocks=undef
use64bitint=define, use64bitall=define, uselongdouble=undef
usemymalloc=n, bincompat5005=undef
Compiler:
cc='cc', ccflags ='-D_REENTRANT -D_GNU_SOURCE -fno-strict-aliasing -pipe -fstack-protector -I/usr/local/include -D_LARGEFILE_SOURCE -D_FILE_OFFSET_BITS=64',
optimize='-O2',
cppflags='-D_REENTRANT -D_GNU_SOURCE -fno-strict-aliasing -pipe -fstack-protector -I/usr/local/include'
ccversion='', gccversion='4.1.2 20061115 (prerelease) (Debian 4.1.1-21)', gccosandvers=''
intsize=4, longsize=8, ptrsize=8, doublesize=8, byteorder=12345678
d_longlong=define, longlongsize=8, d_longdbl=define, longdblsize=16
ivtype='long', ivsize=8, nvtype='double', nvsize=8, Off_t='off_t', lseeksize=8
alignbytes=8, prototype=define
Linker and Libraries:
ld='cc', ldflags =' -fstack-protector -L/usr/local/lib'
libpth=/usr/local/lib /lib /usr/lib /lib64 /usr/lib64
libs=-lnsl -lgdbm -ldb -ldl -lm -lcrypt -lutil -lpthread -lc -lgdbm_compat
perllibs=-lnsl -ldl -lm -lcrypt -lutil -lpthread -lc
libc=/lib/libc-2.3.6.so, so=so, useshrplib=false, libperl=libperl.a
gnulibc_version='2.3.6'
Dynamic Linking:
dlsrc=dl_dlopen.xs, dlext=so, d_dlsymun=undef, ccdlflags='-Wl,-E'
cccdlflags='-fPIC', lddlflags='-shared -O2 -L/usr/local/lib -fstack-protector'
Characteristics of this binary (from libperl):
Compile-time options: HAS_TIMES MULTIPLICITY PERLIO_LAYERS
PERL_DONT_CREATE_GVSV
PERL_HASH_FUNC_ONE_AT_A_TIME_HARD
PERL_IMPLICIT_CONTEXT PERL_MALLOC_WRAP
PERL_PRESERVE_IVUV PERL_SAWAMPERSAND USE_64_BIT_ALL
USE_64_BIT_INT USE_ITHREADS USE_LARGE_FILES
USE_LOCALE USE_LOCALE_COLLATE USE_LOCALE_CTYPE
USE_LOCALE_NUMERIC USE_PERLIO USE_PERL_ATOF
USE_REENTRANT_API
Built under linux
Compiled at May 20 2013 18:28:55
%ENV:
PERL="5.18.0"
PERL5LIB=""
PERL5OPT=""
PERL5_CPANPLUS_IS_RUNNING="9524"
PERL5_CPAN_IS_RUNNING="9524"
PERLVER="5.18.0"
PERL_INLINE_DIRECTORY="/home/david/.Inline-5.18.0"
PERL_MM_USE_DEFAULT="1"
@INC:
/home/david/cpantesting/perl-5.18.0/lib/site_perl/5.18.0/x86_64-linux-thread-multi
/home/david/cpantesting/perl-5.18.0/lib/site_perl/5.18.0
/home/david/cpantesting/perl-5.18.0/lib/5.18.0/x86_64-linux-thread-multi
/home/david/cpantesting/perl-5.18.0/lib/5.18.0
.