XML-Toolkit v0.15 Perl 5 v5.31.3 x86_64-linux

Status
Pass
From
Andreas J. König (ANDK)
Dist
XML-Toolkit v0.15
Platform
Perl 5 v5.31.3 x86_64-linux
Date
2019-07-31 02:58:07
ID
05a6e838-b33f-11e9-9a07-e3259bb56f9b
This distribution has been tested as part of the CPAN Testers
project, supporting the Perl programming language.  See
http://wiki.cpantesters.org/ for more information or email
questions to cpan-testers-discuss@perl.org


--
Dear Chris Prather,

This is a computer-generated report for XML-Toolkit-0.15
on perl 5.31.3, created by CPAN-Reporter-1.2018.

Thank you for uploading your work to CPAN.  Congratulations!
All tests were successful.

Sections of this report:

    * Tester comments
    * Program output
    * Prerequisites
    * Environment and other context

------------------------------
TESTER COMMENTS
------------------------------

Additional comments from tester:

this report is from an automated smoke testing program
and was not reviewed by a human for accuracy

------------------------------
PROGRAM OUTPUT
------------------------------

Output from '/usr/bin/make test':

PERL_DL_NONLAZY=1 "/tmp/basesmoker-reloperl-W1Eo/bin/perl" "-MExtUtils::Command::MM" "-MTest::Harness" "-e" "undef *Test::Harness::Switches; test_harness(0, 'blib/lib', 'blib/arch')" t/*.t t/02.namespaces/*.t t/06.reuse/*.t
t/00-compile.t ................................ ok
Class::MOP::load_class is deprecated at /home/sand/src/perl/repoperls/installed-perls/host/k93msid/v5.31.2-35-g82007f754e/3c10/lib/site_perl/5.31.3/x86_64-linux/Class/MOP.pm line 69.
	Class::MOP::load_class("MyTest::Note") called at /home/sand/.cpan/privbuild/k93msid/XML-Toolkit-0.15-1/blib/lib/XML/Toolkit/Loader/Filter.pm line 44
	XML::Toolkit::Loader::Filter::load_class(XML::Toolkit::Loader::Filter=HASH(0x559674c3b150), "MyTest::Note") called at /home/sand/.cpan/privbuild/k93msid/XML-Toolkit-0.15-1/blib/lib/XML/Toolkit/Loader/Filter.pm line 63
	XML::Toolkit::Loader::Filter::start_element(XML::Toolkit::Loader::Filter=HASH(0x559674c3b150), HASH(0x559674c7d4a8)) called at /home/sand/src/perl/repoperls/installed-perls/host/k93msid/v5.31.2-35-g82007f754e/3c10/lib/site_perl/5.31.3/x86_64-linux/XML/SAX/ExpatXS/Preload.pm line 167
	XML::SAX::ExpatXS::Preload::__ANON__(HASH(0x559674c7d4a8)) called at /home/sand/src/perl/repoperls/installed-perls/host/k93msid/v5.31.2-35-g82007f754e/3c10/lib/site_perl/5.31.3/x86_64-linux/XML/SAX/ExpatXS.pm line 163
	XML::SAX::ExpatXS::_parse(XML::SAX::ExpatXS=HASH(0x559674c0a380)) called at /home/sand/src/perl/repoperls/installed-perls/host/k93msid/v5.31.2-35-g82007f754e/3c10/lib/site_perl/5.31.3/x86_64-linux/XML/SAX/ExpatXS.pm line 102
	XML::SAX::ExpatXS::_parse_string(XML::SAX::ExpatXS=HASH(0x559674c0a380), "<?xml version=\"1.0\"?>\x{a}<note>\x{a}    <to>Tove</to>\x{a}    <from>Jani"...) called at /home/sand/src/perl/repoperls/installed-perls/host/k93msid/v5.31.2-35-g82007f754e/3c10/lib/site_perl/5.31.3/XML/SAX/Base.pm line 2614
	XML::SAX::Base::parse(XML::SAX::ExpatXS=HASH(0x559674c0a380), HASH(0x559674c7d8e0)) called at /home/sand/src/perl/repoperls/installed-perls/host/k93msid/v5.31.2-35-g82007f754e/3c10/lib/site_perl/5.31.3/XML/SAX/Base.pm line 2659
	XML::SAX::Base::parse_string(XML::SAX::ExpatXS=HASH(0x559674c0a380), "<?xml version=\"1.0\"?>\x{a}<note>\x{a}    <to>Tove</to>\x{a}    <from>Jani"...) called at inline delegation in XML::Toolkit::Loader for parser->parse_string (attribute declared in /home/sand/.cpan/privbuild/k93msid/XML-Toolkit-0.15-1/blib/lib/XML/Toolkit/Loader.pm at line 22) line 18
	XML::Toolkit::Loader::parse_string(XML::Toolkit::Loader=HASH(0x559674c73d30), "<?xml version=\"1.0\"?>\x{a}<note>\x{a}    <to>Tove</to>\x{a}    <from>Jani"...) called at /home/sand/src/perl/repoperls/installed-perls/host/k93msid/v5.31.2-35-g82007f754e/3c10/lib/site_perl/5.31.3/x86_64-linux/Class/MOP/Method/Wrapped.pm line 44
	XML::Toolkit::Loader::_wrapped_parse_string(XML::Toolkit::Loader=HASH(0x559674c73d30), "<?xml version=\"1.0\"?>\x{a}<note>\x{a}    <to>Tove</to>\x{a}    <from>Jani"...) called at /home/sand/src/perl/repoperls/installed-perls/host/k93msid/v5.31.2-35-g82007f754e/3c10/lib/site_perl/5.31.3/x86_64-linux/Class/MOP/Method/Wrapped.pm line 95
	XML::Toolkit::Loader::parse_string(XML::Toolkit::Loader=HASH(0x559674c73d30), "<?xml version=\"1.0\"?>\x{a}<note>\x{a}    <to>Tove</to>\x{a}    <from>Jani"...) called at t/01.basic.t line 31
t/01.basic.t .................................. ok
Class::MOP::load_class is deprecated at /home/sand/src/perl/repoperls/installed-perls/host/k93msid/v5.31.2-35-g82007f754e/3c10/lib/site_perl/5.31.3/x86_64-linux/Class/MOP.pm line 69.
	Class::MOP::load_class("XMLTK::Test::Foo") called at /home/sand/.cpan/privbuild/k93msid/XML-Toolkit-0.15-1/blib/lib/XML/Toolkit/Loader/Filter.pm line 44
	XML::Toolkit::Loader::Filter::load_class(XML::Toolkit::Loader::Filter=HASH(0x5629ca3a7a50), "XMLTK::Test::Foo") called at /home/sand/.cpan/privbuild/k93msid/XML-Toolkit-0.15-1/blib/lib/XML/Toolkit/Loader/Filter.pm line 63
	XML::Toolkit::Loader::Filter::start_element(XML::Toolkit::Loader::Filter=HASH(0x5629ca3a7a50), HASH(0x5629c99f20e0)) called at /home/sand/src/perl/repoperls/installed-perls/host/k93msid/v5.31.2-35-g82007f754e/3c10/lib/site_perl/5.31.3/x86_64-linux/XML/SAX/ExpatXS/Preload.pm line 167
	XML::SAX::ExpatXS::Preload::__ANON__(HASH(0x5629c99f20e0)) called at /home/sand/src/perl/repoperls/installed-perls/host/k93msid/v5.31.2-35-g82007f754e/3c10/lib/site_perl/5.31.3/x86_64-linux/XML/SAX/ExpatXS.pm line 163
	XML::SAX::ExpatXS::_parse(XML::SAX::ExpatXS=HASH(0x5629ca38e978)) called at /home/sand/src/perl/repoperls/installed-perls/host/k93msid/v5.31.2-35-g82007f754e/3c10/lib/site_perl/5.31.3/x86_64-linux/XML/SAX/ExpatXS.pm line 102
	XML::SAX::ExpatXS::_parse_string(XML::SAX::ExpatXS=HASH(0x5629ca38e978), "<foo xmlns:my=\"http://example.org/my/\"><my:bar /></foo>") called at /home/sand/src/perl/repoperls/installed-perls/host/k93msid/v5.31.2-35-g82007f754e/3c10/lib/site_perl/5.31.3/XML/SAX/Base.pm line 2614
	XML::SAX::Base::parse(XML::SAX::ExpatXS=HASH(0x5629ca38e978), HASH(0x5629ca4602e0)) called at /home/sand/src/perl/repoperls/installed-perls/host/k93msid/v5.31.2-35-g82007f754e/3c10/lib/site_perl/5.31.3/XML/SAX/Base.pm line 2659
	XML::SAX::Base::parse_string(XML::SAX::ExpatXS=HASH(0x5629ca38e978), "<foo xmlns:my=\"http://example.org/my/\"><my:bar /></foo>") called at inline delegation in XML::Toolkit::Loader for parser->parse_string (attribute declared in /home/sand/.cpan/privbuild/k93msid/XML-Toolkit-0.15-1/blib/lib/XML/Toolkit/Loader.pm at line 22) line 18
	XML::Toolkit::Loader::parse_string(XML::Toolkit::Loader=HASH(0x5629ca0e7358), "<foo xmlns:my=\"http://example.org/my/\"><my:bar /></foo>") called at /home/sand/src/perl/repoperls/installed-perls/host/k93msid/v5.31.2-35-g82007f754e/3c10/lib/site_perl/5.31.3/x86_64-linux/Class/MOP/Method/Wrapped.pm line 44
	XML::Toolkit::Loader::_wrapped_parse_string(XML::Toolkit::Loader=HASH(0x5629ca0e7358), "<foo xmlns:my=\"http://example.org/my/\"><my:bar /></foo>") called at /home/sand/src/perl/repoperls/installed-perls/host/k93msid/v5.31.2-35-g82007f754e/3c10/lib/site_perl/5.31.3/x86_64-linux/Class/MOP/Method/Wrapped.pm line 95
	XML::Toolkit::Loader::parse_string(XML::Toolkit::Loader=HASH(0x5629ca0e7358), "<foo xmlns:my=\"http://example.org/my/\"><my:bar /></foo>") called at t/02.namespaces/01.basic_namespace.t line 36
t/02.namespaces/01.basic_namespace.t .......... ok
Class::MOP::load_class is deprecated at /home/sand/src/perl/repoperls/installed-perls/host/k93msid/v5.31.2-35-g82007f754e/3c10/lib/site_perl/5.31.3/x86_64-linux/Class/MOP.pm line 69.
	Class::MOP::load_class("ABC::Root") called at /home/sand/.cpan/privbuild/k93msid/XML-Toolkit-0.15-1/blib/lib/XML/Toolkit/Loader/Filter.pm line 44
	XML::Toolkit::Loader::Filter::load_class(XML::Toolkit::Loader::Filter=HASH(0x55c59e775bf8), "ABC::Root") called at /home/sand/.cpan/privbuild/k93msid/XML-Toolkit-0.15-1/blib/lib/XML/Toolkit/Loader/Filter.pm line 63
	XML::Toolkit::Loader::Filter::start_element(XML::Toolkit::Loader::Filter=HASH(0x55c59e775bf8), HASH(0x55c59e3354c8)) called at /home/sand/src/perl/repoperls/installed-perls/host/k93msid/v5.31.2-35-g82007f754e/3c10/lib/site_perl/5.31.3/x86_64-linux/XML/SAX/ExpatXS/Preload.pm line 167
	XML::SAX::ExpatXS::Preload::__ANON__(HASH(0x55c59e3354c8)) called at /home/sand/src/perl/repoperls/installed-perls/host/k93msid/v5.31.2-35-g82007f754e/3c10/lib/site_perl/5.31.3/x86_64-linux/XML/SAX/ExpatXS.pm line 163
	XML::SAX::ExpatXS::_parse(XML::SAX::ExpatXS=HASH(0x55c59e5392e0)) called at /home/sand/src/perl/repoperls/installed-perls/host/k93msid/v5.31.2-35-g82007f754e/3c10/lib/site_perl/5.31.3/x86_64-linux/XML/SAX/ExpatXS.pm line 102
	XML::SAX::ExpatXS::_parse_string(XML::SAX::ExpatXS=HASH(0x55c59e5392e0), "<root xmlns=\"abc\">test1</root>") called at /home/sand/src/perl/repoperls/installed-perls/host/k93msid/v5.31.2-35-g82007f754e/3c10/lib/site_perl/5.31.3/XML/SAX/Base.pm line 2614
	XML::SAX::Base::parse(XML::SAX::ExpatXS=HASH(0x55c59e5392e0), HASH(0x55c59d9dcde8)) called at /home/sand/src/perl/repoperls/installed-perls/host/k93msid/v5.31.2-35-g82007f754e/3c10/lib/site_perl/5.31.3/XML/SAX/Base.pm line 2659
	XML::SAX::Base::parse_string(XML::SAX::ExpatXS=HASH(0x55c59e5392e0), "<root xmlns=\"abc\">test1</root>") called at inline delegation in XML::Toolkit::Loader for parser->parse_string (attribute declared in /home/sand/.cpan/privbuild/k93msid/XML-Toolkit-0.15-1/blib/lib/XML/Toolkit/Loader.pm at line 22) line 18
	XML::Toolkit::Loader::parse_string(XML::Toolkit::Loader=HASH(0x55c59cd33a58), "<root xmlns=\"abc\">test1</root>") called at /home/sand/src/perl/repoperls/installed-perls/host/k93msid/v5.31.2-35-g82007f754e/3c10/lib/site_perl/5.31.3/x86_64-linux/Class/MOP/Method/Wrapped.pm line 44
	XML::Toolkit::Loader::_wrapped_parse_string(XML::Toolkit::Loader=HASH(0x55c59cd33a58), "<root xmlns=\"abc\">test1</root>") called at /home/sand/src/perl/repoperls/installed-perls/host/k93msid/v5.31.2-35-g82007f754e/3c10/lib/site_perl/5.31.3/x86_64-linux/Class/MOP/Method/Wrapped.pm line 95
	XML::Toolkit::Loader::parse_string(XML::Toolkit::Loader=HASH(0x55c59cd33a58), "<root xmlns=\"abc\">test1</root>") called at t/02.namespaces/02.root_namespace_equality.t line 26
t/02.namespaces/02.root_namespace_equality.t .. ok
Class::MOP::is_class_loaded is deprecated at /home/sand/src/perl/repoperls/installed-perls/host/k93msid/v5.31.2-35-g82007f754e/3c10/lib/site_perl/5.31.3/x86_64-linux/Class/MOP.pm line 87.
	Class::MOP::is_class_loaded("MyApp::Root") called at t/02.namespaces/03.namespaced_loading.t line 39
	eval {...} called at t/02.namespaces/03.namespaced_loading.t line 34
Class::MOP::load_class is deprecated at /home/sand/src/perl/repoperls/installed-perls/host/k93msid/v5.31.2-35-g82007f754e/3c10/lib/site_perl/5.31.3/x86_64-linux/Class/MOP.pm line 69.
	Class::MOP::load_class("MyApp::Root") called at /home/sand/.cpan/privbuild/k93msid/XML-Toolkit-0.15-1/blib/lib/XML/Toolkit/Loader/Filter.pm line 44
	XML::Toolkit::Loader::Filter::load_class(XML::Toolkit::Loader::Filter=HASH(0x5647f0eff4b8), "MyApp::Root") called at /home/sand/.cpan/privbuild/k93msid/XML-Toolkit-0.15-1/blib/lib/XML/Toolkit/Loader/Filter.pm line 63
	XML::Toolkit::Loader::Filter::start_element(XML::Toolkit::Loader::Filter=HASH(0x5647f0eff4b8), HASH(0x5647f0c96670)) called at /home/sand/src/perl/repoperls/installed-perls/host/k93msid/v5.31.2-35-g82007f754e/3c10/lib/site_perl/5.31.3/x86_64-linux/XML/SAX/ExpatXS/Preload.pm line 167
	XML::SAX::ExpatXS::Preload::__ANON__(HASH(0x5647f0c96670)) called at /home/sand/src/perl/repoperls/installed-perls/host/k93msid/v5.31.2-35-g82007f754e/3c10/lib/site_perl/5.31.3/x86_64-linux/XML/SAX/ExpatXS.pm line 163
	XML::SAX::ExpatXS::_parse(XML::SAX::ExpatXS=HASH(0x5647f0c09d20)) called at /home/sand/src/perl/repoperls/installed-perls/host/k93msid/v5.31.2-35-g82007f754e/3c10/lib/site_perl/5.31.3/x86_64-linux/XML/SAX/ExpatXS.pm line 102
	XML::SAX::ExpatXS::_parse_string(XML::SAX::ExpatXS=HASH(0x5647f0c09d20), "<root xmlns:a=\"a\" xmlns:b=\"b\">\x{a}    <a:one>oneA</a:one>\x{a}    <b"...) called at /home/sand/src/perl/repoperls/installed-perls/host/k93msid/v5.31.2-35-g82007f754e/3c10/lib/site_perl/5.31.3/XML/SAX/Base.pm line 2614
	XML::SAX::Base::parse(XML::SAX::ExpatXS=HASH(0x5647f0c09d20), HASH(0x5647f011d060)) called at /home/sand/src/perl/repoperls/installed-perls/host/k93msid/v5.31.2-35-g82007f754e/3c10/lib/site_perl/5.31.3/XML/SAX/Base.pm line 2659
	XML::SAX::Base::parse_string(XML::SAX::ExpatXS=HASH(0x5647f0c09d20), "<root xmlns:a=\"a\" xmlns:b=\"b\">\x{a}    <a:one>oneA</a:one>\x{a}    <b"...) called at inline delegation in XML::Toolkit::Loader for parser->parse_string (attribute declared in /home/sand/.cpan/privbuild/k93msid/XML-Toolkit-0.15-1/blib/lib/XML/Toolkit/Loader.pm at line 22) line 18
	XML::Toolkit::Loader::parse_string(XML::Toolkit::Loader=HASH(0x5647f0f095a0), "<root xmlns:a=\"a\" xmlns:b=\"b\">\x{a}    <a:one>oneA</a:one>\x{a}    <b"...) called at /home/sand/src/perl/repoperls/installed-perls/host/k93msid/v5.31.2-35-g82007f754e/3c10/lib/site_perl/5.31.3/x86_64-linux/Class/MOP/Method/Wrapped.pm line 44
	XML::Toolkit::Loader::_wrapped_parse_string(XML::Toolkit::Loader=HASH(0x5647f0f095a0), "<root xmlns:a=\"a\" xmlns:b=\"b\">\x{a}    <a:one>oneA</a:one>\x{a}    <b"...) called at /home/sand/src/perl/repoperls/installed-perls/host/k93msid/v5.31.2-35-g82007f754e/3c10/lib/site_perl/5.31.3/x86_64-linux/Class/MOP/Method/Wrapped.pm line 95
	XML::Toolkit::Loader::parse_string(XML::Toolkit::Loader=HASH(0x5647f0f095a0), "<root xmlns:a=\"a\" xmlns:b=\"b\">\x{a}    <a:one>oneA</a:one>\x{a}    <b"...) called at t/02.namespaces/03.namespaced_loading.t line 47
	eval {...} called at t/02.namespaces/03.namespaced_loading.t line 45
t/02.namespaces/03.namespaced_loading.t ....... ok
Class::MOP::load_class is deprecated at /home/sand/src/perl/repoperls/installed-perls/host/k93msid/v5.31.2-35-g82007f754e/3c10/lib/site_perl/5.31.3/x86_64-linux/Class/MOP.pm line 69.
	Class::MOP::load_class("XML::XSPF::Playlist") called at /home/sand/.cpan/privbuild/k93msid/XML-Toolkit-0.15-1/blib/lib/XML/Toolkit/Loader/Filter.pm line 44
	XML::Toolkit::Loader::Filter::load_class(XML::Toolkit::Loader::Filter=HASH(0x55828fd69968), "XML::XSPF::Playlist") called at /home/sand/.cpan/privbuild/k93msid/XML-Toolkit-0.15-1/blib/lib/XML/Toolkit/Loader/Filter.pm line 63
	XML::Toolkit::Loader::Filter::start_element(XML::Toolkit::Loader::Filter=HASH(0x55828fd69968), HASH(0x55828fd43388)) called at /home/sand/src/perl/repoperls/installed-perls/host/k93msid/v5.31.2-35-g82007f754e/3c10/lib/site_perl/5.31.3/x86_64-linux/XML/SAX/ExpatXS/Preload.pm line 167
	XML::SAX::ExpatXS::Preload::__ANON__(HASH(0x55828fd43388)) called at /home/sand/src/perl/repoperls/installed-perls/host/k93msid/v5.31.2-35-g82007f754e/3c10/lib/site_perl/5.31.3/x86_64-linux/XML/SAX/ExpatXS.pm line 163
	XML::SAX::ExpatXS::_parse(XML::SAX::ExpatXS=HASH(0x55828fb2a878)) called at /home/sand/src/perl/repoperls/installed-perls/host/k93msid/v5.31.2-35-g82007f754e/3c10/lib/site_perl/5.31.3/x86_64-linux/XML/SAX/ExpatXS.pm line 102
	XML::SAX::ExpatXS::_parse_string(XML::SAX::ExpatXS=HASH(0x55828fb2a878), "<?xml version=\"1.0\" encoding=\"utf-8\"?>\x{a}<playlist version=\"1\" "...) called at /home/sand/src/perl/repoperls/installed-perls/host/k93msid/v5.31.2-35-g82007f754e/3c10/lib/site_perl/5.31.3/XML/SAX/Base.pm line 2614
	XML::SAX::Base::parse(XML::SAX::ExpatXS=HASH(0x55828fb2a878), HASH(0x55828fd4ab68)) called at /home/sand/src/perl/repoperls/installed-perls/host/k93msid/v5.31.2-35-g82007f754e/3c10/lib/site_perl/5.31.3/XML/SAX/Base.pm line 2659
	XML::SAX::Base::parse_string(XML::SAX::ExpatXS=HASH(0x55828fb2a878), "<?xml version=\"1.0\" encoding=\"utf-8\"?>\x{a}<playlist version=\"1\" "...) called at inline delegation in XML::Toolkit::Loader for parser->parse_string (attribute declared in /home/sand/.cpan/privbuild/k93msid/XML-Toolkit-0.15-1/blib/lib/XML/Toolkit/Loader.pm at line 22) line 18
	XML::Toolkit::Loader::parse_string(XML::Toolkit::Loader=HASH(0x55828fd005a8), "<?xml version=\"1.0\" encoding=\"utf-8\"?>\x{a}<playlist version=\"1\" "...) called at /home/sand/src/perl/repoperls/installed-perls/host/k93msid/v5.31.2-35-g82007f754e/3c10/lib/site_perl/5.31.3/x86_64-linux/Class/MOP/Method/Wrapped.pm line 44
	XML::Toolkit::Loader::_wrapped_parse_string(XML::Toolkit::Loader=HASH(0x55828fd005a8), "<?xml version=\"1.0\" encoding=\"utf-8\"?>\x{a}<playlist version=\"1\" "...) called at /home/sand/src/perl/repoperls/installed-perls/host/k93msid/v5.31.2-35-g82007f754e/3c10/lib/site_perl/5.31.3/x86_64-linux/Class/MOP/Method/Wrapped.pm line 95
	XML::Toolkit::Loader::parse_string(XML::Toolkit::Loader=HASH(0x55828fd005a8), "<?xml version=\"1.0\" encoding=\"utf-8\"?>\x{a}<playlist version=\"1\" "...) called at t/03.xspf.t line 45
t/03.xspf.t ................................... ok
Class::MOP::load_class is deprecated at /home/sand/src/perl/repoperls/installed-perls/host/k93msid/v5.31.2-35-g82007f754e/3c10/lib/site_perl/5.31.3/x86_64-linux/Class/MOP.pm line 69.
	Class::MOP::load_class("XML::RDF::RDF") called at /home/sand/.cpan/privbuild/k93msid/XML-Toolkit-0.15-1/blib/lib/XML/Toolkit/Loader/Filter.pm line 44
	XML::Toolkit::Loader::Filter::load_class(XML::Toolkit::Loader::Filter=HASH(0x56436ea5dae0), "XML::RDF::RDF") called at /home/sand/.cpan/privbuild/k93msid/XML-Toolkit-0.15-1/blib/lib/XML/Toolkit/Loader/Filter.pm line 63
	XML::Toolkit::Loader::Filter::start_element(XML::Toolkit::Loader::Filter=HASH(0x56436ea5dae0), HASH(0x56436ed59fb8)) called at /home/sand/src/perl/repoperls/installed-perls/host/k93msid/v5.31.2-35-g82007f754e/3c10/lib/site_perl/5.31.3/x86_64-linux/XML/SAX/ExpatXS/Preload.pm line 167
	XML::SAX::ExpatXS::Preload::__ANON__(HASH(0x56436ed59fb8)) called at /home/sand/src/perl/repoperls/installed-perls/host/k93msid/v5.31.2-35-g82007f754e/3c10/lib/site_perl/5.31.3/x86_64-linux/XML/SAX/ExpatXS.pm line 163
	XML::SAX::ExpatXS::_parse(XML::SAX::ExpatXS=HASH(0x56436e937f20)) called at /home/sand/src/perl/repoperls/installed-perls/host/k93msid/v5.31.2-35-g82007f754e/3c10/lib/site_perl/5.31.3/x86_64-linux/XML/SAX/ExpatXS.pm line 102
	XML::SAX::ExpatXS::_parse_string(XML::SAX::ExpatXS=HASH(0x56436e937f20), "<?xml version=\"1.0\" encoding=\"utf-8\"?>\x{a}<rdf:RDF\x{a}  xmlns:rdf=\""...) called at /home/sand/src/perl/repoperls/installed-perls/host/k93msid/v5.31.2-35-g82007f754e/3c10/lib/site_perl/5.31.3/XML/SAX/Base.pm line 2614
	XML::SAX::Base::parse(XML::SAX::ExpatXS=HASH(0x56436e937f20), HASH(0x56436ed48160)) called at /home/sand/src/perl/repoperls/installed-perls/host/k93msid/v5.31.2-35-g82007f754e/3c10/lib/site_perl/5.31.3/XML/SAX/Base.pm line 2659
	XML::SAX::Base::parse_string(XML::SAX::ExpatXS=HASH(0x56436e937f20), "<?xml version=\"1.0\" encoding=\"utf-8\"?>\x{a}<rdf:RDF\x{a}  xmlns:rdf=\""...) called at inline delegation in XML::Toolkit::Loader for parser->parse_string (attribute declared in /home/sand/.cpan/privbuild/k93msid/XML-Toolkit-0.15-1/blib/lib/XML/Toolkit/Loader.pm at line 22) line 18
	XML::Toolkit::Loader::parse_string(XML::Toolkit::Loader=HASH(0x56436ed48190), "<?xml version=\"1.0\" encoding=\"utf-8\"?>\x{a}<rdf:RDF\x{a}  xmlns:rdf=\""...) called at /home/sand/src/perl/repoperls/installed-perls/host/k93msid/v5.31.2-35-g82007f754e/3c10/lib/site_perl/5.31.3/x86_64-linux/Class/MOP/Method/Wrapped.pm line 44
	XML::Toolkit::Loader::_wrapped_parse_string(XML::Toolkit::Loader=HASH(0x56436ed48190), "<?xml version=\"1.0\" encoding=\"utf-8\"?>\x{a}<rdf:RDF\x{a}  xmlns:rdf=\""...) called at /home/sand/src/perl/repoperls/installed-perls/host/k93msid/v5.31.2-35-g82007f754e/3c10/lib/site_perl/5.31.3/x86_64-linux/Class/MOP/Method/Wrapped.pm line 95
	XML::Toolkit::Loader::parse_string(XML::Toolkit::Loader=HASH(0x56436ed48190), "<?xml version=\"1.0\" encoding=\"utf-8\"?>\x{a}<rdf:RDF\x{a}  xmlns:rdf=\""...) called at t/04.rdf.t line 42
t/04.rdf.t .................................... ok
Class::MOP::load_class is deprecated at /home/sand/src/perl/repoperls/installed-perls/host/k93msid/v5.31.2-35-g82007f754e/3c10/lib/site_perl/5.31.3/x86_64-linux/Class/MOP.pm line 69.
	Class::MOP::load_class("MyApp::Code") called at /home/sand/.cpan/privbuild/k93msid/XML-Toolkit-0.15-1/blib/lib/XML/Toolkit/Loader/Filter.pm line 44
	XML::Toolkit::Loader::Filter::load_class(XML::Toolkit::Loader::Filter=HASH(0x55b075c126a0), "MyApp::Code") called at /home/sand/.cpan/privbuild/k93msid/XML-Toolkit-0.15-1/blib/lib/XML/Toolkit/Loader/Filter.pm line 63
	XML::Toolkit::Loader::Filter::start_element(XML::Toolkit::Loader::Filter=HASH(0x55b075c126a0), HASH(0x55b075c12fa0)) called at /home/sand/src/perl/repoperls/installed-perls/host/k93msid/v5.31.2-35-g82007f754e/3c10/lib/site_perl/5.31.3/x86_64-linux/XML/SAX/ExpatXS/Preload.pm line 167
	XML::SAX::ExpatXS::Preload::__ANON__(HASH(0x55b075c12fa0)) called at /home/sand/src/perl/repoperls/installed-perls/host/k93msid/v5.31.2-35-g82007f754e/3c10/lib/site_perl/5.31.3/x86_64-linux/XML/SAX/ExpatXS.pm line 163
	XML::SAX::ExpatXS::_parse(XML::SAX::ExpatXS=HASH(0x55b075858f28)) called at /home/sand/src/perl/repoperls/installed-perls/host/k93msid/v5.31.2-35-g82007f754e/3c10/lib/site_perl/5.31.3/x86_64-linux/XML/SAX/ExpatXS.pm line 102
	XML::SAX::ExpatXS::_parse_string(XML::SAX::ExpatXS=HASH(0x55b075858f28), "<code><![CDATA[<crackers & cheese>]]></code>") called at /home/sand/src/perl/repoperls/installed-perls/host/k93msid/v5.31.2-35-g82007f754e/3c10/lib/site_perl/5.31.3/XML/SAX/Base.pm line 2614
	XML::SAX::Base::parse(XML::SAX::ExpatXS=HASH(0x55b075858f28), HASH(0x55b075c1c0b8)) called at /home/sand/src/perl/repoperls/installed-perls/host/k93msid/v5.31.2-35-g82007f754e/3c10/lib/site_perl/5.31.3/XML/SAX/Base.pm line 2659
	XML::SAX::Base::parse_string(XML::SAX::ExpatXS=HASH(0x55b075858f28), "<code><![CDATA[<crackers & cheese>]]></code>") called at inline delegation in XML::Toolkit::Loader for parser->parse_string (attribute declared in /home/sand/.cpan/privbuild/k93msid/XML-Toolkit-0.15-1/blib/lib/XML/Toolkit/Loader.pm at line 22) line 18
	XML::Toolkit::Loader::parse_string(XML::Toolkit::Loader=HASH(0x55b075c12ad8), "<code><![CDATA[<crackers & cheese>]]></code>") called at /home/sand/src/perl/repoperls/installed-perls/host/k93msid/v5.31.2-35-g82007f754e/3c10/lib/site_perl/5.31.3/x86_64-linux/Class/MOP/Method/Wrapped.pm line 44
	XML::Toolkit::Loader::_wrapped_parse_string(XML::Toolkit::Loader=HASH(0x55b075c12ad8), "<code><![CDATA[<crackers & cheese>]]></code>") called at /home/sand/src/perl/repoperls/installed-perls/host/k93msid/v5.31.2-35-g82007f754e/3c10/lib/site_perl/5.31.3/x86_64-linux/Class/MOP/Method/Wrapped.pm line 95
	XML::Toolkit::Loader::parse_string(XML::Toolkit::Loader=HASH(0x55b075c12ad8), "<code><![CDATA[<crackers & cheese>]]></code>") called at t/05.cdata.t line 26
t/05.cdata.t .................................. ok
Class::MOP::load_class is deprecated at /home/sand/src/perl/repoperls/installed-perls/host/k93msid/v5.31.2-35-g82007f754e/3c10/lib/site_perl/5.31.3/x86_64-linux/Class/MOP.pm line 69.
	Class::MOP::load_class("MyTest::Note") called at /home/sand/.cpan/privbuild/k93msid/XML-Toolkit-0.15-1/blib/lib/XML/Toolkit/Loader/Filter.pm line 44
	XML::Toolkit::Loader::Filter::load_class(XML::Toolkit::Loader::Filter=HASH(0x556d1d35c3d0), "MyTest::Note") called at /home/sand/.cpan/privbuild/k93msid/XML-Toolkit-0.15-1/blib/lib/XML/Toolkit/Loader/Filter.pm line 63
	XML::Toolkit::Loader::Filter::start_element(XML::Toolkit::Loader::Filter=HASH(0x556d1d35c3d0), HASH(0x556d1d3c1438)) called at /home/sand/src/perl/repoperls/installed-perls/host/k93msid/v5.31.2-35-g82007f754e/3c10/lib/site_perl/5.31.3/x86_64-linux/XML/SAX/ExpatXS/Preload.pm line 167
	XML::SAX::ExpatXS::Preload::__ANON__(HASH(0x556d1d3c1438)) called at /home/sand/src/perl/repoperls/installed-perls/host/k93msid/v5.31.2-35-g82007f754e/3c10/lib/site_perl/5.31.3/x86_64-linux/XML/SAX/ExpatXS.pm line 163
	XML::SAX::ExpatXS::_parse(XML::SAX::ExpatXS=HASH(0x556d1d2ebc60)) called at /home/sand/src/perl/repoperls/installed-perls/host/k93msid/v5.31.2-35-g82007f754e/3c10/lib/site_perl/5.31.3/x86_64-linux/XML/SAX/ExpatXS.pm line 102
	XML::SAX::ExpatXS::_parse_string(XML::SAX::ExpatXS=HASH(0x556d1d2ebc60), "<?xml version=\"1.0\"?>\x{a}<note>\x{a}    <to>Tove</to>\x{a}    <from>Jani"...) called at /home/sand/src/perl/repoperls/installed-perls/host/k93msid/v5.31.2-35-g82007f754e/3c10/lib/site_perl/5.31.3/XML/SAX/Base.pm line 2614
	XML::SAX::Base::parse(XML::SAX::ExpatXS=HASH(0x556d1d2ebc60), HASH(0x556d1d39aeb0)) called at /home/sand/src/perl/repoperls/installed-perls/host/k93msid/v5.31.2-35-g82007f754e/3c10/lib/site_perl/5.31.3/XML/SAX/Base.pm line 2659
	XML::SAX::Base::parse_string(XML::SAX::ExpatXS=HASH(0x556d1d2ebc60), "<?xml version=\"1.0\"?>\x{a}<note>\x{a}    <to>Tove</to>\x{a}    <from>Jani"...) called at inline delegation in XML::Toolkit::Loader for parser->parse_string (attribute declared in /home/sand/.cpan/privbuild/k93msid/XML-Toolkit-0.15-1/blib/lib/XML/Toolkit/Loader.pm at line 22) line 18
	XML::Toolkit::Loader::parse_string(XML::Toolkit::Loader=HASH(0x556d1d394260), "<?xml version=\"1.0\"?>\x{a}<note>\x{a}    <to>Tove</to>\x{a}    <from>Jani"...) called at /home/sand/src/perl/repoperls/installed-perls/host/k93msid/v5.31.2-35-g82007f754e/3c10/lib/site_perl/5.31.3/x86_64-linux/Class/MOP/Method/Wrapped.pm line 44
	XML::Toolkit::Loader::_wrapped_parse_string(XML::Toolkit::Loader=HASH(0x556d1d394260), "<?xml version=\"1.0\"?>\x{a}<note>\x{a}    <to>Tove</to>\x{a}    <from>Jani"...) called at /home/sand/src/perl/repoperls/installed-perls/host/k93msid/v5.31.2-35-g82007f754e/3c10/lib/site_perl/5.31.3/x86_64-linux/Class/MOP/Method/Wrapped.pm line 95
	XML::Toolkit::Loader::parse_string(XML::Toolkit::Loader=HASH(0x556d1d394260), "<?xml version=\"1.0\"?>\x{a}<note>\x{a}    <to>Tove</to>\x{a}    <from>Jani"...) called at t/06.reuse/06.reuse_generator.t line 41
t/06.reuse/06.reuse_generator.t ............... ok
Class::MOP::load_class is deprecated at /home/sand/src/perl/repoperls/installed-perls/host/k93msid/v5.31.2-35-g82007f754e/3c10/lib/site_perl/5.31.3/x86_64-linux/Class/MOP.pm line 69.
	Class::MOP::load_class() called at /home/sand/.cpan/privbuild/k93msid/XML-Toolkit-0.15-1/blib/lib/XML/Toolkit/Loader/Filter.pm line 44
	XML::Toolkit::Loader::Filter::load_class() called at /home/sand/.cpan/privbuild/k93msid/XML-Toolkit-0.15-1/blib/lib/XML/Toolkit/Loader/Filter.pm line 63
	XML::Toolkit::Loader::Filter::start_element() called at /home/sand/src/perl/repoperls/installed-perls/host/k93msid/v5.31.2-35-g82007f754e/3c10/lib/site_perl/5.31.3/x86_64-linux/XML/SAX/ExpatXS/Preload.pm line 167
	XML::SAX::ExpatXS::Preload::__ANON__() called at /home/sand/src/perl/repoperls/installed-perls/host/k93msid/v5.31.2-35-g82007f754e/3c10/lib/site_perl/5.31.3/x86_64-linux/XML/SAX/ExpatXS.pm line 163
	XML::SAX::ExpatXS::_parse() called at /home/sand/src/perl/repoperls/installed-perls/host/k93msid/v5.31.2-35-g82007f754e/3c10/lib/site_perl/5.31.3/x86_64-linux/XML/SAX/ExpatXS.pm line 102
	XML::SAX::ExpatXS::_parse_string() called at /home/sand/src/perl/repoperls/installed-perls/host/k93msid/v5.31.2-35-g82007f754e/3c10/lib/site_perl/5.31.3/XML/SAX/Base.pm line 2614
	XML::SAX::Base::parse() called at /home/sand/src/perl/repoperls/installed-perls/host/k93msid/v5.31.2-35-g82007f754e/3c10/lib/site_perl/5.31.3/XML/SAX/Base.pm line 2659
	XML::SAX::Base::parse_string() called at inline delegation in XML::Toolkit::Loader for parser->parse_string (attribute declared in /home/sand/.cpan/privbuild/k93msid/XML-Toolkit-0.15-1/blib/lib/XML/Toolkit/Loader.pm at line 22) line 18
	XML::Toolkit::Loader::parse_string() called at /home/sand/src/perl/repoperls/installed-perls/host/k93msid/v5.31.2-35-g82007f754e/3c10/lib/site_perl/5.31.3/x86_64-linux/Class/MOP/Method/Wrapped.pm line 44
	XML::Toolkit::Loader::_wrapped_parse_string() called at /home/sand/src/perl/repoperls/installed-perls/host/k93msid/v5.31.2-35-g82007f754e/3c10/lib/site_perl/5.31.3/x86_64-linux/Class/MOP/Method/Wrapped.pm line 95
	XML::Toolkit::Loader::parse_string() called at t/06.reuse/06.reuse_loader.t line 42
	Test::Exception::lives_ok() called at t/06.reuse/06.reuse_loader.t line 42
t/06.reuse/06.reuse_loader.t .................. ok
t/release-pod-coverage.t ...................... skipped: these tests are for release candidate testing
t/release-pod-syntax.t ........................ skipped: these tests are for release candidate testing
All tests successful.
Files=12, Tests=91, 14 wallclock secs ( 0.04 usr  0.06 sys + 12.02 cusr  1.74 csys = 13.86 CPU)
Result: PASS

------------------------------
PREREQUISITES
------------------------------

Prerequisite modules loaded:

requires:

    Module                                   Need Have    
    ---------------------------------------- ---- --------
    aliased                                  0    0.34    
    Bread::Board                             0    0.37    
    Bread::Board::Container                  0    0.37    
    Devel::PackagePath                       0.01 0.03    
    Encode                                   0    3.01    
    Moose                                    0.92 2.2011  
    Moose::Role                              0    2.2011  
    Moose::Util::TypeConstraints             0    2.2011  
    MooseX::Aliases                          0    0.11    
    MooseX::App::Cmd                         0    0.32    
    MooseX::App::Cmd::Command                0    0.32    
    MooseX::Getopt::Dashes                   0    0.74    
    MooseX::MetaDescription                  0.03 0.06    
    MooseX::MetaDescription::Description     0    0.06    
    MooseX::MetaDescription::Meta::Attribute 0    0.06    
    MooseX::MetaDescription::Meta::Trait     0    0.06    
    MooseX::NonMoose                         0    0.26    
    MooseX::Types::Path::Class               0.04 0.09    
    namespace::autoclean                     0    0.28    
    strict                                   0    1.11    
    Template                                 2.20 2.29    
    warnings                                 0    1.45    
    XML::SAX                                 0.96 1.02    
    XML::SAX::Base                           0    1.09    
    XML::SAX::Writer                         0.50 0.57    

build_requires:

    Module                                   Need Have    
    ---------------------------------------- ---- --------
    File::Find                               0    1.37    
    File::Temp                               0    0.2309  
    Path::Class                              0    0.37    
    Test::Deep                               0    1.128   
    Test::Exception                          0    0.43    
    Test::More                               0    1.302164
    Test::Simple                             0.94 1.302164
    Test::XML                                0.00 0.08    

configure_requires:

    Module                                   Need Have    
    ---------------------------------------- ---- --------
    ExtUtils::MakeMaker                      6.30 7.36    


------------------------------
ENVIRONMENT AND OTHER CONTEXT
------------------------------

Environment variables:

    AUTOMATED_TESTING = 1
    LANG = en_US.UTF-8
    PATH = /home/sand/bin:/usr/local/bin:/usr/bin:/bin:/usr/games:/usr/local/perl/bin:/usr/X11/bin:/sbin:/usr/sbin
    PERL5LIB = 
    PERL5OPT = 
    PERL5_CPANPLUS_IS_RUNNING = 30175
    PERL5_CPAN_IS_RUNNING = 30175
    PERL_CANARY_STABILITY_NOPROMPT = 1
    PERL_MM_USE_DEFAULT = 1
    PERL_USE_UNSAFE_INC = 1
    SHELL = /usr/bin/zsh
    TERM = screen

Perl special variables (and OS-specific diagnostics, for MSWin32):

    $^X = /tmp/basesmoker-reloperl-W1Eo/bin/perl
    $UID/$EUID = 1005 / 1005
    $GID = 1005 1005
    $EGID = 1005 1005

Perl module toolchain versions installed:

    Module              Have    
    ------------------- --------
    CPAN                2.27    
    CPAN::Meta          2.150010
    Cwd                 3.78    
    ExtUtils::CBuilder  0.280232
    ExtUtils::Command   7.36    
    ExtUtils::Install   2.14    
    ExtUtils::MakeMaker 7.36    
    ExtUtils::Manifest  1.72    
    ExtUtils::ParseXS   3.40    
    File::Spec          3.78    
    JSON                4.02    
    JSON::PP            4.04    
    Module::Build       0.4229  
    Module::Signature   0.83    
    Parse::CPAN::Meta   2.150010
    Test::Harness       3.42    
    Test::More          1.302164
    YAML                1.29    
    YAML::Syck          1.31    
    version             0.9924  


--

Summary of my perl5 (revision 5 version 31 subversion 3) configuration:
  Derived from: 82007f754ed1e129a53fc7c964d84cddba7ca0de
  Platform:
    osname=linux
    osvers=4.18.0-2-amd64
    archname=x86_64-linux
    uname='linux k93msid 4.18.0-2-amd64 #1 smp debian 4.18.10-2 (2018-10-07) x86_64 gnulinux '
    config_args='-Dprefix=/home/sand/src/perl/repoperls/installed-perls/host/k93msid/v5.31.2-35-g82007f754e/3c10 -Dmyhostname=k93msid -Dinstallusrbinperl=n -Uversiononly -Dusedevel -des -Ui_db -Dlibswanted=cl pthread socket inet nsl gdbm dbm malloc dl ld sun m crypt sec util c cposix posix ucb BSD gdbm_compat -Uuseithreads -Uuselongdouble -DEBUGGING=none'
    hint=recommended
    useposix=true
    d_sigaction=define
    useithreads=undef
    usemultiplicity=undef
    use64bitint=define
    use64bitall=define
    uselongdouble=undef
    usemymalloc=n
    default_inc_excludes_dot=define
    bincompat5005=undef
  Compiler:
    cc='cc'
    ccflags ='-fwrapv -fno-strict-aliasing -pipe -fstack-protector-strong -I/usr/local/include -D_LARGEFILE_SOURCE -D_FILE_OFFSET_BITS=64 -D_FORTIFY_SOURCE=2'
    optimize='-O2'
    cppflags='-fwrapv -fno-strict-aliasing -pipe -fstack-protector-strong -I/usr/local/include'
    ccversion=''
    gccversion='8.2.0'
    gccosandvers=''
    intsize=4
    longsize=8
    ptrsize=8
    doublesize=8
    byteorder=12345678
    doublekind=3
    d_longlong=define
    longlongsize=8
    d_longdbl=define
    longdblsize=16
    longdblkind=3
    ivtype='long'
    ivsize=8
    nvtype='double'
    nvsize=8
    Off_t='off_t'
    lseeksize=8
    alignbytes=8
    prototype=define
  Linker and Libraries:
    ld='cc'
    ldflags =' -fstack-protector-strong -L/usr/local/lib'
    libpth=/usr/local/lib /usr/lib/gcc/x86_64-linux-gnu/8/include-fixed /usr/include/x86_64-linux-gnu /usr/lib /lib/x86_64-linux-gnu /lib/../lib /usr/lib/x86_64-linux-gnu /usr/lib/../lib /lib
    libs=-lpthread -lnsl -ldl -lm -lcrypt -lutil -lc
    perllibs=-lpthread -lnsl -ldl -lm -lcrypt -lutil -lc
    libc=libc-2.27.so
    so=so
    useshrplib=false
    libperl=libperl.a
    gnulibc_version='2.27'
  Dynamic Linking:
    dlsrc=dl_dlopen.xs
    dlext=so
    d_dlsymun=undef
    ccdlflags='-Wl,-E'
    cccdlflags='-fPIC'
    lddlflags='-shared -O2 -L/usr/local/lib -fstack-protector-strong'


Characteristics of this binary (from libperl): 
  Compile-time options:
    HAS_TIMES
    PERLIO_LAYERS
    PERL_COPY_ON_WRITE
    PERL_DONT_CREATE_GVSV
    PERL_MALLOC_WRAP
    PERL_OP_PARENT
    PERL_PRESERVE_IVUV
    PERL_USE_DEVEL
    USE_64_BIT_ALL
    USE_64_BIT_INT
    USE_LARGE_FILES
    USE_LOCALE
    USE_LOCALE_COLLATE
    USE_LOCALE_CTYPE
    USE_LOCALE_NUMERIC
    USE_LOCALE_TIME
    USE_PERLIO
    USE_PERL_ATOF
  Locally applied patches:
    uncommitted-changes
  Built under linux
  Compiled at Jul 29 2019 21:07:13
  %ENV:
    PERL5LIB=""
    PERL5OPT=""
    PERL5_CPANPLUS_IS_RUNNING="30175"
    PERL5_CPAN_IS_RUNNING="30175"
    PERL_CANARY_STABILITY_NOPROMPT="1"
    PERL_MM_USE_DEFAULT="1"
    PERL_USE_UNSAFE_INC="1"
  @INC:
    /home/sand/src/perl/repoperls/installed-perls/host/k93msid/v5.31.2-35-g82007f754e/3c10/lib/site_perl/5.31.3/x86_64-linux
    /home/sand/src/perl/repoperls/installed-perls/host/k93msid/v5.31.2-35-g82007f754e/3c10/lib/site_perl/5.31.3
    /home/sand/src/perl/repoperls/installed-perls/host/k93msid/v5.31.2-35-g82007f754e/3c10/lib/5.31.3/x86_64-linux
    /home/sand/src/perl/repoperls/installed-perls/host/k93msid/v5.31.2-35-g82007f754e/3c10/lib/5.31.3
    .