Report for Catalyst-View-RRDGraph-0.10

Back
From: metabase:user:320bfe00-2aae-11df-837a-5e0a49663a4f
Subject: PASS Catalyst-View-RRDGraph-0.10 v5.18.1 GNU/Linux
Date: 2014-02-12T21:17:05Z

This distribution has been tested as part of the CPAN Testers
project, supporting the Perl programming language.  See
http://wiki.cpantesters.org/ for more information or email
questions to cpan-testers-discuss@perl.org


--
Dear Miquel Ruiz Martin,

This is a computer-generated report for Catalyst-View-RRDGraph-0.10
on perl 5.18.1, created by CPAN-Reporter-1.2010.

Thank you for uploading your work to CPAN.  Congratulations!
All tests were successful.

Sections of this report:

    * Tester comments
    * Program output
    * Prerequisites
    * Environment and other context

------------------------------
TESTER COMMENTS
------------------------------

Additional comments from tester:

this report is from an automated smoke testing program
and was not reviewed by a human for accuracy

------------------------------
PROGRAM OUTPUT
------------------------------

Output from '/usr/bin/make test':

PERL_DL_NONLAZY=1 /home/sand/src/perl/repoperls/installed-perls/perl/v5.18.1/165a/bin/perl "-MExtUtils::Command::MM" "-MTest::Harness" "-e" "undef *Test::Harness::Switches; test_harness(0, 'blib/lib', 'blib/arch')" t/*.t
t/001_load.t ............ ok
t/002_process.t ......... ok
[debug] Debug messages enabled
[debug] Statistics enabled
[debug] Loaded plugins:
.----------------------------------------------------------------------------.
| Catalyst::Plugin::Unicode::Encoding  2.1                                   |
'----------------------------------------------------------------------------'

[debug] Loaded PSGI Middleware:
.----------------------------------------------------------------------------.
| Plack::Middleware::HTTPExceptions                                          |
| Plack::Middleware::RemoveRedundantBody  0.03                               |
| Plack::Middleware::FixMissingBodyInRedirect  0.09                          |
| Plack::Middleware::ContentLength                                           |
| Plack::Middleware::MethodOverride  0.10                                    |
| Plack::Middleware::Head                                                    |
'----------------------------------------------------------------------------'

[debug] Loaded Request Data Handlers:
.----------------------------------------------------------------------------.
| application/json                                                           |
| application/x-www-form-urlencoded                                          |
'----------------------------------------------------------------------------'

[debug] Loaded dispatcher "Catalyst::Dispatcher"
[debug] Loaded engine "Catalyst::Engine"
[debug] Found home "/tmp/loop_over_bdir-16892-or3WIP/Catalyst-View-RRDGraph-0.10-eDV0zf/t/lib/RRDGraphTest003"
[debug] Loaded components:
.-----------------------------------------------------------------+----------.
| Class                                                           | Type     |
+-----------------------------------------------------------------+----------+
| RRDGraphTest003::Controller::Root                               | instance |
| RRDGraphTest003::View::RRDNormal                                | instance |
| RRDGraphTest003::View::RRDOnServe                               | instance |
| RRDGraphTest003::View::RRDOnServeFunction                       | instance |
'-----------------------------------------------------------------+----------'

[debug] Loaded Private actions:
.----------------------+--------------------------------------+--------------.
| Private              | Class                                | Method       |
+----------------------+--------------------------------------+--------------+
| /image_error_normal  | RRDGraphTest003::Controller::Root    | image_error- |
|                      |                                      | _normal      |
| /zero_byte_error_no- | RRDGraphTest003::Controller::Root    | zero_byte_e- |
| rmal                 |                                      | rror_normal  |
| /image_error_functi- | RRDGraphTest003::Controller::Root    | image_error- |
| on                   |                                      | _function    |
| /zero_byte_error_fu- | RRDGraphTest003::Controller::Root    | zero_byte_e- |
| nction               |                                      | rror_functi- |
|                      |                                      | on           |
| /image_error         | RRDGraphTest003::Controller::Root    | image_error  |
| /zero_byte_error     | RRDGraphTest003::Controller::Root    | zero_byte_e- |
|                      |                                      | rror         |
'----------------------+--------------------------------------+--------------'

[debug] Loaded Path actions:
.-------------------------------------+--------------------------------------.
| Path                                | Private                              |
+-------------------------------------+--------------------------------------+
| /image_error/...                    | /image_error                         |
| /image_error_function/...           | /image_error_function                |
| /image_error_normal/...             | /image_error_normal                  |
| /zero_byte_error/...                | /zero_byte_error                     |
| /zero_byte_error_function/...       | /zero_byte_error_function            |
| /zero_byte_error_normal/...         | /zero_byte_error_normal              |
'-------------------------------------+--------------------------------------'

[info] RRDGraphTest003 powered by Catalyst 5.90060
[info] *** Request 1 (1.000/s) [17422] [Wed Feb 12 22:16:54 2014] ***
[debug] Path is "zero_byte_error"
[debug] "GET" request for "zero_byte_error" from "127.0.0.1"
[error] RRDgraph is 0 bytes
[debug] Static::Simple: Serving static file: error_image.png as image/png
[debug] Response Code: 200; Content-Type: image/png; Content-Length: 14
[info] Request took 0.028597s (34.969/s)
.------------------------------------------------------------+-----------.
| Action                                                     | Time      |
+------------------------------------------------------------+-----------+
| /zero_byte_error                                           | 0.026069s |
|  -> RRDGraphTest003::View::RRDOnServe->process             | 0.025712s |
'------------------------------------------------------------+-----------'

[info] *** Request 2 (2.000/s) [17422] [Wed Feb 12 22:16:54 2014] ***
[debug] Path is "image_error"
[debug] "GET" request for "image_error" from "127.0.0.1"
[error] Unknown option
[debug] Static::Simple: Serving static file: error_image.png as image/png
[debug] Response Code: 200; Content-Type: image/png; Content-Length: 14
[info] Request took 0.008568s (116.713/s)
.------------------------------------------------------------+-----------.
| Action                                                     | Time      |
+------------------------------------------------------------+-----------+
| /image_error                                               | 0.005714s |
|  -> RRDGraphTest003::View::RRDOnServe->process             | 0.003172s |
'------------------------------------------------------------+-----------'

[info] *** Request 3 (3.000/s) [17422] [Wed Feb 12 22:16:54 2014] ***
[debug] Path is "zero_byte_error_normal"
[debug] "GET" request for "zero_byte_error_normal" from "127.0.0.1"
[error] RRDgraph is 0 bytes
[debug] Response Code: 500; Content-Type: text/html; charset=utf-8; Content-Length: unknown
[info] Request took 0.010464s (95.566/s)
.------------------------------------------------------------+-----------.
| Action                                                     | Time      |
+------------------------------------------------------------+-----------+
| /zero_byte_error_normal                                    | 0.004193s |
|  -> RRDGraphTest003::View::RRDNormal->process              | 0.003793s |
'------------------------------------------------------------+-----------'

[info] *** Request 4 (4.000/s) [17422] [Wed Feb 12 22:16:54 2014] ***
[debug] Path is "image_error_normal"
[debug] "GET" request for "image_error_normal" from "127.0.0.1"
[error] Unknown option
[debug] Response Code: 500; Content-Type: text/html; charset=utf-8; Content-Length: unknown
[info] Request took 0.010286s (97.220/s)
.------------------------------------------------------------+-----------.
| Action                                                     | Time      |
+------------------------------------------------------------+-----------+
| /image_error_normal                                        | 0.000876s |
|  -> RRDGraphTest003::View::RRDNormal->process              | 0.000545s |
'------------------------------------------------------------+-----------'

[info] *** Request 5 (5.000/s) [17422] [Wed Feb 12 22:16:54 2014] ***
[debug] Path is "zero_byte_error_function"
[debug] "GET" request for "zero_byte_error_function" from "127.0.0.1"
[debug] Response Code: 200; Content-Type: unknown; Content-Length: unknown
[info] Request took 0.005024s (199.045/s)
.------------------------------------------------------------+-----------.
| Action                                                     | Time      |
+------------------------------------------------------------+-----------+
| /zero_byte_error_function                                  | 0.002851s |
|  -> RRDGraphTest003::View::RRDOnServeFunction->process     | 0.002525s |
'------------------------------------------------------------+-----------'

[info] *** Request 6 (6.000/s) [17422] [Wed Feb 12 22:16:54 2014] ***
[debug] Path is "image_error_function"
[debug] "GET" request for "image_error_function" from "127.0.0.1"
[debug] Response Code: 200; Content-Type: unknown; Content-Length: unknown
[info] Request took 0.002703s (369.959/s)
.------------------------------------------------------------+-----------.
| Action                                                     | Time      |
+------------------------------------------------------------+-----------+
| /image_error_function                                      | 0.000786s |
|  -> RRDGraphTest003::View::RRDOnServeFunction->process     | 0.000500s |
'------------------------------------------------------------+-----------'

t/003_on_error_serve.t .. ok
All tests successful.
Files=3, Tests=17,  7 wallclock secs ( 0.03 usr  0.00 sys +  1.26 cusr  0.10 csys =  1.39 CPU)
Result: PASS

------------------------------
PREREQUISITES
------------------------------

Prerequisite modules loaded:

requires:

    Module                           Need Have      
    -------------------------------- ---- ----------
    Catalyst::Plugin::Static::Simple 0    0.31      
    Catalyst::Runtime                5.7  5.90060   
    MRO::Compat                      0    0.12      

build_requires:

    Module                           Need Have      
    -------------------------------- ---- ----------
    Catalyst::Test                   0    0         
    Test::MockObject                 0    1.20120301
    Test::More                       0    1.001002  

configure_requires:

    Module                           Need Have      
    -------------------------------- ---- ----------
    ExtUtils::MakeMaker              6.30 6.88      


------------------------------
ENVIRONMENT AND OTHER CONTEXT
------------------------------

Environment variables:

    AUTOMATED_TESTING = 1
    LANG = en_US.UTF-8
    LANGUAGE = en_US:en
    PATH = /usr/lib/ccache:/home/sand/bin:/usr/local/bin:/usr/bin:/bin:/usr/bin/X11:/usr/games:/usr/local/perl/bin:/usr/X11/bin:/sbin:/usr/sbin
    PERL5LIB = 
    PERL5OPT = 
    PERL5_CPANPLUS_IS_RUNNING = 16893
    PERL5_CPAN_IS_RUNNING = 16893
    PERL_MM_USE_DEFAULT = 1
    SHELL = /usr/bin/zsh
    TERM = screen

Perl special variables (and OS-specific diagnostics, for MSWin32):

    $^X = /home/sand/src/perl/repoperls/installed-perls/perl/v5.18.1/165a/bin/perl
    $UID/$EUID = 1005 / 1005
    $GID = 1005 1005
    $EGID = 1005 1005

Perl module toolchain versions installed:

    Module              Have    
    ------------------- --------
    CPAN                2.00    
    CPAN::Meta          2.133380
    Cwd                 3.40    
    ExtUtils::CBuilder  0.280212
    ExtUtils::Command   1.17    
    ExtUtils::Install   1.59    
    ExtUtils::MakeMaker 6.88    
    ExtUtils::Manifest  1.63    
    ExtUtils::ParseXS   3.22    
    File::Spec          3.40    
    JSON                2.90    
    JSON::PP            2.27203 
    Module::Build       0.4205  
    Module::Signature   0.73    
    Parse::CPAN::Meta   1.4409  
    Test::Harness       3.30    
    Test::More          1.001002
    YAML                0.89    
    YAML::Syck          1.27    
    version             0.9908  


--

Summary of my perl5 (revision 5 version 18 subversion 1) configuration:
  Commit id: 75c3005ee5b6ece3ad3c827cb300945f672c2bd1
  Platform:
    osname=linux, osvers=3.12-1-amd64, archname=x86_64-linux
    uname='linux k83 3.12-1-amd64 #1 smp debian 3.12.6-2 (2013-12-29) x86_64 gnulinux '
    config_args='-Dprefix=/home/sand/src/perl/repoperls/installed-perls/perl/v5.18.1/165a -Dmyhostname=k83 -Dinstallusrbinperl=n -Uversiononly -Dusedevel -des -Ui_db -Uuseithreads -Uuselongdouble -DDEBUGGING=-g'
    hint=recommended, useposix=true, d_sigaction=define
    useithreads=undef, usemultiplicity=undef
    useperlio=define, d_sfio=undef, uselargefiles=define, usesocks=undef
    use64bitint=define, use64bitall=define, uselongdouble=undef
    usemymalloc=n, bincompat5005=undef
  Compiler:
    cc='cc', ccflags ='-fno-strict-aliasing -pipe -fstack-protector -I/usr/local/include -D_LARGEFILE_SOURCE -D_FILE_OFFSET_BITS=64',
    optimize='-O2 -g',
    cppflags='-fno-strict-aliasing -pipe -fstack-protector -I/usr/local/include'
    ccversion='', gccversion='4.8.2', gccosandvers=''
    intsize=4, longsize=8, ptrsize=8, doublesize=8, byteorder=12345678
    d_longlong=define, longlongsize=8, d_longdbl=define, longdblsize=16
    ivtype='long', ivsize=8, nvtype='double', nvsize=8, Off_t='off_t', lseeksize=8
    alignbytes=8, prototype=define
  Linker and Libraries:
    ld='cc', ldflags =' -fstack-protector -L/usr/local/lib'
    libpth=/usr/local/lib /lib/x86_64-linux-gnu /lib/../lib /usr/lib/x86_64-linux-gnu /usr/lib/../lib /lib /usr/lib
    libs=-lnsl -lgdbm -ldb -ldl -lm -lcrypt -lutil -lc -lgdbm_compat
    perllibs=-lnsl -ldl -lm -lcrypt -lutil -lc
    libc=, so=so, useshrplib=false, libperl=libperl.a
    gnulibc_version='2.17'
  Dynamic Linking:
    dlsrc=dl_dlopen.xs, dlext=so, d_dlsymun=undef, ccdlflags='-Wl,-E'
    cccdlflags='-fPIC', lddlflags='-shared -O2 -g -L/usr/local/lib -fstack-protector'


Characteristics of this binary (from libperl): 
  Compile-time options: HAS_TIMES PERLIO_LAYERS PERL_DONT_CREATE_GVSV
                        PERL_HASH_FUNC_ONE_AT_A_TIME_HARD PERL_MALLOC_WRAP
                        PERL_PRESERVE_IVUV PERL_SAWAMPERSAND PERL_USE_DEVEL
                        USE_64_BIT_ALL USE_64_BIT_INT USE_LARGE_FILES
                        USE_LOCALE USE_LOCALE_COLLATE USE_LOCALE_CTYPE
                        USE_LOCALE_NUMERIC USE_PERLIO USE_PERL_ATOF
  Built under linux
  Compiled at Jan 19 2014 11:02:43
  %ENV:
    PERL5LIB=""
    PERL5OPT=""
    PERL5_CPANPLUS_IS_RUNNING="16893"
    PERL5_CPAN_IS_RUNNING="16893"
    PERL_MM_USE_DEFAULT="1"
  @INC:
    /home/sand/src/perl/repoperls/installed-perls/perl/v5.18.1/165a/lib/site_perl/5.18.1/x86_64-linux
    /home/sand/src/perl/repoperls/installed-perls/perl/v5.18.1/165a/lib/site_perl/5.18.1
    /home/sand/src/perl/repoperls/installed-perls/perl/v5.18.1/165a/lib/5.18.1/x86_64-linux
    /home/sand/src/perl/repoperls/installed-perls/perl/v5.18.1/165a/lib/5.18.1
    .