Dist-Zilla-Plugin-CopyFilesFromBuild v0.170880 Perl 5 v5.29.2 darwin-2level

Status
Pass
From
John SJ Anderson
Dist
Dist-Zilla-Plugin-CopyFilesFromBuild v0.170880
Platform
Perl 5 v5.29.2 darwin-2level
Date
2018-08-31 00:37:21
ID
059fb06c-acb6-11e8-bea9-c3901a294b83
This distribution has been tested as part of the CPAN Testers
project, supporting the Perl programming language.  See
http://wiki.cpantesters.org/ for more information or email
questions to cpan-testers-discuss@perl.org


--
Dear RTHOMPSON,

This is a computer-generated report for Dist-Zilla-Plugin-CopyFilesFromBuild-0.170880
on perl 5.29.2, created by App::cpanminus::reporter 0.17 (1.7044).

Thank you for uploading your work to CPAN.  Congratulations!
All tests were successful.

Sections of this report:

    * Tester comments
    * Program output
    * Prerequisites
    * Environment and other context

------------------------------
TESTER COMMENTS
------------------------------

Additional comments from tester:

none provided

------------------------------
PROGRAM OUTPUT
------------------------------

Output from '':

Building and testing Dist-Zilla-Plugin-CopyFilesFromBuild-0.170880
cp lib/Dist/Zilla/Plugin/CopyFilesFromBuild.pm blib/lib/Dist/Zilla/Plugin/CopyFilesFromBuild.pm
Manifying 1 pod document
PERL_DL_NONLAZY=1 "/opt/plenv/versions/5.29.2/bin/perl5.29.2" "-MExtUtils::Command::MM" "-MTest::Harness" "-e" "undef *Test::Harness::Switches; test_harness(0, 'blib/lib', 'blib/arch')" t/*.t
t/00-compile.t ........... ok
# Testing with Perl 5.029002, /opt/plenv/versions/5.29.2/bin/perl5.29.2
#     Carp version is 1.50
#     Dist::Zilla::Plugin::ReadmeAnyFromPod version is 0.163250
#     Dist::Zilla::Role::AfterBuild version is 6.012
#     ExtUtils::MakeMaker version is 7.34
#     File::Copy version is 2.33
#     File::Spec version is 3.74
#     IO::File version is 1.39
#     IO::Handle version is 1.39
#     IPC::Open3 version is 1.20
#     List::Util version is 1.5
#     Moose version is 2.2011
#     MooseX::Has::Sugar version is 1.000006
#     Path::Tiny version is 0.108
#     Scalar::Util version is 1.5
#     Set::Scalar version is 1.29
#     Test::DZil version is 6.012
#     Test::Exception version is 0.43
#     Test::More version is 1.302140
#     Test::Most version is 0.35
#     autodie version is 2.29
#     blib version is 1.07
#     strict version is 1.11
#     utf8 version is 1.21
#     warnings version is 1.43
t/000-report-versions.t .. ok
t/author-critic.t ........ skipped: these tests are for testing by the author
t/author-pod-coverage.t .. skipped: these tests are for testing by the author
t/author-pod-syntax.t .... skipped: these tests are for testing by the author
t/basic.t ................ ok
t/release-has-version.t .. skipped: these tests are for release candidate testing
t/release-kwalitee.t ..... skipped: these tests are for release candidate testing
t/release-portability.t .. skipped: these tests are for release candidate testing
t/release-unused-vars.t .. skipped: these tests are for release candidate testing
All tests successful.
Files=10, Tests=34,  2 wallclock secs ( 0.04 usr  0.02 sys +  1.39 cusr  0.18 csys =  1.63 CPU)
Result: PASS

------------------------------
PREREQUISITES
------------------------------

Prerequisite modules loaded:

    No requirements found

------------------------------
ENVIRONMENT AND OTHER CONTEXT
------------------------------

Environment variables:

    LANG = en_US.UTF-8
    LC_ALL = en_US.UTF-8
    PATH = /opt/plenv/versions/5.29.2/bin:/opt/plenv/libexec:/opt/plenv/plugins/perl-build/bin:/opt/plenv/shims:/opt/plenv/shims:/opt/plenv/bin:/opt/nvm/versions/node/v10.8.0/bin:/Users/genehack/bin:/opt/vim/bin:/opt/tmux/bin:/opt/git/bin:/opt/emacs/bin:/usr/local/bin:/opt/local/bin:/usr/bin:/bin:/usr/sbin:/sbin:/usr/local/share/dotnet:/Library/Frameworks/Mono.framework/Versions/Current/Commands:/usr/local/opt/fzf/bin/
    PERL_CPANM_OPT = --skip-installed --prompt
    SHELL = /bin/zsh
    TERM = screen-256color
    TMPDIR = /var/folders/ls/0z9hs2311kn45yqnfxk2m8vr0000gn/T/

Perl special variables (and OS-specific diagnostics, for MSWin32):

    EGID = 20 20 701 12 61 79 80 81 98 33 100 204 250 395 398 399
    EUID = 501
    EXECUTABLE_NAME = /opt/plenv/versions/5.29.2/bin/perl5.29.2
    GID = 20 20 701 12 61 79 80 81 98 33 100 204 250 395 398 399
    UID = 501

Perl module toolchain versions installed:

    Module              Have    
    ------------------- --------
    CPAN                2.20    
    CPAN::Meta          2.150010
    Cwd                 3.75    
    ExtUtils::CBuilder  0.280230
    ExtUtils::Command   7.34    
    ExtUtils::Install   2.14    
    ExtUtils::MakeMaker 7.34    
    ExtUtils::Manifest  1.71    
    ExtUtils::ParseXS   3.39    
    File::Spec          3.74    
    JSON                2.97001 
    JSON::PP            2.97001 
    Module::Build       0.4224  
    Module::Signature   n/a     
    Parse::CPAN::Meta   2.150010
    Test::Harness       3.42    
    Test::More          1.302140
    YAML                1.26    
    YAML::Syck          n/a     
    version             0.9924  


--

Summary of my perl5 (revision 5 version 29 subversion 2) configuration:
   
  Platform:
    osname=darwin
    osvers=17.7.0
    archname=darwin-2level
    uname='darwin phineas-caldigit.home.genehack.org 17.7.0 darwin kernel version 17.7.0: thu jun 21 22:53:14 pdt 2018; root:xnu-4570.71.2~1release_x86_64 x86_64 i386 macbookpro14,2 darwin '
    config_args='-Dprefix=/opt/plenv/versions/5.29.2 -de -Dversiononly -Dusedevel -A'eval:scriptdir=/opt/plenv/versions/5.29.2/bin''
    hint=recommended
    useposix=true
    d_sigaction=define
    useithreads=undef
    usemultiplicity=undef
    use64bitint=define
    use64bitall=define
    uselongdouble=undef
    usemymalloc=n
    default_inc_excludes_dot=define
    bincompat5005=undef
  Compiler:
    cc='cc'
    ccflags ='-fno-common -DPERL_DARWIN -mmacosx-version-min=10.13 -fno-strict-aliasing -pipe -fstack-protector-strong -I/usr/local/include -DPERL_USE_SAFE_PUTENV'
    optimize='-O3'
    cppflags='-fno-common -DPERL_DARWIN -mmacosx-version-min=10.13 -fno-strict-aliasing -pipe -fstack-protector-strong -I/usr/local/include'
    ccversion=''
    gccversion='4.2.1 Compatible Apple LLVM 9.1.0 (clang-902.0.39.2)'
    gccosandvers=''
    intsize=4
    longsize=8
    ptrsize=8
    doublesize=8
    byteorder=12345678
    doublekind=3
    d_longlong=define
    longlongsize=8
    d_longdbl=define
    longdblsize=16
    longdblkind=3
    ivtype='long'
    ivsize=8
    nvtype='double'
    nvsize=8
    Off_t='off_t'
    lseeksize=8
    alignbytes=8
    prototype=define
  Linker and Libraries:
    ld='cc'
    ldflags =' -mmacosx-version-min=10.13 -fstack-protector-strong -L/usr/local/lib'
    libpth=/usr/local/lib /Applications/Xcode.app/Contents/Developer/Toolchains/XcodeDefault.xctoolchain/usr/lib/clang/9.1.0/lib /Applications/Xcode.app/Contents/Developer/Toolchains/XcodeDefault.xctoolchain/usr/lib /usr/lib
    libs=-lpthread -lgdbm -ldbm -ldl -lm -lutil -lc
    perllibs=-lpthread -ldl -lm -lutil -lc
    libc=
    so=dylib
    useshrplib=false
    libperl=libperl.a
    gnulibc_version=''
  Dynamic Linking:
    dlsrc=dl_dlopen.xs
    dlext=bundle
    d_dlsymun=undef
    ccdlflags=' '
    cccdlflags=' '
    lddlflags=' -mmacosx-version-min=10.13 -bundle -undefined dynamic_lookup -L/usr/local/lib -fstack-protector-strong'


Characteristics of this binary (from libperl): 
  Compile-time options:
    HAS_TIMES
    PERLIO_LAYERS
    PERL_COPY_ON_WRITE
    PERL_DONT_CREATE_GVSV
    PERL_MALLOC_WRAP
    PERL_OP_PARENT
    PERL_PRESERVE_IVUV
    PERL_USE_DEVEL
    PERL_USE_SAFE_PUTENV
    USE_64_BIT_ALL
    USE_64_BIT_INT
    USE_LARGE_FILES
    USE_LOCALE
    USE_LOCALE_COLLATE
    USE_LOCALE_CTYPE
    USE_LOCALE_NUMERIC
    USE_LOCALE_TIME
    USE_PERLIO
    USE_PERL_ATOF
  Locally applied patches:
    Devel::PatchPerl 1.52
  Built under darwin
  Compiled at Aug 30 2018 16:26:55
  %ENV:
    PERL_CPANM_OPT="--skip-installed --prompt"
  @INC:
    /opt/plenv/versions/5.29.2/lib/perl5/site_perl/5.29.2/darwin-2level
    /opt/plenv/versions/5.29.2/lib/perl5/site_perl/5.29.2
    /opt/plenv/versions/5.29.2/lib/perl5/5.29.2/darwin-2level
    /opt/plenv/versions/5.29.2/lib/perl5/5.29.2