Back
From: metabase:user:30f0bd62-2aae-11df-837a-5e0a49663a4f
Subject: PASS App-SmokeBox-PerlVersion-0.08 v5.10.1 NetBSD
Date: 2010-09-26T23:37:27Z
This distribution has been tested as part of the CPAN Testers
project, supporting the Perl programming language. See
http://wiki.cpantesters.org/ for more information or email
questions to cpan-testers-discuss@perl.org
--
Dear Chris Williams,
This is a computer-generated report for App-SmokeBox-PerlVersion-0.08
on perl 5.10.1, created by CPAN-Reporter-1.18.
Thank you for uploading your work to CPAN. Congratulations!
All tests were successful.
Sections of this report:
* Tester comments
* Program output
* Prerequisites
* Environment and other context
------------------------------
TESTER COMMENTS
------------------------------
Additional comments from tester:
this report is from an automated smoke testing program
and was not reviewed by a human for accuracy
------------------------------
PROGRAM OUTPUT
------------------------------
Output from '/usr/bin/make test':
PERL_DL_NONLAZY=1 /home/sts/cpansmoke/perl-5.10.1/bin/perl "-MExtUtils::Command::MM" "-e" "test_harness(0, 'blib/lib', 'blib/arch')" t/*.t
t/00-compile.t ............ ok
# Using Perl /home/sts/cpansmoke/perl-5.10.1/bin/perl
#
# This is perl, v5.10.1 (*) built for i386-netbsd-thread-multi
#
# Copyright 1987-2009, Larry Wall
#
# Perl may be copied only under the terms of either the Artistic License or the
# GNU General Public License, which may be found in the Perl 5 source kit.
#
# Complete documentation for Perl, including FAQ lists, should be found on
# this system using "man perl" or "perldoc perl". If you have access to the
# Internet, point your browser at http://www.perl.org/, the Perl Home Page.
#
t/01-event.t .............. ok
# Using Perl /home/sts/cpansmoke/perl-5.10.1/bin/perl
#
# This is perl, v5.10.1 (*) built for i386-netbsd-thread-multi
#
# Copyright 1987-2009, Larry Wall
#
# Perl may be copied only under the terms of either the Artistic License or the
# GNU General Public License, which may be found in the Perl 5 source kit.
#
# Complete documentation for Perl, including FAQ lists, should be found on
# this system using "man perl" or "perldoc perl". If you have access to the
# Internet, point your browser at http://www.perl.org/, the Perl Home Page.
#
t/02-postback.t ........... ok
t/release-pod-coverage.t .. skipped: these tests are for release candidate testing
t/release-pod-syntax.t .... skipped: these tests are for release candidate testing
All tests successful.
Files=5, Tests=15, 5 wallclock secs ( 0.09 usr 0.04 sys + 1.36 cusr 0.79 csys = 2.28 CPU)
Result: PASS
------------------------------
PREREQUISITES
------------------------------
Prerequisite modules loaded:
requires:
Module Need Have
------------------- -------- --------
IPC::Cmd 0 0.46
perl 5.006002 5.010001
POE 1.293 1.293
POE::Quickie 0.11 0.11
configure_requires:
Module Need Have
------------------- -------- --------
ExtUtils::MakeMaker 6.31 6.55_02
------------------------------
ENVIRONMENT AND OTHER CONTEXT
------------------------------
Environment variables:
AUTOMATED_TESTING = 1
PATH = /home/sts/bin:/bin:/sbin:/usr/bin:/usr/sbin:/usr/X11R7/bin:/usr/X11R6/bin:/usr/pkg/bin:/usr/pkg/sbin:/usr/games:/usr/local/bin:/usr/local/sbin
PERL5LIB = /home/sts/cpansmoke/perl-5.10.1/cpan/build/POE-Quickie-0.11-anZffW/blib/arch:/home/sts/cpansmoke/perl-5.10.1/cpan/build/POE-Quickie-0.11-anZffW/blib/lib:/home/sts/cpansmoke/perl-5.10.1/cpan/build/Capture-Tiny-0.08-Kx_aIk/blib/arch:/home/sts/cpansmoke/perl-5.10.1/cpan/build/Capture-Tiny-0.08-Kx_aIk/blib/lib:/home/sts/cpansmoke/perl-5.10.1/cpan/build/POE-1.293-WaeXT0/blib/arch:/home/sts/cpansmoke/perl-5.10.1/cpan/build/POE-1.293-WaeXT0/blib/lib:/home/sts/cpansmoke/perl-5.10.1/cpan/build/IO-Tty-1.08-PSASPp/blib/arch:/home/sts/cpansmoke/perl-5.10.1/cpan/build/IO-Tty-1.08-PSASPp/blib/lib:/home/sts/cpansmoke/perl-5.10.1/cpan/build/POE-Test-Loops-1.035-Z4PXr2/blib/arch:/home/sts/cpansmoke/perl-5.10.1/cpan/build/POE-Test-Loops-1.035-Z4PXr2/blib/lib
PERL5OPT =
PERL5_CPANPLUS_IS_RUNNING = 4293
PERL5_CPAN_IS_RUNNING = 4293
PERL5_CPAN_IS_RUNNING_IN_RECURSION = 1051,4293
PERL_CR_SMOKER_CURRENT = App-SmokeBox-PerlVersion-0.08
PERL_EXTUTILS_AUTOINSTALL = --defaultdeps
PERL_MM_USE_DEFAULT = 1
SHELL = /bin/sh
TERM = screen
TMPDIR = /home/sts/cpansmoke/tmp
Perl special variables (and OS-specific diagnostics, for MSWin32):
$^X = /home/sts/cpansmoke/perl-5.10.1/bin/perl
$UID/$EUID = 1000 / 1000
$GID = 100 100 0
$EGID = 100 100 0
Perl module toolchain versions installed:
Module Have
------------------- -------
CPAN 1.9402
Cwd 3.30
ExtUtils::CBuilder 0.2703
ExtUtils::Command 1.16
ExtUtils::Install 1.54
ExtUtils::MakeMaker 6.55_02
ExtUtils::Manifest 1.56
ExtUtils::ParseXS 2.2206
File::Spec 3.30
Module::Build 0.3607
Module::Signature n/a
Test::Harness 3.17
Test::More 0.94
YAML 0.70
YAML::Syck 1.07
version 0.78
--
Summary of my perl5 (revision 5 version 10 subversion 1) configuration:
Platform:
osname=netbsd, osvers=5.0.1, archname=i386-netbsd-thread-multi
uname='netbsd cpansmoke2 5.0.1 netbsd 5.0.1 (xen3_domu) #0: thu jul 30 01:37:42 utc 2009 builds@b8.netbsd.org:homebuildsabnetbsd-5-0-1-releasei386200907292356z-objhomebuildsabnetbsd-5-0-1-releasesrcsysarchi386compilexen3_domu i386 '
config_args='-des -Dusethreads -Dprefix=/home/sts/cpansmoke/perl-5.10.1'
hint=recommended, useposix=true, d_sigaction=define
useithreads=define, usemultiplicity=define
useperlio=define, d_sfio=undef, uselargefiles=define, usesocks=undef
use64bitint=undef, use64bitall=undef, uselongdouble=undef
usemymalloc=y, bincompat5005=undef
Compiler:
cc='cc', ccflags ='-fno-strict-aliasing -pipe -fstack-protector -I/usr/pkg/include',
optimize='-O',
cppflags='-fno-strict-aliasing -pipe -fstack-protector -I/usr/pkg/include'
ccversion='', gccversion='4.1.3 20080704 prerelease (NetBSD nb2 20081120)', gccosandvers=''
intsize=4, longsize=4, ptrsize=4, doublesize=8, byteorder=1234
d_longlong=define, longlongsize=8, d_longdbl=define, longdblsize=12
ivtype='long', ivsize=4, nvtype='double', nvsize=8, Off_t='off_t', lseeksize=8
alignbytes=4, prototype=define
Linker and Libraries:
ld='cc', ldflags =' -Wl,-rpath,/usr/pkg/lib -Wl,-rpath,/usr/local/lib -fstack-protector -L/usr/pkg/lib'
libpth=/usr/pkg/lib /lib /usr/lib
libs=-lm -lcrypt -lutil -lc -lposix -lpthread
perllibs=-lm -lcrypt -lutil -lc -lposix -lpthread
libc=/lib/libc.so, so=so, useshrplib=false, libperl=libperl.a
gnulibc_version=''
Dynamic Linking:
dlsrc=dl_dlopen.xs, dlext=so, d_dlsymun=undef, ccdlflags='-Wl,-E '
cccdlflags='-DPIC -fPIC ', lddlflags='--whole-archive -shared -L/usr/pkg/lib -fstack-protector'
Characteristics of this binary (from libperl):
Compile-time options: MULTIPLICITY MYMALLOC PERL_DONT_CREATE_GVSV
PERL_IMPLICIT_CONTEXT USE_ITHREADS USE_LARGE_FILES
USE_PERLIO USE_REENTRANT_API
Built under netbsd
Compiled at Nov 27 2009 11:45:24
%ENV:
PERL5LIB="/home/sts/cpansmoke/perl-5.10.1/cpan/build/POE-Quickie-0.11-anZffW/blib/arch:/home/sts/cpansmoke/perl-5.10.1/cpan/build/POE-Quickie-0.11-anZffW/blib/lib:/home/sts/cpansmoke/perl-5.10.1/cpan/build/Capture-Tiny-0.08-Kx_aIk/blib/arch:/home/sts/cpansmoke/perl-5.10.1/cpan/build/Capture-Tiny-0.08-Kx_aIk/blib/lib:/home/sts/cpansmoke/perl-5.10.1/cpan/build/POE-1.293-WaeXT0/blib/arch:/home/sts/cpansmoke/perl-5.10.1/cpan/build/POE-1.293-WaeXT0/blib/lib:/home/sts/cpansmoke/perl-5.10.1/cpan/build/IO-Tty-1.08-PSASPp/blib/arch:/home/sts/cpansmoke/perl-5.10.1/cpan/build/IO-Tty-1.08-PSASPp/blib/lib:/home/sts/cpansmoke/perl-5.10.1/cpan/build/POE-Test-Loops-1.035-Z4PXr2/blib/arch:/home/sts/cpansmoke/perl-5.10.1/cpan/build/POE-Test-Loops-1.035-Z4PXr2/blib/lib"
PERL5OPT=""
PERL5_CPANPLUS_IS_RUNNING="4293"
PERL5_CPAN_IS_RUNNING="4293"
PERL5_CPAN_IS_RUNNING_IN_RECURSION="1051,4293"
PERL_CR_SMOKER_CURRENT="App-SmokeBox-PerlVersion-0.08"
PERL_EXTUTILS_AUTOINSTALL="--defaultdeps"
PERL_MM_USE_DEFAULT="1"
@INC:
/home/sts/cpansmoke/perl-5.10.1/cpan/build/POE-Quickie-0.11-anZffW/blib/arch
/home/sts/cpansmoke/perl-5.10.1/cpan/build/POE-Quickie-0.11-anZffW/blib/lib
/home/sts/cpansmoke/perl-5.10.1/cpan/build/Capture-Tiny-0.08-Kx_aIk/blib/arch
/home/sts/cpansmoke/perl-5.10.1/cpan/build/Capture-Tiny-0.08-Kx_aIk/blib/lib
/home/sts/cpansmoke/perl-5.10.1/cpan/build/POE-1.293-WaeXT0/blib/arch
/home/sts/cpansmoke/perl-5.10.1/cpan/build/POE-1.293-WaeXT0/blib/lib
/home/sts/cpansmoke/perl-5.10.1/cpan/build/IO-Tty-1.08-PSASPp/blib/arch
/home/sts/cpansmoke/perl-5.10.1/cpan/build/IO-Tty-1.08-PSASPp/blib/lib
/home/sts/cpansmoke/perl-5.10.1/cpan/build/POE-Test-Loops-1.035-Z4PXr2/blib/arch
/home/sts/cpansmoke/perl-5.10.1/cpan/build/POE-Test-Loops-1.035-Z4PXr2/blib/lib
/home/sts/cpansmoke/perl-5.10.1/lib/5.10.1/i386-netbsd-thread-multi
/home/sts/cpansmoke/perl-5.10.1/lib/5.10.1
/home/sts/cpansmoke/perl-5.10.1/lib/site_perl/5.10.1/i386-netbsd-thread-multi
/home/sts/cpansmoke/perl-5.10.1/lib/site_perl/5.10.1
.