HTTP-Upload-FlowJs v0.02 Perl 5 v5.38.2 amd64-freebsd

Status
Pass
From
Slaven Rezić
Dist
HTTP-Upload-FlowJs v0.02
Platform
Perl 5 v5.38.2 amd64-freebsd
Date
2024-09-08 13:26:56
ID
0532f682-6de6-11ef-a9f0-f5366e8775ea
This distribution has been tested as part of the CPAN Testers
project, supporting the Perl programming language.  See
http://wiki.cpantesters.org/ for more information or email
questions to cpan-testers-discuss@perl.org


--
Dear Max Maischein,

This is a computer-generated report for HTTP-Upload-FlowJs-0.02
on perl 5.38.2, created by CPAN-Reporter-1.2019.

Thank you for uploading your work to CPAN.  Congratulations!
All tests were successful.

Sections of this report:

    * Tester comments
    * Program output
    * Prerequisites
    * Environment and other context

------------------------------
TESTER COMMENTS
------------------------------

Additional comments from tester:

none provided

------------------------------
PROGRAM OUTPUT
------------------------------

Output from '/usr/bin/make test':

PERL_DL_NONLAZY=1 "/usr/perl5.38.2/bin/perl" "-MExtUtils::Command::MM" "-MTest::Harness" "-e" "undef *Test::Harness::Switches; test_harness(0, 'blib/lib', 'blib/arch')" t/00-load.t t/002_http_upload_disallowedContentType.t t/003_http_upload_flowjs.t t/004_js-config.t
# Testing HTTP::Upload::FlowJs 0.02, Perl 5.038002
# Carp 1.54
# Carp::Heavy 1.54
# Class::XSAccessor 1.19
# Class::XSAccessor::Heavy 1.19
# Config 5.038002
# Data::Dumper 2.188
# Encode 3.20
# Encode::Alias 2.25
# Encode::Config 2.05
# Encode::Encoding 2.08
# Encode::MIME::Name 1.03
# Exporter 5.78
# Exporter::Heavy 5.78
# Fcntl 1.15
# File::Glob 1.40
# Filter::Simple 0.96
# Filter::Util::Call 1.64
# Filter::signatures 0.19
# HTTP::Upload::FlowJs 0.02
# IO 1.55
# IO::Handle 1.55
# JSON 4.10
# JSON::XS 4.03
# List::Util 1.63
# MIME::Detect 0.11
# MIME::Detect::Buffer <unknown>
# MIME::Detect::Type 0.11
# Method::Generate::Accessor <unknown>
# Method::Generate::Constructor <unknown>
# Moo 2.005005
# Moo::Object <unknown>
# Moo::_Utils <unknown>
# Moo::sification <unknown>
# POSIX 2.13
# PerlIO 1.12
# Scalar::Util 1.63
# SelectSaver 1.02
# Storable 3.32
# Sub::Defer 2.006008
# Sub::Quote 2.006008
# Sub::Util 1.63
# Symbol 1.09
# Test::Builder 1.302200
# Test::Builder::Formatter 1.302200
# Test::Builder::Module 1.302200
# Test::Builder::TodoDiag 1.302200
# Test::More 1.302200
# Test2::API 1.302200
# Test2::API::Context 1.302200
# Test2::API::Instance 1.302200
# Test2::API::Stack 1.302200
# Test2::Event 1.302200
# Test2::Event::Bail 1.302200
# Test2::Event::Diag 1.302200
# Test2::Event::Exception 1.302200
# Test2::Event::Fail 1.302200
# Test2::Event::Note 1.302200
# Test2::Event::Ok 1.302200
# Test2::Event::Pass 1.302200
# Test2::Event::Plan 1.302200
# Test2::Event::Skip 1.302200
# Test2::Event::Subtest 1.302200
# Test2::Event::V2 1.302200
# Test2::Event::Waiting 1.302200
# Test2::EventFacet 1.302200
# Test2::EventFacet::About 1.302200
# Test2::EventFacet::Amnesty 1.302200
# Test2::EventFacet::Assert 1.302200
# Test2::EventFacet::Control 1.302200
# Test2::EventFacet::Error 1.302200
# Test2::EventFacet::Hub 1.302200
# Test2::EventFacet::Info 1.302200
# Test2::EventFacet::Meta 1.302200
# Test2::EventFacet::Parent 1.302200
# Test2::EventFacet::Plan 1.302200
# Test2::EventFacet::Trace 1.302200
# Test2::Formatter 1.302200
# Test2::Formatter::TAP 1.302200
# Test2::Hub 1.302200
# Test2::Hub::Interceptor 1.302200
# Test2::Hub::Interceptor::Terminator 1.302200
# Test2::Hub::Subtest 1.302200
# Test2::Util 1.302200
# Test2::Util::ExternalMeta 1.302200
# Test2::Util::Facets2Legacy 1.302200
# Test2::Util::HashBase 1.302200
# Test2::Util::Trace 1.302200
# Text::Balanced 2.06
# Text::CleanFragment 0.07
# Text::Unidecode 1.30
# Tie::Hash 1.06
# Time::HiRes 1.9775
# Types::Serialiser 1.01
# XML::LibXML 2.0209
# XML::LibXML::AttributeHash 2.0209
# XML::LibXML::Boolean 2.0209
# XML::LibXML::Error 2.0209
# XML::LibXML::Literal 2.0209
# XML::LibXML::NodeList 2.0209
# XML::LibXML::Number 2.0209
# XML::LibXML::XPathContext 2.0209
# XML::SAX::Exception 1.09
# XSLoader 0.32
# XString 0.005
# attributes 0.35
# base 2.27
# bytes 1.08
# common::sense 3.75
# constant 1.33
# feature 1.82
# integer 1.01
# mro 1.28
# overload 1.37
# overloading 0.02
# parent 0.241
# strict 1.12
# utf8 1.25
# vars 1.05
# warnings 1.65
# warnings::register 1.05
t/00-load.t ................................ ok
t/002_http_upload_disallowedContentType.t .. ok
# Uploading sequence: 4 1 2 3
# Uploaded chunk 4
# Uploaded chunk 1
# Uploaded chunk 2
# Uploaded chunk 3
# []
# Cleaning up /var/tmp/cpansmoker-1023/2024090805/LnTXK6a7K3
t/003_http_upload_flowjs.t ................. ok
# Cleaning up /var/tmp/cpansmoker-1023/2024090805/9Gyb6QOX7J
t/004_js-config.t .......................... ok
All tests successful.
Files=4, Tests=96,  1 wallclock secs ( 0.03 usr  0.01 sys +  1.40 cusr  0.13 csys =  1.57 CPU)
Result: PASS

------------------------------
PREREQUISITES
------------------------------

Prerequisite modules loaded:

requires:

    Module              Need     Have    
    ------------------- -------- --------
    Carp                0        1.54    
    Data::Dumper        0        2.188   
    Filter::signatures  0.10     0.19    
    JSON                0        4.10    
    MIME::Detect        0        0.11    
    perl                5.010    5.038002
    Test::More          0        1.302200
    Text::CleanFragment 0        0.07    

build_requires:

    Module              Need     Have    
    ------------------- -------- --------
    ExtUtils::MakeMaker 0        7.70    
    Test::More          1.302007 1.302200

configure_requires:

    Module              Need     Have    
    ------------------- -------- --------
    ExtUtils::MakeMaker 0        7.70    


------------------------------
ENVIRONMENT AND OTHER CONTEXT
------------------------------

Environment variables:

    LANG = C.UTF-8
    PATH = /usr/local/bin:/usr/bin:/bin:/usr/local/sbin:/usr/sbin:/sbin:/home/cpansand/bin/sh:/home/cpansand/bin:/usr/games:/home/cpansand/devel:/home/eserte/src/srezic-misc/scripts
    PERL5LIB = 
    PERL5OPT = 
    PERL5_CPANPLUS_IS_RUNNING = 77696
    PERL5_CPAN_IS_RUNNING = 77696
    PERL5_CPAN_IS_RUNNING_IN_RECURSION = 77683,77696
    PERL_BATCH = yes
    PERL_CANARY_STABILITY_NOPROMPT = 1
    PERL_CPAN_REPORTER_CONFIG = /var/tmp/cpansmoker-1023/2024090805/cpanreporter_000_config.ini
    PERL_EXTUTILS_AUTOINSTALL = --defaultdeps
    PERL_USE_UNSAFE_INC = 1
    SHELL = /bin/sh
    TMPDIR = /var/tmp/cpansmoker-1023/2024090805

Perl special variables (and OS-specific diagnostics, for MSWin32):

    $^X = /usr/perl5.38.2/bin/perl
    $UID/$EUID = 1023 / 1023
    $GID = 1023 1023
    $EGID = 1023 1023

Perl module toolchain versions installed:

    Module              Have    
    ------------------- --------
    CPAN                2.37    
    CPAN::Meta          2.150010
    Cwd                 3.89    
    ExtUtils::CBuilder  0.280238
    ExtUtils::Command   7.70    
    ExtUtils::Install   2.22    
    ExtUtils::MakeMaker 7.70    
    ExtUtils::Manifest  1.75    
    ExtUtils::ParseXS   3.51    
    File::Spec          3.88    
    JSON                4.10    
    JSON::PP            4.16    
    Module::Build       0.4234  
    Module::Signature   0.88    
    Parse::CPAN::Meta   2.150010
    Test2               1.302200
    Test::Harness       3.44    
    Test::More          1.302200
    YAML                1.31    
    YAML::Syck          1.34    
    version             0.9933  


--

Summary of my perl5 (revision 5 version 38 subversion 2) configuration:
   
  Platform:
    osname=freebsd
    osvers=15.0-current
    archname=amd64-freebsd
    uname='freebsd cloud2.bbbike.org 15.0-current freebsd 15.0-current #0 main-5bc10feacc: tue dec 26 13:29:01 utc 2023 root@cloud2.bbbike.org:usrobjhomeprojectsfreebsd-srcamd64.amd64sysgeneric amd64 '
    config_args='-ds -e -Dprefix=/usr/perl5.38.2 -Dcf_email=srezic@cpan.org -Doptimize=-O2 -pipe'
    hint=recommended
    useposix=true
    d_sigaction=define
    useithreads=undef
    usemultiplicity=undef
    use64bitint=define
    use64bitall=define
    uselongdouble=undef
    usemymalloc=n
    default_inc_excludes_dot=define
  Compiler:
    cc='cc'
    ccflags ='-DHAS_FPSETMASK -DHAS_FLOATINGPOINT_H -fno-strict-aliasing -pipe -fstack-protector-strong -I/usr/local/include'
    optimize='-O2 -pipe'
    cppflags='-DHAS_FPSETMASK -DHAS_FLOATINGPOINT_H -fno-strict-aliasing -pipe -fstack-protector-strong -I/usr/local/include'
    ccversion=''
    gccversion='FreeBSD Clang 17.0.6 (https://github.com/llvm/llvm-project.git llvmorg-17.0.6-0-g6009708b4367)'
    gccosandvers=''
    intsize=4
    longsize=8
    ptrsize=8
    doublesize=8
    byteorder=12345678
    doublekind=3
    d_longlong=define
    longlongsize=8
    d_longdbl=define
    longdblsize=16
    longdblkind=3
    ivtype='long'
    ivsize=8
    nvtype='double'
    nvsize=8
    Off_t='off_t'
    lseeksize=8
    alignbytes=8
    prototype=define
  Linker and Libraries:
    ld='cc'
    ldflags ='-Wl,-E  -fstack-protector-strong -L/usr/local/lib'
    libpth=/usr/lib /usr/local/lib /usr/lib/clang/17/lib
    libs=-lpthread -lgdbm -ldl -lm -lcrypt -lutil -lc
    perllibs=-lpthread -ldl -lm -lcrypt -lutil -lc
    libc=
    so=so
    useshrplib=false
    libperl=libperl.a
    gnulibc_version=''
  Dynamic Linking:
    dlsrc=dl_dlopen.xs
    dlext=so
    d_dlsymun=undef
    ccdlflags=' '
    cccdlflags='-DPIC -fPIC'
    lddlflags='-shared  -L/usr/local/lib -fstack-protector-strong'


Characteristics of this binary (from libperl): 
  Compile-time options:
    HAS_LONG_DOUBLE
    HAS_STRTOLD
    HAS_TIMES
    PERLIO_LAYERS
    PERL_COPY_ON_WRITE
    PERL_DONT_CREATE_GVSV
    PERL_HASH_FUNC_SIPHASH13
    PERL_HASH_USE_SBOX32
    PERL_MALLOC_WRAP
    PERL_OP_PARENT
    PERL_PRESERVE_IVUV
    PERL_USE_SAFE_PUTENV
    USE_64_BIT_ALL
    USE_64_BIT_INT
    USE_LARGE_FILES
    USE_LOCALE
    USE_LOCALE_COLLATE
    USE_LOCALE_CTYPE
    USE_LOCALE_NUMERIC
    USE_LOCALE_TIME
    USE_PERLIO
    USE_PERL_ATOF
  Built under freebsd
  Compiled at Dec 26 2023 16:19:55
  %ENV:
    PERL5LIB=""
    PERL5OPT=""
    PERL5_CPANPLUS_IS_RUNNING="77696"
    PERL5_CPAN_IS_RUNNING="77696"
    PERL5_CPAN_IS_RUNNING_IN_RECURSION="77683,77696"
    PERL_BATCH="yes"
    PERL_CANARY_STABILITY_NOPROMPT="1"
    PERL_CPAN_REPORTER_CONFIG="/var/tmp/cpansmoker-1023/2024090805/cpanreporter_000_config.ini"
    PERL_EXTUTILS_AUTOINSTALL="--defaultdeps"
    PERL_USE_UNSAFE_INC="1"
  @INC:
    /usr/perl5.38.2/lib/site_perl/5.38.2/amd64-freebsd
    /usr/perl5.38.2/lib/site_perl/5.38.2
    /usr/perl5.38.2/lib/5.38.2/amd64-freebsd
    /usr/perl5.38.2/lib/5.38.2
    .