Sub-HandlesVia v0.050002 Perl 5 v5.36.1 darwin-2level
- Status
- Pass
- From
- David Cantrell (DCANTRELL)
- Dist
-
Sub-HandlesVia v0.050002
- Platform
- Perl 5 v5.36.1 darwin-2level
- Date
- 2025-04-21 23:19:05
- ID
- 0514c054-1f07-11f0-ad41-cac1608cf63c
This distribution has been tested as part of the CPAN Testers
project, supporting the Perl programming language. See
http://wiki.cpantesters.org/ for more information or email
questions to cpan-testers-discuss@perl.org
--
Dear Toby Inkster,
This is a computer-generated report for Sub-HandlesVia-0.050002
on perl 5.36.1, created by CPAN-Reporter-1.2019.
Thank you for uploading your work to CPAN. Congratulations!
All tests were successful.
Sections of this report:
* Tester comments
* Program output
* Prerequisites
* Environment and other context
------------------------------
TESTER COMMENTS
------------------------------
Additional comments from tester:
this report is from an automated smoke testing program
and was not reviewed by a human for accuracy
------------------------------
PROGRAM OUTPUT
------------------------------
Output from '/usr/bin/make test':
PERL_DL_NONLAZY=1 "/Users/cpantesting/cpantesting/perl-5.36.1/bin/perl" "-MExtUtils::Command::MM" "-MTest::Harness" "-e" "undef *Test::Harness::Switches; test_harness(0, 'blib/lib', 'blib/arch')" t/*.t t/02moo/*.t t/03moo_mxtt/*.t t/04moose/*.t t/05moose_nativetypes/*.t t/06mouse/*.t t/07mouse_nativetypes/*.t t/30egpod/*.t t/40mite/*.t
#
# Perl 5.036001
# Exporter::Tiny 1.006002
# Type::Tiny/Type::Tiny::XS 2.008001/0.025
# Scalar::Util/List::Util/Sub::Util 1.62/1.62/1.62
#
# Class::Tiny 1.008
# Role::Tiny 2.002004
# Class::Method::Modifiers 2.15
# Moo/MooX::TypeTiny/Class::XSAccessor 2.005005/0.002003/1.19
# Moose 2.2207
# Mouse undef
#
# Test::More/Test::Fatal/Test::Requires 1.302210/0.017/0.11
#
# $AUTOMATED_TESTING "1"
# $NONINTERACTIVE_TESTING "1"
# $EXTENDED_TESTING undef
# $AUTHOR_TESTING undef
# $RELEASE_TESTING undef
#
# >>>> Type::Tiny is using Type::Tiny::XS
#
t/00begin.t ............................ ok
t/01basic.t ............................ ok
t/02moo.t .............................. ok
t/02moo/ext_attr.t ..................... ok
t/02moo/role.t ......................... ok
t/02moo/roles-multiple.t ............... ok
t/02moo/trait_array.t .................. ok
t/02moo/trait_bool.t ................... ok
t/02moo/trait_code.t ................... ok
t/02moo/trait_counter.t ................ ok
t/02moo/trait_hash.t ................... ok
t/02moo/trait_number.t ................. ok
t/02moo/trait_string.t ................. ok
t/03moo_mxtt.t ......................... ok
t/03moo_mxtt/role.t .................... ok
t/03moo_mxtt/trait_array.t ............. ok
t/03moo_mxtt/trait_bool.t .............. ok
t/03moo_mxtt/trait_code.t .............. ok
t/03moo_mxtt/trait_counter.t ........... ok
t/03moo_mxtt/trait_hash.t .............. ok
t/03moo_mxtt/trait_number.t ............ ok
t/03moo_mxtt/trait_string.t ............ ok
t/04moose.t ............................ ok
t/04moose/ext_attr.t ................... ok
t/04moose/role.t ....................... ok
t/04moose/roles-multiple.t ............. ok
t/04moose/trait_array.t ................ ok
t/04moose/trait_bool.t ................. ok
t/04moose/trait_code.t ................. ok
t/04moose/trait_counter.t .............. ok
t/04moose/trait_hash.t ................. ok
t/04moose/trait_number.t ............... ok
t/04moose/trait_string.t ............... ok
t/05moose_nativetypes.t ................ ok
t/05moose_nativetypes/role.t ........... ok
t/05moose_nativetypes/trait_array.t .... ok
t/05moose_nativetypes/trait_bool.t ..... ok
t/05moose_nativetypes/trait_code.t ..... ok
t/05moose_nativetypes/trait_counter.t .. ok
t/05moose_nativetypes/trait_hash.t ..... ok
t/05moose_nativetypes/trait_number.t ... ok
t/05moose_nativetypes/trait_string.t ... ok
t/06mouse.t ............................ skipped: Test requires module 'Mouse' but it's not found
t/06mouse/ext_attr.t ................... skipped: Test requires module 'Mouse' but it's not found
t/06mouse/role.t ....................... skipped: Test requires module 'Mouse' but it's not found
t/06mouse/roles-multiple.t ............. skipped: TODO (issue #9)
t/06mouse/trait_array.t ................ skipped: Test requires module 'Mouse' but it's not found
t/06mouse/trait_bool.t ................. skipped: Test requires module 'Mouse' but it's not found
t/06mouse/trait_code.t ................. skipped: Test requires module 'Mouse' but it's not found
t/06mouse/trait_counter.t .............. skipped: Test requires module 'Mouse' but it's not found
t/06mouse/trait_hash.t ................. skipped: Test requires module 'Mouse' but it's not found
t/06mouse/trait_number.t ............... skipped: Test requires module 'Mouse' but it's not found
t/06mouse/trait_string.t ............... skipped: Test requires module 'Mouse' but it's not found
t/07mouse_nativetypes.t ................ skipped: Test requires module 'Mouse' but it's not found
t/07mouse_nativetypes/role.t ........... skipped: Test requires module 'Mouse' but it's not found
t/07mouse_nativetypes/trait_array.t .... skipped: Test requires module 'Mouse' but it's not found
t/07mouse_nativetypes/trait_bool.t ..... skipped: Test requires module 'Mouse' but it's not found
t/07mouse_nativetypes/trait_code.t ..... skipped: Test requires module 'Mouse' but it's not found
t/07mouse_nativetypes/trait_counter.t .. skipped: Test requires module 'Mouse' but it's not found
t/07mouse_nativetypes/trait_hash.t ..... skipped: Test requires module 'Mouse' but it's not found
t/07mouse_nativetypes/trait_number.t ... skipped: Test requires module 'Mouse' but it's not found
t/07mouse_nativetypes/trait_string.t ... skipped: Test requires module 'Mouse' but it's not found
t/08classtiny.t ........................ ok
t/09barebones.t ........................ ok
t/10barebones_eagerbuilder.t ........... ok
t/11delegation.t ....................... ok
t/12slotaccess.t ....................... skipped: Test requires module 'MooseX::ArrayRef' but it's not found
t/14enum.t ............................. ok
t/15preludes.t ......................... ok
t/16stackqueue.t ....................... ok
t/20moosex_extended.t .................. skipped: test requires MooseX::Extended
t/30egpod/array.t ...................... ok
t/30egpod/bool.t ....................... ok
t/30egpod/code.t ....................... ok
t/30egpod/counter.t .................... ok
t/30egpod/hash.t ....................... ok
t/30egpod/number.t ..................... ok
t/30egpod/scalar.t ..................... ok
t/30egpod/string.t ..................... ok
t/31egpod_dummy.t ...................... ok
t/40mite/00-basic.t .................... ok
t/40mite/01-roles.t .................... ok
t/40mite/array.t ....................... ok
t/40mite/bool.t ........................ ok
t/40mite/code.t ........................ ok
t/40mite/counter.t ..................... ok
t/40mite/hash.t ........................ ok
t/40mite/number.t ...................... ok
t/40mite/scalar.t ...................... ok
t/40mite/string.t ...................... ok
t/50objectpad.t ........................ skipped: Test requires module 'Object::Pad' but it's not found
t/60detect.t ........................... skipped: Test requires module 'Mouse::Role' but it's not found
t/61moosemetagubbins.t ................. ok
t/62mousemetagubbins.t ................. skipped: Test requires module 'Mouse' but it's not found
t/80beam.t ............................. skipped: Test requires module 'Beam::Wire' but it's not found
t/81mxpa.t ............................. skipped: Test requires module 'MooX::ProtectedAttributes' but it's not found
t/94cmp.t .............................. ok
t/95any.t .............................. ok
t/96foreach.t .......................... ok
t/97pickrandom.t ....................... ok
t/98apply.t ............................ ok
t/99headtail.t ......................... ok
All tests successful.
Files=102, Tests=7279, 56 wallclock secs ( 1.98 usr 0.50 sys + 45.66 cusr 5.42 csys = 53.56 CPU)
Result: PASS
------------------------------
PREREQUISITES
------------------------------
Prerequisite modules loaded:
requires:
Module Need Have
------------------------ -------- --------
Class::Method::Modifiers 0 2.15
Exporter::Shiny 0 1.006002
List::Util 1.54 1.62
perl 5.008001 5.036001
Role::Hooks 0.008 0.008
Role::Tiny 0 2.002004
Type::Tiny 1.004 2.008001
build_requires:
Module Need Have
------------------------ -------- --------
Test::Fatal 0 0.017
Test::More 0.96 1.302210
Test::Requires 0 0.11
Try::Tiny 0 0.31
configure_requires:
Module Need Have
------------------------ -------- --------
ExtUtils::MakeMaker 6.17 7.70
opt_requires:
Module Need Have
------------------------ -------- --------
Sub::Util 0 1.62
opt_build_requires:
Module Need Have
------------------------ -------- --------
Class::Tiny 0 1.008
Moo 0 2.005005
Moose 0 2.2207
! MooseX::Extended 0.22 n/a
MooX::TypeTiny 0 0.002003
! Mouse 0 n/a
! Object::Pad 0.70 n/a
------------------------------
ENVIRONMENT AND OTHER CONTEXT
------------------------------
Environment variables:
AUTOMATED_TESTING = 1
LANG = en_GB.UTF-8
LC_TERMINAL = iTerm2
LC_TERMINAL_VERSION = 3.5.13
NONINTERACTIVE_TESTING = 1
PATH = /Users/cpantesting/perl5/perlbrew/bin:/Users/cpantesting/perl5/perlbrew/perls/perl-5.32.0/bin:/usr/local/bin:/System/Cryptexes/App/usr/bin:/usr/bin:/bin:/usr/sbin:/sbin:/var/run/com.apple.security.cryptexd/codex.system/bootstrap/usr/local/bin:/var/run/com.apple.security.cryptexd/codex.system/bootstrap/usr/bin:/var/run/com.apple.security.cryptexd/codex.system/bootstrap/usr/appleinternal/bin:/opt/X11/bin:/Library/Apple/usr/bin:/Applications/VMware Fusion.app/Contents/Public:/usr/local/zfs/bin:/Users/cpantesting/.cargo/bin
PERL = 5.36.1
PERL5LIB =
PERL5OPT =
PERL5_CPANPLUS_IS_RUNNING = 67054
PERL5_CPAN_IS_RUNNING = 67054
PERLBREW_HOME = /Users/cpantesting/.perlbrew
PERLBREW_MANPATH = /Users/cpantesting/perl5/perlbrew/perls/perl-5.32.0/man
PERLBREW_PATH = /Users/cpantesting/perl5/perlbrew/bin:/Users/cpantesting/perl5/perlbrew/perls/perl-5.32.0/bin
PERLBREW_PERL = perl-5.32.0
PERLBREW_ROOT = /Users/cpantesting/perl5/perlbrew
PERLBREW_SHELLRC_VERSION = 0.94
PERLBREW_VERSION = 0.94
PERLVER = 5.36.1
PERL_INLINE_DIRECTORY = /Users/cpantesting/.Inline-5.36.1
PERL_MM_USE_DEFAULT = 1
PERL_USE_UNSAFE_INC = 0
SHELL = /bin/bash
TERM = screen
TMPDIR = /var/folders/zy/47mkymr176b35xhyp425tk7h0000gq/T/
Perl special variables (and OS-specific diagnostics, for MSWin32):
$^X = /Users/cpantesting/cpantesting/perl-5.36.1/bin/perl
$UID/$EUID = 503 / 503
$GID = 20 20 12 61 399 703 702 701 100
$EGID = 20 20 12 61 399 703 702 701 100
Perl module toolchain versions installed:
Module Have
------------------- --------
CPAN 2.33
CPAN::Meta 2.150010
Cwd 3.84
ExtUtils::CBuilder 0.280236
ExtUtils::Command 7.70
ExtUtils::Install 2.20
ExtUtils::MakeMaker 7.70
ExtUtils::Manifest 1.73
ExtUtils::ParseXS 3.45
File::Spec 3.84
JSON 4.10
JSON::PP 4.16
Module::Build 0.4232
Module::Signature n/a
Parse::CPAN::Meta 2.150010
Test2 1.302210
Test::Harness 3.44
Test::More 1.302210
YAML 1.31
YAML::Syck n/a
version 0.9929
--
Summary of my perl5 (revision 5 version 36 subversion 1) configuration:
Platform:
osname=darwin
osvers=21.6.0
archname=darwin-2level
uname='darwin harrow.local 21.6.0 darwin kernel version 21.6.0: mon aug 22 20:17:10 pdt 2022; root:xnu-8020.140.49~2release_x86_64 x86_64 '
config_args='-de -Dprefix=/Users/cpantesting/cpantesting/perl-5.36.1'
hint=recommended
useposix=true
d_sigaction=define
useithreads=undef
usemultiplicity=undef
use64bitint=define
use64bitall=define
uselongdouble=undef
usemymalloc=n
default_inc_excludes_dot=define
Compiler:
cc='cc'
ccflags ='-fno-common -DPERL_DARWIN -mmacosx-version-min=12.6 -fno-strict-aliasing -pipe -fstack-protector-strong -I/usr/local/include -DPERL_USE_SAFE_PUTENV'
optimize='-O3'
cppflags='-fno-common -DPERL_DARWIN -mmacosx-version-min=12.6 -fno-strict-aliasing -pipe -fstack-protector-strong -I/usr/local/include'
ccversion=''
gccversion='Apple LLVM 14.0.0 (clang-1400.0.29.202)'
gccosandvers=''
intsize=4
longsize=8
ptrsize=8
doublesize=8
byteorder=12345678
doublekind=3
d_longlong=define
longlongsize=8
d_longdbl=define
longdblsize=16
longdblkind=3
ivtype='long'
ivsize=8
nvtype='double'
nvsize=8
Off_t='off_t'
lseeksize=8
alignbytes=8
prototype=define
Linker and Libraries:
ld='cc'
ldflags =' -mmacosx-version-min=12.6 -fstack-protector-strong -L/usr/local/lib'
libpth=/usr/local/lib /Applications/Xcode.app/Contents/Developer/Toolchains/XcodeDefault.xctoolchain/usr/lib/clang/14.0.0/lib /Applications/Xcode.app/Contents/Developer/Platforms/MacOSX.platform/Developer/SDKs/MacOSX.sdk/usr/lib /Applications/Xcode.app/Contents/Developer/Toolchains/XcodeDefault.xctoolchain/usr/lib /usr/lib
libs=-lgdbm
perllibs=
libc=
so=dylib
useshrplib=false
libperl=libperl.a
gnulibc_version=''
Dynamic Linking:
dlsrc=dl_dlopen.xs
dlext=bundle
d_dlsymun=undef
ccdlflags=' '
cccdlflags=' '
lddlflags=' -mmacosx-version-min=12.6 -bundle -undefined dynamic_lookup -L/usr/local/lib -fstack-protector-strong'
Characteristics of this binary (from libperl):
Compile-time options:
HAS_TIMES
PERLIO_LAYERS
PERL_COPY_ON_WRITE
PERL_DONT_CREATE_GVSV
PERL_MALLOC_WRAP
PERL_OP_PARENT
PERL_PRESERVE_IVUV
PERL_USE_SAFE_PUTENV
USE_64_BIT_ALL
USE_64_BIT_INT
USE_LARGE_FILES
USE_LOCALE
USE_LOCALE_COLLATE
USE_LOCALE_CTYPE
USE_LOCALE_NUMERIC
USE_LOCALE_TIME
USE_PERLIO
USE_PERL_ATOF
Built under darwin
Compiled at Apr 23 2023 16:37:45
%ENV:
PERL="5.36.1"
PERL5LIB=""
PERL5OPT=""
PERL5_CPANPLUS_IS_RUNNING="67054"
PERL5_CPAN_IS_RUNNING="67054"
PERLBREW_HOME="/Users/cpantesting/.perlbrew"
PERLBREW_MANPATH="/Users/cpantesting/perl5/perlbrew/perls/perl-5.32.0/man"
PERLBREW_PATH="/Users/cpantesting/perl5/perlbrew/bin:/Users/cpantesting/perl5/perlbrew/perls/perl-5.32.0/bin"
PERLBREW_PERL="perl-5.32.0"
PERLBREW_ROOT="/Users/cpantesting/perl5/perlbrew"
PERLBREW_SHELLRC_VERSION="0.94"
PERLBREW_VERSION="0.94"
PERLVER="5.36.1"
PERL_INLINE_DIRECTORY="/Users/cpantesting/.Inline-5.36.1"
PERL_MM_USE_DEFAULT="1"
PERL_USE_UNSAFE_INC="0"
@INC:
/Users/cpantesting/cpantesting/perl-5.36.1/lib/site_perl/5.36.1/darwin-2level
/Users/cpantesting/cpantesting/perl-5.36.1/lib/site_perl/5.36.1
/Users/cpantesting/cpantesting/perl-5.36.1/lib/5.36.1/darwin-2level
/Users/cpantesting/cpantesting/perl-5.36.1/lib/5.36.1