Back
From: metabase:user:320bfe00-2aae-11df-837a-5e0a49663a4f
Subject: PASS HTML-FormatExternal-19 v5.13.10 GNU/Linux
Date: 2011-03-20T05:36:35Z
This distribution has been tested as part of the CPAN Testers
project, supporting the Perl programming language. See
http://wiki.cpantesters.org/ for more information or email
questions to cpan-testers-discuss@perl.org
--
Dear Kevin Ryde,
This is a computer-generated report for HTML-FormatExternal-19
on perl 5.13.10, created by CPAN-Reporter-1.1902.
Thank you for uploading your work to CPAN. Congratulations!
All tests were successful.
Sections of this report:
* Tester comments
* Program output
* Prerequisites
* Environment and other context
------------------------------
TESTER COMMENTS
------------------------------
Additional comments from tester:
none provided
------------------------------
PROGRAM OUTPUT
------------------------------
Output from '/usr/bin/make test':
make[1]: Entering directory `/home/sand/.cpan/build/HTML-FormatExternal-19-ZG7PiK'
PERL_DL_NONLAZY=1 /home/src/perl/repoperls/installed-perls/perl/v5.13.10-483-g41ef34d/bin/perl "-MExtUtils::Command::MM" "-e" "test_harness(0, 'blib/lib', 'blib/arch')" t/*.t
t/Elinks.t .......... ok
# HTML::FormatText::Elinks
# HTML::FormatText::Elinks program_full_version $VAR1 = undef;
# HTML::FormatText::Elinks program_version $VAR1 = undef;
# HTML::FormatText::Html2text
# HTML::FormatText::Html2text program_full_version $VAR1 = 'This is html2text, version 1.3.2a
#
# The latest version can be found at http://userpage.fu-berlin.de/~mbayer/tools/
#
# This program is distributed in the hope that it will be useful, but WITHOUT
# ANY WARRANTY; without even the implied warranty of MERCHANTABILITY or FITNESS
# FOR A PARTICULAR PURPOSE. See the GNU General Public License for more details.
# ';
# HTML::FormatText::Html2text program_version $VAR1 = '1.3.2a';
# HTML::FormatText::Html2text _have_ascii() yes
# $output = "123 567 9012\nabc def ghij\n";
# HTML::FormatText::Links
# HTML::FormatText::Links program_full_version $VAR1 = 'Links 2.3pre1
# ';
# HTML::FormatText::Links program_version $VAR1 = '2.3pre1';
# HTML::FormatText::Links _have_html_margin() yes
# $output = "123 567 9012\nabc def ghij\n";
# HTML::FormatText::Lynx
# HTML::FormatText::Lynx program_full_version $VAR1 = 'Lynx Version 2.8.8dev.8 (10 Jan 2011)
# libwww-FM 2.14, SSL-MM 1.4.1, GNUTLS 2.8.6, ncurses 5.8.20110307(wide)
# Built on linux-gnu Jan 26 2011 07:27:43
#
# Copyrights held by the Lynx Developers Group,
# the University of Kansas, CERN, and other contributors.
# Distributed under the GNU General Public License (Version 2).
# See http://lynx.isc.org/ and the online help for more information.
# ';
# HTML::FormatText::Lynx program_version $VAR1 = '2.8.8dev.8';
# HTML::FormatText::Lynx _have_nomargins() yes
# $output = "123 567 9012\nabc def ghij\n\n";
# HTML::FormatText::Netrik
# HTML::FormatText::Netrik program_full_version $VAR1 = undef;
# HTML::FormatText::Netrik program_version $VAR1 = undef;
# HTML::FormatText::W3m
# HTML::FormatText::W3m program_full_version $VAR1 = 'w3m version w3m/0.5.3, options lang=en,m17n,image,color,ansi-color,mouse,gpm,menu,cookie,ssl,ssl-verify,external-uri-loader,w3mmailer,nntp,gopher,ipv6,alarm,mark,migemo
# ';
# HTML::FormatText::W3m program_version $VAR1 = '0.5.3';
# $output = "123 567 9012\nabc def ghij\n";
# HTML::FormatText::Zen
# HTML::FormatText::Zen program_full_version $VAR1 = undef;
# HTML::FormatText::Zen program_version $VAR1 = undef;
t/FormatExternal.t .. ok
t/Links.t ........... ok
All tests successful.
Files=3, Tests=233, 2 wallclock secs ( 0.06 usr 0.02 sys + 0.56 cusr 0.30 csys = 0.94 CPU)
Result: PASS
make[1]: Leaving directory `/home/sand/.cpan/build/HTML-FormatExternal-19-ZG7PiK'
------------------------------
PREREQUISITES
------------------------------
Prerequisite modules loaded:
requires:
Module Need Have
------------------- ----- --------
Encode 0 2.42
File::Temp 0.18 0.22
perl 5.006 5.013010
Perl6::Slurp 0 0.03
Test::More 0 0.98
build_requires:
Module Need Have
------------------- ----- --------
ExtUtils::MakeMaker 0 6.57_05
configure_requires:
Module Need Have
------------------- ----- --------
ExtUtils::MakeMaker 0 6.57_05
------------------------------
ENVIRONMENT AND OTHER CONTEXT
------------------------------
Environment variables:
LANG = en_US.UTF-8
LC_TIME = de_DE.utf8
PATH = /home/sand/bin:/usr/local/bin:/usr/bin:/bin:/usr/bin/X11:/usr/games:/usr/local/perl/bin:/usr/X11/bin:/sbin:/usr/sbin
PERL5LIB = /home/sand/.cpan/build/WAP-wbxml-1.12-FvAnfS/blib/arch:/home/sand/.cpan/build/WAP-wbxml-1.12-FvAnfS/blib/lib:/home/sand/.cpan/build/ProjectBuilder-0.11.2-zPKIYT/blib/arch:/home/sand/.cpan/build/ProjectBuilder-0.11.2-zPKIYT/blib/lib:/home/sand/.cpan/build/Mail-SpamAssassin-2.43-rKhxIH/blib/arch:/home/sand/.cpan/build/Mail-SpamAssassin-2.43-rKhxIH/blib/lib
PERL5OPT =
PERL5_CPANPLUS_IS_RUNNING = 19322
PERL5_CPAN_IS_RUNNING = 19322
SHELL = /usr/bin/zsh
TERM = screen
Perl special variables (and OS-specific diagnostics, for MSWin32):
$^X = /home/src/perl/repoperls/installed-perls/perl/v5.13.10-483-g41ef34d/bin/perl
$UID/$EUID = 1001 / 1001
$GID = 1001 1001
$EGID = 1001 1001
Perl module toolchain versions installed:
Module Have
------------------- --------
CPAN 1.9600
Cwd 3.36
ExtUtils::CBuilder 0.280202
ExtUtils::Command 1.17
ExtUtils::Install 1.56
ExtUtils::MakeMaker 6.57_05
ExtUtils::Manifest 1.58
ExtUtils::ParseXS 2.2209
File::Spec 3.33
Module::Build 0.3800
Module::Signature 0.66
Test::Harness 3.23
Test::More 0.98
YAML 0.72
YAML::Syck 1.17
version 0.88
--
Summary of my perl5 (revision 5 version 13 subversion 10) configuration:
Commit id: 41ef34de832ea2283fbc3b35c6da583d89497204
Platform:
osname=linux, osvers=2.6.32-5-xen-amd64, archname=x86_64-linux-thread-multi
uname='linux k81 2.6.32-5-xen-amd64 #1 smp wed jan 12 05:46:49 utc 2011 x86_64 gnulinux '
config_args='-Dprefix=/home/src/perl/repoperls/installed-perls/perl/v5.13.10-483-g41ef34d -Dinstallusrbinperl=n -Uversiononly -Dusedevel -des -Ui_db -Duseithreads -Uuselongdouble -DDEBUGGING=-g'
hint=recommended, useposix=true, d_sigaction=define
useithreads=define, usemultiplicity=define
useperlio=define, d_sfio=undef, uselargefiles=define, usesocks=undef
use64bitint=define, use64bitall=define, uselongdouble=undef
usemymalloc=n, bincompat5005=undef
Compiler:
cc='cc', ccflags ='-D_REENTRANT -D_GNU_SOURCE -fno-strict-aliasing -pipe -fstack-protector -I/usr/local/include -D_LARGEFILE_SOURCE -D_FILE_OFFSET_BITS=64',
optimize='-O2 -g',
cppflags='-D_REENTRANT -D_GNU_SOURCE -fno-strict-aliasing -pipe -fstack-protector -I/usr/local/include'
ccversion='', gccversion='4.5.2', gccosandvers=''
intsize=4, longsize=8, ptrsize=8, doublesize=8, byteorder=12345678
d_longlong=define, longlongsize=8, d_longdbl=define, longdblsize=16
ivtype='long', ivsize=8, nvtype='double', nvsize=8, Off_t='off_t', lseeksize=8
alignbytes=8, prototype=define
Linker and Libraries:
ld='cc', ldflags =' -fstack-protector -L/usr/local/lib'
libpth=/usr/local/lib /lib /usr/lib /lib64 /usr/lib64
libs=-lnsl -lgdbm -ldb -ldl -lm -lcrypt -lutil -lpthread -lc -lgdbm_compat
perllibs=-lnsl -ldl -lm -lcrypt -lutil -lpthread -lc
libc=/lib/libc-2.11.2.so, so=so, useshrplib=false, libperl=libperl.a
gnulibc_version='2.11.2'
Dynamic Linking:
dlsrc=dl_dlopen.xs, dlext=so, d_dlsymun=undef, ccdlflags='-Wl,-E'
cccdlflags='-fPIC', lddlflags='-shared -O2 -g -L/usr/local/lib -fstack-protector'
Characteristics of this binary (from libperl):
Compile-time options: MULTIPLICITY PERL_DONT_CREATE_GVSV
PERL_IMPLICIT_CONTEXT PERL_MALLOC_WRAP
PERL_PRESERVE_IVUV PERL_USE_DEVEL USE_64_BIT_ALL
USE_64_BIT_INT USE_ITHREADS USE_LARGE_FILES
USE_PERLIO USE_PERL_ATOF USE_REENTRANT_API
Built under linux
Compiled at Mar 19 2011 17:12:27
%ENV:
PERL5LIB="/home/sand/.cpan/build/WAP-wbxml-1.12-FvAnfS/blib/arch:/home/sand/.cpan/build/WAP-wbxml-1.12-FvAnfS/blib/lib:/home/sand/.cpan/build/ProjectBuilder-0.11.2-zPKIYT/blib/arch:/home/sand/.cpan/build/ProjectBuilder-0.11.2-zPKIYT/blib/lib:/home/sand/.cpan/build/Mail-SpamAssassin-2.43-rKhxIH/blib/arch:/home/sand/.cpan/build/Mail-SpamAssassin-2.43-rKhxIH/blib/lib"
PERL5OPT=""
PERL5_CPANPLUS_IS_RUNNING="19322"
PERL5_CPAN_IS_RUNNING="19322"
@INC:
/home/sand/.cpan/build/WAP-wbxml-1.12-FvAnfS/blib/arch
/home/sand/.cpan/build/WAP-wbxml-1.12-FvAnfS/blib/lib
/home/sand/.cpan/build/ProjectBuilder-0.11.2-zPKIYT/blib/arch
/home/sand/.cpan/build/ProjectBuilder-0.11.2-zPKIYT/blib/lib
/home/sand/.cpan/build/Mail-SpamAssassin-2.43-rKhxIH/blib/arch
/home/sand/.cpan/build/Mail-SpamAssassin-2.43-rKhxIH/blib/lib
/home/src/perl/repoperls/installed-perls/perl/v5.13.10-483-g41ef34d/lib/site_perl/5.13.10/x86_64-linux-thread-multi
/home/src/perl/repoperls/installed-perls/perl/v5.13.10-483-g41ef34d/lib/site_perl/5.13.10
/home/src/perl/repoperls/installed-perls/perl/v5.13.10-483-g41ef34d/lib/5.13.10/x86_64-linux-thread-multi
/home/src/perl/repoperls/installed-perls/perl/v5.13.10-483-g41ef34d/lib/5.13.10
.