Report for Module-Install-ReadmeFromPod-0.22

Back
From: metabase:user:30f4dfbe-2aae-11df-837a-5e0a49663a4f
Subject: PASS Module-Install-ReadmeFromPod-0.22 v5.14.3 Mac OS X
Date: 2013-08-24T04:24:08Z

This distribution has been tested as part of the CPAN Testers
project, supporting the Perl programming language.  See
http://wiki.cpantesters.org/ for more information or email
questions to cpan-testers-discuss@perl.org


--
Dear Chris Williams,

This is a computer-generated report for Module-Install-ReadmeFromPod-0.22
on perl 5.14.3, created by CPAN-Reporter-1.2010.

Thank you for uploading your work to CPAN.  Congratulations!
All tests were successful.

Sections of this report:

    * Tester comments
    * Program output
    * Prerequisites
    * Environment and other context

------------------------------
TESTER COMMENTS
------------------------------

Additional comments from tester:

this report is from an automated smoke testing program
and was not reviewed by a human for accuracy

------------------------------
PROGRAM OUTPUT
------------------------------

Output from '/sw/bin/make test':

PERL_DL_NONLAZY=1 /Users/hornenj/perl5/perlbrew/perls/perl-5.14.3/bin/perl "-MExtUtils::Command::MM" "-e" "test_harness(0, 'inc', 'blib/lib', 'blib/arch')" t/*.t
# Testing Module::Install::ReadmeFromPod 0.22, Perl 5.014003, /Users/hornenj/perl5/perlbrew/perls/perl-5.14.3/bin/perl
t/00_compile.t ....... ok
# include /Users/hornenj/.cpan/build/Module-Install-ReadmeFromPod-0.22-6KfM6X/dist/ePkzAM02nG/inc/Module/Install.pm
# include inc/Module/Install/Metadata.pm
# include inc/Module/Install/Base.pm
# include inc/Module/Install/ReadmeFromPod.pm
# readme_from README.pm to txt
# readme_from README.pm to htm
# readme_from README.pm to man
# include inc/Module/Install/WriteAll.pm
# include inc/Module/Install/Makefile.pm
# include inc/Module/Install/Win32.pm
# include inc/Module/Install/Can.pm
# include inc/Module/Install/Fetch.pm
# Writing Makefile for Foo::Bar
# Writing MYMETA.yml and MYMETA.json
# Writing META.yml
# make[1]: Entering directory `/Users/hornenj/.cpan/build/Module-Install-ReadmeFromPod-0.22-6KfM6X/dist/ePkzAM02nG'
# rm -f \
#   *.a core \
#   core.[0-9] blib/arch/auto/Foo/Bar/extralibs.all \
#   core.[0-9][0-9] Bar.bso \
#   pm_to_blib.ts MYMETA.json \
#   core.[0-9][0-9][0-9][0-9] MYMETA.yml \
#   Bar.x  \
#   perl tmon.out \
#   *.o pm_to_blib \
#   blib/arch/auto/Foo/Bar/extralibs.ld blibdirs.ts \
#   core.[0-9][0-9][0-9][0-9][0-9] *perl.core \
#   core.*perl.*.? Makefile.aperl \
#   Bar.def perl \
#   core.[0-9][0-9][0-9] mon.out \
#   libBar.def perlmain.c \
#   perl.exe so_locations \
#   Bar.exp 
# rm -rf \
#   blib 
# mv Makefile Makefile.old > /dev/null 2>&1
# rm -f \
#   Makefile.old Makefile 
# rm -rf \
#   MYMETA.yml Foo-Bar-0.01 
# rm -f Foo-Bar-0.01.tar.gz
# rm -f MANIFEST.bak _build
# /Users/hornenj/perl5/perlbrew/perls/perl-5.14.3/bin/perl "-Iinc" "-Ilib" "-MModule::Install::Admin" -e "remove_meta()"
# rm -rf inc
# /Users/hornenj/perl5/perlbrew/perls/perl-5.14.3/bin/perl "-Iinc" "-MExtUtils::Manifest=fullcheck" -e fullcheck
# Problem opening MANIFEST: No such file or directory at /Users/hornenj/perl5/perlbrew/perls/perl-5.14.3/lib/site_perl/5.14.3/ExtUtils/Manifest.pm line 344.
# Problem opening MANIFEST: No such file or directory at /Users/hornenj/perl5/perlbrew/perls/perl-5.14.3/lib/site_perl/5.14.3/ExtUtils/Manifest.pm line 344.
# Not in MANIFEST: Makefile.PL
# Not in MANIFEST: README
# Not in MANIFEST: README.1
# Not in MANIFEST: README.htm
# Not in MANIFEST: README.pm
# make[1]: Leaving directory `/Users/hornenj/.cpan/build/Module-Install-ReadmeFromPod-0.22-6KfM6X/dist/ePkzAM02nG'
t/01_dist.t .......... ok
# include /Users/hornenj/.cpan/build/Module-Install-ReadmeFromPod-0.22-6KfM6X/dist/0fgMLFnyTx/inc/Module/Install.pm
# include inc/Module/Install/Metadata.pm
# include inc/Module/Install/Base.pm
# include inc/Module/Install/ReadmeFromPod.pm
# readme_from README.pm to text
# include inc/Module/Install/Makefile.pm
# readme_from README.pm to html
# readme_from README.pm to man
# include inc/Module/Install/WriteAll.pm
# include inc/Module/Install/Win32.pm
# include inc/Module/Install/Can.pm
# include inc/Module/Install/Fetch.pm
# Writing Makefile for Foo::Bar
# Writing MYMETA.yml and MYMETA.json
# Writing META.yml
# make[1]: Entering directory `/Users/hornenj/.cpan/build/Module-Install-ReadmeFromPod-0.22-6KfM6X/dist/0fgMLFnyTx'
# rm -f \
#   *.a core \
#   core.[0-9] blib/arch/auto/Foo/Bar/extralibs.all \
#   core.[0-9][0-9] Bar.bso \
#   pm_to_blib.ts MYMETA.json \
#   core.[0-9][0-9][0-9][0-9] MYMETA.yml \
#   Bar.x  \
#   perl tmon.out \
#   *.o pm_to_blib \
#   blib/arch/auto/Foo/Bar/extralibs.ld blibdirs.ts \
#   core.[0-9][0-9][0-9][0-9][0-9] *perl.core \
#   core.*perl.*.? Makefile.aperl \
#   Bar.def perl \
#   core.[0-9][0-9][0-9] mon.out \
#   libBar.def perlmain.c \
#   perl.exe so_locations \
#   Bar.exp 
# rm -rf \
#   Foobar.htm blib \
#   Foobar.man Foobar.txt 
# mv Makefile Makefile.old > /dev/null 2>&1
# rm -f \
#   Makefile.old Makefile 
# rm -rf \
#   MYMETA.yml Foo-Bar-0.01 
# rm -f Foo-Bar-0.01.tar.gz
# rm -f MANIFEST.bak _build
# /Users/hornenj/perl5/perlbrew/perls/perl-5.14.3/bin/perl "-Iinc" "-Ilib" "-MModule::Install::Admin" -e "remove_meta()"
# rm -rf inc
# /Users/hornenj/perl5/perlbrew/perls/perl-5.14.3/bin/perl "-Iinc" "-MExtUtils::Manifest=fullcheck" -e fullcheck
# Problem opening MANIFEST: No such file or directory at /Users/hornenj/perl5/perlbrew/perls/perl-5.14.3/lib/site_perl/5.14.3/ExtUtils/Manifest.pm line 344.
# Problem opening MANIFEST: No such file or directory at /Users/hornenj/perl5/perlbrew/perls/perl-5.14.3/lib/site_perl/5.14.3/ExtUtils/Manifest.pm line 344.
# Not in MANIFEST: Makefile.PL
# Not in MANIFEST: README.pm
# make[1]: Leaving directory `/Users/hornenj/.cpan/build/Module-Install-ReadmeFromPod-0.22-6KfM6X/dist/0fgMLFnyTx'
t/02_clean.t ......... ok
# include /Users/hornenj/.cpan/build/Module-Install-ReadmeFromPod-0.22-6KfM6X/dist/sa31fpOcV8/inc/Module/Install.pm
# include inc/Module/Install/Metadata.pm
# include inc/Module/Install/Base.pm
# include inc/Module/Install/Makefile.pm
# include inc/Module/Install/ReadmeFromPod.pm
# readme_from README.pm to txt
# include inc/Module/Install/WriteAll.pm
# include inc/Module/Install/Win32.pm
# include inc/Module/Install/Can.pm
# include inc/Module/Install/Fetch.pm
# Writing Makefile for Foo::Bar
# Writing MYMETA.yml and MYMETA.json
# Writing META.yml
# make[1]: Entering directory `/Users/hornenj/.cpan/build/Module-Install-ReadmeFromPod-0.22-6KfM6X/dist/sa31fpOcV8'
# rm -f \
#   *.a core \
#   core.[0-9] blib/arch/auto/Foo/Bar/extralibs.all \
#   core.[0-9][0-9] Bar.bso \
#   pm_to_blib.ts MYMETA.json \
#   core.[0-9][0-9][0-9][0-9] MYMETA.yml \
#   Bar.x  \
#   perl tmon.out \
#   *.o pm_to_blib \
#   blib/arch/auto/Foo/Bar/extralibs.ld blibdirs.ts \
#   core.[0-9][0-9][0-9][0-9][0-9] *perl.core \
#   core.*perl.*.? Makefile.aperl \
#   Bar.def perl \
#   core.[0-9][0-9][0-9] mon.out \
#   libBar.def perlmain.c \
#   perl.exe so_locations \
#   Bar.exp 
# rm -rf \
#   blib 
# mv Makefile Makefile.old > /dev/null 2>&1
# rm -f \
#   Makefile.old Makefile 
# rm -rf \
#   MYMETA.yml Foo-Bar-0.01 
# rm -f Foo-Bar-0.01.tar.gz
# rm -f MANIFEST.bak _build
# /Users/hornenj/perl5/perlbrew/perls/perl-5.14.3/bin/perl "-Iinc" "-Ilib" "-MModule::Install::Admin" -e "remove_meta()"
# rm -rf inc
# /Users/hornenj/perl5/perlbrew/perls/perl-5.14.3/bin/perl "-Iinc" "-MExtUtils::Manifest=fullcheck" -e fullcheck
# Problem opening MANIFEST: No such file or directory at /Users/hornenj/perl5/perlbrew/perls/perl-5.14.3/lib/site_perl/5.14.3/ExtUtils/Manifest.pm line 344.
# Problem opening MANIFEST: No such file or directory at /Users/hornenj/perl5/perlbrew/perls/perl-5.14.3/lib/site_perl/5.14.3/ExtUtils/Manifest.pm line 344.
# Not in MANIFEST: Makefile.PL
# Not in MANIFEST: README
# Not in MANIFEST: README.pm
# make[1]: Leaving directory `/Users/hornenj/.cpan/build/Module-Install-ReadmeFromPod-0.22-6KfM6X/dist/sa31fpOcV8'
t/03_all_from.t ...... ok
t/04_distpdf.t ....... skipped: App::pod2pdf not installed
t/05_cleanpdf.t ...... skipped: App::pod2pdf not installed
t/99_pod.t ........... ok
t/99_pod_coverage.t .. ok
All tests successful.
Files=8, Tests=20,  5 wallclock secs ( 0.03 usr  0.01 sys +  1.70 cusr  0.50 csys =  2.24 CPU)
Result: PASS

------------------------------
PREREQUISITES
------------------------------

Prerequisite modules loaded:

requires:

    Module              Need  Have    
    ------------------- ----- --------
    Module::Install     1     1.06    
    perl                5.006 5.014003
    Pod::Html           0     1.11    
    Pod::Man            0     2.27    
    Pod::Text           3.13  3.17    

build_requires:

    Module              Need  Have    
    ------------------- ----- --------
    Capture::Tiny       0.05  0.22    
    ExtUtils::MakeMaker 6.59  6.72    
    File::Temp          0     0.2301  
    Test::More          0.47  0.98    

configure_requires:

    Module              Need  Have    
    ------------------- ----- --------
    ExtUtils::MakeMaker 6.59  6.72    


------------------------------
ENVIRONMENT AND OTHER CONTEXT
------------------------------

Environment variables:

    AUTOMATED_TESTING = 1
    LC_ALL = POSIX
    LD_LIBRARY_PATH = :/net/traces01.be-md.ncbi.nlm.nih.gov/trace_software/vdb/mac/release/x86_64/lib
    PATH = /Users/hornenj/perl5/perlbrew/bin:/Users/hornenj/perl5/perlbrew/perls/perl-5.14.3/bin:/Users/hornenj/perl5/perlbrew/bin:/sw/lib/perl5/ExtUtils:/sw/bin:/sw/sbin:/am/ncbiapdata/bin:/usr/bin:/bin:/usr/X11R6/bin:/Users/hornenj/bin:/netopt/ncbi_tools/bin:/usr/local/ncbi/blast/bin:/net/traces01.be-md.ncbi.nlm.nih.gov/trace_software/vdb/mac/release/x86_64/bin
    PERL5LIB = /Users/hornenj/.cpan/build/Module-Install-1.06-J5Ucsm/blib/arch:/Users/hornenj/.cpan/build/Module-Install-1.06-J5Ucsm/blib/lib:/Users/hornenj/.cpan/build/Module-ScanDeps-1.10-x4uqB1/blib/arch:/Users/hornenj/.cpan/build/Module-ScanDeps-1.10-x4uqB1/blib/lib:/Users/hornenj/.cpan/build/PAR-Dist-0.49-01lOOo/blib/arch:/Users/hornenj/.cpan/build/PAR-Dist-0.49-01lOOo/blib/lib
    PERL5OPT = 
    PERL5_CPANPLUS_IS_RUNNING = 91294
    PERL5_CPAN_IS_RUNNING = 91294
    PERL5_MINISMOKEBOX = 0.56
    PERLBREW_BASHRC_VERSION = 0.66
    PERLBREW_HOME = /Users/hornenj/.perlbrew
    PERLBREW_MANPATH = /Users/hornenj/perl5/perlbrew/perls/perl-5.14.3/man
    PERLBREW_PATH = /Users/hornenj/perl5/perlbrew/bin:/Users/hornenj/perl5/perlbrew/perls/perl-5.14.3/bin
    PERLBREW_PERL = perl-5.14.3
    PERLBREW_ROOT = /Users/hornenj/perl5/perlbrew
    PERLBREW_VERSION = 0.66
    PERL_EXTUTILS_AUTOINSTALL = --defaultdeps
    PERL_MM_USE_DEFAULT = 1
    SHELL = /bin/bash
    TERM = xterm
    TMPDIR = /var/folders/pz/pd7y1qjs6s3cbk170cw50fjc000c61/T/
    VERSIONER_PERL_PREFER_32_BIT = no
    VERSIONER_PERL_VERSION = 5.12
    ac_cv_path_INTLTOOL_PERL = /usr/bin/perl

Perl special variables (and OS-specific diagnostics, for MSWin32):

    $^X = /Users/hornenj/perl5/perlbrew/perls/perl-5.14.3/bin/perl
    $UID/$EUID = 12481 / 12481
    $GID = 14 14 5344 527 241 206 402 12 62 204
    $EGID = 14 14 5344 527 241 206 402 12 62 204

Perl module toolchain versions installed:

    Module              Have    
    ------------------- --------
    CPAN                2.00    
    CPAN::Meta          2.132140
    Cwd                 3.40    
    ExtUtils::CBuilder  0.280205
    ExtUtils::Command   1.17    
    ExtUtils::Install   1.56    
    ExtUtils::MakeMaker 6.72    
    ExtUtils::Manifest  1.61    
    ExtUtils::ParseXS   3.21    
    File::Spec          3.40    
    JSON                2.59    
    JSON::PP            2.27202 
    Module::Build       0.4007  
    Module::Signature   n/a     
    Parse::CPAN::Meta   1.4405  
    Test::Harness       3.28    
    Test::More          0.98    
    YAML                0.84    
    YAML::Syck          1.27    
    version             0.9903  


--

Summary of my perl5 (revision 5 version 14 subversion 3) configuration:
   
  Platform:
    osname=darwin, osvers=12.2.1, archname=darwin-2level
    uname='darwin ncbimac2008.ncbi.nlm.nih.gov 12.2.1 darwin kernel version 12.2.1: thu oct 18 12:13:47 pdt 2012; root:xnu-2050.20.9~1release_x86_64 x86_64 '
    config_args='-de -Dprefix=/Users/hornenj/perl5/perlbrew/perls/perl-5.14.3'
    hint=recommended, useposix=true, d_sigaction=define
    useithreads=undef, usemultiplicity=undef
    useperlio=define, d_sfio=undef, uselargefiles=define, usesocks=undef
    use64bitint=define, use64bitall=define, uselongdouble=undef
    usemymalloc=n, bincompat5005=undef
  Compiler:
    cc='cc', ccflags ='-fno-common -DPERL_DARWIN -fno-strict-aliasing -pipe -fstack-protector',
    optimize='-O3',
    cppflags='-fno-common -DPERL_DARWIN -fno-strict-aliasing -pipe -fstack-protector'
    ccversion='', gccversion='4.2.1 Compatible Apple LLVM 4.2 (clang-425.0.24)', gccosandvers=''
    intsize=4, longsize=8, ptrsize=8, doublesize=8, byteorder=12345678
    d_longlong=define, longlongsize=8, d_longdbl=define, longdblsize=16
    ivtype='long', ivsize=8, nvtype='double', nvsize=8, Off_t='off_t', lseeksize=8
    alignbytes=8, prototype=define
  Linker and Libraries:
    ld='env MACOSX_DEPLOYMENT_TARGET=10.3 cc', ldflags =' -fstack-protector'
    libpth=/usr/lib
    libs=-ldbm -ldl -lm -lutil -lc
    perllibs=-ldl -lm -lutil -lc
    libc=, so=dylib, useshrplib=false, libperl=libperl.a
    gnulibc_version=''
  Dynamic Linking:
    dlsrc=dl_dlopen.xs, dlext=bundle, d_dlsymun=undef, ccdlflags=' '
    cccdlflags=' ', lddlflags=' -bundle -undefined dynamic_lookup -fstack-protector'


Characteristics of this binary (from libperl): 
  Compile-time options: PERL_DONT_CREATE_GVSV PERL_MALLOC_WRAP
                        PERL_PRESERVE_IVUV USE_64_BIT_ALL USE_64_BIT_INT
                        USE_LARGE_FILES USE_PERLIO USE_PERL_ATOF
  Built under darwin
  Compiled at Mar  4 2013 17:42:44
  %ENV:
    PERL5LIB="/Users/hornenj/.cpan/build/Module-Install-1.06-J5Ucsm/blib/arch:/Users/hornenj/.cpan/build/Module-Install-1.06-J5Ucsm/blib/lib:/Users/hornenj/.cpan/build/Module-ScanDeps-1.10-x4uqB1/blib/arch:/Users/hornenj/.cpan/build/Module-ScanDeps-1.10-x4uqB1/blib/lib:/Users/hornenj/.cpan/build/PAR-Dist-0.49-01lOOo/blib/arch:/Users/hornenj/.cpan/build/PAR-Dist-0.49-01lOOo/blib/lib"
    PERL5OPT=""
    PERL5_CPANPLUS_IS_RUNNING="91294"
    PERL5_CPAN_IS_RUNNING="91294"
    PERL5_MINISMOKEBOX="0.56"
    PERLBREW_BASHRC_VERSION="0.66"
    PERLBREW_HOME="/Users/hornenj/.perlbrew"
    PERLBREW_MANPATH="/Users/hornenj/perl5/perlbrew/perls/perl-5.14.3/man"
    PERLBREW_PATH="/Users/hornenj/perl5/perlbrew/bin:/Users/hornenj/perl5/perlbrew/perls/perl-5.14.3/bin"
    PERLBREW_PERL="perl-5.14.3"
    PERLBREW_ROOT="/Users/hornenj/perl5/perlbrew"
    PERLBREW_VERSION="0.66"
    PERL_EXTUTILS_AUTOINSTALL="--defaultdeps"
    PERL_MM_USE_DEFAULT="1"
  @INC:
    /Users/hornenj/.cpan/build/Module-Install-1.06-J5Ucsm/blib/arch
    /Users/hornenj/.cpan/build/Module-Install-1.06-J5Ucsm/blib/lib
    /Users/hornenj/.cpan/build/Module-ScanDeps-1.10-x4uqB1/blib/arch
    /Users/hornenj/.cpan/build/Module-ScanDeps-1.10-x4uqB1/blib/lib
    /Users/hornenj/.cpan/build/PAR-Dist-0.49-01lOOo/blib/arch
    /Users/hornenj/.cpan/build/PAR-Dist-0.49-01lOOo/blib/lib
    /Users/hornenj/perl5/perlbrew/perls/perl-5.14.3/lib/site_perl/5.14.3/darwin-2level
    /Users/hornenj/perl5/perlbrew/perls/perl-5.14.3/lib/site_perl/5.14.3
    /Users/hornenj/perl5/perlbrew/perls/perl-5.14.3/lib/5.14.3/darwin-2level
    /Users/hornenj/perl5/perlbrew/perls/perl-5.14.3/lib/5.14.3
    .