Report for YAML-Syck-1.29

Back
From: metabase:user:30f4dfbe-2aae-11df-837a-5e0a49663a4f
Subject: PASS YAML-Syck-1.29 v5.21.8 Mac OS X
Date: 2015-03-16T01:37:34Z

This distribution has been tested as part of the CPAN Testers
project, supporting the Perl programming language.  See
http://wiki.cpantesters.org/ for more information or email
questions to cpan-testers-discuss@perl.org


--
Dear Todd Rinaldo,

This is a computer-generated report for YAML-Syck-1.29
on perl 5.21.8, created by CPAN-Reporter-1.2011.

Thank you for uploading your work to CPAN.  Congratulations!
All tests were successful.

Sections of this report:

    * Tester comments
    * Program output
    * Prerequisites
    * Environment and other context

------------------------------
TESTER COMMENTS
------------------------------

Additional comments from tester:

none provided

------------------------------
PROGRAM OUTPUT
------------------------------

Output from '/usr/bin/make test':

Running Mkbootstrap for YAML::Syck ()
chmod 644 "Syck.bs"
PERL_DL_NONLAZY=1 "/Users/njh/perl5/perlbrew/perls/perl-5.21.8/bin/perl5.21.8" "-MExtUtils::Command::MM" "-MTest::Harness" "-e" "undef *Test::Harness::Switches; test_harness(0, 'inc', 'blib/lib', 'blib/arch')" t/*.t t/*/*.t
t/1-basic.t ................... ok
t/12-dumpfile.t ............... ok
t/11-loadfile.t ............... ok
t/bug/doesnt-stringify.t ...... ok
t/4-perl_tag_scheme.t ......... ok
t/bug/rt-49404-double_free.t .. ok
t/bug/rt-54167.t .............. ok
t/2-scalars.t ................. ok
t/json-circular-ref.t ......... ok
t/json-crlf.t ................. ok
t/json-dumpinto.t ............. ok
t/json-basic.t ................ ok
t/json-empty.t ................ ok
t/json-indent.t ............... ok
t/3-objects.t ................. ok
t/json-minus.t ................ ok
t/json-newline.t .............. ok
t/json-null.t ................. ok
t/json-refs.t ................. ok
t/json-loadfile.t ............. ok
t/json-singlequote.t .......... ok
t/json-numbers.t .............. ok
t/leak.t ...................... ok
t/load-blessed.t .............. ok
t/yaml-alias.t ................ ok
t/meta.t ...................... ok
t/yaml-blessed-ref.t .......... ok
t/yaml-implicit-warnings.t .... ok
t/yaml-dumpinto.t ............. ok
t/yaml-tie.t .................. ok
t/yaml-str-colon-first.t ...... ok
t/yaml-utf.t .................. ok
All tests successful.

Test Summary Report
-------------------
t/json-basic.t              (Wstat: 0 Tests: 104 Failed: 0)
  TODO passed:   81-82, 85-86, 93-94, 97-98
Files=32, Tests=628,  1 wallclock secs ( 0.20 usr  0.06 sys +  1.54 cusr  0.22 csys =  2.02 CPU)
Result: PASS

------------------------------
PREREQUISITES
------------------------------

Prerequisite modules loaded:

requires:

    Module              Need  Have    
    ------------------- ----- --------
    perl                5.006 5.021008

build_requires:

    Module              Need  Have    
    ------------------- ----- --------
    ExtUtils::MakeMaker 6.59  7.04    

configure_requires:

    Module              Need  Have    
    ------------------- ----- --------
    ExtUtils::MakeMaker 6.59  7.04    


------------------------------
ENVIRONMENT AND OTHER CONTEXT
------------------------------

Environment variables:

    HARNESS_OPTIONS = c:j4
    LANG = en_US.UTF-8
    PATH = /Users/njh/perl5/perlbrew/bin:/Users/njh/perl5/perlbrew/perls/perl-5.21.8/bin:/usr/local/bin:/usr/bin:/bin:/usr/sbin:/sbin:/Users/njh/bin
    PERL5LIB = 
    PERL5OPT = 
    PERL5_CPANPLUS_IS_RUNNING = 683
    PERL5_CPAN_IS_RUNNING = 683
    PERLBREW_BASHRC_VERSION = 0.71
    PERLBREW_HOME = /Users/njh/.perlbrew
    PERLBREW_MANPATH = /Users/njh/perl5/perlbrew/perls/perl-5.21.8/man
    PERLBREW_PATH = /Users/njh/perl5/perlbrew/bin:/Users/njh/perl5/perlbrew/perls/perl-5.21.8/bin
    PERLBREW_PERL = perl-5.21.8
    PERLBREW_ROOT = /Users/njh/perl5/perlbrew
    PERLBREW_VERSION = 0.71
    SHELL = /bin/bash
    TERM = xterm-256color
    TMPDIR = /var/folders/8v/329gghld15g2ls572lrpg_yw0000gn/T/

Perl special variables (and OS-specific diagnostics, for MSWin32):

    $^X = /Users/njh/perl5/perlbrew/perls/perl-5.21.8/bin/perl5.21.8
    $UID/$EUID = 501 / 501
    $GID = 501 501 12 20 61 401 402 100
    $EGID = 501 501 12 20 61 401 402 100

Perl module toolchain versions installed:

    Module              Have        
    ------------------- ------------
    CPAN                2.05        
    CPAN::Meta          2.143240    
    Cwd                 3.54        
    ExtUtils::CBuilder  0.280221    
    ExtUtils::Command   1.20        
    ExtUtils::Install   2.04        
    ExtUtils::MakeMaker 7.04        
    ExtUtils::Manifest  1.70        
    ExtUtils::ParseXS   3.27        
    File::Spec          3.53        
    JSON                n/a         
    JSON::PP            2.27300     
    Module::Build       n/a         
    Module::Signature   n/a         
    Parse::CPAN::Meta   1.4414      
    Test::Harness       3.35        
    Test::More          1.301001_097
    YAML                n/a         
    YAML::Syck          n/a         
    version             0.9909      


--

Summary of my perl5 (revision 5 version 21 subversion 8) configuration:
   
  Platform:
    osname=darwin, osvers=14.1.0, archname=darwin-thread-multi-2level
    uname='darwin mac.bandsman.co.uk 14.1.0 darwin kernel version 14.1.0: mon dec 22 23:10:38 pst 2014; root:xnu-2782.10.72~2release_x86_64 x86_64 '
    config_args='-de -Dprefix=/Users/njh/perl5/perlbrew/perls/perl-5.21.8 -Duseithreads -Dusemultiplicity -Dusedevel -Dusedevel -Accflags=-O2 -W -Wformat=2 -Wswitch -Wshadow -Wwrite-strings -Wuninitialized -Wall -pipe -mtune=native -march=native -Aeval:scriptdir=/Users/njh/perl5/perlbrew/perls/perl-5.21.8/bin'
    hint=recommended, useposix=true, d_sigaction=define
    useithreads=define, usemultiplicity=define
    use64bitint=define, use64bitall=define, uselongdouble=undef
    usemymalloc=n, bincompat5005=undef
  Compiler:
    cc='cc', ccflags ='-fno-common -DPERL_DARWIN -O2 -W -Wformat=2 -Wswitch -Wshadow -Wwrite-strings -Wuninitialized -Wall -pipe -mtune=native -march=native -fno-strict-aliasing -fstack-protector',
    optimize='-O3',
    cppflags='-fno-common -DPERL_DARWIN -O2 -W -Wformat=2 -Wswitch -Wshadow -Wwrite-strings -Wuninitialized -Wall -pipe -mtune=native -march=native -fno-strict-aliasing -fstack-protector'
    ccversion='', gccversion='4.2.1 Compatible Apple LLVM 6.0 (clang-600.0.56)', gccosandvers=''
    intsize=4, longsize=8, ptrsize=8, doublesize=8, byteorder=12345678, doublekind=3
    d_longlong=define, longlongsize=8, d_longdbl=define, longdblsize=16, longdblkind=3
    ivtype='long', ivsize=8, nvtype='double', nvsize=8, Off_t='off_t', lseeksize=8
    alignbytes=8, prototype=define
  Linker and Libraries:
    ld='env MACOSX_DEPLOYMENT_TARGET=10.3 cc', ldflags =' -fstack-protector'
    libpth=/Applications/Xcode.app/Contents/Developer/Toolchains/XcodeDefault.xctoolchain/usr/bin/../lib/clang/6.0/lib /Applications/Xcode.app/Contents/Developer/Toolchains/XcodeDefault.xctoolchain/usr/lib /usr/lib
    libs=-lpthread -ldbm -ldl -lm -lutil -lc
    perllibs=-lpthread -ldl -lm -lutil -lc
    libc=, so=dylib, useshrplib=false, libperl=libperl.a
    gnulibc_version=''
  Dynamic Linking:
    dlsrc=dl_dlopen.xs, dlext=bundle, d_dlsymun=undef, ccdlflags=' '
    cccdlflags=' ', lddlflags=' -bundle -undefined dynamic_lookup -fstack-protector'


Characteristics of this binary (from libperl): 
  Compile-time options: HAS_TIMES MULTIPLICITY PERLIO_LAYERS
                        PERL_DONT_CREATE_GVSV
                        PERL_HASH_FUNC_ONE_AT_A_TIME_HARD
                        PERL_IMPLICIT_CONTEXT PERL_MALLOC_WRAP
                        PERL_NEW_COPY_ON_WRITE PERL_PRESERVE_IVUV
                        PERL_USE_DEVEL USE_64_BIT_ALL USE_64_BIT_INT
                        USE_ITHREADS USE_LARGE_FILES USE_LOCALE
                        USE_LOCALE_COLLATE USE_LOCALE_CTYPE
                        USE_LOCALE_NUMERIC USE_LOCALE_TIME USE_PERLIO
                        USE_PERL_ATOF USE_REENTRANT_API
  Built under darwin
  Compiled at Mar 15 2015 20:53:13
  %ENV:
    PERL5LIB=""
    PERL5OPT=""
    PERL5_CPANPLUS_IS_RUNNING="683"
    PERL5_CPAN_IS_RUNNING="683"
    PERLBREW_BASHRC_VERSION="0.71"
    PERLBREW_HOME="/Users/njh/.perlbrew"
    PERLBREW_MANPATH="/Users/njh/perl5/perlbrew/perls/perl-5.21.8/man"
    PERLBREW_PATH="/Users/njh/perl5/perlbrew/bin:/Users/njh/perl5/perlbrew/perls/perl-5.21.8/bin"
    PERLBREW_PERL="perl-5.21.8"
    PERLBREW_ROOT="/Users/njh/perl5/perlbrew"
    PERLBREW_VERSION="0.71"
  @INC:
    /Users/njh/perl5/perlbrew/perls/perl-5.21.8/lib/site_perl/5.21.8/darwin-thread-multi-2level
    /Users/njh/perl5/perlbrew/perls/perl-5.21.8/lib/site_perl/5.21.8
    /Users/njh/perl5/perlbrew/perls/perl-5.21.8/lib/5.21.8/darwin-thread-multi-2level
    /Users/njh/perl5/perlbrew/perls/perl-5.21.8/lib/5.21.8
    .