Back
From: metabase:user:320bfe00-2aae-11df-837a-5e0a49663a4f
Subject: PASS PDF-ReportWriter-1.5 v5.15.8 GNU/Linux
Date: 2012-04-14T12:04:42Z
This distribution has been tested as part of the CPAN Testers
project, supporting the Perl programming language. See
http://wiki.cpantesters.org/ for more information or email
questions to cpan-testers-discuss@perl.org
--
Dear Daniel Kasak,
This is a computer-generated report for PDF-ReportWriter-1.5
on perl 5.15.8, created by CPAN-Reporter-1.2006.
Thank you for uploading your work to CPAN. Congratulations!
All tests were successful.
Sections of this report:
* Tester comments
* Program output
* Prerequisites
* Environment and other context
------------------------------
TESTER COMMENTS
------------------------------
Additional comments from tester:
this report is from an automated smoke testing program
and was not reviewed by a human for accuracy
------------------------------
PROGRAM OUTPUT
------------------------------
Output from '/usr/bin/make test':
PERL_DL_NONLAZY=1 /home/sand/src/perl/repoperls/installed-perls/perl/v5.15.8/165a/bin/perl "-MExtUtils::Command::MM" "-e" "test_harness(0, 'blib/lib', 'blib/arch')" t/*.t
t/000_load.t ......... ok
# $rp=undef
# $rp=PDF::ReportWriter::Report=HASH(0x17099e8)
Warning: <field> element has no '_' key attribute at /tmp/loop_over_bdir-gZmHqO/PDF-ReportWriter-1.5-jMRt8W/blib/lib/PDF/ReportWriter/Report.pm line 98.
Warning: <group> element has no '_' key attribute at /tmp/loop_over_bdir-gZmHqO/PDF-ReportWriter-1.5-jMRt8W/blib/lib/PDF/ReportWriter/Report.pm line 98.
# $VAR1 = {
# 'data' => {
# 'fields' => [
# {
# 'header_colour' => 'white',
# 'index' => '0',
# 'align' => 'left',
# 'percent' => '20',
# 'font_size' => '12',
# 'label' => 'item'
# },
# {
# 'header_colour' => 'white',
# 'index' => '1',
# 'align' => 'left',
# 'percent' => '20',
# 'font_size' => '12',
# 'label' => 'date'
# }
# ],
# 'page' => {
# 'footer' => [
# {
# 'y' => '200',
# 'index' => '0',
# 'colour' => 'red',
# 'percent' => '20',
# 'text' => 'My Cell 1',
# 'background' => {
# 'colour' => 'grey',
# 'shape' => 'box'
# },
# 'x' => '500'
# },
# {
# 'y' => '100',
# 'index' => '1',
# 'colour' => 'yellow',
# 'percent' => '20',
# 'text' => 'My Cell 2',
# 'background' => {
# 'colour' => 'green',
# 'shape' => 'box'
# },
# 'x' => '200'
# }
# ],
# 'header' => [
# {}
# ]
# },
# 'groups' => [
# {
# 'aggregate_source' => '0',
# 'name' => 'GrandTotals',
# 'data_column' => '1'
# },
# {
# 'aggregate_source' => '0',
# 'name' => 'ItemTotals',
# 'data_column' => '1'
# }
# ],
# 'cell_borders' => '1',
# 'max_font_size' => '12'
# },
# 'definition' => {
# 'y_margin' => '20',
# 'template' => 'mytemplate.pdf',
# 'default_font_size' => '10',
# 'destination' => 'myreport.pdf',
# 'default_font' => 'Helvetica',
# 'orientation' => 'landscape',
# 'file' => 'basic.xml',
# 'name' => 'basic',
# 'font' => [
# 'Helvetica',
# 'Courier'
# ],
# 'x_margin' => '20',
# 'debug' => '0',
# 'paper' => 'A4'
# }
# };
Warning: <field> element has no '_' key attribute at /tmp/loop_over_bdir-gZmHqO/PDF-ReportWriter-1.5-jMRt8W/blib/lib/PDF/ReportWriter/Report.pm line 98.
Warning: <group> element has no '_' key attribute at /tmp/loop_over_bdir-gZmHqO/PDF-ReportWriter-1.5-jMRt8W/blib/lib/PDF/ReportWriter/Report.pm line 98.
# $VAR1 = {
# 'data' => {
# 'fields' => [
# {
# 'header_colour' => 'white',
# 'index' => '0',
# 'align' => 'left',
# 'percent' => '20',
# 'font_size' => '12',
# 'label' => 'item'
# },
# {
# 'header_colour' => 'white',
# 'index' => '1',
# 'align' => 'left',
# 'percent' => '20',
# 'font_size' => '12',
# 'label' => 'date'
# }
# ],
# 'page' => {
# 'footer' => [
# {
# 'y' => '200',
# 'index' => '0',
# 'colour' => 'red',
# 'percent' => '20',
# 'text' => 'My Cell 1',
# 'background' => {
# 'colour' => 'grey',
# 'shape' => 'box'
# },
# 'x' => '500'
# },
# {
# 'y' => '100',
# 'index' => '1',
# 'colour' => 'yellow',
# 'percent' => '20',
# 'text' => 'My Cell 2',
# 'background' => {
# 'colour' => 'green',
# 'shape' => 'box'
# },
# 'x' => '200'
# }
# ],
# 'header' => [
# {}
# ]
# },
# 'groups' => [
# {
# 'aggregate_source' => '0',
# 'name' => 'GrandTotals',
# 'data_column' => '1'
# },
# {
# 'aggregate_source' => '0',
# 'name' => 'SubTotals',
# 'data_column' => '1'
# }
# ],
# 'cell_borders' => '1',
# 'max_font_size' => '12'
# },
# 'definition' => {
# 'info' => {
# 'ModDate' => '2006-03-13',
# 'Subject' => 'A sample report',
# 'CreationDate' => '2006-03-13',
# 'Creator' => 'PDF::ReportWriter',
# 'Title' => 'The sample report title',
# 'Keywords' => 'Bla Bla Bla',
# 'Author' => 'Cosimo Streppone'
# },
# 'y_margin' => '20',
# 'template' => 'mytemplate.pdf',
# 'default_font_size' => '10',
# 'destination' => 'myreport.pdf',
# 'default_font' => 'Helvetica',
# 'orientation' => 'landscape',
# 'name' => 'sample',
# 'font' => [
# 'Helvetica',
# 'Courier'
# ],
# 'x_margin' => '20',
# 'debug' => '0',
# 'url' => 'sample.xml',
# 'paper' => 'A4'
# }
# };
# $VAR1 = {
# 'data' => {
# 'page' => {
# 'header' => [
# {}
# ],
# 'footer' => [
# {
# 'y' => '200',
# 'index' => '0',
# 'text' => 'My Cell 1',
# 'percent' => '20',
# 'colour' => 'red',
# 'background' => {
# 'colour' => 'grey',
# 'shape' => 'box'
# },
# 'x' => '500'
# },
# {
# 'y' => '100',
# 'index' => '1',
# 'text' => 'My Cell 2',
# 'percent' => '20',
# 'colour' => 'yellow',
# 'background' => {
# 'colour' => 'green',
# 'shape' => 'box'
# },
# 'x' => '200'
# }
# ]
# },
# 'fields' => [
# {
# 'header_colour' => 'white',
# 'index' => '0',
# 'align' => 'left',
# 'percent' => '20',
# 'font_size' => '12',
# 'label' => 'item'
# },
# {
# 'header_colour' => 'white',
# 'index' => '1',
# 'align' => 'left',
# 'percent' => '20',
# 'font_size' => '12',
# 'label' => 'date'
# }
# ],
# 'groups' => [
# {
# 'name' => 'GrandTotals',
# 'aggregate_source' => '0',
# 'data_column' => '1'
# },
# {
# 'name' => 'SubTotals',
# 'aggregate_source' => '0',
# 'data_column' => '1'
# }
# ],
# 'cell_borders' => '1',
# 'max_font_size' => '12'
# },
# 'definition' => {
# 'info' => {
# 'ModDate' => '2006-03-13',
# 'Subject' => 'A sample report',
# 'CreationDate' => '2006-03-13',
# 'Creator' => 'PDF::ReportWriter',
# 'Author' => 'Cosimo Streppone',
# 'Keywords' => 'Bla Bla Bla',
# 'Title' => 'The sample report title'
# },
# 'y_margin' => '20',
# 'template' => 'mytemplate.pdf',
# 'destination' => 'myreport.pdf',
# 'default_font_size' => '10',
# 'name' => 'sample',
# 'orientation' => 'landscape',
# 'default_font' => 'Helvetica',
# 'font' => [
# 'Helvetica',
# 'Courier'
# ],
# 'x_margin' => '20',
# 'url' => 'sample.xml',
# 'debug' => '0',
# 'paper' => 'A4'
# }
# };
# $VAR1 = {
# 'data' => {
# 'groups' => []
# },
# 'definition' => {
# 'file' => 'empty.xml',
# 'name' => 'empty',
# 'font' => [
# undef
# ]
# }
# };
t/010_report.t ....... ok
# $rp=PDF::ReportWriter::Report=HASH(0x2972ef8)
# $VAR1 = bless( {
# 'report' => './t/reports/datasources.xml',
# '_config' => {
# 'data' => {
# 'fields' => [
# {
# 'header_colour' => 'white',
# 'index' => '0',
# 'align' => 'left',
# 'percent' => '20',
# 'font_size' => '12',
# 'label' => 'item'
# }
# ],
# 'page' => {
# 'footer' => [
# {}
# ],
# 'header' => [
# {}
# ]
# },
# 'groups' => [
# {}
# ],
# 'datasource' => [
# {
# 'sql' => 'SELECT docnum,docdate,docstate FROM documents WHERE docnum = ? LIMIT 1',
# 'name' => 'master',
# 'type' => 'DBI'
# },
# {
# 'sql' => 'SELECT * FROM documents WHERE docnum = ?',
# 'name' => 'detail',
# 'type' => 'DBI'
# }
# ]
# },
# 'definition' => {
# 'destination' => 'myreport.pdf',
# 'file' => 'datasources.xml',
# 'name' => 'datasources',
# 'font' => [
# undef
# ],
# 'paper' => 'A4'
# }
# }
# }, 'PDF::ReportWriter::Report' );
t/011_datasources.t .. ok
t/020_cell.t ......... ok
All tests successful.
Files=4, Tests=30, 2 wallclock secs ( 0.04 usr 0.02 sys + 0.90 cusr 0.12 csys = 1.08 CPU)
Result: PASS
------------------------------
PREREQUISITES
------------------------------
Prerequisite modules loaded:
requires:
Module Need Have
------------------- ---- -------
Image::Size 2 3.230
PDF::API2 0.3 2.019
XML::Simple 0 2.18
build_requires:
Module Need Have
------------------- ---- -------
ExtUtils::MakeMaker 0 6.63_02
------------------------------
ENVIRONMENT AND OTHER CONTEXT
------------------------------
Environment variables:
AUTOMATED_TESTING = 1
LANG = en_US.UTF-8
LANGUAGE = en_US:en
PATH = /home/sand/bin:/usr/local/bin:/usr/bin:/bin:/usr/bin/X11:/usr/games:/usr/local/perl/bin:/usr/X11/bin:/sbin:/usr/sbin
PERL5LIB =
PERL5OPT =
PERL5_CPANPLUS_IS_RUNNING = 2528
PERL5_CPAN_IS_RUNNING = 2528
PERL_MM_USE_DEFAULT = 1
SHELL = /usr/bin/zsh
TERM = screen
Perl special variables (and OS-specific diagnostics, for MSWin32):
$^X = /home/sand/src/perl/repoperls/installed-perls/perl/v5.15.8/165a/bin/perl
$UID/$EUID = 1005 / 1005
$GID = 1005 123 1005
$EGID = 1005 123 1005
Perl module toolchain versions installed:
Module Have
------------------- ------------
CPAN 1.9800
CPAN::Meta 2.120921
Cwd 3.39_02
ExtUtils::CBuilder 0.280205
ExtUtils::Command 1.17
ExtUtils::Install 1.58
ExtUtils::MakeMaker 6.63_02
ExtUtils::Manifest 1.61
ExtUtils::ParseXS 3.16
File::Spec 3.39_02
JSON 2.53
JSON::PP 2.27200
Module::Build 0.40
Module::Signature 0.68
Parse::CPAN::Meta 1.4404
Test::Harness 3.23
Test::More 1.005000_003
YAML 0.80
YAML::Syck 1.20
version 0.97
--
Summary of my perl5 (revision 5 version 15 subversion 8) configuration:
Commit id: 05ccd577e15cc66bbb7414fad5ee3c02f536c7a5
Platform:
osname=linux, osvers=2.6.32-5-amd64, archname=x86_64-linux
uname='linux k83 2.6.32-5-amd64 #1 smp mon jan 16 16:22:28 utc 2012 x86_64 gnulinux '
config_args='-Dprefix=/home/src/perl/repoperls/installed-perls/perl/v5.15.8/165a -Dmyhostname=k83 -Dinstallusrbinperl=n -Uversiononly -Dusedevel -des -Ui_db -Uuseithreads -Uuselongdouble -DDEBUGGING=-g'
hint=recommended, useposix=true, d_sigaction=define
useithreads=undef, usemultiplicity=undef
useperlio=define, d_sfio=undef, uselargefiles=define, usesocks=undef
use64bitint=define, use64bitall=define, uselongdouble=undef
usemymalloc=n, bincompat5005=undef
Compiler:
cc='cc', ccflags ='-fno-strict-aliasing -pipe -fstack-protector -I/usr/local/include -D_LARGEFILE_SOURCE -D_FILE_OFFSET_BITS=64',
optimize='-O2 -g',
cppflags='-fno-strict-aliasing -pipe -fstack-protector -I/usr/local/include'
ccversion='', gccversion='4.4.5', gccosandvers=''
intsize=4, longsize=8, ptrsize=8, doublesize=8, byteorder=12345678
d_longlong=define, longlongsize=8, d_longdbl=define, longdblsize=16
ivtype='long', ivsize=8, nvtype='double', nvsize=8, Off_t='off_t', lseeksize=8
alignbytes=8, prototype=define
Linker and Libraries:
ld='cc', ldflags =' -fstack-protector -L/usr/local/lib'
libpth=/usr/local/lib /lib/../lib /usr/lib/../lib /lib /usr/lib /lib64 /usr/lib64
libs=-lnsl -ldb -ldl -lm -lcrypt -lutil -lc
perllibs=-lnsl -ldl -lm -lcrypt -lutil -lc
libc=/lib/libc-2.11.3.so, so=so, useshrplib=false, libperl=libperl.a
gnulibc_version='2.11.3'
Dynamic Linking:
dlsrc=dl_dlopen.xs, dlext=so, d_dlsymun=undef, ccdlflags='-Wl,-E'
cccdlflags='-fPIC', lddlflags='-shared -O2 -g -L/usr/local/lib -fstack-protector'
Characteristics of this binary (from libperl):
Compile-time options: HAS_TIMES PERLIO_LAYERS PERL_DONT_CREATE_GVSV
PERL_MALLOC_WRAP PERL_PRESERVE_IVUV PERL_USE_DEVEL
USE_64_BIT_ALL USE_64_BIT_INT USE_LARGE_FILES
USE_LOCALE USE_LOCALE_COLLATE USE_LOCALE_CTYPE
USE_LOCALE_NUMERIC USE_PERLIO USE_PERL_ATOF
Built under linux
Compiled at Feb 23 2012 07:54:08
%ENV:
PERL5LIB=""
PERL5OPT=""
PERL5_CPANPLUS_IS_RUNNING="2528"
PERL5_CPAN_IS_RUNNING="2528"
PERL_MM_USE_DEFAULT="1"
@INC:
/home/src/perl/repoperls/installed-perls/perl/v5.15.8/165a/lib/site_perl/5.15.8/x86_64-linux
/home/src/perl/repoperls/installed-perls/perl/v5.15.8/165a/lib/site_perl/5.15.8
/home/src/perl/repoperls/installed-perls/perl/v5.15.8/165a/lib/5.15.8/x86_64-linux
/home/src/perl/repoperls/installed-perls/perl/v5.15.8/165a/lib/5.15.8
.