HTML-Parser v3.83 Perl 5 v5.39.9 MSWin32-x64-multi-thread
- Status
- Pass
- From
- twata
- Dist
-
HTML-Parser v3.83
- Platform
- Perl 5 v5.39.9 MSWin32-x64-multi-thread
- Date
- 2024-08-03 08:03:55
- ID
- 04d9fd5c-71d9-1014-8932-820558cb7e7c
This distribution has been tested as part of the CPAN Testers
project, supporting the Perl programming language. See
http://wiki.cpantesters.org/ for more information or email
questions to cpan-testers-discuss@perl.org
--
Dear Olaf Alders,
This is a computer-generated report for HTML-Parser-3.83
on perl 5.39.9, created by CPAN-Reporter-1.2019.
Thank you for uploading your work to CPAN. Congratulations!
All tests were successful.
Sections of this report:
* Tester comments
* Program output
* Prerequisites
* Environment and other context
------------------------------
TESTER COMMENTS
------------------------------
Additional comments from tester:
none provided
------------------------------
PROGRAM OUTPUT
------------------------------
Output from '"C:\Program Files\Microsoft Visual Studio\2022\Community\VC\Tools\MSVC\14.33.31629\bin\Hostx64\x64\nmake.exe" test':
Microsoft (R) Program Maintenance Utility Version 14.33.31630.0
Copyright (C) Microsoft Corporation. All rights reserved.
"C:\perl64\5.39.9\bin\perl.exe" -MExtUtils::Command::MM -e cp_nonempty -- Parser.bs blib\arch\auto\HTML\Parser\Parser.bs 644
"C:\perl64\5.39.9\bin\perl.exe" "-MExtUtils::Command::MM" "-MTest::Harness" "-e" "undef *Test::Harness::Switches; test_harness(0, 'blib\lib', 'blib\arch')" t\*.t
#
# Versions for all modules listed in MYMETA.json (including optional ones):
#
# === Configure Requires ===
#
# Module Want Have
# ------------------- ----- --------
# ExtUtils::MakeMaker 6.52 7.71_01
# perl 5.008 5.039009
#
# === Configure Suggests ===
#
# Module Want Have
# -------- ------- ----
# JSON::PP 2.27300 4.16
#
# === Build Requires ===
#
# Module Want Have
# ------------------- ---- -------
# ExtUtils::MakeMaker any 7.71_01
#
# === Test Requires ===
#
# Module Want Have
# ------------------- ----- --------
# Config any 5.039009
# ExtUtils::MakeMaker any 7.71_01
# File::Spec any 3.90
# IO::File any 1.55
# SelectSaver any 1.02
# Test::More any 1.302198
# URI any 5.28
# perl 5.008 5.039009
# strict any 1.13
#
# === Test Recommends ===
#
# Module Want Have
# ---------- -------- --------
# CPAN::Meta 2.120900 2.150010
#
# === Runtime Requires ===
#
# Module Want Have
# ------------- ----- --------
# Carp any 1.54
# Exporter any 5.78
# HTML::Tagset any 3.24
# HTTP::Headers any 6.46
# IO::File any 1.55
# URI any 5.28
# URI::URL any 5.28
# XSLoader any 0.32
# perl 5.008 5.039009
# strict any 1.13
#
t\00-report-prereqs.t .. ok
t\api_version.t ........ ok
t\argspec-bad.t ........ ok
t\argspec.t ............ ok
t\argspec2.t ........... ok
t\attr-encoded.t ....... ok
t\callback.t ........... ok
t\case-sensitive.t ..... ok
t\cases.t .............. ok
t\comment.t ............ ok
t\crashme.t ............ ok
t\declaration.t ........ ok
t\default.t ............ ok
t\document.t ........... ok
t\dtext.t .............. ok
t\entities.t ........... ok
t\entities2.t .......... ok
t\filter-methods.t ..... ok
t\filter.t ............. ok
t\free.t ............... ok
t\handler-eof.t ........ ok
t\handler.t ............ ok
t\headparser-http.t .... ok
t\headparser.t ......... ok
t\ignore.t ............. ok
t\largetags.t .......... ok
t\linkextor-base.t ..... ok
t\linkextor-rel.t ...... ok
t\magic.t .............. ok
t\marked-sect.t ........ ok
t\msie-compat.t ........ ok
t\offset.t ............. ok
t\options.t ............ ok
t\parsefile.t .......... ok
t\parser.t ............. ok
t\plaintext.t .......... ok
t\process.t ............ ok
t\pullparser.t ......... ok
t\script.t ............. ok
t\skipped-text.t ....... ok
t\stack-realloc-eof.t .. ok
t\stack-realloc.t ...... ok
t\textarea.t ........... ok
t\threads.t ............ ok
t\tokeparser.t ......... ok
t\uentities.t .......... ok
t\unbroken-text.t ...... ok
t\unicode-bom.t ........ ok
t\unicode.t ............ ok
t\xml-mode.t ........... ok
All tests successful.
Files=50, Tests=464, 19 wallclock secs ( 0.20 usr + 0.09 sys = 0.30 CPU)
Result: PASS
------------------------------
PREREQUISITES
------------------------------
Prerequisite modules loaded:
requires:
Module Need Have
------------------- -------- --------
Carp 0 1.54
Exporter 0 5.78
HTML::Tagset 0 3.24
HTTP::Headers 0 6.46
IO::File 0 1.55
strict 0 1.13
URI 0 5.28
URI::URL 0 5.28
XSLoader 0 0.32
build_requires:
Module Need Have
------------------- -------- --------
Config 0 5.039009
ExtUtils::MakeMaker 0 7.71_01
File::Spec 0 3.90
IO::File 0 1.55
SelectSaver 0 1.02
strict 0 1.13
Test::More 0 1.302198
URI 0 5.28
configure_requires:
Module Need Have
------------------- -------- --------
ExtUtils::MakeMaker 6.52 7.71_01
perl 5.008 5.039009
opt_build_requires:
Module Need Have
------------------- -------- --------
CPAN::Meta 2.120900 2.150010
------------------------------
ENVIRONMENT AND OTHER CONTEXT
------------------------------
Environment variables:
COMSPEC = C:\WINDOWS\system32\cmd.exe
INCLUDE = C:\Program Files\Microsoft Visual Studio\2022\Community\VC\Tools\MSVC\14.33.31629\include;C:\Program Files\Microsoft Visual Studio\2022\Community\VC\Tools\MSVC\14.33.31629\ATLMFC\include;C:\Program Files\Microsoft Visual Studio\2022\Community\VC\Auxiliary\VS\include;C:\Program Files (x86)\Windows Kits\10\include\10.0.19041.0\ucrt;C:\Program Files (x86)\Windows Kits\10\\include\10.0.19041.0\\um;C:\Program Files (x86)\Windows Kits\10\\include\10.0.19041.0\\shared;C:\Program Files (x86)\Windows Kits\10\\include\10.0.19041.0\\winrt;C:\Program Files (x86)\Windows Kits\10\\include\10.0.19041.0\\cppwinrt;C:\perl64\local\include
LC_ALL = C
LIB = C:\Program Files\Microsoft Visual Studio\2022\Community\VC\Tools\MSVC\14.33.31629\ATLMFC\lib\x64;C:\Program Files\Microsoft Visual Studio\2022\Community\VC\Tools\MSVC\14.33.31629\lib\x64;C:\Program Files (x86)\Windows Kits\10\lib\10.0.19041.0\ucrt\x64;C:\Program Files (x86)\Windows Kits\10\\lib\10.0.19041.0\\um\x64
NONINTERACTIVE_TESTING = 1
NUMBER_OF_PROCESSORS = 4
PATH = C:\home\olive5399\perl5\bin;C:\perl64\5.39.9\bin;C:\build-openssl\bin;C:\Program Files\Microsoft Visual Studio\2022\Community\VC\Tools\MSVC\14.33.31629\bin\HostX64\x64;C:\Program Files\Microsoft Visual Studio\2022\Community\Common7\IDE\VC\VCPackages;C:\Program Files\Microsoft Visual Studio\2022\Community\Common7\IDE\CommonExtensions\Microsoft\TestWindow;C:\Program Files\Microsoft Visual Studio\2022\Community\Common7\IDE\CommonExtensions\Microsoft\TeamFoundation\Team Explorer;C:\Program Files\Microsoft Visual Studio\2022\Community\MSBuild\Current\bin\Roslyn;C:\Program Files\Microsoft Visual Studio\2022\Community\Team Tools\Performance Tools\x64;C:\Program Files\Microsoft Visual Studio\2022\Community\Team Tools\Performance Tools;C:\Program Files (x86)\Windows Kits\10\bin\10.0.19041.0\\x64;C:\Program Files (x86)\Windows Kits\10\bin\\x64;C:\Program Files\Microsoft Visual Studio\2022\Community\\MSBuild\Current\Bin\amd64;C:\Windows\Microsoft.NET\Framework64\v4.0.30319;C:\Program Files\Microsoft Visual Studio\2022\Community\Common7\IDE\;C:\Program Files\Microsoft Visual Studio\2022\Community\Common7\Tools\;C:\Program Files (x86)\Windows Resource Kits\Tools\;C:\WINDOWS\system32;C:\WINDOWS;C:\WINDOWS\System32\Wbem;C:\WINDOWS\System32\WindowsPowerShell\v1.0\;C:\Program Files\Microsoft Visual Studio\2022\Community\Common7\IDE\CommonExtensions\Microsoft\CMake\CMake\bin;C:\Program Files\Microsoft Visual Studio\2022\Community\Common7\IDE\CommonExtensions\Microsoft\CMake\Ninja;C:\Program Files\Microsoft Visual Studio\2022\Community\Common7\IDE\VC\Linux\bin\ConnectionManagerExe
PERL5LIB = C:\home\olive5399\perl5\lib\perl5
PERL5OPT =
PERL5_CPANPLUS_IS_RUNNING = 11348
PERL5_CPAN_IS_RUNNING = 11348
PERL_LOCAL_LIB_ROOT = C:\home\olive5399\perl5
PERL_MB_OPT = --install_base "C:\\home\\olive5399\\perl5"
PERL_MM_OPT = INSTALL_BASE=C:\\home\\olive5399\\perl5
PERL_MM_USE_DEFAULT = 1
PERL_USE_UNSAFE_INC = 1
PROCESSOR_IDENTIFIER = Intel64 Family 6 Model 58 Stepping 9, GenuineIntel
TEMP = C:\Users\USER\AppData\Local\Temp
TERM = dumb
Perl special variables (and OS-specific diagnostics, for MSWin32):
$^X = C:\perl64\5.39.9\bin\perl.exe
$UID/$EUID = 0 / 0
$GID = 0
$EGID = 0
Win32::GetOSName = Win8.1
Win32::GetOSVersion = , 6, 3, 9600, 2, 0, 0, 256, 1
Win32::FsType = NTFS
Win32::IsAdminUser = 0
Perl module toolchain versions installed:
Module Have
------------------- --------
CPAN 2.36
CPAN::Meta 2.150010
Cwd 3.90
ExtUtils::CBuilder 0.280240
ExtUtils::Command 7.71_01
ExtUtils::Install 2.22
ExtUtils::MakeMaker 7.71_01
ExtUtils::Manifest 1.75
ExtUtils::ParseXS 3.51
File::Spec 3.90
JSON 4.10
JSON::PP 4.16
Module::Build 0.4234
Module::Signature n/a
Parse::CPAN::Meta 2.150010
Test2 1.302198
Test::Harness 3.49_02
Test::More 1.302198
YAML 1.31
YAML::Syck n/a
version 0.9932
--
Summary of my perl5 (revision 5 version 39 subversion 9) configuration:
Platform:
osname=MSWin32
osvers=6.3.9600
archname=MSWin32-x64-multi-thread
uname=''
config_args='undef'
hint=recommended
useposix=true
d_sigaction=undef
useithreads=define
usemultiplicity=define
use64bitint=define
use64bitall=undef
uselongdouble=undef
usemymalloc=n
default_inc_excludes_dot=define
Compiler:
cc='cl'
ccflags ='-nologo -GF -W3 -MD -DWIN32 -D_CONSOLE -DNO_STRICT -DWIN64 -D_CRT_SECURE_NO_DEPRECATE -D_CRT_NONSTDC_NO_DEPRECATE -D_WINSOCK_DEPRECATED_NO_WARNINGS -DPERL_TEXTMODE_SCRIPTS -DMULTIPLICITY -DPERL_IMPLICIT_SYS'
optimize='-O1 -Zi -GL -fp:precise'
cppflags='-DWIN32'
ccversion='19.33.31630'
gccversion=''
gccosandvers=''
intsize=4
longsize=4
ptrsize=8
doublesize=8
byteorder=12345678
doublekind=3
d_longlong=undef
longlongsize=8
d_longdbl=define
longdblsize=8
longdblkind=0
ivtype='__int64'
ivsize=8
nvtype='double'
nvsize=8
Off_t='__int64'
lseeksize=8
alignbytes=8
prototype=define
Linker and Libraries:
ld='link'
ldflags ='-nologo -nodefaultlib -debug -opt:ref,icf -ltcg -libpath:"c:\perl64\5.39.9\lib\CORE" -machine:AMD64 -subsystem:console,"5.02"'
libpth="C:\Program Files\Microsoft Visual Studio\2022\Community\VC\Tools\MSVC\14.33.31629\\lib\x64"
libs=oldnames.lib kernel32.lib user32.lib gdi32.lib winspool.lib comdlg32.lib advapi32.lib shell32.lib ole32.lib oleaut32.lib netapi32.lib uuid.lib ws2_32.lib mpr.lib winmm.lib version.lib odbc32.lib odbccp32.lib comctl32.lib msvcrt.lib vcruntime.lib ucrt.lib
perllibs=oldnames.lib kernel32.lib user32.lib gdi32.lib winspool.lib comdlg32.lib advapi32.lib shell32.lib ole32.lib oleaut32.lib netapi32.lib uuid.lib ws2_32.lib mpr.lib winmm.lib version.lib odbc32.lib odbccp32.lib comctl32.lib msvcrt.lib vcruntime.lib ucrt.lib
libc=ucrt.lib
so=dll
useshrplib=true
libperl=perl539.lib
gnulibc_version=''
Dynamic Linking:
dlsrc=dl_win32.xs
dlext=dll
d_dlsymun=undef
ccdlflags=' '
cccdlflags=' '
lddlflags='-dll -nologo -nodefaultlib -debug -opt:ref,icf -ltcg -libpath:"c:\perl64\5.39.9\lib\CORE" -machine:AMD64 -subsystem:console,"5.02"'
Characteristics of this binary (from libperl):
Compile-time options:
HAS_LONG_DOUBLE
HAS_TIMES
HAVE_INTERP_INTERN
MULTIPLICITY
PERLIO_LAYERS
PERL_COPY_ON_WRITE
PERL_DONT_CREATE_GVSV
PERL_HASH_FUNC_SIPHASH13
PERL_HASH_USE_SBOX32
PERL_IMPLICIT_SYS
PERL_MALLOC_WRAP
PERL_OP_PARENT
PERL_PRESERVE_IVUV
PERL_USE_SAFE_PUTENV
USE_64_BIT_INT
USE_ITHREADS
USE_LARGE_FILES
USE_LOCALE
USE_LOCALE_COLLATE
USE_LOCALE_CTYPE
USE_LOCALE_NUMERIC
USE_LOCALE_TIME
USE_PERLIO
USE_PERL_ATOF
USE_THREAD_SAFE_LOCALE
Built under MSWin32
Compiled at Mar 23 2024 13:23:44
%ENV:
PERL5LIB="C:\home\olive5399\perl5\lib\perl5"
PERL5_CPANPLUS_IS_RUNNING="11348"
PERL5_CPAN_IS_RUNNING="11348"
PERL_LOCAL_LIB_ROOT="C:\home\olive5399\perl5"
PERL_MB_OPT="--install_base "C:\\home\\olive5399\\perl5""
PERL_MM_OPT="INSTALL_BASE=C:\\home\\olive5399\\perl5"
PERL_MM_USE_DEFAULT="1"
PERL_USE_UNSAFE_INC="1"
@INC:
C:\home\olive5399\perl5\lib\perl5/MSWin32-x64-multi-thread
C:\home\olive5399\perl5\lib\perl5
C:/perl64/site/5.39.9/lib
C:/perl64/5.39.9/lib
.