Back
From: metabase:user:20a45eae-6c1a-1014-abaf-4bc2b30e56df
Subject: PASS Algorithm-Numerical-Shuffle-2009110301 v5.8.2 Windows (Cygwin)
Date: 2012-12-06T19:16:21Z
This distribution has been tested as part of the CPAN Testers
project, supporting the Perl programming language. See
http://wiki.cpantesters.org/ for more information or email
questions to cpan-testers-discuss@perl.org
--
Dear Abigail,
This is a computer-generated report for Algorithm-Numerical-Shuffle-2009110301
on perl 5.8.2, created by CPAN-Reporter-1.2006.
Thank you for uploading your work to CPAN. Congratulations!
All tests were successful.
Sections of this report:
* Tester comments
* Program output
* Prerequisites
* Environment and other context
------------------------------
TESTER COMMENTS
------------------------------
Additional comments from tester:
this report is from an automated smoke testing program
and was not reviewed by a human for accuracy
------------------------------
PROGRAM OUTPUT
------------------------------
Output from '/usr/bin/make test':
PERL_DL_NONLAZY=1 /opt/perl/cygwin/1.7.16/perl/5.8.2/cygwin/bin/perl.exe "-MExtUtils::Command::MM" "-e" "test_harness(0, 'blib/lib', 'blib/arch')" t/*.t
t/000_tests.t ......... ok
t/950_pod.t ........... ok
t/960_pod_coverage.t .. ok
All tests successful.
Files=3, Tests=7, 2 wallclock secs ( 0.03 usr 0.11 sys + 0.17 cusr 0.35 csys = 0.67 CPU)
Result: PASS
------------------------------
PREREQUISITES
------------------------------
Prerequisite modules loaded:
requires:
Module Need Have
------------------- ----- --------
Exporter 0 5.67
perl 5.006 5.008002
strict 0 1.03
warnings 0 1.03
build_requires:
Module Need Have
------------------- ----- --------
ExtUtils::MakeMaker 0 6.62
configure_requires:
Module Need Have
------------------- ----- --------
ExtUtils::MakeMaker 0 6.62
------------------------------
ENVIRONMENT AND OTHER CONTEXT
------------------------------
Environment variables:
AUTOMATED_TESTING = 1
COMSPEC = C:\Windows\system32\cmd.exe
NUMBER_OF_PROCESSORS = 4
PATH = /opt/perl/cygwin/1.7.16/perl/5.8.2/cygwin/local/bin:/opt/perl/cygwin/1.7.16/perl/5.8.2/cygwin/bin:/usr/local/bin:/usr/bin
PERL5LIB = /opt/perl/cygwin/1.7.16/cpan/5.8.2/cygwin/build/Algorithm-Numerical-Sample-2010011201-b4qJ_q/blib/arch:/opt/perl/cygwin/1.7.16/cpan/5.8.2/cygwin/build/Algorithm-Numerical-Sample-2010011201-b4qJ_q/blib/lib:/opt/perl/cygwin/1.7.16/perl/5.8.2/cygwin/local/lib/site_perl/5.8.2:/opt/perl/cygwin/1.7.16/perl/5.8.2/cygwin/local/lib/5.8.2:/opt/perl/cygwin/1.7.16/perl/5.8.2/cygwin/local/lib/perl5
PERL5OPT =
PERL5_CPANPLUS_IS_RUNNING = 8756
PERL5_CPAN_IS_RUNNING = 8756
PERL_EXTUTILS_AUTOINSTALL = 1
PERL_MM_USE_DEFAULT = 1
PERL_TEST_CRITIC = 1
PROCESSOR_IDENTIFIER = Intel64 Family 6 Model 37 Stepping 5, GenuineIntel
SHELL = /bin/bash
TEMP = /tmp
TERM = xterm
Perl special variables (and OS-specific diagnostics, for MSWin32):
$^X = /opt/perl/cygwin/1.7.16/perl/5.8.2/cygwin/bin/perl
$UID/$EUID = 101 / 101
$GID = 10513 10513 1001 545 544 0
$EGID = 10513 10513 1001 545 544 0
Perl module toolchain versions installed:
Module Have
------------------- --------
CPAN 1.9800
CPAN::Meta 2.120921
Cwd 3.33
ExtUtils::CBuilder 0.280205
ExtUtils::Command 1.16
ExtUtils::Install 1.52
ExtUtils::MakeMaker 6.62
ExtUtils::Manifest 1.58
ExtUtils::ParseXS 3.15
File::Spec 3.33
JSON n/a
JSON::PP 2.27200
Module::Build 0.4003
Module::Signature 0.69
Parse::CPAN::Meta 1.4404
Test::Harness 3.25
Test::More 0.98
YAML 0.84
YAML::Syck 1.21
version 0.9901
--
Summary of my perl5 (revision 5.0 version 8 subversion 2) configuration:
Platform:
osname=cygwin, osvers=1.7.16(0.26253), archname=cygwin
uname='cygwin_nt-6.1-wow64 osl069 1.7.16(0.26253) 2012-07-20 22:55 i686 cygwin '
config_args='-Dmksymlinks -de -Dcc=gcc-4 -Dld=g++-4 -Dprefix=/opt/perl/cygwin/1.7.16/perl/5.8.2/cygwin -Dcf_by=pjacklam -Dcf_email=pjacklam@online.no -Dperladmin=pjacklam@online.no -Uinc_version_list -Uinstallusrbinperl -Umad -Uusethreads -Uusemultiplicity -Uuse64bitint'
hint=recommended, useposix=true, d_sigaction=define
usethreads=undef use5005threads=undef useithreads=undef usemultiplicity=undef
useperlio=define d_sfio=undef uselargefiles=define usesocks=undef
use64bitint=undef use64bitall=undef uselongdouble=undef
usemymalloc=y, bincompat5005=undef
Compiler:
cc='gcc-4', ccflags ='-DPERL_USE_SAFE_PUTENV -fno-strict-aliasing -I/usr/local/include',
optimize='-O2',
cppflags='-DPERL_USE_SAFE_PUTENV -fno-strict-aliasing -I/usr/local/include'
ccversion='', gccversion='4.5.3', gccosandvers=''
intsize=4, longsize=4, ptrsize=4, doublesize=8, byteorder=1234
d_longlong=define, longlongsize=8, d_longdbl=define, longdblsize=12
ivtype='long', ivsize=4, nvtype='double', nvsize=8, Off_t='off_t', lseeksize=8
alignbytes=8, prototype=define
Linker and Libraries:
ld='ld2', ldflags =' -L/usr/local/lib'
libpth=/usr/local/lib /usr/lib /lib
libs=-lgdbm -ldb -ldl -lcrypt -lutil -lgdbm_compat
perllibs=-ldl -lcrypt -lutil -lgdbm_compat
libc=/usr/lib/libc.a, so=dll, useshrplib=true, libperl=libperl.a
gnulibc_version=''
Dynamic Linking:
dlsrc=dl_dlopen.xs, dlext=dll, d_dlsymun=undef, ccdlflags=' '
cccdlflags=' ', lddlflags=' -L/usr/local/lib'
Characteristics of this binary (from libperl):
Compile-time options: USE_LARGE_FILES
Built under cygwin
Compiled at Sep 19 2012 19:51:12
%ENV:
PERL5LIB="/opt/perl/cygwin/1.7.16/cpan/5.8.2/cygwin/build/Algorithm-Numerical-Sample-2010011201-b4qJ_q/blib/arch:/opt/perl/cygwin/1.7.16/cpan/5.8.2/cygwin/build/Algorithm-Numerical-Sample-2010011201-b4qJ_q/blib/lib:/opt/perl/cygwin/1.7.16/perl/5.8.2/cygwin/local/lib/site_perl/5.8.2:/opt/perl/cygwin/1.7.16/perl/5.8.2/cygwin/local/lib/5.8.2:/opt/perl/cygwin/1.7.16/perl/5.8.2/cygwin/local/lib/perl5"
PERL5OPT=""
PERL5_CPANPLUS_IS_RUNNING="8756"
PERL5_CPAN_IS_RUNNING="8756"
PERL_EXTUTILS_AUTOINSTALL="1"
PERL_MM_USE_DEFAULT="1"
PERL_TEST_CRITIC="1"
CYGWIN="codepage:utf8 nodosfilewarning"
@INC:
/opt/perl/cygwin/1.7.16/cpan/5.8.2/cygwin/build/Algorithm-Numerical-Sample-2010011201-b4qJ_q/blib/arch
/opt/perl/cygwin/1.7.16/cpan/5.8.2/cygwin/build/Algorithm-Numerical-Sample-2010011201-b4qJ_q/blib/lib
/opt/perl/cygwin/1.7.16/perl/5.8.2/cygwin/local/lib/site_perl/5.8.2/cygwin
/opt/perl/cygwin/1.7.16/perl/5.8.2/cygwin/local/lib/site_perl/5.8.2
/opt/perl/cygwin/1.7.16/perl/5.8.2/cygwin/local/lib/5.8.2/cygwin
/opt/perl/cygwin/1.7.16/perl/5.8.2/cygwin/local/lib/5.8.2
/opt/perl/cygwin/1.7.16/perl/5.8.2/cygwin/local/lib/perl5/cygwin
/opt/perl/cygwin/1.7.16/perl/5.8.2/cygwin/local/lib/perl5
/opt/perl/cygwin/1.7.16/perl/5.8.2/cygwin/lib/5.8.2/cygwin
/opt/perl/cygwin/1.7.16/perl/5.8.2/cygwin/lib/5.8.2
/opt/perl/cygwin/1.7.16/perl/5.8.2/cygwin/lib/site_perl/5.8.2/cygwin
/opt/perl/cygwin/1.7.16/perl/5.8.2/cygwin/lib/site_perl/5.8.2
/opt/perl/cygwin/1.7.16/perl/5.8.2/cygwin/lib/site_perl
.