Report for Dist-Zilla-Stash-PodWeaver-1.005

Back
From: metabase:user:31e80ebe-2aae-11df-837a-5e0a49663a4f
Subject: PASS Dist-Zilla-Stash-PodWeaver-1.005 v5.10.0 Mac OS X
Date: 2013-07-26T02:35:21Z

This distribution has been tested as part of the CPAN Testers
project, supporting the Perl programming language.  See
http://wiki.cpantesters.org/ for more information or email
questions to cpan-testers-discuss@perl.org


--
Dear Randy Stauner,

This is a computer-generated report for Dist-Zilla-Stash-PodWeaver-1.005
on perl 5.10.0, created by CPAN-Reporter-1.2006.

Thank you for uploading your work to CPAN.  Congratulations!
All tests were successful.

Sections of this report:

    * Tester comments
    * Program output
    * Prerequisites
    * Environment and other context

------------------------------
TESTER COMMENTS
------------------------------

Additional comments from tester:

none provided

------------------------------
PROGRAM OUTPUT
------------------------------

Output from '/usr/bin/make test':

PERL_DL_NONLAZY=1 /usr/bin/perl "-MExtUtils::Command::MM" "-e" "test_harness(0, 'blib/lib', 'blib/arch')" t/*.t
t/00-compile.t ......... ok
t/00-report-prereqs.t .. skipped: $ENV{AUTOMATED_TESTING} not set
t/ini-config.t ......... ok
All tests successful.
Files=3, Tests=16,  3 wallclock secs ( 0.03 usr  0.01 sys +  2.49 cusr  0.23 csys =  2.76 CPU)
Result: PASS

------------------------------
PREREQUISITES
------------------------------

Prerequisite modules loaded:

requires:

    Module                            Need  Have      
    --------------------------------- ----- ----------
    Dist::Zilla::Role::Stash::Plugins 1.006 1.006     
    Moose                             0     2.0603    
    Pod::Weaver::Config::Assembler    0     3.101635  
    strict                            0     1.04      
    warnings                          0     1.06      

build_requires:

    Module                            Need  Have      
    --------------------------------- ----- ----------
    Dist::Zilla::Tester               0     4.300035  
    ExtUtils::MakeMaker               0     6.66      
    File::Find                        0     1.12      
    File::Spec::Functions             0     3.40      
    File::Temp                        0     0.22      
    List::Util                        0     1.23      
    Test::MockObject                  0     1.20120301
    Test::More                        0     0.98      

configure_requires:

    Module                            Need  Have      
    --------------------------------- ----- ----------
    ExtUtils::MakeMaker               6.30  6.66      


------------------------------
ENVIRONMENT AND OTHER CONTEXT
------------------------------

Environment variables:

    LANG = en_AU.UTF-8
    PATH = /Users/Glenn/opt/local/pinto/bin:/Users/Glenn/perl5/perlbrew/bin:/usr/local/share/npm/bin:/Users/Glenn/.gem/ruby/1.8/bin:/usr/bin:/bin:/usr/sbin:/sbin:/usr/local/bin:/usr/local/git/bin:/usr/X11/bin:/Users/Glenn/gsutil
    PERL5LIB = 
    PERL5OPT = 
    PERL5_CPANPLUS_IS_RUNNING = 1628
    PERL5_CPAN_IS_RUNNING = 1628
    PERLBREW_BASHRC_VERSION = 0.64
    PERLBREW_HOME = /Users/Glenn/.perlbrew
    PERLBREW_ROOT = /Users/Glenn/perl5/perlbrew
    SHELL = /bin/bash
    TERM = xterm-color
    TMPDIR = /var/folders/OE/OE9WLyFZEsWkzxLUIRSchE+++TI/-Tmp-/
    VERSIONER_PERL_PREFER_32_BIT = no
    VERSIONER_PERL_VERSION = 5.10.0

Perl special variables (and OS-specific diagnostics, for MSWin32):

    $^X = /usr/bin/perl
    $UID/$EUID = 501 / 501
    $GID = 20 20 404 501 403 401 204 100 98 81 80 79 61 12 402 405
    $EGID = 20 20 404 501 403 401 204 100 98 81 80 79 61 12 402 405

Perl module toolchain versions installed:

    Module              Have    
    ------------------- --------
    CPAN                2.00    
    CPAN::Meta          2.131560
    Cwd                 3.40    
    ExtUtils::CBuilder  0.280202
    ExtUtils::Command   1.17    
    ExtUtils::Install   1.54    
    ExtUtils::MakeMaker 6.66    
    ExtUtils::Manifest  1.60    
    ExtUtils::ParseXS   3.11    
    File::Spec          3.40    
    JSON                2.57    
    JSON::PP            2.27200 
    Module::Build       0.4005  
    Module::Signature   n/a     
    Parse::CPAN::Meta   1.4405  
    Test::Harness       3.28    
    Test::More          0.98    
    YAML                0.84    
    YAML::Syck          1.25    
    version             0.9901  


--

Summary of my perl5 (revision 5 version 10 subversion 0) configuration:
  Platform:
    osname=darwin, osvers=10.0, archname=darwin-thread-multi-2level
    uname='darwin b79.apple.com 10.0 darwin kernel version 10.0.0d8: tue may 5 19:29:59 pdt 2009; root:xnu-1437.2~2release_i386 i386 '
    config_args='-ds -e -Dprefix=/usr -Dccflags=-g  -pipe  -Dldflags= -Dman3ext=3pm -Duseithreads -Duseshrplib -Dinc_version_list=none -Dcc=gcc-4.2'
    hint=recommended, useposix=true, d_sigaction=define
    useithreads=define, usemultiplicity=define
    useperlio=define, d_sfio=undef, uselargefiles=define, usesocks=undef
    use64bitint=define, use64bitall=define, uselongdouble=undef
    usemymalloc=n, bincompat5005=undef
  Compiler:
    cc='gcc-4.2', ccflags ='-arch x86_64 -arch i386 -arch ppc -g -pipe -fno-common -DPERL_DARWIN -fno-strict-aliasing -I/usr/local/include',
    optimize='-Os',
    cppflags='-g -pipe -fno-common -DPERL_DARWIN -fno-strict-aliasing -I/usr/local/include'
    ccversion='', gccversion='4.2.1 (Apple Inc. build 5646)', gccosandvers=''
    intsize=4, longsize=8, ptrsize=8, doublesize=8, byteorder=12345678
    d_longlong=define, longlongsize=8, d_longdbl=define, longdblsize=16
    ivtype='long', ivsize=8, nvtype='double', nvsize=8, Off_t='off_t', lseeksize=8
    alignbytes=8, prototype=define
  Linker and Libraries:
    ld='gcc-4.2 -mmacosx-version-min=10.6', ldflags ='-arch x86_64 -arch i386 -arch ppc -L/usr/local/lib'
    libpth=/usr/local/lib /usr/lib
    libs=-ldbm -ldl -lm -lutil -lc
    perllibs=-ldl -lm -lutil -lc
    libc=/usr/lib/libc.dylib, so=dylib, useshrplib=true, libperl=libperl.dylib
    gnulibc_version=''
  Dynamic Linking:
    dlsrc=dl_dlopen.xs, dlext=bundle, d_dlsymun=undef, ccdlflags=' '
    cccdlflags=' ', lddlflags='-arch x86_64 -arch i386 -arch ppc -bundle -undefined dynamic_lookup -L/usr/local/lib'


Characteristics of this binary (from libperl): 
  Compile-time options: MULTIPLICITY PERL_DONT_CREATE_GVSV
                        PERL_IMPLICIT_CONTEXT PERL_MALLOC_WRAP USE_64_BIT_ALL
                        USE_64_BIT_INT USE_ITHREADS USE_LARGE_FILES
                        USE_PERLIO USE_REENTRANT_API
  Locally applied patches:
	/Library/Perl/Updates/<version> comes before system perl directories
	installprivlib and installarchlib points to the Updates directory
  Built under darwin
  Compiled at Jun 25 2009 21:54:25
  %ENV:
    PERL5LIB=""
    PERL5OPT=""
    PERL5_CPANPLUS_IS_RUNNING="1628"
    PERL5_CPAN_IS_RUNNING="1628"
    PERLBREW_BASHRC_VERSION="0.64"
    PERLBREW_HOME="/Users/Glenn/.perlbrew"
    PERLBREW_ROOT="/Users/Glenn/perl5/perlbrew"
  @INC:
    /Library/Perl/Updates/5.10.0/darwin-thread-multi-2level
    /Library/Perl/Updates/5.10.0
    /System/Library/Perl/5.10.0/darwin-thread-multi-2level
    /System/Library/Perl/5.10.0
    /Library/Perl/5.10.0/darwin-thread-multi-2level
    /Library/Perl/5.10.0
    /Network/Library/Perl/5.10.0/darwin-thread-multi-2level
    /Network/Library/Perl/5.10.0
    /Network/Library/Perl
    /System/Library/Perl/Extras/5.10.0/darwin-thread-multi-2level
    /System/Library/Perl/Extras/5.10.0
    .