Mail-Mbox-MessageParser v1.5111 Perl 5 v5.18.3 i386-freebsd-thread-multi
- Status
- Pass
- From
- Chris Williams (BINGOS)
- Dist
-
Mail-Mbox-MessageParser v1.5111
- Platform
- Perl 5 v5.18.3 i386-freebsd-thread-multi
- Date
- 2018-07-16 22:31:44
- ID
- 04a63f6e-8948-11e8-919d-ffef68b7f98c
This distribution has been tested as part of the CPAN Testers
project, supporting the Perl programming language. See
http://wiki.cpantesters.org/ for more information or email
questions to cpan-testers-discuss@perl.org
--
Dear DCOPPIT,
This is a computer-generated error report created automatically by
CPANPLUS, version 0.9176. Testers personal comments may appear
at the end of this report.
Thank you for uploading your work to CPAN. Congratulations!
All tests were successful.
TEST RESULTS:
Below is the error stack from stage 'make test':
PERL_DL_NONLAZY=1 "/usr/home/cpan/pit/thr/perl-5.18.3/bin/perl" "-MExtUtils::Command::MM" "-MTest::Harness" "-e" "undef *Test::Harness::Switches; test_harness(1, 'blib/lib', 'blib/arch')" t/*.t
t/000_standard__compile.t .......
1..6
ok 1 - Compile test for blib/lib/Mail/Mbox/MessageParser.pm
ok 2 - Compile test for blib/lib/Mail/Mbox/MessageParser/Cache.pm
ok 3 - Compile test for blib/lib/Mail/Mbox/MessageParser/Perl.pm
ok 4 - Compile test for blib/lib/Mail/Mbox/MessageParser/MetaInfo.pm
ok 5 - Compile test for blib/lib/Mail/Mbox/MessageParser/Grep.pm
ok 6 - Compile test for blib/lib/Mail/Mbox/MessageParser/Config.pm
ok
t/000_standard__perl_critic.t ... skipped: Author test. Set $ENV{TEST_AUTHOR} to a true value to run.
t/000_standard__pod.t ........... skipped: Test::Pod required for testing POD
t/000_standard__pod_coverage.t .. skipped: Test::Pod::Coverage required for testing POD coverage
t/appended_mailbox.t ............
1..6
Testing modified mailbox with Perl implementation
Comparing /tmp/ae_TV1_Te6 to t/mailboxes/mailarc-1.txt
Output /tmp/ae_TV1_Te6 looks good.
ok 1 - Computing differences
Testing modified mailbox with Cache implementation
Comparing /tmp/xiyU5F5gOL to t/mailboxes/mailarc-1.txt
Output /tmp/xiyU5F5gOL looks good.
ok 2 - Computing differences
Testing modified mailbox with Grep implementation
ok 3 # skip GNU grep not available
Testing modified mailbox with Perl implementation
Comparing /tmp/F_UH1lfXZi to t/mailboxes/mailarc-1.txt
Output /tmp/F_UH1lfXZi looks good.
ok 4 - Computing differences
Testing modified mailbox with Cache implementation
Comparing /tmp/GYqZK6kTB9 to t/mailboxes/mailarc-1.txt
Output /tmp/GYqZK6kTB9 looks good.
ok 5 - Computing differences
Testing modified mailbox with Grep implementation
ok 6 # skip GNU grep not available
ok
t/bzip2.t .......................
1..1
Running test:
"/bin/cat" "t/mailboxes/mailarc-2.txt.bz2" | "/usr/bin/bzip2" -cd
Comparing /tmp/2Gskt7hQ5l to t/results/mailarc-2.txt
Output /tmp/2Gskt7hQ5l looks good.
Comparing /tmp/tD4puVouxi to t/results/none
Output /tmp/tD4puVouxi looks good.
ok 1 - Computing differences
ok
t/endline.t .....................
1..8
Testing filename: t/mailboxes/mailarc-1-dos.txt
ok 1 - Dos endline expected
ok 2 - Dos endline expected
ok 3 - Dos endline expected
ok 4 # skip GNU grep not available
Testing filename: t/mailboxes/mailarc-1.txt
ok 5 - Unix endline expected
ok 6 - Unix endline expected
ok 7 - Unix endline expected
ok 8 # skip GNU grep not available
ok
t/filehandle_compressed.t .......
1..16
Testing filename: t/mailboxes/mailarc-2.txt.bz2
Comparing /tmp/Ea8wMz33OK to t/mailboxes/mailarc-2.txt
Output /tmp/Ea8wMz33OK looks good.
ok 1 - Computing differences
Comparing /tmp/24pPuTOZkr to t/mailboxes/mailarc-2.txt
Output /tmp/24pPuTOZkr looks good.
ok 2 - Computing differences
Comparing /tmp/zZgWmZ6yQL to t/mailboxes/mailarc-2.txt
Output /tmp/zZgWmZ6yQL looks good.
ok 3 - Computing differences
ok 4 # skip GNU grep not available
Testing filename: t/mailboxes/mailarc-2.txt.gz
Comparing /tmp/5IlcJ1t15u to t/mailboxes/mailarc-2.txt
Output /tmp/5IlcJ1t15u looks good.
ok 5 - Computing differences
Comparing /tmp/b2LF9hiwVJ to t/mailboxes/mailarc-2.txt
Output /tmp/b2LF9hiwVJ looks good.
ok 6 - Computing differences
Comparing /tmp/G_hGU5Iu7K to t/mailboxes/mailarc-2.txt
Output /tmp/G_hGU5Iu7K looks good.
ok 7 - Computing differences
ok 8 # skip GNU grep not available
Testing filename: t/mailboxes/mailarc-2.txt.lz
ok 9 # skip lzip not available
ok 10 # skip lzip not available
ok 11 # skip lzip not available
ok 12 # skip lzip not available
Testing filename: t/mailboxes/mailarc-2.txt.xz
Comparing /tmp/EbM5vRMmnN to t/mailboxes/mailarc-2.txt
Output /tmp/EbM5vRMmnN looks good.
ok 13 - Computing differences
Comparing /tmp/dH1zetOO5h to t/mailboxes/mailarc-2.txt
Output /tmp/dH1zetOO5h looks good.
ok 14 - Computing differences
Comparing /tmp/gwd6uRJdZy to t/mailboxes/mailarc-2.txt
Output /tmp/gwd6uRJdZy looks good.
ok 15 - Computing differences
ok 16 # skip GNU grep not available
ok
t/filehandle_noncompressed.t ....
1..44
Testing filename: t/mailboxes/binary_body.txt
Comparing /tmp/KscOXjxnFY to t/mailboxes/binary_body.txt
Output /tmp/KscOXjxnFY looks good.
ok 1 - Computing differences
Comparing /tmp/dpWlJqz9x9 to t/mailboxes/binary_body.txt
Output /tmp/dpWlJqz9x9 looks good.
ok 2 - Computing differences
Comparing /tmp/mnjUbSSxJ6 to t/mailboxes/binary_body.txt
Output /tmp/mnjUbSSxJ6 looks good.
ok 3 - Computing differences
ok 4 # skip GNU grep not available
Testing filename: t/mailboxes/hessbug.txt
Comparing /tmp/t1J5CInoT0 to t/mailboxes/hessbug.txt
Output /tmp/t1J5CInoT0 looks good.
ok 5 - Computing differences
Comparing /tmp/HlzdXB8oyW to t/mailboxes/hessbug.txt
Output /tmp/HlzdXB8oyW looks good.
ok 6 - Computing differences
Comparing /tmp/OD0Uc4Ty_6 to t/mailboxes/hessbug.txt
Output /tmp/OD0Uc4Ty_6 looks good.
ok 7 - Computing differences
ok 8 # skip GNU grep not available
Testing filename: t/mailboxes/invalid-boundaries.txt
Comparing /tmp/1MtG3lx5xr to t/mailboxes/invalid-boundaries.txt
Output /tmp/1MtG3lx5xr looks good.
ok 9 - Computing differences
Comparing /tmp/N8oYscbANX to t/mailboxes/invalid-boundaries.txt
Output /tmp/N8oYscbANX looks good.
ok 10 - Computing differences
Comparing /tmp/ILajKVpH2q to t/mailboxes/invalid-boundaries.txt
Output /tmp/ILajKVpH2q looks good.
ok 11 - Computing differences
ok 12 # skip GNU grep not available
Testing filename: t/mailboxes/mailarc-1-dos.txt
Comparing /tmp/24C0SV7Fza to t/mailboxes/mailarc-1-dos.txt
Output /tmp/24C0SV7Fza looks good.
ok 13 - Computing differences
Comparing /tmp/EOCajOfQbW to t/mailboxes/mailarc-1-dos.txt
Output /tmp/EOCajOfQbW looks good.
ok 14 - Computing differences
Comparing /tmp/HlRm2bweBJ to t/mailboxes/mailarc-1-dos.txt
Output /tmp/HlRm2bweBJ looks good.
ok 15 - Computing differences
ok 16 # skip GNU grep not available
Testing filename: t/mailboxes/mailarc-1.txt
Comparing /tmp/Hi_r93ZkjV to t/mailboxes/mailarc-1.txt
Output /tmp/Hi_r93ZkjV looks good.
ok 17 - Computing differences
Comparing /tmp/1RCjGNYTB1 to t/mailboxes/mailarc-1.txt
Output /tmp/1RCjGNYTB1 looks good.
ok 18 - Computing differences
Comparing /tmp/GFAe8p5j_i to t/mailboxes/mailarc-1.txt
Output /tmp/GFAe8p5j_i looks good.
ok 19 - Computing differences
ok 20 # skip GNU grep not available
Testing filename: t/mailboxes/mailarc-2.txt
Comparing /tmp/C8WHGfco2X to t/mailboxes/mailarc-2.txt
Output /tmp/C8WHGfco2X looks good.
ok 21 - Computing differences
Comparing /tmp/B6j_ZVsUcO to t/mailboxes/mailarc-2.txt
Output /tmp/B6j_ZVsUcO looks good.
ok 22 - Computing differences
Comparing /tmp/vYA0RAUmPl to t/mailboxes/mailarc-2.txt
Output /tmp/vYA0RAUmPl looks good.
ok 23 - Computing differences
ok 24 # skip GNU grep not available
Testing filename: t/mailboxes/mailarc-3.txt
Comparing /tmp/VEsX61dF4l to t/mailboxes/mailarc-3.txt
Output /tmp/VEsX61dF4l looks good.
ok 25 - Computing differences
Comparing /tmp/BDGQsyrddB to t/mailboxes/mailarc-3.txt
Output /tmp/BDGQsyrddB looks good.
ok 26 - Computing differences
Comparing /tmp/fRGCSfpiV8 to t/mailboxes/mailarc-3.txt
Output /tmp/fRGCSfpiV8 looks good.
ok 27 - Computing differences
ok 28 # skip GNU grep not available
Testing filename: t/mailboxes/mailseparators.txt
Comparing /tmp/iywzLs4ZAW to t/mailboxes/mailseparators.txt
Output /tmp/iywzLs4ZAW looks good.
ok 29 - Computing differences
Comparing /tmp/3L2iF6MwM_ to t/mailboxes/mailseparators.txt
Output /tmp/3L2iF6MwM_ looks good.
ok 30 - Computing differences
Comparing /tmp/VMu8U2p4xP to t/mailboxes/mailseparators.txt
Output /tmp/VMu8U2p4xP looks good.
ok 31 - Computing differences
ok 32 # skip GNU grep not available
Testing filename: t/mailboxes/malformed.txt
Comparing /tmp/lFY5xllm7j to t/mailboxes/malformed.txt
Output /tmp/lFY5xllm7j looks good.
ok 33 - Computing differences
Comparing /tmp/XjQedjtGYq to t/mailboxes/malformed.txt
Output /tmp/XjQedjtGYq looks good.
ok 34 - Computing differences
Comparing /tmp/fP3pjmUVxa to t/mailboxes/malformed.txt
Output /tmp/fP3pjmUVxa looks good.
ok 35 - Computing differences
ok 36 # skip GNU grep not available
Testing filename: t/mailboxes/newlines_at_beginning.txt
Comparing /tmp/IHSCP2U6V4 to t/mailboxes/newlines_at_beginning.txt
Output /tmp/IHSCP2U6V4 looks good.
ok 37 - Computing differences
Comparing /tmp/_XwfwyKr_2 to t/mailboxes/newlines_at_beginning.txt
Output /tmp/_XwfwyKr_2 looks good.
ok 38 - Computing differences
Comparing /tmp/sibjIZrEcU to t/mailboxes/newlines_at_beginning.txt
Output /tmp/sibjIZrEcU looks good.
ok 39 - Computing differences
ok 40 # skip GNU grep not available
Testing filename: t/mailboxes/vm-emacs.txt
Comparing /tmp/VkQo53dv0w to t/mailboxes/vm-emacs.txt
Output /tmp/VkQo53dv0w looks good.
ok 41 - Computing differences
Comparing /tmp/SLUYehZGwG to t/mailboxes/vm-emacs.txt
Output /tmp/SLUYehZGwG looks good.
ok 42 - Computing differences
Comparing /tmp/7HhJAD7j2E to t/mailboxes/vm-emacs.txt
Output /tmp/7HhJAD7j2E looks good.
ok 43 - Computing differences
ok 44 # skip GNU grep not available
ok
t/filename_compressed.t .........
1..4
Testing filename: t/mailboxes/mailarc-2.txt.bz2
Comparing /tmp/hxXXUJkYBj to t/mailboxes/mailarc-2.txt
Output /tmp/hxXXUJkYBj looks good.
ok 1 - Computing differences
Testing filename: t/mailboxes/mailarc-2.txt.gz
Comparing /tmp/3AtWGRxcdK to t/mailboxes/mailarc-2.txt
Output /tmp/3AtWGRxcdK looks good.
ok 2 - Computing differences
Testing filename: t/mailboxes/mailarc-2.txt.lz
ok 3 # skip lzip not available
Testing filename: t/mailboxes/mailarc-2.txt.xz
Comparing /tmp/DnbjKOBaEv to t/mailboxes/mailarc-2.txt
Output /tmp/DnbjKOBaEv looks good.
ok 4 - Computing differences
ok
t/filename_noncompressed.t ......
1..11
Testing filename: t/mailboxes/binary_body.txt
Comparing /tmp/e7WqDMEwkB to t/mailboxes/binary_body.txt
Output /tmp/e7WqDMEwkB looks good.
ok 1 - Computing differences
Testing filename: t/mailboxes/hessbug.txt
Comparing /tmp/MizRXqSzpa to t/mailboxes/hessbug.txt
Output /tmp/MizRXqSzpa looks good.
ok 2 - Computing differences
Testing filename: t/mailboxes/invalid-boundaries.txt
Comparing /tmp/ASLR1BiQvZ to t/mailboxes/invalid-boundaries.txt
Output /tmp/ASLR1BiQvZ looks good.
ok 3 - Computing differences
Testing filename: t/mailboxes/mailarc-1-dos.txt
Comparing /tmp/nItZDolIbY to t/mailboxes/mailarc-1-dos.txt
Output /tmp/nItZDolIbY looks good.
ok 4 - Computing differences
Testing filename: t/mailboxes/mailarc-1.txt
Comparing /tmp/fK605Q41d7 to t/mailboxes/mailarc-1.txt
Output /tmp/fK605Q41d7 looks good.
ok 5 - Computing differences
Testing filename: t/mailboxes/mailarc-2.txt
Comparing /tmp/klIbJtBa4h to t/mailboxes/mailarc-2.txt
Output /tmp/klIbJtBa4h looks good.
ok 6 - Computing differences
Testing filename: t/mailboxes/mailarc-3.txt
Comparing /tmp/NFhx3WIJRY to t/mailboxes/mailarc-3.txt
Output /tmp/NFhx3WIJRY looks good.
ok 7 - Computing differences
Testing filename: t/mailboxes/mailseparators.txt
Comparing /tmp/u9edjyPRJf to t/mailboxes/mailseparators.txt
Output /tmp/u9edjyPRJf looks good.
ok 8 - Computing differences
Testing filename: t/mailboxes/malformed.txt
Comparing /tmp/ZtvvIAmw5g to t/mailboxes/malformed.txt
Output /tmp/ZtvvIAmw5g looks good.
ok 9 - Computing differences
Testing filename: t/mailboxes/newlines_at_beginning.txt
Comparing /tmp/BCGELQ6nsd to t/mailboxes/newlines_at_beginning.txt
Output /tmp/BCGELQ6nsd looks good.
ok 10 - Computing differences
Testing filename: t/mailboxes/vm-emacs.txt
Comparing /tmp/qCNoitLdQ1 to t/mailboxes/vm-emacs.txt
Output /tmp/qCNoitLdQ1 looks good.
ok 11 - Computing differences
ok
t/grep.t ........................
1..4
Running test:
unset LC_ALL LC_COLLATE LANG LC_CTYPE LC_MESSAGES; grep --extended-regexp --line-number --byte-offset --binary-files=text "^From [^:]+(:[0-9][0-9]){1,2}( *([A-Z]{2,6}|[+-]?[0-9]{4})){1,3}( remote from .*)?
?$" t/mailboxes/mailarc-1.txt
ok 1 # skip 1
Running test:
unset LC_ALL LC_COLLATE LANG LC_CTYPE LC_MESSAGES; grep --extended-regexp --line-number --byte-offset --binary-files=text "^From [^:]+(:[0-9][0-9]){1,2}( *([A-Z]{2,6}|[+-]?[0-9]{4})){1,3}( remote from .*)?
?$" t/mailboxes/mailarc-2.txt
ok 2 # skip 1
Running test:
unset LC_ALL LC_COLLATE LANG LC_CTYPE LC_MESSAGES; grep --extended-regexp --line-number --byte-offset --binary-files=text "^From [^:]+(:[0-9][0-9]){1,2}( *([A-Z]{2,6}|[+-]?[0-9]{4})){1,3}( remote from .*)?
?$" t/mailboxes/mailarc-3.txt
ok 3 # skip 1
Running test:
unset LC_ALL LC_COLLATE LANG LC_CTYPE LC_MESSAGES; grep --extended-regexp --line-number --byte-offset --binary-files=text "^From [^:]+(:[0-9][0-9]){1,2}( *([A-Z]{2,6}|[+-]?[0-9]{4})){1,3}( remote from .*)?
?$" t/mailboxes/mailseparators.txt
ok 4 # skip 1
ok
t/gzip.t ........................
1..1
Running test:
"/bin/cat" "t/mailboxes/mailarc-2.txt.gz" | "/usr/bin/gzip" -cd
Comparing /tmp/3QBTGmSgHF to t/results/mailarc-2.txt
Output /tmp/3QBTGmSgHF looks good.
Comparing /tmp/Dkm323rcyC to t/results/none
Output /tmp/Dkm323rcyC looks good.
ok 1 - Computing differences
ok
t/length.t ......................
1..30
Testing filename: t/mailboxes/binary_body.txt
Comparing /tmp/Xm29D8lXbg to t/results/length_binary_body.stdout
Output /tmp/Xm29D8lXbg looks good.
ok 1 - Computing differences
Comparing /tmp/OTxt9pqH4y to t/results/length_binary_body.stdout
Output /tmp/OTxt9pqH4y looks good.
ok 2 - Computing differences
ok 3 # skip GNU grep not available
Testing filename: t/mailboxes/hessbug.txt
Comparing /tmp/FEIIcqtmM_ to t/results/length_hessbug.stdout
Output /tmp/FEIIcqtmM_ looks good.
ok 4 - Computing differences
Comparing /tmp/h6CBb1eFCP to t/results/length_hessbug.stdout
Output /tmp/h6CBb1eFCP looks good.
ok 5 - Computing differences
ok 6 # skip GNU grep not available
Testing filename: t/mailboxes/invalid-boundaries.txt
Comparing /tmp/_pz4M9ULrD to t/results/length_invalid-boundaries.stdout
Output /tmp/_pz4M9ULrD looks good.
ok 7 - Computing differences
Comparing /tmp/LyUekxxyJD to t/results/length_invalid-boundaries.stdout
Output /tmp/LyUekxxyJD looks good.
ok 8 - Computing differences
ok 9 # skip GNU grep not available
Testing filename: t/mailboxes/mailarc-1-dos.txt
Comparing /tmp/D2pmnxpdKy to t/results/length_mailarc-1-dos.stdout
Output /tmp/D2pmnxpdKy looks good.
ok 10 - Computing differences
Comparing /tmp/XPijC7CY3F to t/results/length_mailarc-1-dos.stdout
Output /tmp/XPijC7CY3F looks good.
ok 11 - Computing differences
ok 12 # skip GNU grep not available
Testing filename: t/mailboxes/mailarc-1.txt
Comparing /tmp/7gV4A124ZW to t/results/length_mailarc-1.stdout
Output /tmp/7gV4A124ZW looks good.
ok 13 - Computing differences
Comparing /tmp/aoxbTzVoyK to t/results/length_mailarc-1.stdout
Output /tmp/aoxbTzVoyK looks good.
ok 14 - Computing differences
ok 15 # skip GNU grep not available
Testing filename: t/mailboxes/mailarc-2.txt
Comparing /tmp/IxiD6dGvNF to t/results/length_mailarc-2.stdout
Output /tmp/IxiD6dGvNF looks good.
ok 16 - Computing differences
Comparing /tmp/W98Zy4YGT8 to t/results/length_mailarc-2.stdout
Output /tmp/W98Zy4YGT8 looks good.
ok 17 - Computing differences
ok 18 # skip GNU grep not available
Testing filename: t/mailboxes/mailarc-3.txt
Comparing /tmp/b2Ms1x0y6g to t/results/length_mailarc-3.stdout
Output /tmp/b2Ms1x0y6g looks good.
ok 19 - Computing differences
Comparing /tmp/Q_lRBab8M4 to t/results/length_mailarc-3.stdout
Output /tmp/Q_lRBab8M4 looks good.
ok 20 - Computing differences
ok 21 # skip GNU grep not available
Testing filename: t/mailboxes/mailseparators.txt
Comparing /tmp/abLm8bClZw to t/results/length_mailseparators.stdout
Output /tmp/abLm8bClZw looks good.
ok 22 - Computing differences
Comparing /tmp/KFoUBCF7du to t/results/length_mailseparators.stdout
Output /tmp/KFoUBCF7du looks good.
ok 23 - Computing differences
ok 24 # skip GNU grep not available
Testing filename: t/mailboxes/malformed.txt
Comparing /tmp/P9wABVOhpI to t/results/length_malformed.stdout
Output /tmp/P9wABVOhpI looks good.
ok 25 - Computing differences
Comparing /tmp/OhOovoTbBq to t/results/length_malformed.stdout
Output /tmp/OhOovoTbBq looks good.
ok 26 - Computing differences
ok 27 # skip GNU grep not available
Testing filename: t/mailboxes/newlines_at_beginning.txt
Comparing /tmp/U_FjhLHlQa to t/results/length_newlines_at_beginning.stdout
Output /tmp/U_FjhLHlQa looks good.
ok 28 - Computing differences
Comparing /tmp/TACMPxS7sB to t/results/length_newlines_at_beginning.stdout
Output /tmp/TACMPxS7sB looks good.
ok 29 - Computing differences
ok 30 # skip GNU grep not available
ok
t/line_number.t .................
1..30
Testing filename: t/mailboxes/binary_body.txt
Comparing /tmp/5LkuiUEIOz to t/results/line_number_binary_body.stdout
Output /tmp/5LkuiUEIOz looks good.
ok 1 - Computing differences
Comparing /tmp/wXYv8Y6C4N to t/results/line_number_binary_body.stdout
Output /tmp/wXYv8Y6C4N looks good.
ok 2 - Computing differences
ok 3 # skip GNU grep not available
Testing filename: t/mailboxes/hessbug.txt
Comparing /tmp/7SjAdiFDaQ to t/results/line_number_hessbug.stdout
Output /tmp/7SjAdiFDaQ looks good.
ok 4 - Computing differences
Comparing /tmp/Jfj2n21TPE to t/results/line_number_hessbug.stdout
Output /tmp/Jfj2n21TPE looks good.
ok 5 - Computing differences
ok 6 # skip GNU grep not available
Testing filename: t/mailboxes/invalid-boundaries.txt
Comparing /tmp/Tu09WEaxZn to t/results/line_number_invalid-boundaries.stdout
Output /tmp/Tu09WEaxZn looks good.
ok 7 - Computing differences
Comparing /tmp/xJGjFznToG to t/results/line_number_invalid-boundaries.stdout
Output /tmp/xJGjFznToG looks good.
ok 8 - Computing differences
ok 9 # skip GNU grep not available
Testing filename: t/mailboxes/mailarc-1-dos.txt
Comparing /tmp/XnxQaoJiMx to t/results/line_number_mailarc-1-dos.stdout
Output /tmp/XnxQaoJiMx looks good.
ok 10 - Computing differences
Comparing /tmp/petlxHqJUH to t/results/line_number_mailarc-1-dos.stdout
Output /tmp/petlxHqJUH looks good.
ok 11 - Computing differences
ok 12 # skip GNU grep not available
Testing filename: t/mailboxes/mailarc-1.txt
Comparing /tmp/KyMTlFNXJF to t/results/line_number_mailarc-1.stdout
Output /tmp/KyMTlFNXJF looks good.
ok 13 - Computing differences
Comparing /tmp/xtSYshGUFX to t/results/line_number_mailarc-1.stdout
Output /tmp/xtSYshGUFX looks good.
ok 14 - Computing differences
ok 15 # skip GNU grep not available
Testing filename: t/mailboxes/mailarc-2.txt
Comparing /tmp/G7j1ahpUwi to t/results/line_number_mailarc-2.stdout
Output /tmp/G7j1ahpUwi looks good.
ok 16 - Computing differences
Comparing /tmp/3lRMaRHEBE to t/results/line_number_mailarc-2.stdout
Output /tmp/3lRMaRHEBE looks good.
ok 17 - Computing differences
ok 18 # skip GNU grep not available
Testing filename: t/mailboxes/mailarc-3.txt
Comparing /tmp/BDhT9zGNgO to t/results/line_number_mailarc-3.stdout
Output /tmp/BDhT9zGNgO looks good.
ok 19 - Computing differences
Comparing /tmp/gO4N2nfVi4 to t/results/line_number_mailarc-3.stdout
Output /tmp/gO4N2nfVi4 looks good.
ok 20 - Computing differences
ok 21 # skip GNU grep not available
Testing filename: t/mailboxes/mailseparators.txt
Comparing /tmp/tgaHsFg1qE to t/results/line_number_mailseparators.stdout
Output /tmp/tgaHsFg1qE looks good.
ok 22 - Computing differences
Comparing /tmp/lhU4SjUbrp to t/results/line_number_mailseparators.stdout
Output /tmp/lhU4SjUbrp looks good.
ok 23 - Computing differences
ok 24 # skip GNU grep not available
Testing filename: t/mailboxes/malformed.txt
Comparing /tmp/vwUXKa0stf to t/results/line_number_malformed.stdout
Output /tmp/vwUXKa0stf looks good.
ok 25 - Computing differences
Comparing /tmp/ujSdtLGjsY to t/results/line_number_malformed.stdout
Output /tmp/ujSdtLGjsY looks good.
ok 26 - Computing differences
ok 27 # skip GNU grep not available
Testing filename: t/mailboxes/newlines_at_beginning.txt
Comparing /tmp/uj1ylp0JCs to t/results/line_number_newlines_at_beginning.stdout
Output /tmp/uj1ylp0JCs looks good.
ok 28 - Computing differences
Comparing /tmp/AEV4IXBw6y to t/results/line_number_newlines_at_beginning.stdout
Output /tmp/AEV4IXBw6y looks good.
ok 29 - Computing differences
ok 30 # skip GNU grep not available
ok
t/lzip.t ........................
1..1
Running test:
"/bin/cat" "t/mailboxes/mailarc-2.txt.lz" | "lzip" -cd
ok 1 # skip lzip not available
ok
t/number.t ......................
1..30
Testing filename: t/mailboxes/binary_body.txt
Comparing /tmp/Qz2RPdnqb3 to t/results/number_binary_body.stdout
Output /tmp/Qz2RPdnqb3 looks good.
ok 1 - Computing differences
Comparing /tmp/kqb2QLIcjc to t/results/number_binary_body.stdout
Output /tmp/kqb2QLIcjc looks good.
ok 2 - Computing differences
ok 3 # skip GNU grep not available
Testing filename: t/mailboxes/hessbug.txt
Comparing /tmp/3OtNaRwaEj to t/results/number_hessbug.stdout
Output /tmp/3OtNaRwaEj looks good.
ok 4 - Computing differences
Comparing /tmp/RTYjYLyfHp to t/results/number_hessbug.stdout
Output /tmp/RTYjYLyfHp looks good.
ok 5 - Computing differences
ok 6 # skip GNU grep not available
Testing filename: t/mailboxes/invalid-boundaries.txt
Comparing /tmp/MZPcuuzEnH to t/results/number_invalid-boundaries.stdout
Output /tmp/MZPcuuzEnH looks good.
ok 7 - Computing differences
Comparing /tmp/dUXSeml_6r to t/results/number_invalid-boundaries.stdout
Output /tmp/dUXSeml_6r looks good.
ok 8 - Computing differences
ok 9 # skip GNU grep not available
Testing filename: t/mailboxes/mailarc-1-dos.txt
Comparing /tmp/FAOyDFBRUp to t/results/number_mailarc-1-dos.stdout
Output /tmp/FAOyDFBRUp looks good.
ok 10 - Computing differences
Comparing /tmp/30PLQ712Dw to t/results/number_mailarc-1-dos.stdout
Output /tmp/30PLQ712Dw looks good.
ok 11 - Computing differences
ok 12 # skip GNU grep not available
Testing filename: t/mailboxes/mailarc-1.txt
Comparing /tmp/Q5LkuHQuP1 to t/results/number_mailarc-1.stdout
Output /tmp/Q5LkuHQuP1 looks good.
ok 13 - Computing differences
Comparing /tmp/5rzp4UcyU_ to t/results/number_mailarc-1.stdout
Output /tmp/5rzp4UcyU_ looks good.
ok 14 - Computing differences
ok 15 # skip GNU grep not available
Testing filename: t/mailboxes/mailarc-2.txt
Comparing /tmp/_TyjxlnMsh to t/results/number_mailarc-2.stdout
Output /tmp/_TyjxlnMsh looks good.
ok 16 - Computing differences
Comparing /tmp/aEkXUf4j0m to t/results/number_mailarc-2.stdout
Output /tmp/aEkXUf4j0m looks good.
ok 17 - Computing differences
ok 18 # skip GNU grep not available
Testing filename: t/mailboxes/mailarc-3.txt
Comparing /tmp/dh5iZPuZ4_ to t/results/number_mailarc-3.stdout
Output /tmp/dh5iZPuZ4_ looks good.
ok 19 - Computing differences
Comparing /tmp/lB0mNWvYGk to t/results/number_mailarc-3.stdout
Output /tmp/lB0mNWvYGk looks good.
ok 20 - Computing differences
ok 21 # skip GNU grep not available
Testing filename: t/mailboxes/mailseparators.txt
Comparing /tmp/c8F8Hn1KQL to t/results/number_mailseparators.stdout
Output /tmp/c8F8Hn1KQL looks good.
ok 22 - Computing differences
Comparing /tmp/p8HXK5GyJ4 to t/results/number_mailseparators.stdout
Output /tmp/p8HXK5GyJ4 looks good.
ok 23 - Computing differences
ok 24 # skip GNU grep not available
Testing filename: t/mailboxes/malformed.txt
Comparing /tmp/XLVuKPTO0O to t/results/number_malformed.stdout
Output /tmp/XLVuKPTO0O looks good.
ok 25 - Computing differences
Comparing /tmp/AmrFQmkjK4 to t/results/number_malformed.stdout
Output /tmp/AmrFQmkjK4 looks good.
ok 26 - Computing differences
ok 27 # skip GNU grep not available
Testing filename: t/mailboxes/newlines_at_beginning.txt
Comparing /tmp/uD9rTjrTWE to t/results/number_newlines_at_beginning.stdout
Output /tmp/uD9rTjrTWE looks good.
ok 28 - Computing differences
Comparing /tmp/_4CdndTqSQ to t/results/number_newlines_at_beginning.stdout
Output /tmp/_4CdndTqSQ looks good.
ok 29 - Computing differences
ok 30 # skip GNU grep not available
ok
t/offset.t ......................
1..30
Testing filename: t/mailboxes/binary_body.txt
Comparing /tmp/RtXxrd9RC_ to t/results/offset_binary_body.stdout
Output /tmp/RtXxrd9RC_ looks good.
ok 1 - Computing differences
Comparing /tmp/9GD3Hgx3FT to t/results/offset_binary_body.stdout
Output /tmp/9GD3Hgx3FT looks good.
ok 2 - Computing differences
ok 3 # skip GNU grep not available
Testing filename: t/mailboxes/hessbug.txt
Comparing /tmp/wTq330nqRg to t/results/offset_hessbug.stdout
Output /tmp/wTq330nqRg looks good.
ok 4 - Computing differences
Comparing /tmp/xr6rz_SwHB to t/results/offset_hessbug.stdout
Output /tmp/xr6rz_SwHB looks good.
ok 5 - Computing differences
ok 6 # skip GNU grep not available
Testing filename: t/mailboxes/invalid-boundaries.txt
Comparing /tmp/bDbkOjJN1R to t/results/offset_invalid-boundaries.stdout
Output /tmp/bDbkOjJN1R looks good.
ok 7 - Computing differences
Comparing /tmp/KkYpu7jb0D to t/results/offset_invalid-boundaries.stdout
Output /tmp/KkYpu7jb0D looks good.
ok 8 - Computing differences
ok 9 # skip GNU grep not available
Testing filename: t/mailboxes/mailarc-1-dos.txt
Comparing /tmp/0q2IcAK1oB to t/results/offset_mailarc-1-dos.stdout
Output /tmp/0q2IcAK1oB looks good.
ok 10 - Computing differences
Comparing /tmp/LVZDVmocBg to t/results/offset_mailarc-1-dos.stdout
Output /tmp/LVZDVmocBg looks good.
ok 11 - Computing differences
ok 12 # skip GNU grep not available
Testing filename: t/mailboxes/mailarc-1.txt
Comparing /tmp/0OTcuq0SZg to t/results/offset_mailarc-1.stdout
Output /tmp/0OTcuq0SZg looks good.
ok 13 - Computing differences
Comparing /tmp/GLGeOzJz0y to t/results/offset_mailarc-1.stdout
Output /tmp/GLGeOzJz0y looks good.
ok 14 - Computing differences
ok 15 # skip GNU grep not available
Testing filename: t/mailboxes/mailarc-2.txt
Comparing /tmp/adpKiFUMaq to t/results/offset_mailarc-2.stdout
Output /tmp/adpKiFUMaq looks good.
ok 16 - Computing differences
Comparing /tmp/SRnic7R_u2 to t/results/offset_mailarc-2.stdout
Output /tmp/SRnic7R_u2 looks good.
ok 17 - Computing differences
ok 18 # skip GNU grep not available
Testing filename: t/mailboxes/mailarc-3.txt
Comparing /tmp/UGxZIZ9hsm to t/results/offset_mailarc-3.stdout
Output /tmp/UGxZIZ9hsm looks good.
ok 19 - Computing differences
Comparing /tmp/hjuESoUiVM to t/results/offset_mailarc-3.stdout
Output /tmp/hjuESoUiVM looks good.
ok 20 - Computing differences
ok 21 # skip GNU grep not available
Testing filename: t/mailboxes/mailseparators.txt
Comparing /tmp/OmvEwGrXIy to t/results/offset_mailseparators.stdout
Output /tmp/OmvEwGrXIy looks good.
ok 22 - Computing differences
Comparing /tmp/WkAg6bYFUy to t/results/offset_mailseparators.stdout
Output /tmp/WkAg6bYFUy looks good.
ok 23 - Computing differences
ok 24 # skip GNU grep not available
Testing filename: t/mailboxes/malformed.txt
Comparing /tmp/nQRfhRyt28 to t/results/offset_malformed.stdout
Output /tmp/nQRfhRyt28 looks good.
ok 25 - Computing differences
Comparing /tmp/GCPCZsM7YX to t/results/offset_malformed.stdout
Output /tmp/GCPCZsM7YX looks good.
ok 26 - Computing differences
ok 27 # skip GNU grep not available
Testing filename: t/mailboxes/newlines_at_beginning.txt
Comparing /tmp/Sjt52EEtrC to t/results/offset_newlines_at_beginning.stdout
Output /tmp/Sjt52EEtrC looks good.
ok 28 - Computing differences
Comparing /tmp/6lRIF2t4SX to t/results/offset_newlines_at_beginning.stdout
Output /tmp/6lRIF2t4SX looks good.
ok 29 - Computing differences
ok 30 # skip GNU grep not available
ok
t/prologue.t ....................
1..33
Testing filename: t/mailboxes/binary_body.txt
Comparing /tmp/Q7QDHcPlsE to t/mailboxes/binary_body.txt
Output /tmp/Q7QDHcPlsE looks good.
ok 1 - Computing differences
Comparing /tmp/swfi4xJloH to t/mailboxes/binary_body.txt
Output /tmp/swfi4xJloH looks good.
ok 2 - Computing differences
ok 3 # skip GNU grep not available
Testing filename: t/mailboxes/hessbug.txt
Comparing /tmp/RyXckV51ye to t/mailboxes/hessbug.txt
Output /tmp/RyXckV51ye looks good.
ok 4 - Computing differences
Comparing /tmp/0WmprXMyAM to t/mailboxes/hessbug.txt
Output /tmp/0WmprXMyAM looks good.
ok 5 - Computing differences
ok 6 # skip GNU grep not available
Testing filename: t/mailboxes/invalid-boundaries.txt
Comparing /tmp/tfJ1vHcnc2 to t/mailboxes/invalid-boundaries.txt
Output /tmp/tfJ1vHcnc2 looks good.
ok 7 - Computing differences
Comparing /tmp/wvgcQaJRlF to t/mailboxes/invalid-boundaries.txt
Output /tmp/wvgcQaJRlF looks good.
ok 8 - Computing differences
ok 9 # skip GNU grep not available
Testing filename: t/mailboxes/mailarc-1-dos.txt
Comparing /tmp/MC__LDbQBp to t/mailboxes/mailarc-1-dos.txt
Output /tmp/MC__LDbQBp looks good.
ok 10 - Computing differences
Comparing /tmp/MHJbBdiES2 to t/mailboxes/mailarc-1-dos.txt
Output /tmp/MHJbBdiES2 looks good.
ok 11 - Computing differences
ok 12 # skip GNU grep not available
Testing filename: t/mailboxes/mailarc-1.txt
Comparing /tmp/ulMEleGmjT to t/mailboxes/mailarc-1.txt
Output /tmp/ulMEleGmjT looks good.
ok 13 - Computing differences
Comparing /tmp/sBspd0Cv7Z to t/mailboxes/mailarc-1.txt
Output /tmp/sBspd0Cv7Z looks good.
ok 14 - Computing differences
ok 15 # skip GNU grep not available
Testing filename: t/mailboxes/mailarc-2.txt
Comparing /tmp/nTXxFuxzxK to t/mailboxes/mailarc-2.txt
Output /tmp/nTXxFuxzxK looks good.
ok 16 - Computing differences
Comparing /tmp/baKmbs0JQn to t/mailboxes/mailarc-2.txt
Output /tmp/baKmbs0JQn looks good.
ok 17 - Computing differences
ok 18 # skip GNU grep not available
Testing filename: t/mailboxes/mailarc-3.txt
Comparing /tmp/fUHcAGYy9f to t/mailboxes/mailarc-3.txt
Output /tmp/fUHcAGYy9f looks good.
ok 19 - Computing differences
Comparing /tmp/eMk4AfZI9i to t/mailboxes/mailarc-3.txt
Output /tmp/eMk4AfZI9i looks good.
ok 20 - Computing differences
ok 21 # skip GNU grep not available
Testing filename: t/mailboxes/mailseparators.txt
Comparing /tmp/Kkh0FIf894 to t/mailboxes/mailseparators.txt
Output /tmp/Kkh0FIf894 looks good.
ok 22 - Computing differences
Comparing /tmp/bNbNkATwMm to t/mailboxes/mailseparators.txt
Output /tmp/bNbNkATwMm looks good.
ok 23 - Computing differences
ok 24 # skip GNU grep not available
Testing filename: t/mailboxes/malformed.txt
Comparing /tmp/V9jiI13npj to t/mailboxes/malformed.txt
Output /tmp/V9jiI13npj looks good.
ok 25 - Computing differences
Comparing /tmp/3MYcWfWhLZ to t/mailboxes/malformed.txt
Output /tmp/3MYcWfWhLZ looks good.
ok 26 - Computing differences
ok 27 # skip GNU grep not available
Testing filename: t/mailboxes/newlines_at_beginning.txt
Comparing /tmp/PXyj3Jpx1J to t/mailboxes/newlines_at_beginning.txt
Output /tmp/PXyj3Jpx1J looks good.
ok 28 - Computing differences
Comparing /tmp/UChU3AH4Yr to t/mailboxes/newlines_at_beginning.txt
Output /tmp/UChU3AH4Yr looks good.
ok 29 - Computing differences
ok 30 # skip GNU grep not available
Testing filename: t/mailboxes/vm-emacs.txt
Comparing /tmp/lr7cA_bDsn to t/mailboxes/vm-emacs.txt
Output /tmp/lr7cA_bDsn looks good.
ok 31 - Computing differences
Comparing /tmp/51CVK6Mtbw to t/mailboxes/vm-emacs.txt
Output /tmp/51CVK6Mtbw looks good.
ok 32 - Computing differences
ok 33 # skip GNU grep not available
ok
t/reset.t .......................
1..60
Testing filename: t/mailboxes/binary_body.txt
Testing partial mailbox reset with Perl implementation
Comparing /tmp/p8c2LEvHiF to t/results/reset_binary_body.stdout
Output /tmp/p8c2LEvHiF looks good.
ok 1 - Computing differences
Testing partial mailbox reset with Cache implementation
Comparing /tmp/7_MyafMS3I to t/results/reset_binary_body.stdout
Output /tmp/7_MyafMS3I looks good.
ok 2 - Computing differences
Testing partial mailbox reset with Grep implementation
ok 3 # skip GNU grep not available
Testing full mailbox reset with Perl implementation
Comparing /tmp/B3Ji6j97uQ to t/results/reset_binary_body.stdout
Output /tmp/B3Ji6j97uQ looks good.
ok 4 - Computing differences
Testing full mailbox reset with Cache implementation
Comparing /tmp/kEZ1ydYgvN to t/results/reset_binary_body.stdout
Output /tmp/kEZ1ydYgvN looks good.
ok 5 - Computing differences
Testing full mailbox reset with Grep implementation
ok 6 # skip GNU grep not available
Testing filename: t/mailboxes/hessbug.txt
Testing partial mailbox reset with Perl implementation
Comparing /tmp/8zmaUmaPQ0 to t/results/reset_hessbug.stdout
Output /tmp/8zmaUmaPQ0 looks good.
ok 7 - Computing differences
Testing partial mailbox reset with Cache implementation
Comparing /tmp/R_HT85gbxA to t/results/reset_hessbug.stdout
Output /tmp/R_HT85gbxA looks good.
ok 8 - Computing differences
Testing partial mailbox reset with Grep implementation
ok 9 # skip GNU grep not available
Testing full mailbox reset with Perl implementation
Comparing /tmp/GX6tim_JlP to t/results/reset_hessbug.stdout
Output /tmp/GX6tim_JlP looks good.
ok 10 - Computing differences
Testing full mailbox reset with Cache implementation
Comparing /tmp/w1uXyWaLIv to t/results/reset_hessbug.stdout
Output /tmp/w1uXyWaLIv looks good.
ok 11 - Computing differences
Testing full mailbox reset with Grep implementation
ok 12 # skip GNU grep not available
Testing filename: t/mailboxes/invalid-boundaries.txt
Testing partial mailbox reset with Perl implementation
Comparing /tmp/If2ckuInKs to t/results/reset_invalid-boundaries.stdout
Output /tmp/If2ckuInKs looks good.
ok 13 - Computing differences
Testing partial mailbox reset with Cache implementation
Comparing /tmp/fsvseGQAHR to t/results/reset_invalid-boundaries.stdout
Output /tmp/fsvseGQAHR looks good.
ok 14 - Computing differences
Testing partial mailbox reset with Grep implementation
ok 15 # skip GNU grep not available
Testing full mailbox reset with Perl implementation
Comparing /tmp/3iU9I06dDi to t/results/reset_invalid-boundaries.stdout
Output /tmp/3iU9I06dDi looks good.
ok 16 - Computing differences
Testing full mailbox reset with Cache implementation
Comparing /tmp/Je5gE8hRXk to t/results/reset_invalid-boundaries.stdout
Output /tmp/Je5gE8hRXk looks good.
ok 17 - Computing differences
Testing full mailbox reset with Grep implementation
ok 18 # skip GNU grep not available
Testing filename: t/mailboxes/mailarc-1-dos.txt
Testing partial mailbox reset with Perl implementation
Comparing /tmp/yxPE5pvewZ to t/results/reset_mailarc-1-dos.stdout
Output /tmp/yxPE5pvewZ looks good.
ok 19 - Computing differences
Testing partial mailbox reset with Cache implementation
Comparing /tmp/M5w8hmgc0v to t/results/reset_mailarc-1-dos.stdout
Output /tmp/M5w8hmgc0v looks good.
ok 20 - Computing differences
Testing partial mailbox reset with Grep implementation
ok 21 # skip GNU grep not available
Testing full mailbox reset with Perl implementation
Comparing /tmp/3UORbGAe5Q to t/results/reset_mailarc-1-dos.stdout
Output /tmp/3UORbGAe5Q looks good.
ok 22 - Computing differences
Testing full mailbox reset with Cache implementation
Comparing /tmp/VUlZSjocZr to t/results/reset_mailarc-1-dos.stdout
Output /tmp/VUlZSjocZr looks good.
ok 23 - Computing differences
Testing full mailbox reset with Grep implementation
ok 24 # skip GNU grep not available
Testing filename: t/mailboxes/mailarc-1.txt
Testing partial mailbox reset with Perl implementation
Comparing /tmp/8AKLIq2blw to t/results/reset_mailarc-1.stdout
Output /tmp/8AKLIq2blw looks good.
ok 25 - Computing differences
Testing partial mailbox reset with Cache implementation
Comparing /tmp/WAXO9KiPen to t/results/reset_mailarc-1.stdout
Output /tmp/WAXO9KiPen looks good.
ok 26 - Computing differences
Testing partial mailbox reset with Grep implementation
ok 27 # skip GNU grep not available
Testing full mailbox reset with Perl implementation
Comparing /tmp/VVAi73CYAy to t/results/reset_mailarc-1.stdout
Output /tmp/VVAi73CYAy looks good.
ok 28 - Computing differences
Testing full mailbox reset with Cache implementation
Comparing /tmp/mUutKm_bVl to t/results/reset_mailarc-1.stdout
Output /tmp/mUutKm_bVl looks good.
ok 29 - Computing differences
Testing full mailbox reset with Grep implementation
ok 30 # skip GNU grep not available
Testing filename: t/mailboxes/mailarc-2.txt
Testing partial mailbox reset with Perl implementation
Comparing /tmp/XUqdmuHRyU to t/results/reset_mailarc-2.stdout
Output /tmp/XUqdmuHRyU looks good.
ok 31 - Computing differences
Testing partial mailbox reset with Cache implementation
Comparing /tmp/UGus6pCK1i to t/results/reset_mailarc-2.stdout
Output /tmp/UGus6pCK1i looks good.
ok 32 - Computing differences
Testing partial mailbox reset with Grep implementation
ok 33 # skip GNU grep not available
Testing full mailbox reset with Perl implementation
Comparing /tmp/LTT3GysuKG to t/results/reset_mailarc-2.stdout
Output /tmp/LTT3GysuKG looks good.
ok 34 - Computing differences
Testing full mailbox reset with Cache implementation
Comparing /tmp/RhXNz8oXue to t/results/reset_mailarc-2.stdout
Output /tmp/RhXNz8oXue looks good.
ok 35 - Computing differences
Testing full mailbox reset with Grep implementation
ok 36 # skip GNU grep not available
Testing filename: t/mailboxes/mailarc-3.txt
Testing partial mailbox reset with Perl implementation
Comparing /tmp/CLRTCenOtu to t/results/reset_mailarc-3.stdout
Output /tmp/CLRTCenOtu looks good.
ok 37 - Computing differences
Testing partial mailbox reset with Cache implementation
Comparing /tmp/cuDKsyw0b5 to t/results/reset_mailarc-3.stdout
Output /tmp/cuDKsyw0b5 looks good.
ok 38 - Computing differences
Testing partial mailbox reset with Grep implementation
ok 39 # skip GNU grep not available
Testing full mailbox reset with Perl implementation
Comparing /tmp/qA3GslFWJW to t/results/reset_mailarc-3.stdout
Output /tmp/qA3GslFWJW looks good.
ok 40 - Computing differences
Testing full mailbox reset with Cache implementation
Comparing /tmp/NuNyz9Bmwk to t/results/reset_mailarc-3.stdout
Output /tmp/NuNyz9Bmwk looks good.
ok 41 - Computing differences
Testing full mailbox reset with Grep implementation
ok 42 # skip GNU grep not available
Testing filename: t/mailboxes/mailseparators.txt
Testing partial mailbox reset with Perl implementation
Comparing /tmp/JQT4gjyDj7 to t/results/reset_mailseparators.stdout
Output /tmp/JQT4gjyDj7 looks good.
ok 43 - Computing differences
Testing partial mailbox reset with Cache implementation
Comparing /tmp/3FT2pCMUiB to t/results/reset_mailseparators.stdout
Output /tmp/3FT2pCMUiB looks good.
ok 44 - Computing differences
Testing partial mailbox reset with Grep implementation
ok 45 # skip GNU grep not available
Testing full mailbox reset with Perl implementation
Comparing /tmp/6sxqnxckvz to t/results/reset_mailseparators.stdout
Output /tmp/6sxqnxckvz looks good.
ok 46 - Computing differences
Testing full mailbox reset with Cache implementation
Comparing /tmp/YfGaDLeAaX to t/results/reset_mailseparators.stdout
Output /tmp/YfGaDLeAaX looks good.
ok 47 - Computing differences
Testing full mailbox reset with Grep implementation
ok 48 # skip GNU grep not available
Testing filename: t/mailboxes/malformed.txt
Testing partial mailbox reset with Perl implementation
Comparing /tmp/xcCeqFu07Z to t/results/reset_malformed.stdout
Output /tmp/xcCeqFu07Z looks good.
ok 49 - Computing differences
Testing partial mailbox reset with Cache implementation
Comparing /tmp/Q70yq80h3l to t/results/reset_malformed.stdout
Output /tmp/Q70yq80h3l looks good.
ok 50 - Computing differences
Testing partial mailbox reset with Grep implementation
ok 51 # skip GNU grep not available
Testing full mailbox reset with Perl implementation
Comparing /tmp/9SUr1g6_Kq to t/results/reset_malformed.stdout
Output /tmp/9SUr1g6_Kq looks good.
ok 52 - Computing differences
Testing full mailbox reset with Cache implementation
Comparing /tmp/97kS1kkTXn to t/results/reset_malformed.stdout
Output /tmp/97kS1kkTXn looks good.
ok 53 - Computing differences
Testing full mailbox reset with Grep implementation
ok 54 # skip GNU grep not available
Testing filename: t/mailboxes/newlines_at_beginning.txt
Testing partial mailbox reset with Perl implementation
Comparing /tmp/GrkFNgOe_1 to t/results/reset_newlines_at_beginning.stdout
Output /tmp/GrkFNgOe_1 looks good.
ok 55 - Computing differences
Testing partial mailbox reset with Cache implementation
Comparing /tmp/ZtGZSNBKZE to t/results/reset_newlines_at_beginning.stdout
Output /tmp/ZtGZSNBKZE looks good.
ok 56 - Computing differences
Testing partial mailbox reset with Grep implementation
ok 57 # skip GNU grep not available
Testing full mailbox reset with Perl implementation
Comparing /tmp/FngiMb9UG7 to t/results/reset_newlines_at_beginning.stdout
Output /tmp/FngiMb9UG7 looks good.
ok 58 - Computing differences
Testing full mailbox reset with Cache implementation
Comparing /tmp/qdCd8LJ7Ab to t/results/reset_newlines_at_beginning.stdout
Output /tmp/qdCd8LJ7Ab looks good.
ok 59 - Computing differences
Testing full mailbox reset with Grep implementation
ok 60 # skip GNU grep not available
ok
t/separators.t ..................
1..6
Testing filename: t/mailboxes/separators1.sep
ok 1 - Number of emails in t/mailboxes/separators1.sep
ok 2 - Number of emails in t/mailboxes/separators1.sep
ok 3 # skip GNU grep not available
Testing filename: t/mailboxes/separators2.sep
ok 4 - Number of emails in t/mailboxes/separators2.sep
ok 5 - Number of emails in t/mailboxes/separators2.sep
ok 6 # skip GNU grep not available
ok
t/stdin_compressed.t ............
1..4
Testing filename: t/mailboxes/mailarc-2.txt.bz2
Comparing /tmp/OVVYfyfP1L to t/mailboxes/mailarc-2.txt
Output /tmp/OVVYfyfP1L looks good.
ok 1 - Computing differences
Testing filename: t/mailboxes/mailarc-2.txt.gz
Comparing /tmp/ZLofjnYY8_ to t/mailboxes/mailarc-2.txt
Output /tmp/ZLofjnYY8_ looks good.
ok 2 - Computing differences
Testing filename: t/mailboxes/mailarc-2.txt.lz
ok 3 # skip lzip not available
Testing filename: t/mailboxes/mailarc-2.txt.xz
Comparing /tmp/gYOyoA5Gfe to t/mailboxes/mailarc-2.txt
Output /tmp/gYOyoA5Gfe looks good.
ok 4 - Computing differences
ok
t/stdin_uncompressed.t ..........
1..11
Testing filename: t/mailboxes/binary_body.txt
Comparing /tmp/9WiheEeB4F to t/mailboxes/binary_body.txt
Output /tmp/9WiheEeB4F looks good.
ok 1 - Computing differences
Testing filename: t/mailboxes/hessbug.txt
Comparing /tmp/Pn4dKzMS2t to t/mailboxes/hessbug.txt
Output /tmp/Pn4dKzMS2t looks good.
ok 2 - Computing differences
Testing filename: t/mailboxes/invalid-boundaries.txt
Comparing /tmp/gNtaDFlgb8 to t/mailboxes/invalid-boundaries.txt
Output /tmp/gNtaDFlgb8 looks good.
ok 3 - Computing differences
Testing filename: t/mailboxes/mailarc-1-dos.txt
Comparing /tmp/WdA1QpiCcj to t/mailboxes/mailarc-1-dos.txt
Output /tmp/WdA1QpiCcj looks good.
ok 4 - Computing differences
Testing filename: t/mailboxes/mailarc-1.txt
Comparing /tmp/ThcxQFUg9W to t/mailboxes/mailarc-1.txt
Output /tmp/ThcxQFUg9W looks good.
ok 5 - Computing differences
Testing filename: t/mailboxes/mailarc-2.txt
Comparing /tmp/F6mhw5Brn0 to t/mailboxes/mailarc-2.txt
Output /tmp/F6mhw5Brn0 looks good.
ok 6 - Computing differences
Testing filename: t/mailboxes/mailarc-3.txt
Comparing /tmp/DQ6Ncc9mE4 to t/mailboxes/mailarc-3.txt
Output /tmp/DQ6Ncc9mE4 looks good.
ok 7 - Computing differences
Testing filename: t/mailboxes/mailseparators.txt
Comparing /tmp/3N7n1lYQQT to t/mailboxes/mailseparators.txt
Output /tmp/3N7n1lYQQT looks good.
ok 8 - Computing differences
Testing filename: t/mailboxes/malformed.txt
Comparing /tmp/FJJdsWSKRR to t/mailboxes/malformed.txt
Output /tmp/FJJdsWSKRR looks good.
ok 9 - Computing differences
Testing filename: t/mailboxes/newlines_at_beginning.txt
Comparing /tmp/VBs1OQ81QV to t/mailboxes/newlines_at_beginning.txt
Output /tmp/VBs1OQ81QV looks good.
ok 10 - Computing differences
Testing filename: t/mailboxes/vm-emacs.txt
Comparing /tmp/aWhWskzNrU to t/mailboxes/vm-emacs.txt
Output /tmp/aWhWskzNrU looks good.
ok 11 - Computing differences
ok
t/undef_return_value.t ..........
1..33
Testing Perl
Comparing /tmp/ETA0fwfVXw to t/mailboxes/binary_body.txt
Output /tmp/ETA0fwfVXw looks good.
ok 1 - Computing differences
Testing Cache implementation
Comparing /tmp/mScEQb88pm to t/mailboxes/binary_body.txt
Output /tmp/mScEQb88pm looks good.
ok 2 - Computing differences
ok 3 # skip GNU grep not available
Testing Perl
Comparing /tmp/MaOiSSorkD to t/mailboxes/hessbug.txt
Output /tmp/MaOiSSorkD looks good.
ok 4 - Computing differences
Testing Cache implementation
Comparing /tmp/7kp1IrtCKU to t/mailboxes/hessbug.txt
Output /tmp/7kp1IrtCKU looks good.
ok 5 - Computing differences
ok 6 # skip GNU grep not available
Testing Perl
Comparing /tmp/ZXkJrG6eEI to t/mailboxes/invalid-boundaries.txt
Output /tmp/ZXkJrG6eEI looks good.
ok 7 - Computing differences
Testing Cache implementation
Comparing /tmp/vZuq4mACuQ to t/mailboxes/invalid-boundaries.txt
Output /tmp/vZuq4mACuQ looks good.
ok 8 - Computing differences
ok 9 # skip GNU grep not available
Testing Perl
Comparing /tmp/lExKDoOdvn to t/mailboxes/mailarc-1-dos.txt
Output /tmp/lExKDoOdvn looks good.
ok 10 - Computing differences
Testing Cache implementation
Comparing /tmp/evo7GusNAl to t/mailboxes/mailarc-1-dos.txt
Output /tmp/evo7GusNAl looks good.
ok 11 - Computing differences
ok 12 # skip GNU grep not available
Testing Perl
Comparing /tmp/z6e9HlGFrd to t/mailboxes/mailarc-1.txt
Output /tmp/z6e9HlGFrd looks good.
ok 13 - Computing differences
Testing Cache implementation
Comparing /tmp/IG0l4Rm7mR to t/mailboxes/mailarc-1.txt
Output /tmp/IG0l4Rm7mR looks good.
ok 14 - Computing differences
ok 15 # skip GNU grep not available
Testing Perl
Comparing /tmp/vyFedpknMi to t/mailboxes/mailarc-2.txt
Output /tmp/vyFedpknMi looks good.
ok 16 - Computing differences
Testing Cache implementation
Comparing /tmp/SkHXR84rGz to t/mailboxes/mailarc-2.txt
Output /tmp/SkHXR84rGz looks good.
ok 17 - Computing differences
ok 18 # skip GNU grep not available
Testing Perl
Comparing /tmp/_wgRgFccd8 to t/mailboxes/mailarc-3.txt
Output /tmp/_wgRgFccd8 looks good.
ok 19 - Computing differences
Testing Cache implementation
Comparing /tmp/a2wWxiVPeM to t/mailboxes/mailarc-3.txt
Output /tmp/a2wWxiVPeM looks good.
ok 20 - Computing differences
ok 21 # skip GNU grep not available
Testing Perl
Comparing /tmp/fLSI18iMqH to t/mailboxes/mailseparators.txt
Output /tmp/fLSI18iMqH looks good.
ok 22 - Computing differences
Testing Cache implementation
Comparing /tmp/2RJTo2MIc1 to t/mailboxes/mailseparators.txt
Output /tmp/2RJTo2MIc1 looks good.
ok 23 - Computing differences
ok 24 # skip GNU grep not available
Testing Perl
Comparing /tmp/ji3eBzMANT to t/mailboxes/malformed.txt
Output /tmp/ji3eBzMANT looks good.
ok 25 - Computing differences
Testing Cache implementation
Comparing /tmp/QGOlDC_YqO to t/mailboxes/malformed.txt
Output /tmp/QGOlDC_YqO looks good.
ok 26 - Computing differences
ok 27 # skip GNU grep not available
Testing Perl
Comparing /tmp/AxFjxKkonP to t/mailboxes/newlines_at_beginning.txt
Output /tmp/AxFjxKkonP looks good.
ok 28 - Computing differences
Testing Cache implementation
Comparing /tmp/08NOwe6JsZ to t/mailboxes/newlines_at_beginning.txt
Output /tmp/08NOwe6JsZ looks good.
ok 29 - Computing differences
ok 30 # skip GNU grep not available
Testing Perl
Comparing /tmp/cAht5BsS5L to t/mailboxes/vm-emacs.txt
Output /tmp/cAht5BsS5L looks good.
ok 31 - Computing differences
Testing Cache implementation
Comparing /tmp/KO5r_311VW to t/mailboxes/vm-emacs.txt
Output /tmp/KO5r_311VW looks good.
ok 32 - Computing differences
ok 33 # skip GNU grep not available
ok
t/xz.t ..........................
1..1
Running test:
"/bin/cat" "t/mailboxes/mailarc-2.txt.xz" | "/usr/bin/xz" -cd
Comparing /tmp/TEPUqzbmAA to t/results/mailarc-2.txt
Output /tmp/TEPUqzbmAA looks good.
Comparing /tmp/Otd3zDQYfo to t/results/none
Output /tmp/Otd3zDQYfo looks good.
ok 1 - Computing differences
ok
All tests successful.
Files=25, Tests=370, 13 wallclock secs ( 0.29 usr 0.12 sys + 7.28 cusr 4.78 csys = 12.47 CPU)
Result: PASS
PREREQUISITES:
Here is a list of prerequisites you specified and versions we
managed to load:
Module Name Have Want
ExtUtils::MakeMaker 7.34 6.36
File::Path 2.15 2.08
File::Slurper 0.012 0
FileHandle::Unget 0.1634 0
Storable 3.11 0
Test::Compile v1.3.0 0
Test::More 1.302136 0
Text::Diff 1.45 0
UNIVERSAL::require 0.18 0
URI::Escape 3.31 0
Perl module toolchain versions installed:
Module Name Have
CPANPLUS 0.9176
CPANPLUS::Dist::Build 0.90
Cwd 3.74
ExtUtils::CBuilder 0.280230
ExtUtils::Command 7.34
ExtUtils::Install 2.14
ExtUtils::MakeMaker 7.34
ExtUtils::Manifest 1.71
ExtUtils::ParseXS 3.35
File::Spec 3.74
Module::Build 0.4224
Pod::Parser 1.60
Pod::Simple 3.28
Test2 1.302136
Test::Harness 3.42
Test::More 1.302136
version 0.9924
******************************** NOTE ********************************
The comments above are created mechanically, possibly without manual
checking by the sender. As there are many people performing automatic
tests on each upload to CPAN, it is likely that you will receive
identical messages about the same problem.
If you believe that the message is mistaken, please reply to the first
one with correction and/or additional informations, and do not take
it personally. We appreciate your patience. :)
**********************************************************************
Additional comments:
This report was machine-generated by CPANPLUS::Dist::YACSmoke 1.02.
Powered by minismokebox version 0.68
------------------------------
ENVIRONMENT AND OTHER CONTEXT
------------------------------
Environment variables:
AUTOMATED_TESTING = 1
NONINTERACTIVE_TESTING = 1
PATH = /sbin:/bin:/usr/sbin:/usr/bin:/usr/local/sbin:/usr/local/bin:/home/cpan/bin
PERL5LIB = :/usr/home/cpan/pit/thr/conf/perl-5.18.3/.cpanplus/5.18.3/build/Eg9qbFgscW/Test-Needs-0.002005/blib/lib:/usr/home/cpan/pit/thr/conf/perl-5.18.3/.cpanplus/5.18.3/build/Eg9qbFgscW/Test-Needs-0.002005/blib/arch:/usr/home/cpan/pit/thr/conf/perl-5.18.3/.cpanplus/5.18.3/build/CtkiglmQEq/URI-1.74/blib/lib:/usr/home/cpan/pit/thr/conf/perl-5.18.3/.cpanplus/5.18.3/build/CtkiglmQEq/URI-1.74/blib/arch:/usr/home/cpan/pit/thr/conf/perl-5.18.3/.cpanplus/5.18.3/build/22zZXPh4MB/Test-Warnings-0.026/blib/lib:/usr/home/cpan/pit/thr/conf/perl-5.18.3/.cpanplus/5.18.3/build/22zZXPh4MB/Test-Warnings-0.026/blib/arch:/usr/home/cpan/pit/thr/conf/perl-5.18.3/.cpanplus/5.18.3/build/Y4TJ5YuLtV/File-Slurper-0.012/blib/lib:/usr/home/cpan/pit/thr/conf/perl-5.18.3/.cpanplus/5.18.3/build/Y4TJ5YuLtV/File-Slurper-0.012/blib/arch:/usr/home/cpan/pit/thr/conf/perl-5.18.3/.cpanplus/5.18.3/build/Xw8Lna4y3G/UNIVERSAL-require-0.18/blib/lib:/usr/home/cpan/pit/thr/conf/perl-5.18.3/.cpanplus/5.18.3/build/Xw8Lna4y3G/UNIVERSAL-require-0.18/blib/arch:/usr/home/cpan/pit/thr/conf/perl-5.18.3/.cpanplus/5.18.3/build/1bR8JdrYlr/Test-Compile-v1.3.0/blib/lib:/usr/home/cpan/pit/thr/conf/perl-5.18.3/.cpanplus/5.18.3/build/1bR8JdrYlr/Test-Compile-v1.3.0/blib/arch:/usr/home/cpan/pit/thr/conf/perl-5.18.3/.cpanplus/5.18.3/build/1dMGUMoLbQ/FileHandle-Unget-0.1634/blib/lib:/usr/home/cpan/pit/thr/conf/perl-5.18.3/.cpanplus/5.18.3/build/1dMGUMoLbQ/FileHandle-Unget-0.1634/blib/arch:/usr/home/cpan/pit/thr/conf/perl-5.18.3/.cpanplus/5.18.3/build/h_XFV5e6Ni/Algorithm-Diff-1.1903/blib/lib:/usr/home/cpan/pit/thr/conf/perl-5.18.3/.cpanplus/5.18.3/build/h_XFV5e6Ni/Algorithm-Diff-1.1903/blib/arch:/usr/home/cpan/pit/thr/conf/perl-5.18.3/.cpanplus/5.18.3/build/GiKjv4EzPI/Text-Diff-1.45/blib/lib:/usr/home/cpan/pit/thr/conf/perl-5.18.3/.cpanplus/5.18.3/build/GiKjv4EzPI/Text-Diff-1.45/blib/arch:/usr/home/cpan/pit/thr/conf/perl-5.18.3/.cpanplus/5.18.3/build/XhT2vpVpqg/Mail-Mbox-MessageParser-1.5111/blib/lib:/usr/home/cpan/pit/thr/conf/perl-5.18.3/.cpanplus/5.18.3/build/XhT2vpVpqg/Mail-Mbox-MessageParser-1.5111/blib/arch
PERL5_CPANPLUS_IS_RUNNING = 45071
PERL5_CPANPLUS_IS_VERSION = 0.9176
PERL5_MINISMOKEBOX = 0.68
PERL5_YACSMOKE_BASE = /usr/home/cpan/pit/thr/conf/perl-5.18.3
PERL_EXTUTILS_AUTOINSTALL = --defaultdeps
PERL_MM_USE_DEFAULT = 1
SHELL = /usr/local/bin/bash
TERM = screen
Perl special variables (and OS-specific diagnostics, for MSWin32):
Perl: $^X = /usr/home/cpan/pit/thr/perl-5.18.3/bin/perl
UID: $< = 1002
EUID: $> = 1002
GID: $( = 1002 1002
EGID: $) = 1002 1002
-------------------------------
--
Summary of my perl5 (revision 5 version 18 subversion 3) configuration:
Platform:
osname=freebsd, osvers=11.1-release, archname=i386-freebsd-thread-multi
uname='freebsd ffyrc 11.1-release freebsd 11.1-release #0 r321309: fri jul 21 04:10:47 utc 2017 root@releng2.nyi.freebsd.org:usrobjusrsrcsysgeneric i386 '
config_args='-des -Dprefix=/usr/home/cpan/pit/thr/perl-5.18.3 -Dusethreads'
hint=recommended, useposix=true, d_sigaction=define
useithreads=define, usemultiplicity=define
useperlio=define, d_sfio=undef, uselargefiles=define, usesocks=undef
use64bitint=undef, use64bitall=undef, uselongdouble=undef
usemymalloc=n, bincompat5005=undef
Compiler:
cc='cc', ccflags ='-DHAS_FPSETMASK -DHAS_FLOATINGPOINT_H -fno-strict-aliasing -pipe -fstack-protector -I/usr/local/include',
optimize='-O',
cppflags='-DHAS_FPSETMASK -DHAS_FLOATINGPOINT_H -fno-strict-aliasing -pipe -fstack-protector -I/usr/local/include'
ccversion='', gccversion='4.2.1 Compatible FreeBSD Clang 4.0.0 (tags/RELEASE_400/final 297347)', gccosandvers=''
intsize=4, longsize=4, ptrsize=4, doublesize=8, byteorder=1234
d_longlong=define, longlongsize=8, d_longdbl=define, longdblsize=12
ivtype='long', ivsize=4, nvtype='double', nvsize=8, Off_t='off_t', lseeksize=8
alignbytes=4, prototype=define
Linker and Libraries:
ld='cc', ldflags ='-pthread -Wl,-E -fstack-protector -L/usr/local/lib'
libpth=/usr/lib /usr/local/lib
libs=-lgdbm -lm -lcrypt -lutil
perllibs=-lm -lcrypt -lutil
libc=, so=so, useshrplib=false, libperl=libperl.a
gnulibc_version=''
Dynamic Linking:
dlsrc=dl_dlopen.xs, dlext=so, d_dlsymun=undef, ccdlflags=' '
cccdlflags='-DPIC -fPIC', lddlflags='-shared -L/usr/local/lib -fstack-protector'
Characteristics of this binary (from libperl):
Compile-time options: HAS_TIMES MULTIPLICITY PERLIO_LAYERS
PERL_DONT_CREATE_GVSV
PERL_HASH_FUNC_ONE_AT_A_TIME_HARD
PERL_IMPLICIT_CONTEXT PERL_MALLOC_WRAP
PERL_PRESERVE_IVUV PERL_SAWAMPERSAND USE_ITHREADS
USE_LARGE_FILES USE_LOCALE USE_LOCALE_COLLATE
USE_LOCALE_CTYPE USE_LOCALE_NUMERIC USE_PERLIO
USE_PERL_ATOF USE_REENTRANT_API
Locally applied patches:
Devel::PatchPerl 1.48
Built under freebsd
Compiled at Jul 29 2017 07:58:32
%ENV:
PERL5LIB=":/usr/home/cpan/pit/thr/conf/perl-5.18.3/.cpanplus/5.18.3/build/Eg9qbFgscW/Test-Needs-0.002005/blib/lib:/usr/home/cpan/pit/thr/conf/perl-5.18.3/.cpanplus/5.18.3/build/Eg9qbFgscW/Test-Needs-0.002005/blib/arch:/usr/home/cpan/pit/thr/conf/perl-5.18.3/.cpanplus/5.18.3/build/CtkiglmQEq/URI-1.74/blib/lib:/usr/home/cpan/pit/thr/conf/perl-5.18.3/.cpanplus/5.18.3/build/CtkiglmQEq/URI-1.74/blib/arch:/usr/home/cpan/pit/thr/conf/perl-5.18.3/.cpanplus/5.18.3/build/22zZXPh4MB/Test-Warnings-0.026/blib/lib:/usr/home/cpan/pit/thr/conf/perl-5.18.3/.cpanplus/5.18.3/build/22zZXPh4MB/Test-Warnings-0.026/blib/arch:/usr/home/cpan/pit/thr/conf/perl-5.18.3/.cpanplus/5.18.3/build/Y4TJ5YuLtV/File-Slurper-0.012/blib/lib:/usr/home/cpan/pit/thr/conf/perl-5.18.3/.cpanplus/5.18.3/build/Y4TJ5YuLtV/File-Slurper-0.012/blib/arch:/usr/home/cpan/pit/thr/conf/perl-5.18.3/.cpanplus/5.18.3/build/Xw8Lna4y3G/UNIVERSAL-require-0.18/blib/lib:/usr/home/cpan/pit/thr/conf/perl-5.18.3/.cpanplus/5.18.3/build/Xw8Lna4y3G/UNIVERSAL-require-0.18/blib/arch:/usr/home/cpan/pit/thr/conf/perl-5.18.3/.cpanplus/5.18.3/build/1bR8JdrYlr/Test-Compile-v1.3.0/blib/lib:/usr/home/cpan/pit/thr/conf/perl-5.18.3/.cpanplus/5.18.3/build/1bR8JdrYlr/Test-Compile-v1.3.0/blib/arch:/usr/home/cpan/pit/thr/conf/perl-5.18.3/.cpanplus/5.18.3/build/1dMGUMoLbQ/FileHandle-Unget-0.1634/blib/lib:/usr/home/cpan/pit/thr/conf/perl-5.18.3/.cpanplus/5.18.3/build/1dMGUMoLbQ/FileHandle-Unget-0.1634/blib/arch:/usr/home/cpan/pit/thr/conf/perl-5.18.3/.cpanplus/5.18.3/build/h_XFV5e6Ni/Algorithm-Diff-1.1903/blib/lib:/usr/home/cpan/pit/thr/conf/perl-5.18.3/.cpanplus/5.18.3/build/h_XFV5e6Ni/Algorithm-Diff-1.1903/blib/arch:/usr/home/cpan/pit/thr/conf/perl-5.18.3/.cpanplus/5.18.3/build/GiKjv4EzPI/Text-Diff-1.45/blib/lib:/usr/home/cpan/pit/thr/conf/perl-5.18.3/.cpanplus/5.18.3/build/GiKjv4EzPI/Text-Diff-1.45/blib/arch:/usr/home/cpan/pit/thr/conf/perl-5.18.3/.cpanplus/5.18.3/build/XhT2vpVpqg/Mail-Mbox-MessageParser-1.5111/blib/lib:/usr/home/cpan/pit/thr/conf/perl-5.18.3/.cpanplus/5.18.3/build/XhT2vpVpqg/Mail-Mbox-MessageParser-1.5111/blib/arch"
PERL5_CPANPLUS_IS_RUNNING="45071"
PERL5_CPANPLUS_IS_VERSION="0.9176"
PERL5_MINISMOKEBOX="0.68"
PERL5_YACSMOKE_BASE="/usr/home/cpan/pit/thr/conf/perl-5.18.3"
PERL_EXTUTILS_AUTOINSTALL="--defaultdeps"
PERL_MM_USE_DEFAULT="1"
@INC:
/usr/home/cpan/pit/thr/conf/perl-5.18.3/.cpanplus/5.18.3/build/Eg9qbFgscW/Test-Needs-0.002005/blib/lib
/usr/home/cpan/pit/thr/conf/perl-5.18.3/.cpanplus/5.18.3/build/Eg9qbFgscW/Test-Needs-0.002005/blib/arch
/usr/home/cpan/pit/thr/conf/perl-5.18.3/.cpanplus/5.18.3/build/CtkiglmQEq/URI-1.74/blib/lib
/usr/home/cpan/pit/thr/conf/perl-5.18.3/.cpanplus/5.18.3/build/CtkiglmQEq/URI-1.74/blib/arch
/usr/home/cpan/pit/thr/conf/perl-5.18.3/.cpanplus/5.18.3/build/22zZXPh4MB/Test-Warnings-0.026/blib/lib
/usr/home/cpan/pit/thr/conf/perl-5.18.3/.cpanplus/5.18.3/build/22zZXPh4MB/Test-Warnings-0.026/blib/arch
/usr/home/cpan/pit/thr/conf/perl-5.18.3/.cpanplus/5.18.3/build/Y4TJ5YuLtV/File-Slurper-0.012/blib/lib
/usr/home/cpan/pit/thr/conf/perl-5.18.3/.cpanplus/5.18.3/build/Y4TJ5YuLtV/File-Slurper-0.012/blib/arch
/usr/home/cpan/pit/thr/conf/perl-5.18.3/.cpanplus/5.18.3/build/Xw8Lna4y3G/UNIVERSAL-require-0.18/blib/lib
/usr/home/cpan/pit/thr/conf/perl-5.18.3/.cpanplus/5.18.3/build/Xw8Lna4y3G/UNIVERSAL-require-0.18/blib/arch
/usr/home/cpan/pit/thr/conf/perl-5.18.3/.cpanplus/5.18.3/build/1bR8JdrYlr/Test-Compile-v1.3.0/blib/lib
/usr/home/cpan/pit/thr/conf/perl-5.18.3/.cpanplus/5.18.3/build/1bR8JdrYlr/Test-Compile-v1.3.0/blib/arch
/usr/home/cpan/pit/thr/conf/perl-5.18.3/.cpanplus/5.18.3/build/1dMGUMoLbQ/FileHandle-Unget-0.1634/blib/lib
/usr/home/cpan/pit/thr/conf/perl-5.18.3/.cpanplus/5.18.3/build/1dMGUMoLbQ/FileHandle-Unget-0.1634/blib/arch
/usr/home/cpan/pit/thr/conf/perl-5.18.3/.cpanplus/5.18.3/build/h_XFV5e6Ni/Algorithm-Diff-1.1903/blib/lib
/usr/home/cpan/pit/thr/conf/perl-5.18.3/.cpanplus/5.18.3/build/h_XFV5e6Ni/Algorithm-Diff-1.1903/blib/arch
/usr/home/cpan/pit/thr/conf/perl-5.18.3/.cpanplus/5.18.3/build/GiKjv4EzPI/Text-Diff-1.45/blib/lib
/usr/home/cpan/pit/thr/conf/perl-5.18.3/.cpanplus/5.18.3/build/GiKjv4EzPI/Text-Diff-1.45/blib/arch
/usr/home/cpan/pit/thr/conf/perl-5.18.3/.cpanplus/5.18.3/build/XhT2vpVpqg/Mail-Mbox-MessageParser-1.5111/blib/lib
/usr/home/cpan/pit/thr/conf/perl-5.18.3/.cpanplus/5.18.3/build/XhT2vpVpqg/Mail-Mbox-MessageParser-1.5111/blib/arch
/usr/home/cpan/pit/thr/perl-5.18.3/lib/site_perl/5.18.3/i386-freebsd-thread-multi
/usr/home/cpan/pit/thr/perl-5.18.3/lib/site_perl/5.18.3
/usr/home/cpan/pit/thr/perl-5.18.3/lib/5.18.3/i386-freebsd-thread-multi
/usr/home/cpan/pit/thr/perl-5.18.3/lib/5.18.3
.