Catalyst-Engine-Apache v1.16 Perl 5 v5.41.11 amd64-freebsd-thread-multi
- Status
- Pass
- From
- Carlos Guevara
- Dist
-
Catalyst-Engine-Apache v1.16
- Platform
- Perl 5 v5.41.11 amd64-freebsd-thread-multi
- Date
- 2025-03-25 09:32:06
- ID
- 04a515e4-095c-11f0-a3bc-e88d6dfd83c2
This distribution has been tested as part of the CPAN Testers
project, supporting the Perl programming language. See
http://wiki.cpantesters.org/ for more information or email
questions to cpan-testers-discuss@perl.org
--
Dear Florian Ragwitz,
This is a computer-generated report for Catalyst-Engine-Apache-1.16
on perl 5.41.11, created by CPAN-Reporter-1.2020.
Thank you for uploading your work to CPAN. Congratulations!
All tests were successful.
Sections of this report:
* Tester comments
* Program output
* Prerequisites
* Environment and other context
------------------------------
TESTER COMMENTS
------------------------------
Additional comments from tester:
this report is from an automated smoke testing program
and was not reviewed by a human for accuracy
------------------------------
PROGRAM OUTPUT
------------------------------
Output from '/usr/bin/make test':
PERL_DL_NONLAZY=1 "/home/cpan/bin/perl/bin/perl5.41.11" "-MExtUtils::Command::MM" "-MTest::Harness" "-e" "undef *Test::Harness::Switches; test_harness(0, 'blib/lib', 'blib/arch')" t/*.t
t/00compiles.t ........................................... ok
t/author-live_component_controller_action_action.t ....... skipped: these tests are for testing by the author
t/author-live_component_controller_action_auto.t ......... skipped: these tests are for testing by the author
t/author-live_component_controller_action_begin.t ........ skipped: these tests are for testing by the author
t/author-live_component_controller_action_chained.t ...... skipped: these tests are for testing by the author
t/author-live_component_controller_action_default.t ...... skipped: these tests are for testing by the author
t/author-live_component_controller_action_detach.t ....... skipped: these tests are for testing by the author
t/author-live_component_controller_action_end.t .......... skipped: these tests are for testing by the author
t/author-live_component_controller_action_forward.t ...... skipped: these tests are for testing by the author
t/author-live_component_controller_action_global.t ....... skipped: these tests are for testing by the author
t/author-live_component_controller_action_index.t ........ skipped: these tests are for testing by the author
t/author-live_component_controller_action_inheritance.t .. skipped: these tests are for testing by the author
t/author-live_component_controller_action_local.t ........ skipped: these tests are for testing by the author
t/author-live_component_controller_action_multipath.t .... skipped: these tests are for testing by the author
t/author-live_component_controller_action_path.t ......... skipped: these tests are for testing by the author
t/author-live_component_controller_action_private.t ...... skipped: these tests are for testing by the author
t/author-live_component_controller_action_regexp.t ....... skipped: these tests are for testing by the author
t/author-live_component_controller_action_streaming.t .... skipped: these tests are for testing by the author
t/author-live_component_controller_args.t ................ skipped: these tests are for testing by the author
t/author-live_engine_request_body.t ...................... skipped: these tests are for testing by the author
t/author-live_engine_request_body_demand.t ............... skipped: these tests are for testing by the author
t/author-live_engine_request_cookies.t ................... skipped: these tests are for testing by the author
t/author-live_engine_request_headers.t ................... skipped: these tests are for testing by the author
t/author-live_engine_request_parameters.t ................ skipped: these tests are for testing by the author
t/author-live_engine_request_uploads.t ................... skipped: these tests are for testing by the author
t/author-live_engine_request_uri.t ....................... skipped: these tests are for testing by the author
t/author-live_engine_response_cookies.t .................. skipped: these tests are for testing by the author
t/author-live_engine_response_errors.t ................... skipped: these tests are for testing by the author
t/author-live_engine_response_headers.t .................. skipped: these tests are for testing by the author
t/author-live_engine_response_large.t .................... skipped: these tests are for testing by the author
t/author-live_engine_response_redirect.t ................. skipped: these tests are for testing by the author
t/author-live_engine_response_status.t ................... skipped: these tests are for testing by the author
t/author-live_engine_setup_basics.t ...................... skipped: these tests are for testing by the author
t/author-live_engine_setup_plugins.t ..................... skipped: these tests are for testing by the author
t/author-live_fork.t ..................................... skipped: these tests are for testing by the author
t/author-live_loop.t ..................................... skipped: these tests are for testing by the author
t/author-live_plugin_loaded.t ............................ skipped: these tests are for testing by the author
t/author-live_priorities.t ............................... skipped: these tests are for testing by the author
t/author-live_recursion.t ................................ skipped: these tests are for testing by the author
t/author-notabs.t ........................................ skipped: these tests are for testing by the author
t/author-pod.t ........................................... skipped: these tests are for testing by the author
t/author-podcoverage.t ................................... skipped: these tests are for testing by the author
t/release-no-tabs.t ...................................... skipped: these tests are for release candidate testing
t/release-pod-syntax.t ................................... skipped: these tests are for release candidate testing
All tests successful.
Files=44, Tests=1, 2 wallclock secs ( 0.09 usr 0.02 sys + 1.48 cusr 0.21 csys = 1.80 CPU)
Result: PASS
------------------------------
PREREQUISITES
------------------------------
Prerequisite modules loaded:
requires:
Module Need Have
------------------- ---- -------
Catalyst::Runtime 5.80 5.90132
configure_requires:
Module Need Have
------------------- ---- -------
ExtUtils::MakeMaker 6.31 7.72
------------------------------
ENVIRONMENT AND OTHER CONTEXT
------------------------------
Environment variables:
AUTOMATED_TESTING = 1
DATE_MANIP_TEST_DM5 = 1
LANG = C.UTF-8
LC_ALL = C
NONINTERACTIVE_TESTING = 1
NO_NETWORK_TESTING = 1
PATH = /home/cpan/bin/perl/bin:/home/cpan/bin:/sbin:/bin:/usr/sbin:/usr/bin:/usr/local/sbin:/usr/local/bin:/home/cpan/bin
PERL5LIB =
PERL5OPT =
PERL5_CPANPLUS_IS_RUNNING = 4781
PERL5_CPAN_IS_RUNNING = 4781
PERL_MM_USE_DEFAULT = 1
PERL_USE_UNSAFE_INC = 1
SHELL = /usr/local/bin/bash
TERM = screen
TMPDIR = /home/cpan/tmp
Perl special variables (and OS-specific diagnostics, for MSWin32):
$^X = /home/cpan/bin/perl/bin/perl5.41.11
$UID/$EUID = 1002 / 1002
$GID = 1002 1002
$EGID = 1002 1002
Perl module toolchain versions installed:
Module Have
------------------- --------
CPAN 2.38
CPAN::Meta 2.150010
Cwd 3.92
ExtUtils::CBuilder 0.280240
ExtUtils::Command 7.72
ExtUtils::Install 2.22
ExtUtils::MakeMaker 7.72
ExtUtils::Manifest 1.75
ExtUtils::ParseXS 3.57
File::Spec 3.93
JSON 4.10
JSON::PP 4.16
Module::Build 0.4234
Module::Signature 0.89
Parse::CPAN::Meta 2.150010
Test2 1.302209
Test::Harness 3.50
Test::More 1.302209
YAML 1.31
YAML::Syck 1.34
version 0.9933
--
Summary of my perl5 (revision 5 version 41 subversion 11) configuration:
Commit id: e5ef137f9116f74315e333518f08c23751271064
Platform:
osname=freebsd
osvers=14.2-release-p1
archname=amd64-freebsd-thread-multi
uname='freebsd cjg-freebsd14 14.2-release-p1 freebsd 14.2-release-p1 generic amd64 '
config_args='-des -Dprefix=/home/cpan/bin/perl -Dscriptdir=/home/cpan/bin/perl/bin -Dusedevel -Duse64bitall -Duseithreads'
hint=recommended
useposix=true
d_sigaction=define
useithreads=define
usemultiplicity=define
use64bitint=define
use64bitall=define
uselongdouble=undef
usemymalloc=n
default_inc_excludes_dot=define
Compiler:
cc='cc'
ccflags ='-DHAS_FPSETMASK -DHAS_FLOATINGPOINT_H -DNO_POSIX_2008_LOCALE -fno-strict-aliasing -pipe -fstack-protector-strong -I/usr/local/include'
optimize='-O2'
cppflags='-DHAS_FPSETMASK -DHAS_FLOATINGPOINT_H -DNO_POSIX_2008_LOCALE -fno-strict-aliasing -pipe -fstack-protector-strong -I/usr/local/include'
ccversion=''
gccversion='FreeBSD Clang 18.1.6 (https://github.com/llvm/llvm-project.git llvmorg-18.1.6-0-g1118c2e05e67)'
gccosandvers=''
intsize=4
longsize=8
ptrsize=8
doublesize=8
byteorder=12345678
doublekind=3
d_longlong=define
longlongsize=8
d_longdbl=define
longdblsize=16
longdblkind=3
ivtype='long'
ivsize=8
nvtype='double'
nvsize=8
Off_t='off_t'
lseeksize=8
alignbytes=8
prototype=define
Linker and Libraries:
ld='cc'
ldflags ='-pthread -Wl,-E -fstack-protector-strong -L/usr/local/lib'
libpth=/usr/lib /usr/local/lib /usr/lib/clang/18/lib
libs=-lpthread -lgdbm -ldl -lm -lcrypt -lutil
perllibs=-lpthread -ldl -lm -lcrypt -lutil
libc=
so=so
useshrplib=false
libperl=libperl.a
gnulibc_version=''
Dynamic Linking:
dlsrc=dl_dlopen.xs
dlext=so
d_dlsymun=undef
ccdlflags=' '
cccdlflags='-DPIC -fPIC'
lddlflags='-shared -L/usr/local/lib -fstack-protector-strong'
Characteristics of this binary (from libperl):
Compile-time options:
HAS_LONG_DOUBLE
HAS_STRTOLD
HAS_TIMES
MULTIPLICITY
PERLIO_LAYERS
PERL_COPY_ON_WRITE
PERL_DONT_CREATE_GVSV
PERL_HASH_FUNC_SIPHASH13
PERL_HASH_USE_SBOX32
PERL_MALLOC_WRAP
PERL_OP_PARENT
PERL_PRESERVE_IVUV
PERL_USE_DEVEL
PERL_USE_SAFE_PUTENV
USE_64_BIT_ALL
USE_64_BIT_INT
USE_ITHREADS
USE_LARGE_FILES
USE_LOCALE
USE_LOCALE_COLLATE
USE_LOCALE_CTYPE
USE_LOCALE_NUMERIC
USE_LOCALE_TIME
USE_PERLIO
USE_PERL_ATOF
USE_REENTRANT_API
Built under freebsd
Compiled at Mar 24 2025 23:10:15
%ENV:
PERL5LIB=""
PERL5OPT=""
PERL5_CPANPLUS_IS_RUNNING="4781"
PERL5_CPAN_IS_RUNNING="4781"
PERL_MM_USE_DEFAULT="1"
PERL_USE_UNSAFE_INC="1"
@INC:
/home/cpan/bin/perl/lib/site_perl/5.41.11/amd64-freebsd-thread-multi
/home/cpan/bin/perl/lib/site_perl/5.41.11
/home/cpan/bin/perl/lib/5.41.11/amd64-freebsd-thread-multi
/home/cpan/bin/perl/lib/5.41.11
.