Back
From: metabase:user:dc1c8589-6bf4-1014-abca-562cf06b08ef
Subject: PASS Data-Section-0.200006 v5.26.0 GNU/Linux
Date: 2017-06-06T10:58:05Z
This distribution has been tested as part of the CPAN Testers
project, supporting the Perl programming language. See
http://wiki.cpantesters.org/ for more information or email
questions to cpan-testers-discuss@perl.org
--
Dear Ricardo SIGNES,
This is a computer-generated report for Data-Section-0.200006
on perl 5.26.0, created by CPAN-Reporter-1.2018.
Thank you for uploading your work to CPAN. Congratulations!
All tests were successful.
Sections of this report:
* Tester comments
* Program output
* Prerequisites
* Environment and other context
------------------------------
TESTER COMMENTS
------------------------------
Additional comments from tester:
none provided
------------------------------
PROGRAM OUTPUT
------------------------------
Output from '/usr/bin/make test':
PERL_DL_NONLAZY=1 "/home/aero/perl5/perlbrew/perls/perl-5.26/bin/perl" "-MExtUtils::Command::MM" "-MTest::Harness" "-e" "undef *Test::Harness::Switches; test_harness(0, 'blib/lib', 'blib/arch')" t/*.t
#
#
# Generated by Dist::Zilla::Plugin::ReportVersions::Tiny v1.10
# perl: 5.026000 (wanted any version) on linux from /home/aero/perl5/perlbrew/perls/perl-5.26/bin/perl
#
# Encode => 2.89 (want any version)
# ExtUtils::MakeMaker => 7.24 (want 6.30)
# MRO::Compat => 0.13 (want 0.09)
# Sub::Exporter => 0.987 (want 0.979)
# Test::FailWarnings => 0.008 (want any version)
# Test::More => 1.302073 (want 0.96)
# base => 2.25 (want any version)
# lib => 0.64 (want any version)
# strict => 1.11 (want any version)
# utf8 => 1.19 (want any version)
# warnings => 1.37 (want any version)
#
# Thanks for using my code. I hope it works for you.
# If not, please try and include this output in the bug report.
# That will help me reproduce the issue and solve your problem.
#
t/000-report-versions-tiny.t .. ok
t/basic.t ..................... ok
t/encodings.t ................. ok
All tests successful.
Files=3, Tests=40, 0 wallclock secs ( 0.03 usr 0.00 sys + 0.23 cusr 0.02 csys = 0.28 CPU)
Result: PASS
------------------------------
PREREQUISITES
------------------------------
Prerequisite modules loaded:
requires:
Module Need Have
------------------- ----- --------
Encode 0 2.89
MRO::Compat 0.09 0.13
strict 0 1.11
Sub::Exporter 0.979 0.987
warnings 0 1.37
build_requires:
Module Need Have
------------------- ----- --------
base 0 2.25
lib 0 0.64
Test::FailWarnings 0 0.008
Test::More 0.96 1.302073
utf8 0 1.19
configure_requires:
Module Need Have
------------------- ----- --------
ExtUtils::MakeMaker 6.30 7.24
------------------------------
ENVIRONMENT AND OTHER CONTEXT
------------------------------
Environment variables:
LANG = en_US.UTF-8
NONINTERACTIVE_TESTING = 1
PATH = /home/aero/perl5/perlbrew/bin:/home/aero/perl5/perlbrew/perls/perl-5.26/bin:/home/aero/bin:/home/aero/bin:/home/aero/.rakudobrew/bin:/home/aero/.anyenv/envs/rbenv/shims:/home/aero/.anyenv/envs/rbenv/bin:/home/aero/.anyenv/envs/pyenv/shims:/home/aero/.anyenv/envs/pyenv/bin:/home/aero/.anyenv/envs/ndenv/shims:/home/aero/.anyenv/envs/ndenv/bin:/home/aero/.anyenv/envs/jenv/shims:/home/aero/.anyenv/envs/jenv/bin:/home/aero/.anyenv/envs/goenv/shims:/home/aero/.anyenv/envs/goenv/bin:/home/aero/.anyenv/bin:/usr/local/sbin:/usr/local/bin:/usr/sbin:/usr/bin:/sbin:/bin:/usr/games:/usr/local/games
PERL5LIB =
PERL5OPT =
PERL5_CPANPLUS_IS_RUNNING = 20544
PERL5_CPAN_IS_RUNNING = 20544
PERLBREW_BASHRC_VERSION = 0.78
PERLBREW_HOME = /home/aero/.perlbrew
PERLBREW_MANPATH = /home/aero/perl5/perlbrew/perls/perl-5.26/man
PERLBREW_PATH = /home/aero/perl5/perlbrew/bin:/home/aero/perl5/perlbrew/perls/perl-5.26/bin
PERLBREW_PERL = perl-5.26
PERLBREW_ROOT = /home/aero/perl5/perlbrew
PERLBREW_VERSION = 0.78
PERL_MM_USE_DEFAULT = 1
PERL_USE_UNSAFE_INC = 1
SHELL = /bin/bash
TERM = xterm
Perl special variables (and OS-specific diagnostics, for MSWin32):
$^X = /home/aero/perl5/perlbrew/perls/perl-5.26/bin/perl
$UID/$EUID = 1001 / 1001
$GID = 1001 27 1001
$EGID = 1001 27 1001
Perl module toolchain versions installed:
Module Have
------------------- ----------
CPAN 2.18
CPAN::Meta 2.150010
Cwd 3.67
ExtUtils::CBuilder 0.280225
ExtUtils::Command 7.24
ExtUtils::Install 2.04
ExtUtils::MakeMaker 7.24
ExtUtils::Manifest 1.70
ExtUtils::ParseXS 3.34
File::Spec 3.67
JSON 2.94
JSON::PP 2.27400_02
Module::Build 0.4224
Module::Signature n/a
Parse::CPAN::Meta 2.150010
Test::Harness 3.38
Test::More 1.302073
YAML 1.23
YAML::Syck 1.30
version 0.9917
--
Summary of my perl5 (revision 5 version 26 subversion 0) configuration:
Platform:
osname=linux
osvers=3.16.0-4-amd64
archname=x86_64-linux-thread-multi
uname='linux aero 3.16.0-4-amd64 #1 smp debian 3.16.7-ckt7-1 (2015-03-01) x86_64 x86_64 x86_64 gnulinux '
config_args='-de -Dprefix=/home/aero/perl5/perlbrew/perls/perl-5.26 -Dman1dir=none -Dman3dir=none -Dusethreads -Aeval:scriptdir=/home/aero/perl5/perlbrew/perls/perl-5.26/bin'
hint=recommended
useposix=true
d_sigaction=define
useithreads=define
usemultiplicity=define
use64bitint=define
use64bitall=define
uselongdouble=undef
usemymalloc=n
default_inc_excludes_dot=define
bincompat5005=undef
Compiler:
cc='cc'
ccflags ='-D_REENTRANT -D_GNU_SOURCE -fwrapv -fno-strict-aliasing -pipe -fstack-protector-strong -I/usr/local/include -D_LARGEFILE_SOURCE -D_FILE_OFFSET_BITS=64'
optimize='-O2'
cppflags='-D_REENTRANT -D_GNU_SOURCE -fwrapv -fno-strict-aliasing -pipe -fstack-protector-strong -I/usr/local/include'
ccversion=''
gccversion='4.9.3'
gccosandvers=''
intsize=4
longsize=8
ptrsize=8
doublesize=8
byteorder=12345678
doublekind=3
d_longlong=define
longlongsize=8
d_longdbl=define
longdblsize=16
longdblkind=3
ivtype='long'
ivsize=8
nvtype='double'
nvsize=8
Off_t='off_t'
lseeksize=8
alignbytes=8
prototype=define
Linker and Libraries:
ld='cc'
ldflags =' -fstack-protector-strong -L/usr/local/lib'
libpth=/usr/local/lib /usr/lib/gcc/x86_64-linux-gnu/4.9/include-fixed /usr/include/x86_64-linux-gnu /usr/lib /lib/x86_64-linux-gnu /lib/../lib /usr/lib/x86_64-linux-gnu /usr/lib/../lib /lib
libs=-lpthread -lnsl -lgdbm -ldl -lm -lcrypt -lutil -lc -lgdbm_compat
perllibs=-lpthread -lnsl -ldl -lm -lcrypt -lutil -lc
libc=libc-2.19.so
so=so
useshrplib=false
libperl=libperl.a
gnulibc_version='2.19'
Dynamic Linking:
dlsrc=dl_dlopen.xs
dlext=so
d_dlsymun=undef
ccdlflags='-Wl,-E'
cccdlflags='-fPIC'
lddlflags='-shared -O2 -L/usr/local/lib -fstack-protector-strong'
Characteristics of this binary (from libperl):
Compile-time options:
HAS_TIMES
MULTIPLICITY
PERLIO_LAYERS
PERL_COPY_ON_WRITE
PERL_DONT_CREATE_GVSV
PERL_IMPLICIT_CONTEXT
PERL_MALLOC_WRAP
PERL_OP_PARENT
PERL_PRESERVE_IVUV
USE_64_BIT_ALL
USE_64_BIT_INT
USE_ITHREADS
USE_LARGE_FILES
USE_LOCALE
USE_LOCALE_COLLATE
USE_LOCALE_CTYPE
USE_LOCALE_NUMERIC
USE_LOCALE_TIME
USE_PERLIO
USE_PERL_ATOF
USE_REENTRANT_API
Built under linux
Compiled at Jun 6 2017 18:11:58
%ENV:
PERL5LIB=""
PERL5OPT=""
PERL5_CPANPLUS_IS_RUNNING="20544"
PERL5_CPAN_IS_RUNNING="20544"
PERLBREW_BASHRC_VERSION="0.78"
PERLBREW_HOME="/home/aero/.perlbrew"
PERLBREW_MANPATH="/home/aero/perl5/perlbrew/perls/perl-5.26/man"
PERLBREW_PATH="/home/aero/perl5/perlbrew/bin:/home/aero/perl5/perlbrew/perls/perl-5.26/bin"
PERLBREW_PERL="perl-5.26"
PERLBREW_ROOT="/home/aero/perl5/perlbrew"
PERLBREW_VERSION="0.78"
PERL_MM_USE_DEFAULT="1"
PERL_USE_UNSAFE_INC="1"
@INC:
/home/aero/perl5/perlbrew/perls/perl-5.26/lib/site_perl/5.26.0/x86_64-linux-thread-multi
/home/aero/perl5/perlbrew/perls/perl-5.26/lib/site_perl/5.26.0
/home/aero/perl5/perlbrew/perls/perl-5.26/lib/5.26.0/x86_64-linux-thread-multi
/home/aero/perl5/perlbrew/perls/perl-5.26/lib/5.26.0
.