Alt-Devel-CallParser-ButWorking v0.002 Perl 5 v5.35.3 x86_64-linux

Status
Pass
From
Carlos Guevara
Dist
Alt-Devel-CallParser-ButWorking v0.002
Platform
Perl 5 v5.35.3 x86_64-linux
Date
2021-08-01 08:18:14
ID
04876d58-f2a1-11eb-b32e-bb406193742c
This distribution has been tested as part of the CPAN Testers
project, supporting the Perl programming language.  See
http://wiki.cpantesters.org/ for more information or email
questions to cpan-testers-discuss@perl.org


--
Dear Toby Inkster,

This is a computer-generated report for Alt-Devel-CallParser-ButWorking-0.002
on perl 5.35.3, created by CPAN-Reporter-1.2018.

Thank you for uploading your work to CPAN.  Congratulations!
All tests were successful.

Sections of this report:

    * Tester comments
    * Program output
    * Prerequisites
    * Environment and other context

------------------------------
TESTER COMMENTS
------------------------------

Additional comments from tester:

this report is from an automated smoke testing program
and was not reviewed by a human for accuracy

------------------------------
PROGRAM OUTPUT
------------------------------

Output from './Build test':

t/dataalias.t ...... ok
t/develdeclare.t ... ok
t/getset0.t ........ ok
t/getset1.t ........ ok
t/indirect.t ....... ok
t/leximport.t ...... skipped: good Lexical::Sub unavailable
t/listquote.t ...... ok
t/multiblock.t ..... ok
t/no_hdr.t ......... ok
t/pad2.t ........... ok
t/padrange.t ....... ok
t/pod_cvg.t ........ ok
t/pod_syn.t ........ ok
t/proto.t .......... ok
t/stdargs.t ........ ok
t/substrictdecl.t .. ok
All tests successful.
Files=16, Tests=474,  6 wallclock secs ( 0.07 usr  0.06 sys +  5.25 cusr  0.65 csys =  6.03 CPU)
Result: PASS

------------------------------
PREREQUISITES
------------------------------

Prerequisite modules loaded:

requires:

    Module                Need     Have    
    --------------------- -------- --------
    Devel::CallChecker    0.002    0.008   
    DynaLoader            0        1.51    
    DynaLoader::Functions 0.001    0.003   
    Exporter              0        5.76    
    parent                0        0.238   
    perl                  5.011002 5.035003
    strict                0        1.12    
    warnings              0        1.52    

build_requires:

    Module                Need     Have    
    --------------------- -------- --------
    Devel::CallChecker    0.002    0.008   
    DynaLoader            0        1.51    
    ExtUtils::CBuilder    0.15     0.280236
    ExtUtils::ParseXS     0        3.43    
    File::Spec            0        3.81    
    IO::File              1.03     1.47    
    Module::Build         0        0.4231  
    perl                  5.011002 5.035003
    strict                0        1.12    
    Test::More            0        1.302185
    warnings              0        1.52    

configure_requires:

    Module                Need     Have    
    --------------------- -------- --------
    Module::Build         0        0.4231  
    perl                  5.011002 5.035003
    strict                0        1.12    
    warnings              0        1.52    


------------------------------
ENVIRONMENT AND OTHER CONTEXT
------------------------------

Environment variables:

    AUTOMATED_TESTING = 1
    DATE_MANIP_TEST_DM5 = 1
    LANG = C.UTF-8
    LC_ALL = C
    LC_COLLATE = C
    NONINTERACTIVE_TESTING = 1
    PATH = /home/cpan/bin/perl-blead/bin:/home/cpan/bin:/usr/local/sbin:/usr/local/bin:/usr/sbin:/usr/bin:/sbin:/bin
    PERL5LIB = 
    PERL5OPT = 
    PERL5_CPANPLUS_IS_RUNNING = 26337
    PERL5_CPAN_IS_RUNNING = 26337
    PERL_MM_USE_DEFAULT = 1
    PERL_USE_UNSAFE_INC = 1
    PERL_VERSION = blead
    SHELL = /bin/bash
    TERM = screen
    TMPDIR = /home/cpan/tmp

Perl special variables (and OS-specific diagnostics, for MSWin32):

    $^X = /home/cpan/bin/perl-blead/bin/perl5.35.3
    $UID/$EUID = 1001 / 1001
    $GID = 1001 1001
    $EGID = 1001 1001

Perl module toolchain versions installed:

    Module              Have    
    ------------------- --------
    CPAN                2.28    
    CPAN::Meta          2.150010
    Cwd                 3.82    
    ExtUtils::CBuilder  0.280236
    ExtUtils::Command   7.62    
    ExtUtils::Install   2.20    
    ExtUtils::MakeMaker 7.62    
    ExtUtils::Manifest  1.73    
    ExtUtils::ParseXS   3.43    
    File::Spec          3.81    
    JSON                4.03    
    JSON::PP            4.06    
    Module::Build       0.4231  
    Module::Signature   0.87    
    Parse::CPAN::Meta   2.150010
    Test::Harness       3.43    
    Test::More          1.302185
    YAML                1.30    
    YAML::Syck          1.34    
    version             0.9929  


--

Summary of my perl5 (revision 5 version 35 subversion 3) configuration:
  Commit id: 6bce142c8b777339676742d282ed0519b3c95aa8
  Platform:
    osname=linux
    osvers=5.4.111-0-lts
    archname=x86_64-linux
    uname='linux cjg-alpine3 5.4.111-0-lts #1-alpine smp mon, 12 apr 2021 16:11:34 utc x86_64 linux '
    config_args='-des -Dprefix=~/bin/perl-blead -Dscriptdir=~/bin/perl-blead/bin -Dusedevel -Duse64bitall'
    hint=recommended
    useposix=true
    d_sigaction=define
    useithreads=undef
    usemultiplicity=undef
    use64bitint=define
    use64bitall=define
    uselongdouble=undef
    usemymalloc=n
    default_inc_excludes_dot=define
  Compiler:
    cc='cc'
    ccflags ='-D_GNU_SOURCE -fwrapv -fno-strict-aliasing -pipe -fstack-protector-strong -D_LARGEFILE_SOURCE -D_FILE_OFFSET_BITS=64'
    optimize='-O2'
    cppflags='-D_GNU_SOURCE -fwrapv -fno-strict-aliasing -pipe -fstack-protector-strong'
    ccversion=''
    gccversion='9.3.0'
    gccosandvers=''
    intsize=4
    longsize=8
    ptrsize=8
    doublesize=8
    byteorder=12345678
    doublekind=3
    d_longlong=define
    longlongsize=8
    d_longdbl=define
    longdblsize=16
    longdblkind=3
    ivtype='long'
    ivsize=8
    nvtype='double'
    nvsize=8
    Off_t='off_t'
    lseeksize=8
    alignbytes=8
    prototype=define
  Linker and Libraries:
    ld='cc'
    ldflags =' -fstack-protector-strong -L/usr/local/lib'
    libpth=/usr/lib /usr/local/lib /lib
    libs=-lpthread -ldb -ldl -lm -lcrypt -lutil -lc
    perllibs=-lpthread -ldl -lm -lcrypt -lutil -lc
    libc=/usr/lib/libc.a
    so=so
    useshrplib=false
    libperl=libperl.a
    gnulibc_version=''
  Dynamic Linking:
    dlsrc=dl_dlopen.xs
    dlext=so
    d_dlsymun=undef
    ccdlflags='-Wl,-E'
    cccdlflags='-fPIC'
    lddlflags='-shared -O2 -L/usr/local/lib -fstack-protector-strong'


Characteristics of this binary (from libperl): 
  Compile-time options:
    HAS_TIMES
    PERLIO_LAYERS
    PERL_COPY_ON_WRITE
    PERL_DONT_CREATE_GVSV
    PERL_MALLOC_WRAP
    PERL_OP_PARENT
    PERL_PRESERVE_IVUV
    PERL_USE_DEVEL
    USE_64_BIT_ALL
    USE_64_BIT_INT
    USE_LARGE_FILES
    USE_LOCALE
    USE_LOCALE_COLLATE
    USE_LOCALE_CTYPE
    USE_LOCALE_NUMERIC
    USE_LOCALE_TIME
    USE_PERLIO
    USE_PERL_ATOF
  Built under linux
  Compiled at Jul 31 2021 17:37:06
  %ENV:
    PERL5LIB=""
    PERL5OPT=""
    PERL5_CPANPLUS_IS_RUNNING="26337"
    PERL5_CPAN_IS_RUNNING="26337"
    PERL_MM_USE_DEFAULT="1"
    PERL_USE_UNSAFE_INC="1"
    PERL_VERSION="blead"
  @INC:
    /home/cpan/bin/perl-blead/lib/site_perl/5.35.3/x86_64-linux
    /home/cpan/bin/perl-blead/lib/site_perl/5.35.3
    /home/cpan/bin/perl-blead/lib/5.35.3/x86_64-linux
    /home/cpan/bin/perl-blead/lib/5.35.3
    .