Report for Swagger2-0.80

Back
From: metabase:user:314402c4-2aae-11df-837a-5e0a49663a4f
Subject: PASS Swagger2-0.80 v5.24.0 GNU/Linux
Date: 2016-06-07T20:32:56Z

This distribution has been tested as part of the CPAN Testers
project, supporting the Perl programming language.  See
http://wiki.cpantesters.org/ for more information or email
questions to cpan-testers-discuss@perl.org


--
Dear Jan Henning Thorsen,

This is a computer-generated report for Swagger2-0.80
on perl 5.24.0, created by CPAN-Reporter-1.2017.

Thank you for uploading your work to CPAN.  Congratulations!
All tests were successful.

Sections of this report:

    * Tester comments
    * Program output
    * Prerequisites
    * Environment and other context

------------------------------
TESTER COMMENTS
------------------------------

Additional comments from tester:

none provided

------------------------------
PROGRAM OUTPUT
------------------------------

Output from '/usr/bin/make test':

PERL_DL_NONLAZY=1 "/bbbike/perl-5.24.0/bin/perl5.24.0" "-MExtUtils::Command::MM" "-MTest::Harness" "-e" "undef *Test::Harness::Switches; test_harness(0, 'blib/lib', 'blib/arch')" t/*.t
t/00-basic.t .......................... ok
t/00-copy.t ........................... skipped: Author test
t/around-action.t ..................... ok
t/authenticate.t ...................... ok
t/blog.t .............................. skipped: BLOG_PG_URL=postgresql://postgres@/test
t/bodytest.t .......................... ok
t/boolean-in-url.t .................... ok
t/client-return-on-error.t ............ ok
t/client-with-swagger.t ............... ok
t/client.t ............................ ok
t/collection-format.t ................. ok
t/command-client.t .................... ok
t/discriminator.t ..................... ok
t/editor.t ............................ ok
t/emtpy-response.t .................... ok
t/ensure-swagger-response.t ........... ok
t/example-json-patch.t ................ skipped: TEST_ONLINE=1
t/example-lowercase-request-params.t .. ok
t/expand-yaml.t ....................... ok
t/expand.t ............................ ok
t/file.t .............................. ok
t/formdata.t .......................... ok
t/headers.t ........................... ok
t/ip-in-url.t ......................... ok
t/jv-formats.t ........................ ok
t/multi-param.t ....................... ok
t/not-implemented-501.t ............... ok
t/nullable.t .......................... ok
t/operation-id.t ...................... ok
t/order-pathobjects-lengthwise.t ...... ok
t/parse-json.t ........................ ok
t/plugin-defaults.t ................... ok
# YAML::XS 0.62
# YAML::Syck 1.29
t/plugin-yaml.t ....................... ok
t/plugin.t ............................ ok
t/pod-as-string.t ..................... ok
t/read-only-property.t ................ ok
t/stash-defaults.t .................... ok
t/swagger.t ........................... ok
t/validate-json-schema.t .............. ok
t/validate.t .......................... ok
t/websocket.t ......................... ok
All tests successful.

Test Summary Report
-------------------
t/jv-formats.t                      (Wstat: 0 Tests: 23 Failed: 0)
  TODO passed:   7, 10-11
Files=41, Tests=554, 14 wallclock secs ( 0.09 usr  0.17 sys + 11.52 cusr  1.88 csys = 13.66 CPU)
Result: PASS

------------------------------
PREREQUISITES
------------------------------

Prerequisite modules loaded:

requires:

    Module              Need  Have    
    ------------------- ----- --------
  ! JSON::Validator     0.71  0.70    
    Mojolicious         6.00  6.63    

build_requires:

    Module              Need  Have    
    ------------------- ----- --------
    Test::More          0.88  1.302019
    Test::Warnings      0.016 0.026   

configure_requires:

    Module              Need  Have    
    ------------------- ----- --------
    ExtUtils::MakeMaker 0     7.18    


------------------------------
ENVIRONMENT AND OTHER CONTEXT
------------------------------

Environment variables:

    LANG = C
    LC_ALL = de_DE.UTF-8
    PATH = /usr/local/bin:/usr/bin:/bin:/usr/local/sbin:/usr/sbin:/sbin:/home/cpansand/bin/linux-gnu:/home/cpansand/bin/sh:/home/cpansand/bin:/usr/games:/home/cpansand/devel:/home/eserte/src/srezic-misc/scripts
    PERL5LIB = /home/cpansand/.cpan/build/2016060718/Net-Abuse-Utils-Spamhaus-0.08-qqnGIQ/blib/arch:/home/cpansand/.cpan/build/2016060718/Net-Abuse-Utils-Spamhaus-0.08-qqnGIQ/blib/lib
    PERL5OPT = 
    PERL5_CPANPLUS_IS_RUNNING = 12212
    PERL5_CPAN_IS_RUNNING = 12212
    PERL5_CPAN_IS_RUNNING_IN_RECURSION = 12126,12212
    PERLDOC = -MPod::Perldoc::ToTextOverstrike
    PERL_BATCH = yes
    PERL_CANARY_STABILITY_NOPROMPT = 1
    PERL_CPAN_REPORTER_CONFIG = /run/user/1023/cpansmoker/2016060718/cpanreporter_000_config.ini
    PERL_EXTUTILS_AUTOINSTALL = --defaultdeps
    PERL_PARALLEL_SMOKER = yes
    SHELL = /bin/zsh
    TERM = screen
    TMPDIR = /run/user/1023/cpansmoker/2016060718

Perl special variables (and OS-specific diagnostics, for MSWin32):

    $^X = /bbbike/perl-5.24.0/bin/perl5.24.0
    $UID/$EUID = 1023 / 1023
    $GID = 1023 1023
    $EGID = 1023 1023

Perl module toolchain versions installed:

    Module              Have    
    ------------------- --------
    CPAN                2.11    
    CPAN::Meta          2.150005
    Cwd                 3.63    
    ExtUtils::CBuilder  0.280225
    ExtUtils::Command   7.18    
    ExtUtils::Install   2.04    
    ExtUtils::MakeMaker 7.18    
    ExtUtils::Manifest  1.70    
    ExtUtils::ParseXS   3.31    
    File::Spec          3.63    
    JSON                2.90    
    JSON::PP            2.27400 
    Module::Build       0.4218  
    Module::Signature   0.79    
    Parse::CPAN::Meta   1.4417  
    Test::Harness       3.36    
    Test::More          1.302019
    YAML                1.15    
    YAML::Syck          1.29    
    version             0.9917  


--

Summary of my perl5 (revision 5 version 24 subversion 0) configuration:
   
  Platform:
    osname=linux, osvers=3.16.0-4-amd64, archname=x86_64-linux
    uname='linux eserte 3.16.0-4-amd64 #1 smp debian 3.16.7-ckt25-2 (2016-04-08) x86_64 gnulinux '
    config_args='-ds -e -Dprefix=/opt/perl-5.24.0 -Dcf_email=srezic@cpan.org'
    hint=recommended, useposix=true, d_sigaction=define
    useithreads=undef, usemultiplicity=undef
    use64bitint=define, use64bitall=define, uselongdouble=undef
    usemymalloc=n, bincompat5005=undef
  Compiler:
    cc='cc', ccflags ='-fwrapv -fno-strict-aliasing -pipe -fstack-protector-strong -I/usr/local/include -D_LARGEFILE_SOURCE -D_FILE_OFFSET_BITS=64 -D_FORTIFY_SOURCE=2',
    optimize='-O2',
    cppflags='-fwrapv -fno-strict-aliasing -pipe -fstack-protector-strong -I/usr/local/include'
    ccversion='', gccversion='4.9.2', gccosandvers=''
    intsize=4, longsize=8, ptrsize=8, doublesize=8, byteorder=12345678, doublekind=3
    d_longlong=define, longlongsize=8, d_longdbl=define, longdblsize=16, longdblkind=3
    ivtype='long', ivsize=8, nvtype='double', nvsize=8, Off_t='off_t', lseeksize=8
    alignbytes=8, prototype=define
  Linker and Libraries:
    ld='cc', ldflags =' -fstack-protector-strong -L/usr/local/lib'
    libpth=/usr/local/lib /usr/lib/gcc/x86_64-linux-gnu/4.9/include-fixed /usr/include/x86_64-linux-gnu /usr/lib /lib/x86_64-linux-gnu /lib/../lib /usr/lib/x86_64-linux-gnu /usr/lib/../lib /lib
    libs=-lpthread -lnsl -lgdbm -ldb -ldl -lm -lcrypt -lutil -lc -lgdbm_compat
    perllibs=-lpthread -lnsl -ldl -lm -lcrypt -lutil -lc
    libc=libc-2.19.so, so=so, useshrplib=false, libperl=libperl.a
    gnulibc_version='2.19'
  Dynamic Linking:
    dlsrc=dl_dlopen.xs, dlext=so, d_dlsymun=undef, ccdlflags='-Wl,-E'
    cccdlflags='-fPIC', lddlflags='-shared -O2 -L/usr/local/lib -fstack-protector-strong'


Characteristics of this binary (from libperl): 
  Compile-time options: HAS_TIMES PERLIO_LAYERS PERL_COPY_ON_WRITE
                        PERL_DONT_CREATE_GVSV
                        PERL_HASH_FUNC_ONE_AT_A_TIME_HARD PERL_MALLOC_WRAP
                        PERL_PRESERVE_IVUV USE_64_BIT_ALL USE_64_BIT_INT
                        USE_LARGE_FILES USE_LOCALE USE_LOCALE_COLLATE
                        USE_LOCALE_CTYPE USE_LOCALE_NUMERIC USE_LOCALE_TIME
                        USE_PERLIO USE_PERL_ATOF
  Built under linux
  Compiled at May  9 2016 17:35:52
  %ENV:
    PERL5LIB="/home/cpansand/.cpan/build/2016060718/Net-Abuse-Utils-Spamhaus-0.08-qqnGIQ/blib/arch:/home/cpansand/.cpan/build/2016060718/Net-Abuse-Utils-Spamhaus-0.08-qqnGIQ/blib/lib"
    PERL5OPT=""
    PERL5_CPANPLUS_IS_RUNNING="12212"
    PERL5_CPAN_IS_RUNNING="12212"
    PERL5_CPAN_IS_RUNNING_IN_RECURSION="12126,12212"
    PERLDOC="-MPod::Perldoc::ToTextOverstrike"
    PERL_BATCH="yes"
    PERL_CANARY_STABILITY_NOPROMPT="1"
    PERL_CPAN_REPORTER_CONFIG="/run/user/1023/cpansmoker/2016060718/cpanreporter_000_config.ini"
    PERL_EXTUTILS_AUTOINSTALL="--defaultdeps"
    PERL_PARALLEL_SMOKER="yes"
  @INC:
    /home/cpansand/.cpan/build/2016060718/Net-Abuse-Utils-Spamhaus-0.08-qqnGIQ/blib/arch
    /home/cpansand/.cpan/build/2016060718/Net-Abuse-Utils-Spamhaus-0.08-qqnGIQ/blib/lib
    /opt/perl-5.24.0/lib/site_perl/5.24.0/x86_64-linux
    /opt/perl-5.24.0/lib/site_perl/5.24.0
    /opt/perl-5.24.0/lib/5.24.0/x86_64-linux
    /opt/perl-5.24.0/lib/5.24.0
    .