CatalystX-SimpleLogin v0.21 Perl 5 v5.43.2 darwin-2level

Status
Pass
From
John SJ Anderson
Dist
CatalystX-SimpleLogin v0.21
Platform
Perl 5 v5.43.2 darwin-2level
Date
2025-08-21 00:30:19
ID
04194e6c-7e26-11f0-946b-e27542d2b4ab
This distribution has been tested as part of the CPAN Testers
project, supporting the Perl programming language.  See
http://wiki.cpantesters.org/ for more information or email
questions to cpan-testers-discuss@perl.org


--
Dear ABRAXXA,

This is a computer-generated report for CatalystX-SimpleLogin-0.21
on perl 5.43.2, created by App::cpanminus::reporter 0.22 (1.7048).

Thank you for uploading your work to CPAN.  Congratulations!
All tests were successful.

Sections of this report:

    * Tester comments
    * Program output
    * Prerequisites
    * Environment and other context

------------------------------
TESTER COMMENTS
------------------------------

Additional comments from tester:

none provided

------------------------------
PROGRAM OUTPUT
------------------------------

Output from '':

Building and testing CatalystX-SimpleLogin-0.21
cp lib/CatalystX/SimpleLogin/TraitFor/Controller/Login/WithRedirect.pm blib/lib/CatalystX/SimpleLogin/TraitFor/Controller/Login/WithRedirect.pm
cp lib/CatalystX/SimpleLogin/TraitFor/Controller/Login/Logout.pm blib/lib/CatalystX/SimpleLogin/TraitFor/Controller/Login/Logout.pm
cp lib/CatalystX/SimpleLogin/TraitFor/Controller/Login/RenderAsTTTemplate.pm blib/lib/CatalystX/SimpleLogin/TraitFor/Controller/Login/RenderAsTTTemplate.pm
cp lib/Catalyst/ActionRole/NeedsLogin.pm blib/lib/Catalyst/ActionRole/NeedsLogin.pm
cp lib/CatalystX/SimpleLogin/Controller/Login.pm blib/lib/CatalystX/SimpleLogin/Controller/Login.pm
cp lib/CatalystX/SimpleLogin/Form/LoginOpenID.pm blib/lib/CatalystX/SimpleLogin/Form/LoginOpenID.pm
cp lib/CatalystX/SimpleLogin.pm blib/lib/CatalystX/SimpleLogin.pm
cp lib/CatalystX/SimpleLogin/TraitFor/Controller/Login/OpenID.pm blib/lib/CatalystX/SimpleLogin/TraitFor/Controller/Login/OpenID.pm
cp lib/CatalystX/SimpleLogin/Form/Login.pm blib/lib/CatalystX/SimpleLogin/Form/Login.pm
cp lib/CatalystX/SimpleLogin/Manual.pod blib/lib/CatalystX/SimpleLogin/Manual.pod
PERL_DL_NONLAZY=1 "/opt/plenv/versions/5.43.2/bin/perl5.43.2" "-MExtUtils::Command::MM" "-MTest::Harness" "-e" "undef *Test::Harness::Switches; test_harness(0, 'inc', 'blib/lib', 'blib/arch')" t/*.t
t/00-load.t ........................... ok
[warn] Attempted to use view 'TestApp::View::HTML', but does not exist
t/01-live-test.t ...................... ok
[warn] Attempted to use view 'TestAppRedirect::View::HTML', but does not exist
t/02-redirect-test.t .................. ok
t/03-login-form.t ..................... ok
[warn] Attempted to use view 'TestAppRedirect::View::HTML', but does not exist
t/04-test-role-apply-order.t .......... ok
[warn] Attempted to use view 'TestAppRedirect::View::HTML', but does not exist
t/05-login-redirect-custom-message.t .. ok
[warn] Attempted to use view 'TestAppRenderTT::View::HTML', but does not exist
t/06-rendertt.t ....................... ok
t/07-openid-live.t .................... skipped: OpenID dependencies not installed
Possible attempt to escape whitespace in qw() list at /opt/plenv/versions/5.43.2/lib/perl5/site_perl/5.43.2/Sub/Quote.pm line 64.
t/08-dbic-mappedfields.t .............. skipped: One of the required classes for this test Can't locate Catalyst/Authentication/Store/DBIx/Class.pm in @INC (you may need to install the Catalyst::Authentication::Store::DBIx::Class module) (@INC entries checked: /Users/genehack/.cpanm/work/1755730368.15159/CatalystX-SimpleLogin-0.21/t/lib /Users/genehack/.cpanm/work/1755730368.15159/CatalystX-SimpleLogin-0.21/inc /Users/genehack/.cpanm/work/1755730368.15159/CatalystX-SimpleLogin-0.21/blib/lib /Users/genehack/.cpanm/work/1755730368.15159/CatalystX-SimpleLogin-0.21/blib/arch /opt/plenv/versions/5.43.2/lib/perl5/site_perl/5.43.2/darwin-2level /opt/plenv/versions/5.43.2/lib/perl5/site_perl/5.43.2 /opt/plenv/versions/5.43.2/lib/perl5/5.43.2/darwin-2level /opt/plenv/versions/5.43.2/lib/perl5/5.43.2 .) at t/08-dbic-mappedfields.t line 18.
[warn] Attempted to use view 'TestAppClearSession::View::HTML', but does not exist
t/09-clearsession.t ................... ok
[warn] Attempted to use view 'TestAppFormArgs::View::HTML', but does not exist
t/10-form-args.t ...................... ok
[warn] Attempted to use view 'TestApp::View::HTML', but does not exist
t/chained_parts.t ..................... ok
All tests successful.
Files=12, Tests=100, 10 wallclock secs ( 0.03 usr  0.02 sys +  8.60 cusr  0.61 csys =  9.26 CPU)
Result: PASS

------------------------------
PREREQUISITES
------------------------------

Prerequisite modules loaded:

runtime:

    Module                                   Need    Have    
    ---------------------------------------- ------- --------
    Catalyst::Action::RenderView             0       0.17    
    Catalyst::Action::REST                   0.74    1.21    
    Catalyst::ActionRole::ACL                0       0.07    
    Catalyst::Plugin::Authentication         0       0.10024 
    Catalyst::Plugin::Session                0.35    0.44    
    Catalyst::Plugin::Session::State::Cookie 0       0.18    
    Catalyst::Runtime                        5.80013 5.90132 
    Catalyst::View::TT                       0       0.46    
    CatalystX::Component::Traits             0.13    0.19    
    CatalystX::InjectComponent               0       0.025   
    Class::Load                              0.20    0.25    
    File::Temp                               0       0.2311  
    HTML::FormHandler                        0.28001 0.40068 
    HTTP::Request::Common                    0       7.00    
    Moose                                    0       2.4000  
    MooseX::MethodAttributes                 0.18    0.32    
    MooseX::RelatedClassRoles                0.004   0.004   
    MooseX::Types                            0       0.51    
    MooseX::Types::Common                    0       0.001015
    namespace::autoclean                     0       0.31    
    SQL::Translator                          0       1.66    
    Test::Exception                          0       0.43    
    Test::More                               0.94    1.302214
    Try::Tiny                                0.24    0.32    

build:

    Module                                   Need    Have    
    ---------------------------------------- ------- --------
    Catalyst::Action::RenderView             0       0.17    
    Catalyst::ActionRole::ACL                0       0.07    
    Catalyst::Plugin::Session::State::Cookie 0       0.18    
    CatalystX::InjectComponent               0       0.025   
    Class::Load                              0.20    0.25    
    ExtUtils::MakeMaker                      6.36    7.76    
    File::Temp                               0       0.2311  
    HTTP::Request::Common                    0       7.00    
    SQL::Translator                          0       1.66    
    Test::Exception                          0       0.43    
    Test::More                               0.94    1.302214

configure:

    Module                                   Need    Have    
    ---------------------------------------- ------- --------
    ExtUtils::MakeMaker                      0       7.76    


------------------------------
ENVIRONMENT AND OTHER CONTEXT
------------------------------

Environment variables:

    LANG = en_US.UTF-8
    LC_ALL = en_US.UTF-8
    LC_TERMINAL = iTerm2
    LC_TERMINAL_VERSION = 3.5.14
    PATH = /opt/plenv/versions/5.43.2/bin:/opt/plenv/libexec:/opt/plenv/plugins/Perl-Build/bin:/opt/rbenv/shims:/opt/nextstrain-env/cli-standalone:/Users/genehack/bin:/opt/rust/cargo/bin:/opt/plenv/shims:/opt/plenv/bin:/opt/git/bin:/usr/local/bin:/usr/local/sbin:/opt/local/bin:/usr/bin:/bin:/usr/sbin:/sbin:/usr/local/opt/fzf/bin/
    PERL_CPANM_OPT = --skip-installed --prompt
    SHELL = /bin/zsh
    TERM = screen-256color
    TMPDIR = /var/folders/91/jjmr4sms7fz9s27f3_9glhb80000gn/T/

Perl special variables (and OS-specific diagnostics, for MSWin32):

    EGID = 20 20 12 61 79 80 81 98 701 33 100 204 250 395 398 399 400
    EUID = 501
    EXECUTABLE_NAME = /opt/plenv/versions/5.43.2/bin/perl5.43.2
    GID = 20 20 12 61 79 80 81 98 701 33 100 204 250 395 398 399 400
    UID = 501

Perl module toolchain versions installed:

    Module              Have    
    ------------------- --------
    CPAN                2.38    
    CPAN::Meta          2.150010
    Cwd                 3.94    
    ExtUtils::CBuilder  0.280242
    ExtUtils::Command   7.76    
    ExtUtils::Install   2.22    
    ExtUtils::MakeMaker 7.76    
    ExtUtils::Manifest  1.75    
    ExtUtils::ParseXS   3.59    
    File::Spec          3.94    
    JSON                4.10    
    JSON::PP            4.16    
    Module::Build       0.4234  
    Module::Signature   n/a     
    Parse::CPAN::Meta   2.150010
    Test::Harness       3.52    
    Test::More          1.302214
    YAML                1.31    
    YAML::Syck          n/a     
    version             0.9933  


--

Summary of my perl5 (revision 5 version 43 subversion 2) configuration:
   
  Platform:
    osname=darwin
    osvers=24.6.0
    archname=darwin-2level
    uname='darwin bigjob.home.genehack.org 24.6.0 darwin kernel version 24.6.0: mon jul 14 11:28:17 pdt 2025; root:xnu-11417.140.69~1release_x86_64 x86_64 i386 macmini8,1 darwin '
    config_args='-Dprefix=/opt/plenv/versions/5.43.2 -de -Dversiononly -Dusedevel -A'eval:scriptdir=/opt/plenv/versions/5.43.2/bin''
    hint=recommended
    useposix=true
    d_sigaction=define
    useithreads=undef
    usemultiplicity=undef
    use64bitint=define
    use64bitall=define
    uselongdouble=undef
    usemymalloc=n
    default_inc_excludes_dot=define
  Compiler:
    cc='cc'
    ccflags ='-fno-common -DPERL_DARWIN -DNO_THREAD_SAFE_QUERYLOCALE -DNO_POSIX_2008_LOCALE -DHAS_BROKEN_LANGINFO_CODESET -DNO_LOCALE_COLLATE -fno-strict-aliasing -pipe -fstack-protector-strong -I/usr/local/include'
    optimize='-O3'
    cppflags='-fno-common -DPERL_DARWIN -DNO_THREAD_SAFE_QUERYLOCALE -DNO_POSIX_2008_LOCALE -DHAS_BROKEN_LANGINFO_CODESET -DNO_LOCALE_COLLATE -fno-strict-aliasing -pipe -fstack-protector-strong -I/usr/local/include'
    ccversion=''
    gccversion='Apple LLVM 17.0.0 (clang-1700.0.13.5)'
    gccosandvers=''
    intsize=4
    longsize=8
    ptrsize=8
    doublesize=8
    byteorder=12345678
    doublekind=3
    d_longlong=define
    longlongsize=8
    d_longdbl=define
    longdblsize=16
    longdblkind=3
    ivtype='long'
    ivsize=8
    nvtype='double'
    nvsize=8
    Off_t='off_t'
    lseeksize=8
    alignbytes=8
    prototype=define
  Linker and Libraries:
    ld='cc'
    ldflags =' -fstack-protector-strong -L/usr/local/lib'
    libpth=/usr/local/lib /Applications/Xcode.app/Contents/Developer/Toolchains/XcodeDefault.xctoolchain/usr/lib/clang/17/lib /Applications/Xcode.app/Contents/Developer/Platforms/MacOSX.platform/Developer/SDKs/MacOSX.sdk/usr/lib /Applications/Xcode.app/Contents/Developer/Toolchains/XcodeDefault.xctoolchain/usr/lib /usr/lib
    libs=-lgdbm
    perllibs=
    libc=
    so=dylib
    useshrplib=false
    libperl=libperl.a
    gnulibc_version=''
  Dynamic Linking:
    dlsrc=dl_dlopen.xs
    dlext=bundle
    d_dlsymun=undef
    ccdlflags=' '
    cccdlflags=' '
    lddlflags='-bundle -undefined dynamic_lookup -L/usr/local/lib -fstack-protector-strong'


Characteristics of this binary (from libperl): 
  Compile-time options:
    HAS_LONG_DOUBLE
    HAS_STRTOLD
    HAS_TIMES
    PERLIO_LAYERS
    PERL_COPY_ON_WRITE
    PERL_DONT_CREATE_GVSV
    PERL_HASH_FUNC_SIPHASH13
    PERL_HASH_USE_SBOX32
    PERL_MALLOC_WRAP
    PERL_OP_PARENT
    PERL_PRESERVE_IVUV
    PERL_USE_DEVEL
    PERL_USE_SAFE_PUTENV
    USE_64_BIT_ALL
    USE_64_BIT_INT
    USE_LARGE_FILES
    USE_LOCALE
    USE_LOCALE_CTYPE
    USE_LOCALE_NUMERIC
    USE_LOCALE_TIME
    USE_PERLIO
    USE_PERL_ATOF
  Built under darwin
  Compiled at Aug 20 2025 15:40:04
  %ENV:
    PERL_CPANM_OPT="--skip-installed --prompt"
  @INC:
    /opt/plenv/versions/5.43.2/lib/perl5/site_perl/5.43.2/darwin-2level
    /opt/plenv/versions/5.43.2/lib/perl5/site_perl/5.43.2
    /opt/plenv/versions/5.43.2/lib/perl5/5.43.2/darwin-2level
    /opt/plenv/versions/5.43.2/lib/perl5/5.43.2