Back
From: metabase:user:30f4dfbe-2aae-11df-837a-5e0a49663a4f
Subject: PASS Crypt-SSLeay-0.72 v5.10.1 GNU/Linux
Date: 2017-05-03T22:36:57Z
This distribution has been tested as part of the CPAN Testers
project, supporting the Perl programming language. See
http://wiki.cpantesters.org/ for more information or email
questions to cpan-testers-discuss@perl.org
--
Dear A. Sinan Unur,
This is a computer-generated report for Crypt-SSLeay-0.72
on perl 5.10.1, created by CPAN-Reporter-1.2018.
Thank you for uploading your work to CPAN. Congratulations!
All tests were successful.
Sections of this report:
* Tester comments
* Program output
* Prerequisites
* Environment and other context
------------------------------
TESTER COMMENTS
------------------------------
Additional comments from tester:
this report is from an automated smoke testing program
and was not reviewed by a human for accuracy
------------------------------
PROGRAM OUTPUT
------------------------------
Output from '/usr/bin/make test':
"/home/njh/perl5/perlbrew/perls/perl-5.10.1/bin/perl5.10.1" -MExtUtils::Command::MM -e 'cp_nonempty' -- SSLeay.bs blib/arch/auto/Crypt/SSLeay/SSLeay.bs 644
PERL_DL_NONLAZY=1 "/home/njh/perl5/perlbrew/perls/perl-5.10.1/bin/perl5.10.1" "-MExtUtils::Command::MM" "-MTest::Harness" "-e" "undef *Test::Harness::Switches; test_harness(0, 'blib/lib', 'blib/arch')" t/*.t
# Reading configuration from 'test.config' on linux
# network_tests : 0
t/02-live.t ...... skipped: Network tests disabled
t/03-version.t ... ok
t/00-basic.t ..... ok
t/manifest.t ..... skipped: Author tests not required for installation
t/01-connect.t ... ok
t/boilerplate.t .. ok
All tests successful.
Files=6, Tests=43, 2 wallclock secs ( 0.21 usr 0.08 sys + 2.92 cusr 0.36 csys = 3.57 CPU)
Result: PASS
------------------------------
PREREQUISITES
------------------------------
Prerequisite modules loaded:
requires:
Module Need Have
-------------------- -------- --------
LWP::Protocol::https 6.02 6.07
MIME::Base64 0 3.08
perl 5.006 5.010001
build_requires:
Module Need Have
-------------------- -------- --------
ExtUtils::MakeMaker 0 7.24
Test::More 0.19 1.302078
Try::Tiny 0.19 0.28
configure_requires:
Module Need Have
-------------------- -------- --------
ExtUtils::CBuilder 0.280205 0.280224
Getopt::Long 0 2.38
Path::Class 0.26 0.37
Try::Tiny 0.19 0.28
------------------------------
ENVIRONMENT AND OTHER CONTEXT
------------------------------
Environment variables:
AUTOMATED_TESTING = 1
HARNESS_OPTIONS = j4
LANG = en_US.UTF-8
LANGUAGE = en_US.UTF-8
LC_ALL = en_US.UTF-8
PATH = /home/njh/perl5/perlbrew/bin:/home/njh/perl5/perlbrew/perls/perl-5.10.1/bin:/home/njh/perl5/perlbrew/bin:/home/njh/src/njh/smoker/bin:/usr/bin:/bin
PERL5LIB = /home/njh/.cpan/build/Path-Class-0.37-1/blib/arch:/home/njh/.cpan/build/Path-Class-0.37-1/blib/lib
PERL5OPT =
PERL5_CPANPLUS_IS_RUNNING = 21747
PERL5_CPAN_IS_RUNNING = 21747
PERLBREW_BASHRC_VERSION = 0.78
PERLBREW_LIB =
PERLBREW_MANPATH = /home/njh/perl5/perlbrew/perls/perl-5.10.1/man
PERLBREW_PATH = /home/njh/perl5/perlbrew/bin:/home/njh/perl5/perlbrew/perls/perl-5.10.1/bin
PERLBREW_PERL = perl-5.10.1
PERLBREW_ROOT = /home/njh/perl5/perlbrew
PERLBREW_VERSION = 0.78
PERL_LOCAL_LIB_ROOT =
SHELL = /bin/sh
Perl special variables (and OS-specific diagnostics, for MSWin32):
$^X = /home/njh/perl5/perlbrew/perls/perl-5.10.1/bin/perl5.10.1
$UID/$EUID = 1000 / 1000
$GID = 100 100
$EGID = 100 100
Perl module toolchain versions installed:
Module Have
------------------- --------
CPAN 2.16
CPAN::Meta 2.150010
Cwd 3.62
ExtUtils::CBuilder 0.280224
ExtUtils::Command 7.24
ExtUtils::Install 1.54
ExtUtils::MakeMaker 7.24
ExtUtils::Manifest 1.70
ExtUtils::ParseXS 3.30
File::Spec 3.62
JSON n/a
JSON::PP 2.27400
Module::Build 0.4220
Module::Signature n/a
Parse::CPAN::Meta 2.150010
Test::Harness 3.36
Test::More 1.302078
YAML 1.23
YAML::Syck 1.29
version 0.9917
--
Summary of my perl5 (revision 5 version 10 subversion 1) configuration:
Platform:
osname=linux, osvers=4.5.7-std-4, archname=armv7l-linux-thread-multi
uname='linux scw-808d97 4.5.7-std-4 #1 smp tue jul 12 11:00:06 utc 2016 armv7l gnulinux '
config_args='-de -Dprefix=/home/njh/perl5/perlbrew/perls/perl-5.10.1 -Duseithreads -Dusemultiplicity -Dusedevel -Accflags=-O2 -W -Wformat=2 -Wswitch -Wshadow -Wwrite-strings -Wuninitialized -Wall -pipe -fomit-frame-pointer -D_FORTIFY_SOURCE=2 -Wpointer-arith -Wstrict-prototypes -fstack-protector -Wstack-protector -Wextra -Wbad-function-cast -Wcast-align -Wcast-qual -Wdisabled-optimization -Wendif-labels -Wfloat-equal -Wformat-nonliteral -Winline -Wmissing-declarations -Wmissing-prototypes -Wnested-externs -Wpointer-arith -Wundef -Wformat-security -mtune=native -march=native -mfpu=vfp -mfloat-abi=hard -Aeval:scriptdir=/home/njh/perl5/perlbrew/perls/perl-5.10.1/bin'
hint=recommended, useposix=true, d_sigaction=define
useithreads=define, usemultiplicity=define
useperlio=define, d_sfio=undef, uselargefiles=define, usesocks=undef
use64bitint=undef, use64bitall=undef, uselongdouble=undef
usemymalloc=n, bincompat5005=undef
Compiler:
cc='cc', ccflags ='-D_REENTRANT -D_GNU_SOURCE -O2 -W -Wformat=2 -Wswitch -Wshadow -Wwrite-strings -Wuninitialized -Wall -pipe -fomit-frame-pointer -D_FORTIFY_SOURCE=2 -Wpointer-arith -Wstrict-prototypes -fstack-protector -Wstack-protector -Wextra -Wbad-function-cast -Wcast-align -Wcast-qual -Wdisabled-optimization -Wendif-labels -Wfloat-equal -Wformat-nonliteral -Winline -Wmissing-declarations -Wmissing-prototypes -Wnested-externs -Wpointer-arith -Wundef -Wformat-security -mtune=native -march=native -mfpu=vfp -mfloat-abi=hard -fno-strict-aliasing -I/usr/local/include -D_LARGEFILE_SOURCE -D_FILE_OFFSET_BITS=64',
optimize='-O2',
cppflags='-D_REENTRANT -D_GNU_SOURCE -O2 -W -Wformat=2 -Wswitch -Wshadow -Wwrite-strings -Wuninitialized -Wall -pipe -fomit-frame-pointer -D_FORTIFY_SOURCE=2 -Wpointer-arith -Wstrict-prototypes -fstack-protector -Wstack-protector -Wextra -Wbad-function-cast -Wcast-align -Wcast-qual -Wdisabled-optimization -Wendif-labels -Wfloat-equal -Wformat-nonliteral -Winline -Wmissing-declarations -Wmissing-prototypes -Wnested-externs -Wpointer-arith -Wundef -Wformat-security -mtune=native -march=native -mfpu=vfp -mfloat-abi=hard -fno-strict-aliasing -I/usr/local/include'
ccversion='', gccversion='4.9.2', gccosandvers=''
intsize=4, longsize=4, ptrsize=4, doublesize=8, byteorder=1234
d_longlong=define, longlongsize=8, d_longdbl=define, longdblsize=8
ivtype='long', ivsize=4, nvtype='double', nvsize=8, Off_t='off_t', lseeksize=8
alignbytes=8, prototype=define
Linker and Libraries:
ld='cc', ldflags =' -fstack-protector -L/usr/local/lib'
libpth=/usr/local/lib /lib/arm-linux-gnueabihf /lib /usr/lib/arm-linux-gnueabihf /usr/lib
libs=-lnsl -ldl -lm -lcrypt -lutil -lpthread -lc
perllibs=-lnsl -ldl -lm -lcrypt -lutil -lpthread -lc
libc=libc-2.19.so, so=so, useshrplib=false, libperl=libperl.a
gnulibc_version='2.19'
Dynamic Linking:
dlsrc=dl_dlopen.xs, dlext=so, d_dlsymun=undef, ccdlflags='-Wl,-E'
cccdlflags='-fPIC', lddlflags='-shared -O2 -L/usr/local/lib -fstack-protector'
Characteristics of this binary (from libperl):
Compile-time options: MULTIPLICITY PERL_DONT_CREATE_GVSV
PERL_IMPLICIT_CONTEXT PERL_MALLOC_WRAP PERL_USE_DEVEL
USE_ITHREADS USE_LARGE_FILES USE_PERLIO
USE_REENTRANT_API
Locally applied patches:
Devel::PatchPerl 1.38
Built under linux
Compiled at Feb 26 2017 00:57:18
%ENV:
PERL5LIB="/home/njh/.cpan/build/Path-Class-0.37-1/blib/arch:/home/njh/.cpan/build/Path-Class-0.37-1/blib/lib"
PERL5OPT=""
PERL5_CPANPLUS_IS_RUNNING="21747"
PERL5_CPAN_IS_RUNNING="21747"
PERLBREW_BASHRC_VERSION="0.78"
PERLBREW_LIB=""
PERLBREW_MANPATH="/home/njh/perl5/perlbrew/perls/perl-5.10.1/man"
PERLBREW_PATH="/home/njh/perl5/perlbrew/bin:/home/njh/perl5/perlbrew/perls/perl-5.10.1/bin"
PERLBREW_PERL="perl-5.10.1"
PERLBREW_ROOT="/home/njh/perl5/perlbrew"
PERLBREW_VERSION="0.78"
PERL_LOCAL_LIB_ROOT=""
@INC:
/home/njh/.cpan/build/Path-Class-0.37-1/blib/arch
/home/njh/.cpan/build/Path-Class-0.37-1/blib/lib
/home/njh/perl5/perlbrew/perls/perl-5.10.1/lib/5.10.1/armv7l-linux-thread-multi
/home/njh/perl5/perlbrew/perls/perl-5.10.1/lib/5.10.1
/home/njh/perl5/perlbrew/perls/perl-5.10.1/lib/site_perl/5.10.1/armv7l-linux-thread-multi
/home/njh/perl5/perlbrew/perls/perl-5.10.1/lib/site_perl/5.10.1
.