Back
From: metabase:user:d49cdc72-1559-11e3-9efd-e82414baadac
Subject: PASS Dist-Zilla-Plugin-Test-Compile-PerFile-0.003000 v5.21.8 GNU/Linux
Date: 2015-01-20T23:42:37Z
This distribution has been tested as part of the CPAN Testers
project, supporting the Perl programming language. See
http://wiki.cpantesters.org/ for more information or email
questions to cpan-testers-discuss@perl.org
--
Dear KENTNL,
This is a computer-generated report for Dist-Zilla-Plugin-Test-Compile-PerFile-0.003000
on perl 5.21.8, created by App::cpanminus::reporter 0.12 (1.7022).
Thank you for uploading your work to CPAN. Congratulations!
All tests were successful.
Sections of this report:
* Tester comments
* Program output
* Prerequisites
* Environment and other context
------------------------------
TESTER COMMENTS
------------------------------
Additional comments from tester:
none provided
------------------------------
PROGRAM OUTPUT
------------------------------
Output from '':
Building and testing Dist-Zilla-Plugin-Test-Compile-PerFile-0.003000
cp share/.keep blib/lib/auto/share/dist/Dist-Zilla-Plugin-Test-Compile-PerFile/.keep
cp share/01-basic.t.tpl blib/lib/auto/share/dist/Dist-Zilla-Plugin-Test-Compile-PerFile/01-basic.t.tpl
cp lib/Dist/Zilla/Plugin/Test/Compile/PerFile.pm blib/lib/Dist/Zilla/Plugin/Test/Compile/PerFile.pm
Skip blib/lib/auto/share/dist/Dist-Zilla-Plugin-Test-Compile-PerFile/.keep (unchanged)
Skip blib/lib/auto/share/dist/Dist-Zilla-Plugin-Test-Compile-PerFile/01-basic.t.tpl (unchanged)
PERL_DL_NONLAZY=1 "/home/kent/perl5/perlbrew/perls/5.21.8-a/bin/perl5.21.8" "-MExtUtils::Command::MM" "-MTest::Harness" "-e" "undef *Test::Harness::Switches; test_harness(0, 'blib/lib', 'blib/arch')" t/*.t t/00-compile/*.t
# Versions for all modules listed in MYMETA.json (including optional ones):
#
# === Configure Requires ===
#
# Module Want Have
# ----------------------- ---- ----
# ExtUtils::MakeMaker any 7.04
# File::ShareDir::Install 0.06 0.10
#
# === Configure Recommends ===
#
# Module Want Have
# ------------------- ---- ----
# ExtUtils::MakeMaker 6.98 7.04
#
# === Build Requires ===
#
# Module Want Have
# ------------------- ---- ----
# ExtUtils::MakeMaker any 7.04
#
# === Test Requires ===
#
# Module Want Have
# ------------------------------- -------- ------------
# Capture::Tiny any 0.27
# Dist::Zilla::Util::Test::KENTNL 1.003002 1.005000
# ExtUtils::MakeMaker any 7.04
# File::Spec any 3.53
# Test::DZil any 5.031
# Test::File::ShareDir::Dist any 1.000005
# Test::More 0.89 1.301001_097
#
# === Test Recommends ===
#
# Module Want Have
# ------------------- -------- ------------
# CPAN::Meta 2.120900 2.143240
# ExtUtils::MakeMaker 6.98 7.04
# Test::More 1.001006 1.301001_097
#
# === Runtime Requires ===
#
# Module Want Have
# ------------------------------- ---- --------
# Dist::Zilla::File::FromCode any 5.031
# Dist::Zilla::Plugin::FinderCode any 5.031
# Dist::Zilla::Role::FileGatherer any 5.031
# Dist::Zilla::Role::TextTemplate any 5.031
# Dist::Zilla::Util::ConfigDumper any 0.003006
# File::ShareDir any 1.102
# Moose any 2.1403
# Moose::Util::TypeConstraints any 2.1403
# MooseX::LazyRequire any 0.11
# Path::Tiny any 0.061
# strict any 1.09
# utf8 any 1.14
# warnings any 1.30
#
t/00-report-prereqs.t ......................................... ok
t/00-compile/lib_Dist_Zilla_Plugin_Test_Compile_PerFile_pm.t .. ok
t/attr_path_translator_mimic_source.t ......................... ok
t/basic.t ..................................................... ok
t/attr_skip.t ................................................. ok
t/attr_file.t ................................................. ok
t/attr_xtmode.t ............................................... ok
t/attr_finder.t ............................................... ok
t/failtest.t .................................................. ok
t/oktest.t .................................................... ok
All tests successful.
Files=10, Tests=17, 6 wallclock secs ( 0.11 usr 0.03 sys + 15.14 cusr 2.39 csys = 17.67 CPU)
Result: PASS
------------------------------
PREREQUISITES
------------------------------
Prerequisite modules loaded:
No requirements found
------------------------------
ENVIRONMENT AND OTHER CONTEXT
------------------------------
Environment variables:
LC_CTYPE = en_NZ.UTF8
PATH = /home/kent/perl5/perlbrew/bin:/home/kent/perl5/perlbrew/perls/5.21.8-a/bin:/home/kent/.perl6/2013.04/bin:/home/kent/.gem/ruby/1.8/bin/:/home/kent/.rvm/gems/ruby-2.1.2/bin:/home/kent/.rvm/gems/ruby-2.1.2@global/bin:/home/kent/.rvm/rubies/ruby-2.1.2/bin:/usr/local/bin:/usr/bin:/bin:/opt/bin:/usr/x86_64-pc-linux-gnu/gcc-bin/4.8.3:/usr/games/bin:/home/kent/.rvm/bin:/home/kent/.rvm/bin
PERLBREW_BASHRC_VERSION = 0.72
PERLBREW_HOME = /home/kent/.perlbrew
PERLBREW_MANPATH = /home/kent/perl5/perlbrew/perls/5.21.8-a/man
PERLBREW_PATH = /home/kent/perl5/perlbrew/bin:/home/kent/perl5/perlbrew/perls/5.21.8-a/bin
PERLBREW_PERL = 5.21.8-a
PERLBREW_ROOT = /home/kent/perl5/perlbrew
PERLBREW_VERSION = 0.72
PERL_CPANM_OPT = --prompt --interactive --verify --mirror http://cpan.metacpan.org/
PERL_MM_OPT = INSTALLDIRS=site
SHELL = /bin/bash
TERM = rxvt-unicode-256color
Perl special variables (and OS-specific diagnostics, for MSWin32):
EGID = 1000 4 6 10 16 18 19 27 35 78 80 85 100 102 103 104 105 114 115 116 117 118 250 974 994 1000
EUID = 1000
EXECUTABLE_NAME = /home/kent/perl5/perlbrew/perls/5.21.8-a/bin/perl5.21.8
GID = 1000 4 6 10 16 18 19 27 35 78 80 85 100 102 103 104 105 114 115 116 117 118 250 974 994 1000
UID = 1000
Perl module toolchain versions installed:
Module Have
------------------- ------------
CPAN 2.05
CPAN::Meta 2.143240
Cwd 3.54
ExtUtils::CBuilder 0.280221
ExtUtils::Command 1.20
ExtUtils::Install 2.04
ExtUtils::MakeMaker 7.04
ExtUtils::Manifest 1.70
ExtUtils::ParseXS 3.27
File::Spec 3.53
JSON 2.90
JSON::PP 2.27300
Module::Build 0.4211
Module::Signature 0.73
Parse::CPAN::Meta 1.4414
Test::Harness 3.35
Test::More 1.301001_097
YAML 1.14
YAML::Syck n/a
version 0.9909
--
Summary of my perl5 (revision 5 version 21 subversion 8) configuration:
Platform:
osname=linux, osvers=3.18.1-aufs, archname=x86_64-linux
uname='linux katipo2 3.18.1-aufs #20 smp preempt fri dec 19 22:15:35 nzdt 2014 x86_64 intel(r) core(tm) i5-2410m cpu @ 2.30ghz genuineintel gnulinux '
config_args='-de -Dprefix=/home/kent/perl5/perlbrew/perls/5.21.8-a -Dusecbacktrace -Doptimize=-O3 -march=native -mtune=native -g -ggdb3 -Dman1dir=none -Dman3dir=none -Dusedevel -Accflags=-DPERL_HASH_FUNC_SDBM -DUSE_C_BACKTRACE_ON_ERROR -Aldflags=-lbfd -Aeval:scriptdir=/home/kent/perl5/perlbrew/perls/5.21.8-a/bin'
hint=recommended, useposix=true, d_sigaction=define
useithreads=undef, usemultiplicity=undef
use64bitint=define, use64bitall=define, uselongdouble=undef
usemymalloc=n, bincompat5005=undef
Compiler:
cc='cc', ccflags ='-DPERL_HASH_FUNC_SDBM -DUSE_C_BACKTRACE_ON_ERROR -fwrapv -fno-strict-aliasing -pipe -fstack-protector -DUSE_C_BACKTRACE -g -D_LARGEFILE_SOURCE -D_FILE_OFFSET_BITS=64',
optimize='-O3 -march=native -mtune=native -g -ggdb3',
cppflags='-DPERL_HASH_FUNC_SDBM -DUSE_C_BACKTRACE_ON_ERROR -fwrapv -fno-strict-aliasing -pipe -fstack-protector'
ccversion='', gccversion='4.8.3', gccosandvers=''
intsize=4, longsize=8, ptrsize=8, doublesize=8, byteorder=12345678, doublekind=3
d_longlong=define, longlongsize=8, d_longdbl=define, longdblsize=16, longdblkind=3
ivtype='long', ivsize=8, nvtype='double', nvsize=8, Off_t='off_t', lseeksize=8
alignbytes=8, prototype=define
Linker and Libraries:
ld='cc', ldflags =' -lbfd -fstack-protector -L/usr/local/lib'
libpth=/usr/lib/gcc/x86_64-pc-linux-gnu/4.8.3/include-fixed /usr/lib /usr/local/lib /lib/../lib64 /usr/lib/../lib64 /lib /lib64 /usr/lib64 /usr/local/lib64
libs=-lpthread -lnsl -lgdbm -ldb -ldl -lm -lcrypt -lutil -lc -lgdbm_compat
perllibs=-lpthread -lnsl -ldl -lm -lcrypt -lutil -lc
libc=libc-2.20.so, so=so, useshrplib=false, libperl=libperl.a
gnulibc_version='2.20'
Dynamic Linking:
dlsrc=dl_dlopen.xs, dlext=so, d_dlsymun=undef, ccdlflags='-Wl,-E'
cccdlflags='-fPIC', lddlflags='-shared -O3 -march=native -mtune=native -g -ggdb3 -L/usr/local/lib -fstack-protector'
Characteristics of this binary (from libperl):
Compile-time options: HAS_TIMES PERLIO_LAYERS PERL_DONT_CREATE_GVSV
PERL_HASH_FUNC_SDBM PERL_MALLOC_WRAP
PERL_NEW_COPY_ON_WRITE PERL_PRESERVE_IVUV
PERL_USE_DEVEL USE_64_BIT_ALL USE_64_BIT_INT
USE_LARGE_FILES USE_LOCALE USE_LOCALE_COLLATE
USE_LOCALE_CTYPE USE_LOCALE_NUMERIC USE_LOCALE_TIME
USE_PERLIO USE_PERL_ATOF
Built under linux
Compiled at Jan 21 2015 08:12:45
%ENV:
PERLBREW_BASHRC_VERSION="0.72"
PERLBREW_HOME="/home/kent/.perlbrew"
PERLBREW_MANPATH="/home/kent/perl5/perlbrew/perls/5.21.8-a/man"
PERLBREW_PATH="/home/kent/perl5/perlbrew/bin:/home/kent/perl5/perlbrew/perls/5.21.8-a/bin"
PERLBREW_PERL="5.21.8-a"
PERLBREW_ROOT="/home/kent/perl5/perlbrew"
PERLBREW_VERSION="0.72"
PERL_CPANM_OPT=" --prompt --interactive --verify --mirror http://cpan.metacpan.org/"
PERL_MM_OPT=" INSTALLDIRS=site"
@INC:
/home/kent/perl5/perlbrew/perls/5.21.8-a/lib/site_perl/5.21.8/x86_64-linux
/home/kent/perl5/perlbrew/perls/5.21.8-a/lib/site_perl/5.21.8
/home/kent/perl5/perlbrew/perls/5.21.8-a/lib/5.21.8/x86_64-linux
/home/kent/perl5/perlbrew/perls/5.21.8-a/lib/5.21.8
.