Bot-BasicBot-Pluggable v1.30 Perl 5 v5.38.2 x86_64-linux-thread-multi

Status
Pass
From
Slaven Rezić
Dist
Bot-BasicBot-Pluggable v1.30
Platform
Perl 5 v5.38.2 x86_64-linux-thread-multi
Date
2024-09-29 22:20:20
ID
03c9dce4-7eb1-11ef-9052-3f3b6e8775ea
This distribution has been tested as part of the CPAN Testers
project, supporting the Perl programming language.  See
http://wiki.cpantesters.org/ for more information or email
questions to cpan-testers-discuss@perl.org


--
Dear David Precious,

This is a computer-generated report for Bot-BasicBot-Pluggable-1.30
on perl 5.38.2, created by CPAN-Reporter-1.2019.

Thank you for uploading your work to CPAN.  Congratulations!
All tests were successful.

Sections of this report:

    * Tester comments
    * Program output
    * Prerequisites
    * Environment and other context

------------------------------
TESTER COMMENTS
------------------------------

Additional comments from tester:

none provided

------------------------------
PROGRAM OUTPUT
------------------------------

Output from './Build test':

t/00bootstrap.t ........... ok
t/01module_base.t ......... ok
Loading Auth from Bot/BasicBot/Pluggable/Module/Auth.pm at /home/cpansand/.cpan/build/2024092921/Bot-BasicBot-Pluggable-1.30-1/blib/lib/Bot/BasicBot/Pluggable.pm line 104.
t/02module_auth.t ......... ok
t/03store.t ............... ok
t/03store_dbi.t ........... ok
t/03store_deep.t .......... ok
t/03store_memory.t ........ ok
t/03store_storable.t ...... ok
Loading Karma from Bot/BasicBot/Pluggable/Module/Karma.pm at /home/cpansand/.cpan/build/2024092921/Bot-BasicBot-Pluggable-1.30-1/blib/lib/Bot/BasicBot/Pluggable.pm line 104.
Use of uninitialized value $param in substitution (s///) at /home/cpansand/.cpan/build/2024092921/Bot-BasicBot-Pluggable-1.30-1/blib/lib/Bot/BasicBot/Pluggable/Module/Karma.pm line 65.
t/04karma.t ............... ok
Loading Infobot from Bot/BasicBot/Pluggable/Module/Infobot.pm at /home/cpansand/.cpan/build/2024092921/Bot-BasicBot-Pluggable-1.30-1/blib/lib/Bot/BasicBot/Pluggable.pm line 104.
t/05infobot.t ............. ok
Loading Title from Bot/BasicBot/Pluggable/Module/Title.pm at /home/cpansand/.cpan/build/2024092921/Bot-BasicBot-Pluggable-1.30-1/blib/lib/Bot/BasicBot/Pluggable.pm line 104.
Loading Infobot from Bot/BasicBot/Pluggable/Module/Infobot.pm at /home/cpansand/.cpan/build/2024092921/Bot-BasicBot-Pluggable-1.30-1/blib/lib/Bot/BasicBot/Pluggable.pm line 104.
t/06title.t ............... ok
Loading Auth from Bot/BasicBot/Pluggable/Module/Auth.pm at /home/cpansand/.cpan/build/2024092921/Bot-BasicBot-Pluggable-1.30-1/blib/lib/Bot/BasicBot/Pluggable.pm line 104.
Loading Loader from Bot/BasicBot/Pluggable/Module/Loader.pm at /home/cpansand/.cpan/build/2024092921/Bot-BasicBot-Pluggable-1.30-1/blib/lib/Bot/BasicBot/Pluggable.pm line 104.
t/07app_defaults.t ........ ok
Loading Karma from Bot/BasicBot/Pluggable/Module/Karma.pm at /home/cpansand/.cpan/build/2024092921/Bot-BasicBot-Pluggable-1.30-1/blib/lib/Bot/BasicBot/Pluggable.pm line 104.
Loading Auth from Bot/BasicBot/Pluggable/Module/Auth.pm at /home/cpansand/.cpan/build/2024092921/Bot-BasicBot-Pluggable-1.30-1/blib/lib/Bot/BasicBot/Pluggable.pm line 104.
t/08app_commandline.t ..... ok
Loading Loader from Bot/BasicBot/Pluggable/Module/Loader.pm at /home/cpansand/.cpan/build/2024092921/Bot-BasicBot-Pluggable-1.30-1/blib/lib/Bot/BasicBot/Pluggable.pm line 104.
Loading Karma from Bot/BasicBot/Pluggable/Module/Karma.pm at /home/cpansand/.cpan/build/2024092921/Bot-BasicBot-Pluggable-1.30-1/blib/lib/Bot/BasicBot/Pluggable.pm line 104.
Loading Auth from Bot/BasicBot/Pluggable/Module/Auth.pm at /home/cpansand/.cpan/build/2024092921/Bot-BasicBot-Pluggable-1.30-1/blib/lib/Bot/BasicBot/Pluggable.pm line 104.
t/09app_configfile.t ...... ok
t/100critic.t ............. skipped: Author test.  Set $ENV{TEST_AUTHOR} to a true value to run.
t/101tidy.t ............... skipped: Author test.  Set $ENV{TEST_AUTHOR} to a true value to run.
Loading Foo from ./Foo.pm at /home/cpansand/.cpan/build/2024092921/Bot-BasicBot-Pluggable-1.30-1/blib/lib/Bot/BasicBot/Pluggable.pm line 104.
Loading Bar from ./modules/Bar.pm at /home/cpansand/.cpan/build/2024092921/Bot-BasicBot-Pluggable-1.30-1/blib/lib/Bot/BasicBot/Pluggable.pm line 104.
t/10modules_not_in_inc.t .. ok
t/author-pod-syntax.t ..... skipped: these tests are for testing by the author
All tests successful.
Files=18, Tests=248,  4 wallclock secs ( 0.06 usr  0.03 sys +  3.21 cusr  1.14 csys =  4.44 CPU)
Result: PASS

------------------------------
PREREQUISITES
------------------------------

Prerequisite modules loaded:

requires:

    Module                       Need   Have    
    ---------------------------- ------ --------
    base                         0      2.27    
    Bot::BasicBot                0.91   0.93    
    Carp                         0      1.54    
    CGI                          0      4.65    
    Config::Find                 0      0.31    
    constant                     0      1.33    
    Crypt::SaltedHash            0.06   0.09    
    Data::Dumper                 0      2.188   
    DBI                          0      1.643   
    DBM::Deep                    0      2.0019  
    File::Copy                   0      2.41    
    File::Spec                   0      3.88    
    File::Temp                   0      0.2311  
    lib                          0      0.65    
    List::MoreUtils              0      0.430   
    Log::Log4perl                1.11   1.57    
    Log::Log4perl::Level         0      0       
    LWP::UserAgent               0      6.77    
    Module::Load                 0      0.36    
    Module::Pluggable            0      5.2     
    Moose                        0      2.2207  
    Moose::Util::TypeConstraints 0      2.2207  
    MooseX::Getopt               0      0.76    
    MooseX::Getopt::Dashes       0      0.76    
    MooseX::SimpleConfig         0      0.11    
    perl                         v5.8.0 5.038002
    POE                          0      1.370   
    Socket                       0      2.037   
    Storable                     0      3.32    
    strict                       0      1.12    
    Text::Unidecode              0      1.30    
    Try::Tiny                    0      0.31    
    URI                          0      5.28    
    URI::Find::Simple            0      1.07    
    URI::Title                   0      1.904   
    warnings                     0      1.65    
    XML::Feed                    0      0.65    

build_requires:

    Module                       Need   Have    
    ---------------------------- ------ --------
    DBD::SQLite                  0      1.74    
    FindBin                      0      1.53    
    Module::Build                0.28   0.4234  
    Test::More                   0      1.302204
    YAML::XS                     0      v0.901.0

configure_requires:

    Module                       Need   Have    
    ---------------------------- ------ --------
    ExtUtils::MakeMaker          0      7.70    
    Module::Build                0.28   0.4234  


------------------------------
ENVIRONMENT AND OTHER CONTEXT
------------------------------

Environment variables:

    LANG = en_AU.UTF-8
    PATH = /usr/local/bin:/usr/bin:/bin:/usr/local/sbin:/usr/sbin:/sbin:/home/cpansand/bin/linux-gnu:/home/cpansand/bin/sh:/home/cpansand/bin:/usr/games:/home/cpansand/devel:/home/eserte/src/srezic-misc/scripts
    PERL5LIB = /home/cpansand/.cpan/build/2024092921/XML-Feed-0.65-1/blib/arch:/home/cpansand/.cpan/build/2024092921/XML-Feed-0.65-1/blib/lib:/home/cpansand/.cpan/build/2024092921/URI-Fetch-0.15-1/blib/arch:/home/cpansand/.cpan/build/2024092921/URI-Fetch-0.15-1/blib/lib:/home/cpansand/.cpan/build/2024092921/Feed-Find-0.13-1/blib/arch:/home/cpansand/.cpan/build/2024092921/Feed-Find-0.13-1/blib/lib:/home/cpansand/.cpan/build/2024092921/Class-ErrorHandler-0.04-1/blib/arch:/home/cpansand/.cpan/build/2024092921/Class-ErrorHandler-0.04-1/blib/lib:/home/cpansand/.cpan/build/2024092921/URI-Title-1.904-1/blib/arch:/home/cpansand/.cpan/build/2024092921/URI-Title-1.904-1/blib/lib:/home/cpansand/.cpan/build/2024092921/MP3-Info-1.26-1/blib/arch:/home/cpansand/.cpan/build/2024092921/MP3-Info-1.26-1/blib/lib:/home/cpansand/.cpan/build/2024092921/URI-Find-Simple-1.07-1/blib/arch:/home/cpansand/.cpan/build/2024092921/URI-Find-Simple-1.07-1/blib/lib:/home/cpansand/.cpan/build/2024092921/MooseX-SimpleConfig-0.11-1/blib/arch:/home/cpansand/.cpan/build/2024092921/MooseX-SimpleConfig-0.11-1/blib/lib:/home/cpansand/.cpan/build/2024092921/MooseX-ConfigFromFile-0.14-3/blib/arch:/home/cpansand/.cpan/build/2024092921/MooseX-ConfigFromFile-0.14-3/blib/lib:/home/cpansand/.cpan/build/2024092921/MooseX-Types-Path-Tiny-0.012-3/blib/arch:/home/cpansand/.cpan/build/2024092921/MooseX-Types-Path-Tiny-0.012-3/blib/lib:/home/cpansand/.cpan/build/2024092921/Config-Find-0.31-1/blib/arch:/home/cpansand/.cpan/build/2024092921/Config-Find-0.31-1/blib/lib:/home/cpansand/.cpan/build/2024092921/Bot-BasicBot-0.93-1/blib/arch:/home/cpansand/.cpan/build/2024092921/Bot-BasicBot-0.93-1/blib/lib
    PERL5OPT = 
    PERL5_CPANPLUS_IS_RUNNING = 1436780
    PERL5_CPAN_IS_RUNNING = 1436780
    PERL5_CPAN_IS_RUNNING_IN_RECURSION = 1390523,1436780
    PERLDOC = -MPod::Perldoc::ToTextOverstrike
    PERL_BATCH = yes
    PERL_CANARY_STABILITY_NOPROMPT = 1
    PERL_CPAN_REPORTER_CONFIG = /var/tmp/cpansmoker-1023/2024092920/cpanreporter_000_config.ini
    PERL_EXTUTILS_AUTOINSTALL = --defaultdeps
    PERL_USE_UNSAFE_INC = 1
    SHELL = /usr/bin/zsh
    TERM = screen
    TMPDIR = /var/tmp/cpansmoker-1023/2024092920

Perl special variables (and OS-specific diagnostics, for MSWin32):

    $^X = /opt/perl-5.38.2t/bin/perl
    $UID/$EUID = 1023 / 1023
    $GID = 1023 1023
    $EGID = 1023 1023

Perl module toolchain versions installed:

    Module              Have    
    ------------------- --------
    CPAN                2.36    
    CPAN::Meta          2.150010
    Cwd                 3.89    
    ExtUtils::CBuilder  0.280238
    ExtUtils::Command   7.70    
    ExtUtils::Install   2.22    
    ExtUtils::MakeMaker 7.70    
    ExtUtils::Manifest  1.75    
    ExtUtils::ParseXS   3.51    
    File::Spec          3.88    
    JSON                4.10    
    JSON::PP            4.16    
    Module::Build       0.4234  
    Module::Signature   n/a     
    Parse::CPAN::Meta   2.150010
    Test2               1.302204
    Test::Harness       3.44    
    Test::More          1.302204
    YAML                1.31    
    YAML::Syck          1.34    
    version             0.9929  


--

Summary of my perl5 (revision 5 version 38 subversion 2) configuration:
   
  Platform:
    osname=linux
    osvers=6.6.8-100.fc38.x86_64
    archname=x86_64-linux-thread-multi
    uname='linux fedora39-2gb-hil 6.6.8-100.fc38.x86_64 #1 smp preempt_dynamic thu dec 21 04:01:45 utc 2023 x86_64 gnulinux '
    config_args='-ds -e -Dprefix=/opt/perl-5.38.2t -Dusethreads -Dcf_email=srezic@cpan.org'
    hint=recommended
    useposix=true
    d_sigaction=define
    useithreads=define
    usemultiplicity=define
    use64bitint=define
    use64bitall=define
    uselongdouble=undef
    usemymalloc=n
    default_inc_excludes_dot=define
  Compiler:
    cc='cc'
    ccflags ='-D_REENTRANT -D_GNU_SOURCE -fwrapv -fno-strict-aliasing -pipe -fstack-protector-strong -I/usr/local/include -D_LARGEFILE_SOURCE -D_FILE_OFFSET_BITS=64 -D_FORTIFY_SOURCE=2'
    optimize='-O2'
    cppflags='-D_REENTRANT -D_GNU_SOURCE -fwrapv -fno-strict-aliasing -pipe -fstack-protector-strong -I/usr/local/include'
    ccversion=''
    gccversion='13.2.1 20231205 (Red Hat 13.2.1-6)'
    gccosandvers=''
    intsize=4
    longsize=8
    ptrsize=8
    doublesize=8
    byteorder=12345678
    doublekind=3
    d_longlong=define
    longlongsize=8
    d_longdbl=define
    longdblsize=16
    longdblkind=3
    ivtype='long'
    ivsize=8
    nvtype='double'
    nvsize=8
    Off_t='off_t'
    lseeksize=8
    alignbytes=8
    prototype=define
  Linker and Libraries:
    ld='cc'
    ldflags =' -fstack-protector-strong -L/usr/local/lib'
    libpth=/usr/local/lib /usr/lib /usr/lib64 /usr/local/lib64
    libs=-lpthread -ldb -ldl -lm -lcrypt -lutil -lc
    perllibs=-lpthread -ldl -lm -lcrypt -lutil -lc
    libc=/lib/../lib64/libc.so.6
    so=so
    useshrplib=false
    libperl=libperl.a
    gnulibc_version='2.38'
  Dynamic Linking:
    dlsrc=dl_dlopen.xs
    dlext=so
    d_dlsymun=undef
    ccdlflags='-Wl,-E'
    cccdlflags='-fPIC'
    lddlflags='-shared -O2 -L/usr/local/lib -fstack-protector-strong'


Characteristics of this binary (from libperl): 
  Compile-time options:
    HAS_LONG_DOUBLE
    HAS_STRTOLD
    HAS_TIMES
    MULTIPLICITY
    PERLIO_LAYERS
    PERL_COPY_ON_WRITE
    PERL_DONT_CREATE_GVSV
    PERL_HASH_FUNC_SIPHASH13
    PERL_HASH_USE_SBOX32
    PERL_MALLOC_WRAP
    PERL_OP_PARENT
    PERL_PRESERVE_IVUV
    PERL_USE_SAFE_PUTENV
    USE_64_BIT_ALL
    USE_64_BIT_INT
    USE_ITHREADS
    USE_LARGE_FILES
    USE_LOCALE
    USE_LOCALE_COLLATE
    USE_LOCALE_CTYPE
    USE_LOCALE_NUMERIC
    USE_LOCALE_TIME
    USE_PERLIO
    USE_PERL_ATOF
    USE_REENTRANT_API
    USE_THREAD_SAFE_LOCALE
  Built under linux
  Compiled at Dec 27 2023 08:41:53
  %ENV:
    PERL5LIB="/home/cpansand/.cpan/build/2024092921/XML-Feed-0.65-1/blib/arch:/home/cpansand/.cpan/build/2024092921/XML-Feed-0.65-1/blib/lib:/home/cpansand/.cpan/build/2024092921/URI-Fetch-0.15-1/blib/arch:/home/cpansand/.cpan/build/2024092921/URI-Fetch-0.15-1/blib/lib:/home/cpansand/.cpan/build/2024092921/Feed-Find-0.13-1/blib/arch:/home/cpansand/.cpan/build/2024092921/Feed-Find-0.13-1/blib/lib:/home/cpansand/.cpan/build/2024092921/Class-ErrorHandler-0.04-1/blib/arch:/home/cpansand/.cpan/build/2024092921/Class-ErrorHandler-0.04-1/blib/lib:/home/cpansand/.cpan/build/2024092921/URI-Title-1.904-1/blib/arch:/home/cpansand/.cpan/build/2024092921/URI-Title-1.904-1/blib/lib:/home/cpansand/.cpan/build/2024092921/MP3-Info-1.26-1/blib/arch:/home/cpansand/.cpan/build/2024092921/MP3-Info-1.26-1/blib/lib:/home/cpansand/.cpan/build/2024092921/URI-Find-Simple-1.07-1/blib/arch:/home/cpansand/.cpan/build/2024092921/URI-Find-Simple-1.07-1/blib/lib:/home/cpansand/.cpan/build/2024092921/MooseX-SimpleConfig-0.11-1/blib/arch:/home/cpansand/.cpan/build/2024092921/MooseX-SimpleConfig-0.11-1/blib/lib:/home/cpansand/.cpan/build/2024092921/MooseX-ConfigFromFile-0.14-3/blib/arch:/home/cpansand/.cpan/build/2024092921/MooseX-ConfigFromFile-0.14-3/blib/lib:/home/cpansand/.cpan/build/2024092921/MooseX-Types-Path-Tiny-0.012-3/blib/arch:/home/cpansand/.cpan/build/2024092921/MooseX-Types-Path-Tiny-0.012-3/blib/lib:/home/cpansand/.cpan/build/2024092921/Config-Find-0.31-1/blib/arch:/home/cpansand/.cpan/build/2024092921/Config-Find-0.31-1/blib/lib:/home/cpansand/.cpan/build/2024092921/Bot-BasicBot-0.93-1/blib/arch:/home/cpansand/.cpan/build/2024092921/Bot-BasicBot-0.93-1/blib/lib"
    PERL5OPT=""
    PERL5_CPANPLUS_IS_RUNNING="1436780"
    PERL5_CPAN_IS_RUNNING="1436780"
    PERL5_CPAN_IS_RUNNING_IN_RECURSION="1390523,1436780"
    PERLDOC="-MPod::Perldoc::ToTextOverstrike"
    PERL_BATCH="yes"
    PERL_CANARY_STABILITY_NOPROMPT="1"
    PERL_CPAN_REPORTER_CONFIG="/var/tmp/cpansmoker-1023/2024092920/cpanreporter_000_config.ini"
    PERL_EXTUTILS_AUTOINSTALL="--defaultdeps"
    PERL_USE_UNSAFE_INC="1"
  @INC:
    /home/cpansand/.cpan/build/2024092921/XML-Feed-0.65-1/blib/arch
    /home/cpansand/.cpan/build/2024092921/XML-Feed-0.65-1/blib/lib
    /home/cpansand/.cpan/build/2024092921/URI-Fetch-0.15-1/blib/arch
    /home/cpansand/.cpan/build/2024092921/URI-Fetch-0.15-1/blib/lib
    /home/cpansand/.cpan/build/2024092921/Feed-Find-0.13-1/blib/arch
    /home/cpansand/.cpan/build/2024092921/Feed-Find-0.13-1/blib/lib
    /home/cpansand/.cpan/build/2024092921/Class-ErrorHandler-0.04-1/blib/arch
    /home/cpansand/.cpan/build/2024092921/Class-ErrorHandler-0.04-1/blib/lib
    /home/cpansand/.cpan/build/2024092921/URI-Title-1.904-1/blib/arch
    /home/cpansand/.cpan/build/2024092921/URI-Title-1.904-1/blib/lib
    /home/cpansand/.cpan/build/2024092921/MP3-Info-1.26-1/blib/arch
    /home/cpansand/.cpan/build/2024092921/MP3-Info-1.26-1/blib/lib
    /home/cpansand/.cpan/build/2024092921/URI-Find-Simple-1.07-1/blib/arch
    /home/cpansand/.cpan/build/2024092921/URI-Find-Simple-1.07-1/blib/lib
    /home/cpansand/.cpan/build/2024092921/MooseX-SimpleConfig-0.11-1/blib/arch
    /home/cpansand/.cpan/build/2024092921/MooseX-SimpleConfig-0.11-1/blib/lib
    /home/cpansand/.cpan/build/2024092921/MooseX-ConfigFromFile-0.14-3/blib/arch
    /home/cpansand/.cpan/build/2024092921/MooseX-ConfigFromFile-0.14-3/blib/lib
    /home/cpansand/.cpan/build/2024092921/MooseX-Types-Path-Tiny-0.012-3/blib/arch
    /home/cpansand/.cpan/build/2024092921/MooseX-Types-Path-Tiny-0.012-3/blib/lib
    /home/cpansand/.cpan/build/2024092921/Config-Find-0.31-1/blib/arch
    /home/cpansand/.cpan/build/2024092921/Config-Find-0.31-1/blib/lib
    /home/cpansand/.cpan/build/2024092921/Bot-BasicBot-0.93-1/blib/arch
    /home/cpansand/.cpan/build/2024092921/Bot-BasicBot-0.93-1/blib/lib
    /opt/perl-5.38.2t/lib/site_perl/5.38.2/x86_64-linux-thread-multi
    /opt/perl-5.38.2t/lib/site_perl/5.38.2
    /opt/perl-5.38.2t/lib/5.38.2/x86_64-linux-thread-multi
    /opt/perl-5.38.2t/lib/5.38.2
    .