Back
From: metabase:user:320bfe00-2aae-11df-837a-5e0a49663a4f
Subject: PASS Benchmark-Timer-0.7107 v5.25.8 GNU/Linux
Date: 2016-11-23T23:46:12Z
This distribution has been tested as part of the CPAN Testers
project, supporting the Perl programming language. See
http://wiki.cpantesters.org/ for more information or email
questions to cpan-testers-discuss@perl.org
--
Dear David Coppit,
This is a computer-generated report for Benchmark-Timer-0.7107
on perl 5.25.8, created by CPAN-Reporter-1.2018.
Thank you for uploading your work to CPAN. Congratulations!
All tests were successful.
Sections of this report:
* Tester comments
* Program output
* Prerequisites
* Environment and other context
------------------------------
TESTER COMMENTS
------------------------------
Additional comments from tester:
this report is from an automated smoke testing program
and was not reviewed by a human for accuracy
------------------------------
PROGRAM OUTPUT
------------------------------
Output from '/usr/bin/make test':
PERL_DL_NONLAZY=1 "/tmp/basesmoker-reloperl-R3kF/bin/perl" "-MExtUtils::Command::MM" "-MTest::Harness" "-e" "undef *Test::Harness::Switches; test_harness(1, 'blib/lib', 'blib/arch')" t/*.t
t/01_basic.t ........
1..11
ok 1 - use Benchmark::Timer;
ok 2 - Construct Benchmark::Timer
ok 3 - reset
ok 4 - Start/stop a tag
ok 5 - Nonzero single result
ok 6 - Multiple results
ok 7 - 'Array ref results' isa 'ARRAY'
ok 8 - tag data array
ok 9 - 'Array ref data' isa 'ARRAY'
ok 10 - all tags data array
ok 11 - 'all tags data ref' isa 'ARRAY'
ok
t/02_skip.t .........
1..5
ok 1 - Data size two tags
ok 2 - Data size skip 1
ok 3 - Data size 1 trial only
ok 4 - Data size no trials
ok 5 - Data size no trials (n+1)
ok
t/03_statistical.t .. skipped: Statistics::PointEstimation is not installed
t/04_reports.t ......
1..10
ok 1 - Start/stop a tag
ok 2 - Single timing report
ok 3 - Multiple timing report
ok 4 - Multiple timing report--scalar
ok 5 - Multiple timing report--hash
ok 6 - Single timing report--last tag used
ok 7 - Multiple timing report--scalar
ok 8 - Multiple timing report--hash
ok 9 - Multiple timing report--hash element 1
ok 10 - Multiple timing report--hash element 2
ok
t/99_errors.t .......
1..6
ok 1 - Must call start first
ok 2 - Out of sync
ok 3 - Argument skip 1
ok 4 - Argument skip 2
ok 5 - Argument skip 3
ok 6 - Invalid argument
ok
t/pod.t .............
1..2
ok 1 - POD test for blib/lib/Benchmark/delta.pl
ok 2 - POD test for blib/lib/Benchmark/Timer.pm
ok
All tests successful.
Files=6, Tests=34, 0 wallclock secs ( 0.04 usr 0.00 sys + 0.33 cusr 0.01 csys = 0.38 CPU)
Result: PASS
------------------------------
PREREQUISITES
------------------------------
Prerequisite modules loaded:
requires:
Module Need Have
------------------- ----- ---------
perl 5.005 5.025008
Time::HiRes 0 1.9740_03
build_requires:
Module Need Have
------------------- ----- ---------
ExtUtils::MakeMaker 6.36 7.24
Test::More 0 1.302062
URI::Escape 0 3.31
configure_requires:
Module Need Have
------------------- ----- ---------
ExtUtils::MakeMaker 6.36 7.24
URI::Escape 0 3.31
------------------------------
ENVIRONMENT AND OTHER CONTEXT
------------------------------
Environment variables:
AUTOMATED_TESTING = 1
LANG = en_US.UTF-8
LANGUAGE = en_US:en
PATH = /home/sand/bin:/usr/local/bin:/usr/bin:/bin:/usr/games:/usr/local/perl/bin:/usr/X11/bin:/sbin:/usr/sbin
PERL5LIB =
PERL5OPT =
PERL5_CPANPLUS_IS_RUNNING = 7644
PERL5_CPAN_IS_RUNNING = 7644
PERL_CANARY_STABILITY_NOPROMPT = 1
PERL_MM_USE_DEFAULT = 1
SHELL = /usr/bin/zsh
TERM = screen
Perl special variables (and OS-specific diagnostics, for MSWin32):
$^X = /tmp/basesmoker-reloperl-R3kF/bin/perl
$UID/$EUID = 1005 / 1005
$GID = 1005 1005
$EGID = 1005 1005
Perl module toolchain versions installed:
Module Have
------------------- ----------
CPAN 2.15
CPAN::Meta 2.150010
Cwd 3.66
ExtUtils::CBuilder 0.280225
ExtUtils::Command 7.24
ExtUtils::Install 2.04
ExtUtils::MakeMaker 7.24
ExtUtils::Manifest 1.70
ExtUtils::ParseXS 3.33
File::Spec 3.66
JSON 2.90
JSON::PP 2.27400_02
Module::Build 0.4220
Module::Signature 0.81
Parse::CPAN::Meta 2.150010
Test::Harness 3.36_01
Test::More 1.302062
YAML 1.19
YAML::Syck 1.29
version 0.9917
--
Summary of my perl5 (revision 5 version 25 subversion 8) configuration:
Derived from: a62e8919a5bc84aae5f5c90173723bf81f449644
Platform:
osname=linux
osvers=4.7.0-1-amd64
archname=x86_64-linux
uname='linux k83 4.7.0-1-amd64 #1 smp debian 4.7.8-1 (2016-10-19) x86_64 gnulinux '
config_args='-Dprefix=/home/sand/src/perl/repoperls/installed-perls/perl/v5.25.7-9-ga62e891/79cc -Dmyhostname=k83 -Dinstallusrbinperl=n -Uversiononly -Dusedevel -des -Ui_db -Dlibswanted=cl pthread socket inet nsl gdbm dbm malloc dl ld sun m crypt sec util c cposix posix ucb BSD gdbm_compat -Uuseithreads -Uuselongdouble -DDEBUGGING=-g'
hint=recommended
useposix=true
d_sigaction=define
useithreads=undef
usemultiplicity=undef
use64bitint=define
use64bitall=define
uselongdouble=undef
usemymalloc=n
bincompat5005=undef
Compiler:
cc='cc'
ccflags ='-fwrapv -fno-strict-aliasing -pipe -fstack-protector-strong -I/usr/local/include -D_LARGEFILE_SOURCE -D_FILE_OFFSET_BITS=64'
optimize='-O2 -g'
cppflags='-fwrapv -fno-strict-aliasing -pipe -fstack-protector-strong -I/usr/local/include'
ccversion=''
gccversion='6.2.0 20160830'
gccosandvers=''
intsize=4
longsize=8
ptrsize=8
doublesize=8
byteorder=12345678
doublekind=3
d_longlong=define
longlongsize=8
d_longdbl=define
longdblsize=16
longdblkind=3
ivtype='long'
ivsize=8
nvtype='double'
nvsize=8
Off_t='off_t'
lseeksize=8
alignbytes=8
prototype=define
Linker and Libraries:
ld='cc'
ldflags =' -fstack-protector-strong -L/usr/local/lib'
libpth=/usr/local/lib /usr/lib/gcc/x86_64-linux-gnu/6/include-fixed /usr/include/x86_64-linux-gnu /usr/lib /lib/x86_64-linux-gnu /lib/../lib /usr/lib/x86_64-linux-gnu /usr/lib/../lib /lib
libs=-lpthread -lnsl -lgdbm -ldl -lm -lcrypt -lutil -lc -lgdbm_compat
perllibs=-lpthread -lnsl -ldl -lm -lcrypt -lutil -lc
libc=libc-2.24.so
so=so
useshrplib=false
libperl=libperl.a
gnulibc_version='2.24'
Dynamic Linking:
dlsrc=dl_dlopen.xs
dlext=so
d_dlsymun=undef
ccdlflags='-Wl,-E'
cccdlflags='-fPIC'
lddlflags='-shared -O2 -g -L/usr/local/lib -fstack-protector-strong'
Characteristics of this binary (from libperl):
Compile-time options:
HAS_TIMES
PERLIO_LAYERS
PERL_COPY_ON_WRITE
PERL_DONT_CREATE_GVSV
PERL_HASH_FUNC_ONE_AT_A_TIME_HARD
PERL_MALLOC_WRAP
PERL_OP_PARENT
PERL_PRESERVE_IVUV
PERL_USE_DEVEL
USE_64_BIT_ALL
USE_64_BIT_INT
USE_LARGE_FILES
USE_LOCALE
USE_LOCALE_COLLATE
USE_LOCALE_CTYPE
USE_LOCALE_NUMERIC
USE_LOCALE_TIME
USE_PERLIO
USE_PERL_ATOF
Locally applied patches:
uncommitted-changes
Built under linux
Compiled at Nov 22 2016 20:05:54
%ENV:
PERL5LIB=""
PERL5OPT=""
PERL5_CPANPLUS_IS_RUNNING="7644"
PERL5_CPAN_IS_RUNNING="7644"
PERL_CANARY_STABILITY_NOPROMPT="1"
PERL_MM_USE_DEFAULT="1"
@INC:
/home/sand/src/perl/repoperls/installed-perls/perl/v5.25.7-9-ga62e891/79cc/lib/site_perl/5.25.8/x86_64-linux
/home/sand/src/perl/repoperls/installed-perls/perl/v5.25.7-9-ga62e891/79cc/lib/site_perl/5.25.8
/home/sand/src/perl/repoperls/installed-perls/perl/v5.25.7-9-ga62e891/79cc/lib/5.25.8/x86_64-linux
/home/sand/src/perl/repoperls/installed-perls/perl/v5.25.7-9-ga62e891/79cc/lib/5.25.8
.