HTTP-Session2 v1.10 Perl 5 v5.43.3 x86_64-linux

Status
Pass
From
Carlos Guevara
Dist
HTTP-Session2 v1.10
Platform
Perl 5 v5.43.3 x86_64-linux
Date
2025-09-02 07:04:05
ID
03bc0820-87cb-11f0-b0f1-85a84f26e12c
This distribution has been tested as part of the CPAN Testers
project, supporting the Perl programming language.  See
http://wiki.cpantesters.org/ for more information or email
questions to cpan-testers-discuss@perl.org


--
Dear Tokuhiro Matsuno'xmp,

This is a computer-generated report for HTTP-Session2-1.10
on perl 5.43.3, created by CPAN-Reporter-1.2020.

Thank you for uploading your work to CPAN.  Congratulations!
All tests were successful.

Sections of this report:

    * Tester comments
    * Program output
    * Prerequisites
    * Environment and other context

------------------------------
TESTER COMMENTS
------------------------------

Additional comments from tester:

this report is from an automated smoke testing program
and was not reviewed by a human for accuracy

------------------------------
PROGRAM OUTPUT
------------------------------

Output from './Build test':

t/00_compile.t .............. ok
Secret string too short at /home/cpan/.cpan/build/HTTP-Session2-1.10-0/blib/lib/HTTP/Session2/Base.pm line 79.
	HTTP::Session2::Base::__ANON__(HTTP::Session2::ServerStore=HASH(0x2bd50010), "s3cret") called at t/01_server_side.t line 23
	main::__ANON__("client -> server: request without cookie", CODE(0x2bd4f758)) called at t/01_server_side.t line 25
	main::__ANON__() called at /home/cpan/bin/perl/lib/5.43.3/Test/Builder.pm line 368
	eval {...} called at /home/cpan/bin/perl/lib/5.43.3/Test/Builder.pm line 368
	Test::Builder::subtest(Test::Builder=HASH(0x2b4e76c8), "First request", CODE(0x2ba76a00)) called at /home/cpan/bin/perl/lib/5.43.3/Test/More.pm line 831
	Test::More::subtest("First request", CODE(0x2ba76a00)) called at t/01_server_side.t line 11
	main::scenario("First request", CODE(0x2ba76a00)) called at t/01_server_side.t line 31
Secret string too short at /home/cpan/.cpan/build/HTTP-Session2-1.10-0/blib/lib/HTTP/Session2/Base.pm line 79.
	HTTP::Session2::Base::__ANON__(HTTP::Session2::ServerStore=HASH(0x2bd4f698), "s3cret") called at t/01_server_side.t line 40
	main::__ANON__("client -> server: request without cookie", CODE(0x2bd51ed0)) called at t/01_server_side.t line 42
	main::__ANON__() called at /home/cpan/bin/perl/lib/5.43.3/Test/Builder.pm line 368
	eval {...} called at /home/cpan/bin/perl/lib/5.43.3/Test/Builder.pm line 368
	Test::Builder::subtest(Test::Builder=HASH(0x2b4e76c8), "Store something without login", CODE(0x2bb5ee60)) called at /home/cpan/bin/perl/lib/5.43.3/Test/More.pm line 831
	Test::More::subtest("Store something without login", CODE(0x2bb5ee60)) called at t/01_server_side.t line 11
	main::scenario("Store something without login", CODE(0x2bb5ee60)) called at t/01_server_side.t line 58
Secret string too short at /home/cpan/.cpan/build/HTTP-Session2-1.10-0/blib/lib/HTTP/Session2/Base.pm line 79.
	HTTP::Session2::Base::__ANON__(HTTP::Session2::ServerStore=HASH(0x2bd58e40), "s3cret") called at t/01_server_side.t line 70
	main::__ANON__("client -> server: request without cookie", CODE(0x2bd4f470)) called at t/01_server_side.t line 72
	main::__ANON__() called at /home/cpan/bin/perl/lib/5.43.3/Test/Builder.pm line 368
	eval {...} called at /home/cpan/bin/perl/lib/5.43.3/Test/Builder.pm line 368
	Test::Builder::subtest(Test::Builder=HASH(0x2b4e76c8), "Login", CODE(0x2ba3ec88)) called at /home/cpan/bin/perl/lib/5.43.3/Test/More.pm line 831
	Test::More::subtest("Login", CODE(0x2ba3ec88)) called at t/01_server_side.t line 11
	main::scenario("Login", CODE(0x2ba3ec88)) called at t/01_server_side.t line 96
Secret string too short at /home/cpan/.cpan/build/HTTP-Session2-1.10-0/blib/lib/HTTP/Session2/Base.pm line 79.
	HTTP::Session2::Base::__ANON__(HTTP::Session2::ServerStore=HASH(0x2ba3f000), "s3cret") called at t/01_server_side.t line 108
	main::__ANON__("client -> server: request without cookie", CODE(0x2bd5dc90)) called at t/01_server_side.t line 110
	main::__ANON__() called at /home/cpan/bin/perl/lib/5.43.3/Test/Builder.pm line 368
	eval {...} called at /home/cpan/bin/perl/lib/5.43.3/Test/Builder.pm line 368
	Test::Builder::subtest(Test::Builder=HASH(0x2b4e76c8), "In a login session", CODE(0x2ba3f348)) called at /home/cpan/bin/perl/lib/5.43.3/Test/More.pm line 831
	Test::More::subtest("In a login session", CODE(0x2ba3f348)) called at t/01_server_side.t line 11
	main::scenario("In a login session", CODE(0x2ba3f348)) called at t/01_server_side.t line 124
Secret string too short at /home/cpan/.cpan/build/HTTP-Session2-1.10-0/blib/lib/HTTP/Session2/Base.pm line 79.
	HTTP::Session2::Base::__ANON__(HTTP::Session2::ServerStore=HASH(0x2bd4f368), "s3cret") called at t/01_server_side.t line 136
	main::__ANON__("client -> server: request without cookie", CODE(0x2bd681e0)) called at t/01_server_side.t line 138
	main::__ANON__() called at /home/cpan/bin/perl/lib/5.43.3/Test/Builder.pm line 368
	eval {...} called at /home/cpan/bin/perl/lib/5.43.3/Test/Builder.pm line 368
	Test::Builder::subtest(Test::Builder=HASH(0x2b4e76c8), "Invalid session id", CODE(0x2ba3fa20)) called at /home/cpan/bin/perl/lib/5.43.3/Test/More.pm line 831
	Test::More::subtest("Invalid session id", CODE(0x2ba3fa20)) called at t/01_server_side.t line 11
	main::scenario("Invalid session id", CODE(0x2ba3fa20)) called at t/01_server_side.t line 153
Secret string too short at /home/cpan/.cpan/build/HTTP-Session2-1.10-0/blib/lib/HTTP/Session2/Base.pm line 79.
	HTTP::Session2::Base::__ANON__(HTTP::Session2::ServerStore=HASH(0x2bd5d948), "s3cret") called at t/01_server_side.t line 160
	main::__ANON__("client -> server: request without cookie", CODE(0x2b964b18)) called at t/01_server_side.t line 167
	main::__ANON__() called at /home/cpan/bin/perl/lib/5.43.3/Test/Builder.pm line 368
	eval {...} called at /home/cpan/bin/perl/lib/5.43.3/Test/Builder.pm line 368
	Test::Builder::subtest(Test::Builder=HASH(0x2b4e76c8), "Logout", CODE(0x2bd3e810)) called at /home/cpan/bin/perl/lib/5.43.3/Test/More.pm line 831
	Test::More::subtest("Logout", CODE(0x2bd3e810)) called at t/01_server_side.t line 11
	main::scenario("Logout", CODE(0x2bd3e810)) called at t/01_server_side.t line 182
t/01_server_side.t .......... ok
Secret string too short at /home/cpan/.cpan/build/HTTP-Session2-1.10-0/blib/lib/HTTP/Session2/Base.pm line 79.
	HTTP::Session2::Base::__ANON__(HTTP::Session2::ClientStore=HASH(0x1728380), "s3cret") called at t/02_client_side.t line 17
	main::__ANON__("client -> server: request without cookie", CODE(0x1723210)) called at t/02_client_side.t line 22
	main::__ANON__() called at /home/cpan/bin/perl/lib/5.43.3/Test/Builder.pm line 368
	eval {...} called at /home/cpan/bin/perl/lib/5.43.3/Test/Builder.pm line 368
	Test::Builder::subtest(Test::Builder=HASH(0xe958a8), "First request", CODE(0xe48978)) called at /home/cpan/bin/perl/lib/5.43.3/Test/More.pm line 831
	Test::More::subtest("First request", CODE(0xe48978)) called at t/02_client_side.t line 9
	main::scenario("First request", CODE(0xe48978)) called at t/02_client_side.t line 28
Secret string too short at /home/cpan/.cpan/build/HTTP-Session2-1.10-0/blib/lib/HTTP/Session2/Base.pm line 79.
	HTTP::Session2::Base::__ANON__(HTTP::Session2::ClientStore=HASH(0x17288c0), "s3cret") called at t/02_client_side.t line 33
	main::__ANON__("client -> server: request without cookie", CODE(0x1728278)) called at t/02_client_side.t line 38
	main::__ANON__() called at /home/cpan/bin/perl/lib/5.43.3/Test/Builder.pm line 368
	eval {...} called at /home/cpan/bin/perl/lib/5.43.3/Test/Builder.pm line 368
	Test::Builder::subtest(Test::Builder=HASH(0xe958a8), "Store something without login", CODE(0x141a120)) called at /home/cpan/bin/perl/lib/5.43.3/Test/More.pm line 831
	Test::More::subtest("Store something without login", CODE(0x141a120)) called at t/02_client_side.t line 9
	main::scenario("Store something without login", CODE(0x141a120)) called at t/02_client_side.t line 54
Do not use HTTP::Session2::ClientStore. Use HTTP::Session2::ServerStore or HTTP::Session2::ClientStore2 instead. at /home/cpan/.cpan/build/HTTP-Session2-1.10-0/blib/lib/HTTP/Session2/ClientStore.pm line 25.
Secret string too short at /home/cpan/.cpan/build/HTTP-Session2-1.10-0/blib/lib/HTTP/Session2/Base.pm line 79.
	HTTP::Session2::Base::__ANON__(HTTP::Session2::ClientStore=HASH(0x172fac0), "s3cret") called at t/02_client_side.t line 60
	main::__ANON__("client -> server: request without cookie", CODE(0x17231f8)) called at t/02_client_side.t line 66
	main::__ANON__() called at /home/cpan/bin/perl/lib/5.43.3/Test/Builder.pm line 368
	eval {...} called at /home/cpan/bin/perl/lib/5.43.3/Test/Builder.pm line 368
	Test::Builder::subtest(Test::Builder=HASH(0xe958a8), "Login", CODE(0x17116a0)) called at /home/cpan/bin/perl/lib/5.43.3/Test/More.pm line 831
	Test::More::subtest("Login", CODE(0x17116a0)) called at t/02_client_side.t line 9
	main::scenario("Login", CODE(0x17116a0)) called at t/02_client_side.t line 86
Do not use HTTP::Session2::ClientStore. Use HTTP::Session2::ServerStore or HTTP::Session2::ClientStore2 instead. at /home/cpan/.cpan/build/HTTP-Session2-1.10-0/blib/lib/HTTP/Session2/ClientStore.pm line 35.
Do not use HTTP::Session2::ClientStore. Use HTTP::Session2::ServerStore or HTTP::Session2::ClientStore2 instead. at /home/cpan/.cpan/build/HTTP-Session2-1.10-0/blib/lib/HTTP/Session2/ClientStore.pm line 25.
Secret string too short at /home/cpan/.cpan/build/HTTP-Session2-1.10-0/blib/lib/HTTP/Session2/Base.pm line 79.
	HTTP::Session2::Base::__ANON__(HTTP::Session2::ClientStore=HASH(0x1734b08), "s3cret") called at t/02_client_side.t line 92
	main::__ANON__("client -> server: request without cookie", CODE(0x1744ac8)) called at t/02_client_side.t line 98
	main::__ANON__() called at /home/cpan/bin/perl/lib/5.43.3/Test/Builder.pm line 368
	eval {...} called at /home/cpan/bin/perl/lib/5.43.3/Test/Builder.pm line 368
	Test::Builder::subtest(Test::Builder=HASH(0xe958a8), "In a login session", CODE(0x1711b68)) called at /home/cpan/bin/perl/lib/5.43.3/Test/More.pm line 831
	Test::More::subtest("In a login session", CODE(0x1711b68)) called at t/02_client_side.t line 9
	main::scenario("In a login session", CODE(0x1711b68)) called at t/02_client_side.t line 107
Do not use HTTP::Session2::ClientStore. Use HTTP::Session2::ServerStore or HTTP::Session2::ClientStore2 instead. at /home/cpan/.cpan/build/HTTP-Session2-1.10-0/blib/lib/HTTP/Session2/ClientStore.pm line 35.
Do not use HTTP::Session2::ClientStore. Use HTTP::Session2::ServerStore or HTTP::Session2::ClientStore2 instead. at /home/cpan/.cpan/build/HTTP-Session2-1.10-0/blib/lib/HTTP/Session2/ClientStore.pm line 25.
Secret string too short at /home/cpan/.cpan/build/HTTP-Session2-1.10-0/blib/lib/HTTP/Session2/Base.pm line 79.
	HTTP::Session2::Base::__ANON__(HTTP::Session2::ClientStore=HASH(0x1740ae0), "s3cret") called at t/02_client_side.t line 112
	main::__ANON__("client -> server: request without cookie", CODE(0x172fee0)) called at t/02_client_side.t line 118
	main::__ANON__() called at /home/cpan/bin/perl/lib/5.43.3/Test/Builder.pm line 368
	eval {...} called at /home/cpan/bin/perl/lib/5.43.3/Test/Builder.pm line 368
	Test::Builder::subtest(Test::Builder=HASH(0xe958a8), "Logout", CODE(0x1711be0)) called at /home/cpan/bin/perl/lib/5.43.3/Test/More.pm line 831
	Test::More::subtest("Logout", CODE(0x1711be0)) called at t/02_client_side.t line 9
	main::scenario("Logout", CODE(0x1711be0)) called at t/02_client_side.t line 131
t/02_client_side.t .......... ok
Secret string too short at /home/cpan/.cpan/build/HTTP-Session2-1.10-0/blib/lib/HTTP/Session2/Base.pm line 79.
	HTTP::Session2::Base::__ANON__(HTTP::Session2::ServerStore=HASH(0x33a8a1a8), "s3cret") called at t/03_mech.t line 121
	main::server_session(HASH(0x339bd0c0)) called at t/03_mech.t line 17
	main::__ANON__(HASH(0x339bd0c0)) called at /home/cpan/bin/perl/lib/site_perl/5.43.3/Test/WWW/Mechanize/PSGI.pm line 46
	Test::WWW::Mechanize::PSGI::try {...} () called at /home/cpan/bin/perl/lib/site_perl/5.43.3/Try/Tiny.pm line 102
	eval {...} called at /home/cpan/bin/perl/lib/site_perl/5.43.3/Try/Tiny.pm line 93
	Try::Tiny::try(CODE(0x33a89f68), Try::Tiny::Catch=REF(0x339152e0)) called at /home/cpan/bin/perl/lib/site_perl/5.43.3/Test/WWW/Mechanize/PSGI.pm line 53
	Test::WWW::Mechanize::PSGI::simple_request(Test::WWW::Mechanize::PSGI=HASH(0x33914e78), HTTP::Request=HASH(0x339e6390), undef, undef) called at /home/cpan/bin/perl/lib/site_perl/5.43.3/LWP/UserAgent.pm line 310
	LWP::UserAgent::request(Test::WWW::Mechanize::PSGI=HASH(0x33914e78), HTTP::Request=HASH(0x339e6390)) called at /home/cpan/bin/perl/lib/site_perl/5.43.3/WWW/Mechanize.pm line 1699
	WWW::Mechanize::_make_request(Test::WWW::Mechanize::PSGI=HASH(0x33914e78), HTTP::Request=HASH(0x339e6390)) called at /home/cpan/bin/perl/lib/site_perl/5.43.3/WWW/Mechanize.pm line 1534
	WWW::Mechanize::request(Test::WWW::Mechanize::PSGI=HASH(0x33914e78), HTTP::Request=HASH(0x339e6390)) called at /home/cpan/bin/perl/lib/site_perl/5.43.3/LWP/UserAgent.pm line 454
	LWP::UserAgent::get(Test::WWW::Mechanize::PSGI=HASH(0x33914e78), "/") called at /home/cpan/bin/perl/lib/site_perl/5.43.3/WWW/Mechanize.pm line 124
	WWW::Mechanize::get(Test::WWW::Mechanize::PSGI=HASH(0x33914e78), "/") called at /home/cpan/bin/perl/lib/site_perl/5.43.3/Test/WWW/Mechanize.pm line 192
	Test::WWW::Mechanize::get_ok(Test::WWW::Mechanize::PSGI=HASH(0x33914e78), "/") called at t/03_mech.t line 74
Secret string too short at /home/cpan/.cpan/build/HTTP-Session2-1.10-0/blib/lib/HTTP/Session2/Base.pm line 79.
	HTTP::Session2::Base::__ANON__(HTTP::Session2::ServerStore=HASH(0x33a8ae38), "s3cret") called at t/03_mech.t line 121
	main::server_session(HASH(0x33a8aaf0)) called at t/03_mech.t line 17
	main::__ANON__(HASH(0x33a8aaf0)) called at /home/cpan/bin/perl/lib/site_perl/5.43.3/Test/WWW/Mechanize/PSGI.pm line 46
	Test::WWW::Mechanize::PSGI::try {...} () called at /home/cpan/bin/perl/lib/site_perl/5.43.3/Try/Tiny.pm line 102
	eval {...} called at /home/cpan/bin/perl/lib/site_perl/5.43.3/Try/Tiny.pm line 93
	Try::Tiny::try(CODE(0x33a8a868), Try::Tiny::Catch=REF(0x33a89fe0)) called at /home/cpan/bin/perl/lib/site_perl/5.43.3/Test/WWW/Mechanize/PSGI.pm line 53
	Test::WWW::Mechanize::PSGI::simple_request(Test::WWW::Mechanize::PSGI=HASH(0x33914e78), HTTP::Request=HASH(0x33a8a0b8), undef, undef) called at /home/cpan/bin/perl/lib/site_perl/5.43.3/LWP/UserAgent.pm line 310
	LWP::UserAgent::request(Test::WWW::Mechanize::PSGI=HASH(0x33914e78), HTTP::Request=HASH(0x33a8a0b8)) called at /home/cpan/bin/perl/lib/site_perl/5.43.3/WWW/Mechanize.pm line 1699
	WWW::Mechanize::_make_request(Test::WWW::Mechanize::PSGI=HASH(0x33914e78), HTTP::Request=HASH(0x33a8a0b8)) called at /home/cpan/bin/perl/lib/site_perl/5.43.3/WWW/Mechanize.pm line 1534
	WWW::Mechanize::request(Test::WWW::Mechanize::PSGI=HASH(0x33914e78), HTTP::Request=HASH(0x33a8a0b8)) called at /home/cpan/bin/perl/lib/site_perl/5.43.3/LWP/UserAgent.pm line 500
	LWP::UserAgent::post(Test::WWW::Mechanize::PSGI=HASH(0x33914e78), "http://localhost/wishlist?foo", HASH(0x336116b0)) called at /home/cpan/bin/perl/lib/site_perl/5.43.3/WWW/Mechanize.pm line 136
	WWW::Mechanize::post(Test::WWW::Mechanize::PSGI=HASH(0x33914e78), "/wishlist?foo", HASH(0x336116b0)) called at /home/cpan/bin/perl/lib/site_perl/5.43.3/Test/WWW/Mechanize.pm line 321
	Test::WWW::Mechanize::post_ok(Test::WWW::Mechanize::PSGI=HASH(0x33914e78), "/wishlist?foo") called at t/03_mech.t line 75
Secret string too short at /home/cpan/.cpan/build/HTTP-Session2-1.10-0/blib/lib/HTTP/Session2/Base.pm line 79.
	HTTP::Session2::Base::__ANON__(HTTP::Session2::ServerStore=HASH(0x33a8ab38), "s3cret") called at t/03_mech.t line 121
	main::server_session(HASH(0x33a90180)) called at t/03_mech.t line 17
	main::__ANON__(HASH(0x33a90180)) called at /home/cpan/bin/perl/lib/site_perl/5.43.3/Test/WWW/Mechanize/PSGI.pm line 46
	Test::WWW::Mechanize::PSGI::try {...} () called at /home/cpan/bin/perl/lib/site_perl/5.43.3/Try/Tiny.pm line 102
	eval {...} called at /home/cpan/bin/perl/lib/site_perl/5.43.3/Try/Tiny.pm line 93
	Try::Tiny::try(CODE(0x33a8ac40), Try::Tiny::Catch=REF(0x33a8ad00)) called at /home/cpan/bin/perl/lib/site_perl/5.43.3/Test/WWW/Mechanize/PSGI.pm line 53
	Test::WWW::Mechanize::PSGI::simple_request(Test::WWW::Mechanize::PSGI=HASH(0x33914e78), HTTP::Request=HASH(0x339429a8), undef, undef) called at /home/cpan/bin/perl/lib/site_perl/5.43.3/LWP/UserAgent.pm line 310
	LWP::UserAgent::request(Test::WWW::Mechanize::PSGI=HASH(0x33914e78), HTTP::Request=HASH(0x339429a8)) called at /home/cpan/bin/perl/lib/site_perl/5.43.3/WWW/Mechanize.pm line 1699
	WWW::Mechanize::_make_request(Test::WWW::Mechanize::PSGI=HASH(0x33914e78), HTTP::Request=HASH(0x339429a8)) called at /home/cpan/bin/perl/lib/site_perl/5.43.3/WWW/Mechanize.pm line 1534
	WWW::Mechanize::request(Test::WWW::Mechanize::PSGI=HASH(0x33914e78), HTTP::Request=HASH(0x339429a8)) called at /home/cpan/bin/perl/lib/site_perl/5.43.3/LWP/UserAgent.pm line 454
	LWP::UserAgent::get(Test::WWW::Mechanize::PSGI=HASH(0x33914e78), "http://localhost/wishlist") called at /home/cpan/bin/perl/lib/site_perl/5.43.3/WWW/Mechanize.pm line 124
	WWW::Mechanize::get(Test::WWW::Mechanize::PSGI=HASH(0x33914e78), "/wishlist") called at /home/cpan/bin/perl/lib/site_perl/5.43.3/Test/WWW/Mechanize.pm line 192
	Test::WWW::Mechanize::get_ok(Test::WWW::Mechanize::PSGI=HASH(0x33914e78), "/wishlist") called at t/03_mech.t line 76
Secret string too short at /home/cpan/.cpan/build/HTTP-Session2-1.10-0/blib/lib/HTTP/Session2/Base.pm line 79.
	HTTP::Session2::Base::__ANON__(HTTP::Session2::ServerStore=HASH(0x33a90930), "s3cret") called at t/03_mech.t line 121
	main::server_session(HASH(0x33a8fd48)) called at t/03_mech.t line 17
	main::__ANON__(HASH(0x33a8fd48)) called at /home/cpan/bin/perl/lib/site_perl/5.43.3/Test/WWW/Mechanize/PSGI.pm line 46
	Test::WWW::Mechanize::PSGI::try {...} () called at /home/cpan/bin/perl/lib/site_perl/5.43.3/Try/Tiny.pm line 102
	eval {...} called at /home/cpan/bin/perl/lib/site_perl/5.43.3/Try/Tiny.pm line 93
	Try::Tiny::try(CODE(0x33a8fe80), Try::Tiny::Catch=REF(0x33a8fc58)) called at /home/cpan/bin/perl/lib/site_perl/5.43.3/Test/WWW/Mechanize/PSGI.pm line 53
	Test::WWW::Mechanize::PSGI::simple_request(Test::WWW::Mechanize::PSGI=HASH(0x33914e78), HTTP::Request=HASH(0x33a8fef8), undef, undef) called at /home/cpan/bin/perl/lib/site_perl/5.43.3/LWP/UserAgent.pm line 310
	LWP::UserAgent::request(Test::WWW::Mechanize::PSGI=HASH(0x33914e78), HTTP::Request=HASH(0x33a8fef8)) called at /home/cpan/bin/perl/lib/site_perl/5.43.3/WWW/Mechanize.pm line 1699
	WWW::Mechanize::_make_request(Test::WWW::Mechanize::PSGI=HASH(0x33914e78), HTTP::Request=HASH(0x33a8fef8)) called at /home/cpan/bin/perl/lib/site_perl/5.43.3/WWW/Mechanize.pm line 1534
	WWW::Mechanize::request(Test::WWW::Mechanize::PSGI=HASH(0x33914e78), HTTP::Request=HASH(0x33a8fef8)) called at /home/cpan/bin/perl/lib/site_perl/5.43.3/LWP/UserAgent.pm line 500
	LWP::UserAgent::post(Test::WWW::Mechanize::PSGI=HASH(0x33914e78), "http://localhost/wishlist?bar") called at /home/cpan/bin/perl/lib/site_perl/5.43.3/WWW/Mechanize.pm line 136
	WWW::Mechanize::post(Test::WWW::Mechanize::PSGI=HASH(0x33914e78), "/wishlist?bar") called at t/03_mech.t line 78
Secret string too short at /home/cpan/.cpan/build/HTTP-Session2-1.10-0/blib/lib/HTTP/Session2/Base.pm line 79.
	HTTP::Session2::Base::__ANON__(HTTP::Session2::ServerStore=HASH(0x33aa6eb8), "s3cret") called at t/03_mech.t line 121
	main::server_session(HASH(0x33aa6f30)) called at t/03_mech.t line 17
	main::__ANON__(HASH(0x33aa6f30)) called at /home/cpan/bin/perl/lib/site_perl/5.43.3/Test/WWW/Mechanize/PSGI.pm line 46
	Test::WWW::Mechanize::PSGI::try {...} () called at /home/cpan/bin/perl/lib/site_perl/5.43.3/Try/Tiny.pm line 102
	eval {...} called at /home/cpan/bin/perl/lib/site_perl/5.43.3/Try/Tiny.pm line 93
	Try::Tiny::try(CODE(0x33a90588), Try::Tiny::Catch=REF(0x33a908d0)) called at /home/cpan/bin/perl/lib/site_perl/5.43.3/Test/WWW/Mechanize/PSGI.pm line 53
	Test::WWW::Mechanize::PSGI::simple_request(Test::WWW::Mechanize::PSGI=HASH(0x33914e78), HTTP::Request=HASH(0x33a90270), undef, undef) called at /home/cpan/bin/perl/lib/site_perl/5.43.3/LWP/UserAgent.pm line 310
	LWP::UserAgent::request(Test::WWW::Mechanize::PSGI=HASH(0x33914e78), HTTP::Request=HASH(0x33a90270)) called at /home/cpan/bin/perl/lib/site_perl/5.43.3/WWW/Mechanize.pm line 1699
	WWW::Mechanize::_make_request(Test::WWW::Mechanize::PSGI=HASH(0x33914e78), HTTP::Request=HASH(0x33a90270)) called at /home/cpan/bin/perl/lib/site_perl/5.43.3/WWW/Mechanize.pm line 1534
	WWW::Mechanize::request(Test::WWW::Mechanize::PSGI=HASH(0x33914e78), HTTP::Request=HASH(0x33a90270)) called at /home/cpan/bin/perl/lib/site_perl/5.43.3/LWP/UserAgent.pm line 500
	LWP::UserAgent::post(Test::WWW::Mechanize::PSGI=HASH(0x33914e78), "http://localhost/wishlist?bar", HASH(0x336116b0)) called at /home/cpan/bin/perl/lib/site_perl/5.43.3/WWW/Mechanize.pm line 136
	WWW::Mechanize::post(Test::WWW::Mechanize::PSGI=HASH(0x33914e78), "/wishlist?bar", HASH(0x336116b0)) called at /home/cpan/bin/perl/lib/site_perl/5.43.3/Test/WWW/Mechanize.pm line 321
	Test::WWW::Mechanize::post_ok(Test::WWW::Mechanize::PSGI=HASH(0x33914e78), "/wishlist?bar") called at t/03_mech.t line 81
Secret string too short at /home/cpan/.cpan/build/HTTP-Session2-1.10-0/blib/lib/HTTP/Session2/Base.pm line 79.
	HTTP::Session2::Base::__ANON__(HTTP::Session2::ServerStore=HASH(0x33aa72c0), "s3cret") called at t/03_mech.t line 121
	main::server_session(HASH(0x33aa7290)) called at t/03_mech.t line 17
	main::__ANON__(HASH(0x33aa7290)) called at /home/cpan/bin/perl/lib/site_perl/5.43.3/Test/WWW/Mechanize/PSGI.pm line 46
	Test::WWW::Mechanize::PSGI::try {...} () called at /home/cpan/bin/perl/lib/site_perl/5.43.3/Try/Tiny.pm line 102
	eval {...} called at /home/cpan/bin/perl/lib/site_perl/5.43.3/Try/Tiny.pm line 93
	Try::Tiny::try(CODE(0x33aa6e28), Try::Tiny::Catch=REF(0x33aa6d80)) called at /home/cpan/bin/perl/lib/site_perl/5.43.3/Test/WWW/Mechanize/PSGI.pm line 53
	Test::WWW::Mechanize::PSGI::simple_request(Test::WWW::Mechanize::PSGI=HASH(0x33914e78), HTTP::Request=HASH(0x33aa6dc8), undef, undef) called at /home/cpan/bin/perl/lib/site_perl/5.43.3/LWP/UserAgent.pm line 310
	LWP::UserAgent::request(Test::WWW::Mechanize::PSGI=HASH(0x33914e78), HTTP::Request=HASH(0x33aa6dc8)) called at /home/cpan/bin/perl/lib/site_perl/5.43.3/WWW/Mechanize.pm line 1699
	WWW::Mechanize::_make_request(Test::WWW::Mechanize::PSGI=HASH(0x33914e78), HTTP::Request=HASH(0x33aa6dc8)) called at /home/cpan/bin/perl/lib/site_perl/5.43.3/WWW/Mechanize.pm line 1534
	WWW::Mechanize::request(Test::WWW::Mechanize::PSGI=HASH(0x33914e78), HTTP::Request=HASH(0x33aa6dc8)) called at /home/cpan/bin/perl/lib/site_perl/5.43.3/LWP/UserAgent.pm line 454
	LWP::UserAgent::get(Test::WWW::Mechanize::PSGI=HASH(0x33914e78), "http://localhost/wishlist") called at /home/cpan/bin/perl/lib/site_perl/5.43.3/WWW/Mechanize.pm line 124
	WWW::Mechanize::get(Test::WWW::Mechanize::PSGI=HASH(0x33914e78), "/wishlist") called at /home/cpan/bin/perl/lib/site_perl/5.43.3/Test/WWW/Mechanize.pm line 192
	Test::WWW::Mechanize::get_ok(Test::WWW::Mechanize::PSGI=HASH(0x33914e78), "/wishlist") called at t/03_mech.t line 82
Secret string too short at /home/cpan/.cpan/build/HTTP-Session2-1.10-0/blib/lib/HTTP/Session2/Base.pm line 79.
	HTTP::Session2::Base::__ANON__(HTTP::Session2::ServerStore=HASH(0x33aa7938), "s3cret") called at t/03_mech.t line 121
	main::server_session(HASH(0x33a90558)) called at t/03_mech.t line 17
	main::__ANON__(HASH(0x33a90558)) called at /home/cpan/bin/perl/lib/site_perl/5.43.3/Test/WWW/Mechanize/PSGI.pm line 46
	Test::WWW::Mechanize::PSGI::try {...} () called at /home/cpan/bin/perl/lib/site_perl/5.43.3/Try/Tiny.pm line 102
	eval {...} called at /home/cpan/bin/perl/lib/site_perl/5.43.3/Try/Tiny.pm line 93
	Try::Tiny::try(CODE(0x33aa73f8), Try::Tiny::Catch=REF(0x33a90018)) called at /home/cpan/bin/perl/lib/site_perl/5.43.3/Test/WWW/Mechanize/PSGI.pm line 53
	Test::WWW::Mechanize::PSGI::simple_request(Test::WWW::Mechanize::PSGI=HASH(0x33914e78), HTTP::Request=HASH(0x33aa6e88), undef, undef) called at /home/cpan/bin/perl/lib/site_perl/5.43.3/LWP/UserAgent.pm line 310
	LWP::UserAgent::request(Test::WWW::Mechanize::PSGI=HASH(0x33914e78), HTTP::Request=HASH(0x33aa6e88)) called at /home/cpan/bin/perl/lib/site_perl/5.43.3/WWW/Mechanize.pm line 1699
	WWW::Mechanize::_make_request(Test::WWW::Mechanize::PSGI=HASH(0x33914e78), HTTP::Request=HASH(0x33aa6e88)) called at /home/cpan/bin/perl/lib/site_perl/5.43.3/WWW/Mechanize.pm line 1534
	WWW::Mechanize::request(Test::WWW::Mechanize::PSGI=HASH(0x33914e78), HTTP::Request=HASH(0x33aa6e88)) called at /home/cpan/bin/perl/lib/site_perl/5.43.3/LWP/UserAgent.pm line 500
	LWP::UserAgent::post(Test::WWW::Mechanize::PSGI=HASH(0x33914e78), "http://localhost/account/login?john", HASH(0x336116b0)) called at /home/cpan/bin/perl/lib/site_perl/5.43.3/WWW/Mechanize.pm line 136
	WWW::Mechanize::post(Test::WWW::Mechanize::PSGI=HASH(0x33914e78), "/account/login?john", HASH(0x336116b0)) called at /home/cpan/bin/perl/lib/site_perl/5.43.3/Test/WWW/Mechanize.pm line 321
	Test::WWW::Mechanize::post_ok(Test::WWW::Mechanize::PSGI=HASH(0x33914e78), "/account/login?john") called at t/03_mech.t line 84
Secret string too short at /home/cpan/.cpan/build/HTTP-Session2-1.10-0/blib/lib/HTTP/Session2/Base.pm line 79.
	HTTP::Session2::Base::__ANON__(HTTP::Session2::ServerStore=HASH(0x33aa7308), "s3cret") called at t/03_mech.t line 121
	main::server_session(HASH(0x33aa75d8)) called at t/03_mech.t line 17
	main::__ANON__(HASH(0x33aa75d8)) called at /home/cpan/bin/perl/lib/site_perl/5.43.3/Test/WWW/Mechanize/PSGI.pm line 46
	Test::WWW::Mechanize::PSGI::try {...} () called at /home/cpan/bin/perl/lib/site_perl/5.43.3/Try/Tiny.pm line 102
	eval {...} called at /home/cpan/bin/perl/lib/site_perl/5.43.3/Try/Tiny.pm line 93
	Try::Tiny::try(CODE(0x33a8aa48), Try::Tiny::Catch=REF(0x33aa75a8)) called at /home/cpan/bin/perl/lib/site_perl/5.43.3/Test/WWW/Mechanize/PSGI.pm line 53
	Test::WWW::Mechanize::PSGI::simple_request(Test::WWW::Mechanize::PSGI=HASH(0x33914e78), HTTP::Request=HASH(0x33aa70c8), undef, undef) called at /home/cpan/bin/perl/lib/site_perl/5.43.3/LWP/UserAgent.pm line 310
	LWP::UserAgent::request(Test::WWW::Mechanize::PSGI=HASH(0x33914e78), HTTP::Request=HASH(0x33aa70c8)) called at /home/cpan/bin/perl/lib/site_perl/5.43.3/WWW/Mechanize.pm line 1699
	WWW::Mechanize::_make_request(Test::WWW::Mechanize::PSGI=HASH(0x33914e78), HTTP::Request=HASH(0x33aa70c8)) called at /home/cpan/bin/perl/lib/site_perl/5.43.3/WWW/Mechanize.pm line 1534
	WWW::Mechanize::request(Test::WWW::Mechanize::PSGI=HASH(0x33914e78), HTTP::Request=HASH(0x33aa70c8)) called at /home/cpan/bin/perl/lib/site_perl/5.43.3/LWP/UserAgent.pm line 454
	LWP::UserAgent::get(Test::WWW::Mechanize::PSGI=HASH(0x33914e78), "http://localhost/wishlist") called at /home/cpan/bin/perl/lib/site_perl/5.43.3/WWW/Mechanize.pm line 124
	WWW::Mechanize::get(Test::WWW::Mechanize::PSGI=HASH(0x33914e78), "/wishlist") called at /home/cpan/bin/perl/lib/site_perl/5.43.3/Test/WWW/Mechanize.pm line 192
	Test::WWW::Mechanize::get_ok(Test::WWW::Mechanize::PSGI=HASH(0x33914e78), "/wishlist", "Wishlist is still available") called at t/03_mech.t line 85
Secret string too short at /home/cpan/.cpan/build/HTTP-Session2-1.10-0/blib/lib/HTTP/Session2/Base.pm line 79.
	HTTP::Session2::Base::__ANON__(HTTP::Session2::ServerStore=HASH(0x33aacef8), "s3cret") called at t/03_mech.t line 121
	main::server_session(HASH(0x33aa7710)) called at t/03_mech.t line 17
	main::__ANON__(HASH(0x33aa7710)) called at /home/cpan/bin/perl/lib/site_perl/5.43.3/Test/WWW/Mechanize/PSGI.pm line 46
	Test::WWW::Mechanize::PSGI::try {...} () called at /home/cpan/bin/perl/lib/site_perl/5.43.3/Try/Tiny.pm line 102
	eval {...} called at /home/cpan/bin/perl/lib/site_perl/5.43.3/Try/Tiny.pm line 93
	Try::Tiny::try(CODE(0x33aacf70), Try::Tiny::Catch=REF(0x33aa76f8)) called at /home/cpan/bin/perl/lib/site_perl/5.43.3/Test/WWW/Mechanize/PSGI.pm line 53
	Test::WWW::Mechanize::PSGI::simple_request(Test::WWW::Mechanize::PSGI=HASH(0x33914e78), HTTP::Request=HASH(0x33aa7818), undef, undef) called at /home/cpan/bin/perl/lib/site_perl/5.43.3/LWP/UserAgent.pm line 310
	LWP::UserAgent::request(Test::WWW::Mechanize::PSGI=HASH(0x33914e78), HTTP::Request=HASH(0x33aa7818)) called at /home/cpan/bin/perl/lib/site_perl/5.43.3/WWW/Mechanize.pm line 1699
	WWW::Mechanize::_make_request(Test::WWW::Mechanize::PSGI=HASH(0x33914e78), HTTP::Request=HASH(0x33aa7818)) called at /home/cpan/bin/perl/lib/site_perl/5.43.3/WWW/Mechanize.pm line 1534
	WWW::Mechanize::request(Test::WWW::Mechanize::PSGI=HASH(0x33914e78), HTTP::Request=HASH(0x33aa7818)) called at /home/cpan/bin/perl/lib/site_perl/5.43.3/LWP/UserAgent.pm line 500
	LWP::UserAgent::post(Test::WWW::Mechanize::PSGI=HASH(0x33914e78), "http://localhost/wishlist?baz") called at /home/cpan/bin/perl/lib/site_perl/5.43.3/WWW/Mechanize.pm line 136
	WWW::Mechanize::post(Test::WWW::Mechanize::PSGI=HASH(0x33914e78), "/wishlist?baz") called at t/03_mech.t line 87
Secret string too short at /home/cpan/.cpan/build/HTTP-Session2-1.10-0/blib/lib/HTTP/Session2/Base.pm line 79.
	HTTP::Session2::Base::__ANON__(HTTP::Session2::ServerStore=HASH(0x33aad228), "s3cret") called at t/03_mech.t line 121
	main::server_session(HASH(0x33aad450)) called at t/03_mech.t line 17
	main::__ANON__(HASH(0x33aad450)) called at /home/cpan/bin/perl/lib/site_perl/5.43.3/Test/WWW/Mechanize/PSGI.pm line 46
	Test::WWW::Mechanize::PSGI::try {...} () called at /home/cpan/bin/perl/lib/site_perl/5.43.3/Try/Tiny.pm line 102
	eval {...} called at /home/cpan/bin/perl/lib/site_perl/5.43.3/Try/Tiny.pm line 93
	Try::Tiny::try(CODE(0x33aa7aa0), Try::Tiny::Catch=REF(0x33aa7a70)) called at /home/cpan/bin/perl/lib/site_perl/5.43.3/Test/WWW/Mechanize/PSGI.pm line 53
	Test::WWW::Mechanize::PSGI::simple_request(Test::WWW::Mechanize::PSGI=HASH(0x33914e78), HTTP::Request=HASH(0x33aa7998), undef, undef) called at /home/cpan/bin/perl/lib/site_perl/5.43.3/LWP/UserAgent.pm line 310
	LWP::UserAgent::request(Test::WWW::Mechanize::PSGI=HASH(0x33914e78), HTTP::Request=HASH(0x33aa7998)) called at /home/cpan/bin/perl/lib/site_perl/5.43.3/WWW/Mechanize.pm line 1699
	WWW::Mechanize::_make_request(Test::WWW::Mechanize::PSGI=HASH(0x33914e78), HTTP::Request=HASH(0x33aa7998)) called at /home/cpan/bin/perl/lib/site_perl/5.43.3/WWW/Mechanize.pm line 1534
	WWW::Mechanize::request(Test::WWW::Mechanize::PSGI=HASH(0x33914e78), HTTP::Request=HASH(0x33aa7998)) called at /home/cpan/bin/perl/lib/site_perl/5.43.3/LWP/UserAgent.pm line 500
	LWP::UserAgent::post(Test::WWW::Mechanize::PSGI=HASH(0x33914e78), "http://localhost/wishlist?baz", HASH(0x336116b0)) called at /home/cpan/bin/perl/lib/site_perl/5.43.3/WWW/Mechanize.pm line 136
	WWW::Mechanize::post(Test::WWW::Mechanize::PSGI=HASH(0x33914e78), "/wishlist?baz", HASH(0x336116b0)) called at /home/cpan/bin/perl/lib/site_perl/5.43.3/Test/WWW/Mechanize.pm line 321
	Test::WWW::Mechanize::post_ok(Test::WWW::Mechanize::PSGI=HASH(0x33914e78), "/wishlist?baz") called at t/03_mech.t line 90
Secret string too short at /home/cpan/.cpan/build/HTTP-Session2-1.10-0/blib/lib/HTTP/Session2/Base.pm line 79.
	HTTP::Session2::Base::__ANON__(HTTP::Session2::ServerStore=HASH(0x33aad780), "s3cret") called at t/03_mech.t line 121
	main::server_session(HASH(0x33aacf40)) called at t/03_mech.t line 17
	main::__ANON__(HASH(0x33aacf40)) called at /home/cpan/bin/perl/lib/site_perl/5.43.3/Test/WWW/Mechanize/PSGI.pm line 46
	Test::WWW::Mechanize::PSGI::try {...} () called at /home/cpan/bin/perl/lib/site_perl/5.43.3/Try/Tiny.pm line 102
	eval {...} called at /home/cpan/bin/perl/lib/site_perl/5.43.3/Try/Tiny.pm line 93
	Try::Tiny::try(CODE(0x33aacce8), Try::Tiny::Catch=REF(0x33aad3d8)) called at /home/cpan/bin/perl/lib/site_perl/5.43.3/Test/WWW/Mechanize/PSGI.pm line 53
	Test::WWW::Mechanize::PSGI::simple_request(Test::WWW::Mechanize::PSGI=HASH(0x33914e78), HTTP::Request=HASH(0x33aa7b48), undef, undef) called at /home/cpan/bin/perl/lib/site_perl/5.43.3/LWP/UserAgent.pm line 310
	LWP::UserAgent::request(Test::WWW::Mechanize::PSGI=HASH(0x33914e78), HTTP::Request=HASH(0x33aa7b48)) called at /home/cpan/bin/perl/lib/site_perl/5.43.3/WWW/Mechanize.pm line 1699
	WWW::Mechanize::_make_request(Test::WWW::Mechanize::PSGI=HASH(0x33914e78), HTTP::Request=HASH(0x33aa7b48)) called at /home/cpan/bin/perl/lib/site_perl/5.43.3/WWW/Mechanize.pm line 1534
	WWW::Mechanize::request(Test::WWW::Mechanize::PSGI=HASH(0x33914e78), HTTP::Request=HASH(0x33aa7b48)) called at /home/cpan/bin/perl/lib/site_perl/5.43.3/LWP/UserAgent.pm line 454
	LWP::UserAgent::get(Test::WWW::Mechanize::PSGI=HASH(0x33914e78), "http://localhost/wishlist") called at /home/cpan/bin/perl/lib/site_perl/5.43.3/WWW/Mechanize.pm line 124
	WWW::Mechanize::get(Test::WWW::Mechanize::PSGI=HASH(0x33914e78), "/wishlist") called at /home/cpan/bin/perl/lib/site_perl/5.43.3/Test/WWW/Mechanize.pm line 192
	Test::WWW::Mechanize::get_ok(Test::WWW::Mechanize::PSGI=HASH(0x33914e78), "/wishlist", "Wishlist is still available") called at t/03_mech.t line 91
Secret string too short at /home/cpan/.cpan/build/HTTP-Session2-1.10-0/blib/lib/HTTP/Session2/Base.pm line 79.
	HTTP::Session2::Base::__ANON__(HTTP::Session2::ServerStore=HASH(0x33ab0200), "s3cret") called at t/03_mech.t line 121
	main::server_session(HASH(0x33aafdc8)) called at t/03_mech.t line 17
	main::__ANON__(HASH(0x33aafdc8)) called at /home/cpan/bin/perl/lib/site_perl/5.43.3/Test/WWW/Mechanize/PSGI.pm line 46
	Test::WWW::Mechanize::PSGI::try {...} () called at /home/cpan/bin/perl/lib/site_perl/5.43.3/Try/Tiny.pm line 102
	eval {...} called at /home/cpan/bin/perl/lib/site_perl/5.43.3/Try/Tiny.pm line 93
	Try::Tiny::try(CODE(0x33aafff0), Try::Tiny::Catch=REF(0x33aacd78)) called at /home/cpan/bin/perl/lib/site_perl/5.43.3/Test/WWW/Mechanize/PSGI.pm line 53
	Test::WWW::Mechanize::PSGI::simple_request(Test::WWW::Mechanize::PSGI=HASH(0x33914e78), HTTP::Request=HASH(0x33a89fe0), undef, undef) called at /home/cpan/bin/perl/lib/site_perl/5.43.3/LWP/UserAgent.pm line 310
	LWP::UserAgent::request(Test::WWW::Mechanize::PSGI=HASH(0x33914e78), HTTP::Request=HASH(0x33a89fe0)) called at /home/cpan/bin/perl/lib/site_perl/5.43.3/WWW/Mechanize.pm line 1699
	WWW::Mechanize::_make_request(Test::WWW::Mechanize::PSGI=HASH(0x33914e78), HTTP::Request=HASH(0x33a89fe0)) called at /home/cpan/bin/perl/lib/site_perl/5.43.3/WWW/Mechanize.pm line 1534
	WWW::Mechanize::request(Test::WWW::Mechanize::PSGI=HASH(0x33914e78), HTTP::Request=HASH(0x33a89fe0)) called at /home/cpan/bin/perl/lib/site_perl/5.43.3/LWP/UserAgent.pm line 454
	LWP::UserAgent::get(Test::WWW::Mechanize::PSGI=HASH(0x33914e78), "http://localhost/my/name") called at /home/cpan/bin/perl/lib/site_perl/5.43.3/WWW/Mechanize.pm line 124
	WWW::Mechanize::get(Test::WWW::Mechanize::PSGI=HASH(0x33914e78), "/my/name") called at /home/cpan/bin/perl/lib/site_perl/5.43.3/Test/WWW/Mechanize.pm line 192
	Test::WWW::Mechanize::get_ok(Test::WWW::Mechanize::PSGI=HASH(0x33914e78), "/my/name") called at t/03_mech.t line 93
Secret string too short at /home/cpan/.cpan/build/HTTP-Session2-1.10-0/blib/lib/HTTP/Session2/Base.pm line 79.
	HTTP::Session2::Base::__ANON__(HTTP::Session2::ServerStore=HASH(0x33ab0098), "s3cret") called at t/03_mech.t line 121
	main::server_session(HASH(0x33ab0608)) called at t/03_mech.t line 17
	main::__ANON__(HASH(0x33ab0608)) called at /home/cpan/bin/perl/lib/site_perl/5.43.3/Test/WWW/Mechanize/PSGI.pm line 46
	Test::WWW::Mechanize::PSGI::try {...} () called at /home/cpan/bin/perl/lib/site_perl/5.43.3/Try/Tiny.pm line 102
	eval {...} called at /home/cpan/bin/perl/lib/site_perl/5.43.3/Try/Tiny.pm line 93
	Try::Tiny::try(CODE(0x33aad120), Try::Tiny::Catch=REF(0x33aad438)) called at /home/cpan/bin/perl/lib/site_perl/5.43.3/Test/WWW/Mechanize/PSGI.pm line 53
	Test::WWW::Mechanize::PSGI::simple_request(Test::WWW::Mechanize::PSGI=HASH(0x33914e78), HTTP::Request=HASH(0x33aa7ad0), undef, undef) called at /home/cpan/bin/perl/lib/site_perl/5.43.3/LWP/UserAgent.pm line 310
	LWP::UserAgent::request(Test::WWW::Mechanize::PSGI=HASH(0x33914e78), HTTP::Request=HASH(0x33aa7ad0)) called at /home/cpan/bin/perl/lib/site_perl/5.43.3/WWW/Mechanize.pm line 1699
	WWW::Mechanize::_make_request(Test::WWW::Mechanize::PSGI=HASH(0x33914e78), HTTP::Request=HASH(0x33aa7ad0)) called at /home/cpan/bin/perl/lib/site_perl/5.43.3/WWW/Mechanize.pm line 1534
	WWW::Mechanize::request(Test::WWW::Mechanize::PSGI=HASH(0x33914e78), HTTP::Request=HASH(0x33aa7ad0)) called at /home/cpan/bin/perl/lib/site_perl/5.43.3/LWP/UserAgent.pm line 500
	LWP::UserAgent::post(Test::WWW::Mechanize::PSGI=HASH(0x33914e78), "http://localhost/account/logout?john") called at /home/cpan/bin/perl/lib/site_perl/5.43.3/WWW/Mechanize.pm line 136
	WWW::Mechanize::post(Test::WWW::Mechanize::PSGI=HASH(0x33914e78), "/account/logout?john") called at t/03_mech.t line 97
Secret string too short at /home/cpan/.cpan/build/HTTP-Session2-1.10-0/blib/lib/HTTP/Session2/Base.pm line 79.
	HTTP::Session2::Base::__ANON__(HTTP::Session2::ClientStore=HASH(0x324e8718), "s3cret") called at t/03_mech.t line 127
	main::client_session(HASH(0x33ab0968)) called at t/03_mech.t line 17
	main::__ANON__(HASH(0x33ab0968)) called at /home/cpan/bin/perl/lib/site_perl/5.43.3/Test/WWW/Mechanize/PSGI.pm line 46
	Test::WWW::Mechanize::PSGI::try {...} () called at /home/cpan/bin/perl/lib/site_perl/5.43.3/Try/Tiny.pm line 102
	eval {...} called at /home/cpan/bin/perl/lib/site_perl/5.43.3/Try/Tiny.pm line 93
	Try::Tiny::try(CODE(0x339c91b8), Try::Tiny::Catch=REF(0x33907050)) called at /home/cpan/bin/perl/lib/site_perl/5.43.3/Test/WWW/Mechanize/PSGI.pm line 53
	Test::WWW::Mechanize::PSGI::simple_request(Test::WWW::Mechanize::PSGI=HASH(0x33ab02a8), HTTP::Request=HASH(0x338f92b0), undef, undef) called at /home/cpan/bin/perl/lib/site_perl/5.43.3/LWP/UserAgent.pm line 310
	LWP::UserAgent::request(Test::WWW::Mechanize::PSGI=HASH(0x33ab02a8), HTTP::Request=HASH(0x338f92b0)) called at /home/cpan/bin/perl/lib/site_perl/5.43.3/WWW/Mechanize.pm line 1699
	WWW::Mechanize::_make_request(Test::WWW::Mechanize::PSGI=HASH(0x33ab02a8), HTTP::Request=HASH(0x338f92b0)) called at /home/cpan/bin/perl/lib/site_perl/5.43.3/WWW/Mechanize.pm line 1534
	WWW::Mechanize::request(Test::WWW::Mechanize::PSGI=HASH(0x33ab02a8), HTTP::Request=HASH(0x338f92b0)) called at /home/cpan/bin/perl/lib/site_perl/5.43.3/LWP/UserAgent.pm line 454
	LWP::UserAgent::get(Test::WWW::Mechanize::PSGI=HASH(0x33ab02a8), "/") called at /home/cpan/bin/perl/lib/site_perl/5.43.3/WWW/Mechanize.pm line 124
	WWW::Mechanize::get(Test::WWW::Mechanize::PSGI=HASH(0x33ab02a8), "/") called at /home/cpan/bin/perl/lib/site_perl/5.43.3/Test/WWW/Mechanize.pm line 192
	Test::WWW::Mechanize::get_ok(Test::WWW::Mechanize::PSGI=HASH(0x33ab02a8), "/") called at t/03_mech.t line 74
Secret string too short at /home/cpan/.cpan/build/HTTP-Session2-1.10-0/blib/lib/HTTP/Session2/Base.pm line 79.
	HTTP::Session2::Base::__ANON__(HTTP::Session2::ClientStore=HASH(0x33a8fc58), "s3cret") called at t/03_mech.t line 127
	main::client_session(HASH(0x33a90990)) called at t/03_mech.t line 17
	main::__ANON__(HASH(0x33a90990)) called at /home/cpan/bin/perl/lib/site_perl/5.43.3/Test/WWW/Mechanize/PSGI.pm line 46
	Test::WWW::Mechanize::PSGI::try {...} () called at /home/cpan/bin/perl/lib/site_perl/5.43.3/Try/Tiny.pm line 102
	eval {...} called at /home/cpan/bin/perl/lib/site_perl/5.43.3/Try/Tiny.pm line 93
	Try::Tiny::try(CODE(0x33a8fda8), Try::Tiny::Catch=REF(0x33a90120)) called at /home/cpan/bin/perl/lib/site_perl/5.43.3/Test/WWW/Mechanize/PSGI.pm line 53
	Test::WWW::Mechanize::PSGI::simple_request(Test::WWW::Mechanize::PSGI=HASH(0x33ab02a8), HTTP::Request=HASH(0x33ab0890), undef, undef) called at /home/cpan/bin/perl/lib/site_perl/5.43.3/LWP/UserAgent.pm line 310
	LWP::UserAgent::request(Test::WWW::Mechanize::PSGI=HASH(0x33ab02a8), HTTP::Request=HASH(0x33ab0890)) called at /home/cpan/bin/perl/lib/site_perl/5.43.3/WWW/Mechanize.pm line 1699
	WWW::Mechanize::_make_request(Test::WWW::Mechanize::PSGI=HASH(0x33ab02a8), HTTP::Request=HASH(0x33ab0890)) called at /home/cpan/bin/perl/lib/site_perl/5.43.3/WWW/Mechanize.pm line 1534
	WWW::Mechanize::request(Test::WWW::Mechanize::PSGI=HASH(0x33ab02a8), HTTP::Request=HASH(0x33ab0890)) called at /home/cpan/bin/perl/lib/site_perl/5.43.3/LWP/UserAgent.pm line 500
	LWP::UserAgent::post(Test::WWW::Mechanize::PSGI=HASH(0x33ab02a8), "http://localhost/wishlist?foo", HASH(0x336116b0)) called at /home/cpan/bin/perl/lib/site_perl/5.43.3/WWW/Mechanize.pm line 136
	WWW::Mechanize::post(Test::WWW::Mechanize::PSGI=HASH(0x33ab02a8), "/wishlist?foo", HASH(0x336116b0)) called at /home/cpan/bin/perl/lib/site_perl/5.43.3/Test/WWW/Mechanize.pm line 321
	Test::WWW::Mechanize::post_ok(Test::WWW::Mechanize::PSGI=HASH(0x33ab02a8), "/wishlist?foo") called at t/03_mech.t line 75
Do not use HTTP::Session2::ClientStore. Use HTTP::Session2::ServerStore or HTTP::Session2::ClientStore2 instead. at /home/cpan/.cpan/build/HTTP-Session2-1.10-0/blib/lib/HTTP/Session2/ClientStore.pm line 25.
Secret string too short at /home/cpan/.cpan/build/HTTP-Session2-1.10-0/blib/lib/HTTP/Session2/Base.pm line 79.
	HTTP::Session2::Base::__ANON__(HTTP::Session2::ClientStore=HASH(0x33a90b70), "s3cret") called at t/03_mech.t line 127
	main::client_session(HASH(0x33aa7878)) called at t/03_mech.t line 17
	main::__ANON__(HASH(0x33aa7878)) called at /home/cpan/bin/perl/lib/site_perl/5.43.3/Test/WWW/Mechanize/PSGI.pm line 46
	Test::WWW::Mechanize::PSGI::try {...} () called at /home/cpan/bin/perl/lib/site_perl/5.43.3/Try/Tiny.pm line 102
	eval {...} called at /home/cpan/bin/perl/lib/site_perl/5.43.3/Try/Tiny.pm line 93
	Try::Tiny::try(CODE(0x33a8a9d0), Try::Tiny::Catch=REF(0x33a8ac58)) called at /home/cpan/bin/perl/lib/site_perl/5.43.3/Test/WWW/Mechanize/PSGI.pm line 53
	Test::WWW::Mechanize::PSGI::simple_request(Test::WWW::Mechanize::PSGI=HASH(0x33ab02a8), HTTP::Request=HASH(0x33ab0548), undef, undef) called at /home/cpan/bin/perl/lib/site_perl/5.43.3/LWP/UserAgent.pm line 310
	LWP::UserAgent::request(Test::WWW::Mechanize::PSGI=HASH(0x33ab02a8), HTTP::Request=HASH(0x33ab0548)) called at /home/cpan/bin/perl/lib/site_perl/5.43.3/WWW/Mechanize.pm line 1699
	WWW::Mechanize::_make_request(Test::WWW::Mechanize::PSGI=HASH(0x33ab02a8), HTTP::Request=HASH(0x33ab0548)) called at /home/cpan/bin/perl/lib/site_perl/5.43.3/WWW/Mechanize.pm line 1534
	WWW::Mechanize::request(Test::WWW::Mechanize::PSGI=HASH(0x33ab02a8), HTTP::Request=HASH(0x33ab0548)) called at /home/cpan/bin/perl/lib/site_perl/5.43.3/LWP/UserAgent.pm line 454
	LWP::UserAgent::get(Test::WWW::Mechanize::PSGI=HASH(0x33ab02a8), "http://localhost/wishlist") called at /home/cpan/bin/perl/lib/site_perl/5.43.3/WWW/Mechanize.pm line 124
	WWW::Mechanize::get(Test::WWW::Mechanize::PSGI=HASH(0x33ab02a8), "/wishlist") called at /home/cpan/bin/perl/lib/site_perl/5.43.3/Test/WWW/Mechanize.pm line 192
	Test::WWW::Mechanize::get_ok(Test::WWW::Mechanize::PSGI=HASH(0x33ab02a8), "/wishlist") called at t/03_mech.t line 76
Do not use HTTP::Session2::ClientStore. Use HTTP::Session2::ServerStore or HTTP::Session2::ClientStore2 instead. at /home/cpan/.cpan/build/HTTP-Session2-1.10-0/blib/lib/HTTP/Session2/ClientStore.pm line 35.
Secret string too short at /home/cpan/.cpan/build/HTTP-Session2-1.10-0/blib/lib/HTTP/Session2/Base.pm line 79.
	HTTP::Session2::Base::__ANON__(HTTP::Session2::ClientStore=HASH(0x33aacec8), "s3cret") called at t/03_mech.t line 127
	main::client_session(HASH(0x33aacac0)) called at t/03_mech.t line 17
	main::__ANON__(HASH(0x33aacac0)) called at /home/cpan/bin/perl/lib/site_perl/5.43.3/Test/WWW/Mechanize/PSGI.pm line 46
	Test::WWW::Mechanize::PSGI::try {...} () called at /home/cpan/bin/perl/lib/site_perl/5.43.3/Try/Tiny.pm line 102
	eval {...} called at /home/cpan/bin/perl/lib/site_perl/5.43.3/Try/Tiny.pm line 93
	Try::Tiny::try(CODE(0x33a90078), Try::Tiny::Catch=REF(0x33aa74b8)) called at /home/cpan/bin/perl/lib/site_perl/5.43.3/Test/WWW/Mechanize/PSGI.pm line 53
	Test::WWW::Mechanize::PSGI::simple_request(Test::WWW::Mechanize::PSGI=HASH(0x33ab02a8), HTTP::Request=HASH(0x33a905a0), undef, undef) called at /home/cpan/bin/perl/lib/site_perl/5.43.3/LWP/UserAgent.pm line 310
	LWP::UserAgent::request(Test::WWW::Mechanize::PSGI=HASH(0x33ab02a8), HTTP::Request=HASH(0x33a905a0)) called at /home/cpan/bin/perl/lib/site_perl/5.43.3/WWW/Mechanize.pm line 1699
	WWW::Mechanize::_make_request(Test::WWW::Mechanize::PSGI=HASH(0x33ab02a8), HTTP::Request=HASH(0x33a905a0)) called at /home/cpan/bin/perl/lib/site_perl/5.43.3/WWW/Mechanize.pm line 1534
	WWW::Mechanize::request(Test::WWW::Mechanize::PSGI=HASH(0x33ab02a8), HTTP::Request=HASH(0x33a905a0)) called at /home/cpan/bin/perl/lib/site_perl/5.43.3/LWP/UserAgent.pm line 500
	LWP::UserAgent::post(Test::WWW::Mechanize::PSGI=HASH(0x33ab02a8), "http://localhost/wishlist?bar") called at /home/cpan/bin/perl/lib/site_perl/5.43.3/WWW/Mechanize.pm line 136
	WWW::Mechanize::post(Test::WWW::Mechanize::PSGI=HASH(0x33ab02a8), "/wishlist?bar") called at t/03_mech.t line 78
Do not use HTTP::Session2::ClientStore. Use HTTP::Session2::ServerStore or HTTP::Session2::ClientStore2 instead. at /home/cpan/.cpan/build/HTTP-Session2-1.10-0/blib/lib/HTTP/Session2/ClientStore.pm line 35.
Secret string too short at /home/cpan/.cpan/build/HTTP-Session2-1.10-0/blib/lib/HTTP/Session2/Base.pm line 79.
	HTTP::Session2::Base::__ANON__(HTTP::Session2::ClientStore=HASH(0x33aa7860), "s3cret") called at t/03_mech.t line 127
	main::client_session(HASH(0x33a902d0)) called at t/03_mech.t line 17
	main::__ANON__(HASH(0x33a902d0)) called at /home/cpan/bin/perl/lib/site_perl/5.43.3/Test/WWW/Mechanize/PSGI.pm line 46
	Test::WWW::Mechanize::PSGI::try {...} () called at /home/cpan/bin/perl/lib/site_perl/5.43.3/Try/Tiny.pm line 102
	eval {...} called at /home/cpan/bin/perl/lib/site_perl/5.43.3/Try/Tiny.pm line 93
	Try::Tiny::try(CODE(0x33aa7818), Try::Tiny::Catch=REF(0x33aa75d8)) called at /home/cpan/bin/perl/lib/site_perl/5.43.3/Test/WWW/Mechanize/PSGI.pm line 53
	Test::WWW::Mechanize::PSGI::simple_request(Test::WWW::Mechanize::PSGI=HASH(0x33ab02a8), HTTP::Request=HASH(0x33a90a68), undef, undef) called at /home/cpan/bin/perl/lib/site_perl/5.43.3/LWP/UserAgent.pm line 310
	LWP::UserAgent::request(Test::WWW::Mechanize::PSGI=HASH(0x33ab02a8), HTTP::Request=HASH(0x33a90a68)) called at /home/cpan/bin/perl/lib/site_perl/5.43.3/WWW/Mechanize.pm line 1699
	WWW::Mechanize::_make_request(Test::WWW::Mechanize::PSGI=HASH(0x33ab02a8), HTTP::Request=HASH(0x33a90a68)) called at /home/cpan/bin/perl/lib/site_perl/5.43.3/WWW/Mechanize.pm line 1534
	WWW::Mechanize::request(Test::WWW::Mechanize::PSGI=HASH(0x33ab02a8), HTTP::Request=HASH(0x33a90a68)) called at /home/cpan/bin/perl/lib/site_perl/5.43.3/LWP/UserAgent.pm line 500
	LWP::UserAgent::post(Test::WWW::Mechanize::PSGI=HASH(0x33ab02a8), "http://localhost/wishlist?bar", HASH(0x336116b0)) called at /home/cpan/bin/perl/lib/site_perl/5.43.3/WWW/Mechanize.pm line 136
	WWW::Mechanize::post(Test::WWW::Mechanize::PSGI=HASH(0x33ab02a8), "/wishlist?bar", HASH(0x336116b0)) called at /home/cpan/bin/perl/lib/site_perl/5.43.3/Test/WWW/Mechanize.pm line 321
	Test::WWW::Mechanize::post_ok(Test::WWW::Mechanize::PSGI=HASH(0x33ab02a8), "/wishlist?bar") called at t/03_mech.t line 81
Do not use HTTP::Session2::ClientStore. Use HTTP::Session2::ServerStore or HTTP::Session2::ClientStore2 instead. at /home/cpan/.cpan/build/HTTP-Session2-1.10-0/blib/lib/HTTP/Session2/ClientStore.pm line 35.
Do not use HTTP::Session2::ClientStore. Use HTTP::Session2::ServerStore or HTTP::Session2::ClientStore2 instead. at /home/cpan/.cpan/build/HTTP-Session2-1.10-0/blib/lib/HTTP/Session2/ClientStore.pm line 25.
Secret string too short at /home/cpan/.cpan/build/HTTP-Session2-1.10-0/blib/lib/HTTP/Session2/Base.pm line 79.
	HTTP::Session2::Base::__ANON__(HTTP::Session2::ClientStore=HASH(0x33aa7b00), "s3cret") called at t/03_mech.t line 127
	main::client_session(HASH(0x33a8a448)) called at t/03_mech.t line 17
	main::__ANON__(HASH(0x33a8a448)) called at /home/cpan/bin/perl/lib/site_perl/5.43.3/Test/WWW/Mechanize/PSGI.pm line 46
	Test::WWW::Mechanize::PSGI::try {...} () called at /home/cpan/bin/perl/lib/site_perl/5.43.3/Try/Tiny.pm line 102
	eval {...} called at /home/cpan/bin/perl/lib/site_perl/5.43.3/Try/Tiny.pm line 93
	Try::Tiny::try(CODE(0x33aa6fd8), Try::Tiny::Catch=REF(0x33aa7398)) called at /home/cpan/bin/perl/lib/site_perl/5.43.3/Test/WWW/Mechanize/PSGI.pm line 53
	Test::WWW::Mechanize::PSGI::simple_request(Test::WWW::Mechanize::PSGI=HASH(0x33ab02a8), HTTP::Request=HASH(0x33aad510), undef, undef) called at /home/cpan/bin/perl/lib/site_perl/5.43.3/LWP/UserAgent.pm line 310
	LWP::UserAgent::request(Test::WWW::Mechanize::PSGI=HASH(0x33ab02a8), HTTP::Request=HASH(0x33aad510)) called at /home/cpan/bin/perl/lib/site_perl/5.43.3/WWW/Mechanize.pm line 1699
	WWW::Mechanize::_make_request(Test::WWW::Mechanize::PSGI=HASH(0x33ab02a8), HTTP::Request=HASH(0x33aad510)) called at /home/cpan/bin/perl/lib/site_perl/5.43.3/WWW/Mechanize.pm line 1534
	WWW::Mechanize::request(Test::WWW::Mechanize::PSGI=HASH(0x33ab02a8), HTTP::Request=HASH(0x33aad510)) called at /home/cpan/bin/perl/lib/site_perl/5.43.3/LWP/UserAgent.pm line 454
	LWP::UserAgent::get(Test::WWW::Mechanize::PSGI=HASH(0x33ab02a8), "http://localhost/wishlist") called at /home/cpan/bin/perl/lib/site_perl/5.43.3/WWW/Mechanize.pm line 124
	WWW::Mechanize::get(Test::WWW::Mechanize::PSGI=HASH(0x33ab02a8), "/wishlist") called at /home/cpan/bin/perl/lib/site_perl/5.43.3/Test/WWW/Mechanize.pm line 192
	Test::WWW::Mechanize::get_ok(Test::WWW::Mechanize::PSGI=HASH(0x33ab02a8), "/wishlist") called at t/03_mech.t line 82
Do not use HTTP::Session2::ClientStore. Use HTTP::Session2::ServerStore or HTTP::Session2::ClientStore2 instead. at /home/cpan/.cpan/build/HTTP-Session2-1.10-0/blib/lib/HTTP/Session2/ClientStore.pm line 35.
Secret string too short at /home/cpan/.cpan/build/HTTP-Session2-1.10-0/blib/lib/HTTP/Session2/Base.pm line 79.
	HTTP::Session2::Base::__ANON__(HTTP::Session2::ClientStore=HASH(0x33aad390), "s3cret") called at t/03_mech.t line 127
	main::client_session(HASH(0x33aa6d08)) called at t/03_mech.t line 17
	main::__ANON__(HASH(0x33aa6d08)) called at /home/cpan/bin/perl/lib/site_perl/5.43.3/Test/WWW/Mechanize/PSGI.pm line 46
	Test::WWW::Mechanize::PSGI::try {...} () called at /home/cpan/bin/perl/lib/site_perl/5.43.3/Try/Tiny.pm line 102
	eval {...} called at /home/cpan/bin/perl/lib/site_perl/5.43.3/Try/Tiny.pm line 93
	Try::Tiny::try(CODE(0x33aad588), Try::Tiny::Catch=REF(0x33aacc28)) called at /home/cpan/bin/perl/lib/site_perl/5.43.3/Test/WWW/Mechanize/PSGI.pm line 53
	Test::WWW::Mechanize::PSGI::simple_request(Test::WWW::Mechanize::PSGI=HASH(0x33ab02a8), HTTP::Request=HASH(0x33a908b8), undef, undef) called at /home/cpan/bin/perl/lib/site_perl/5.43.3/LWP/UserAgent.pm line 310
	LWP::UserAgent::request(Test::WWW::Mechanize::PSGI=HASH(0x33ab02a8), HTTP::Request=HASH(0x33a908b8)) called at /home/cpan/bin/perl/lib/site_perl/5.43.3/WWW/Mechanize.pm line 1699
	WWW::Mechanize::_make_request(Test::WWW::Mechanize::PSGI=HASH(0x33ab02a8), HTTP::Request=HASH(0x33a908b8)) called at /home/cpan/bin/perl/lib/site_perl/5.43.3/WWW/Mechanize.pm line 1534
	WWW::Mechanize::request(Test::WWW::Mechanize::PSGI=HASH(0x33ab02a8), HTTP::Request=HASH(0x33a908b8)) called at /home/cpan/bin/perl/lib/site_perl/5.43.3/LWP/UserAgent.pm line 500
	LWP::UserAgent::post(Test::WWW::Mechanize::PSGI=HASH(0x33ab02a8), "http://localhost/account/login?john", HASH(0x336116b0)) called at /home/cpan/bin/perl/lib/site_perl/5.43.3/WWW/Mechanize.pm line 136
	WWW::Mechanize::post(Test::WWW::Mechanize::PSGI=HASH(0x33ab02a8), "/account/login?john", HASH(0x336116b0)) called at /home/cpan/bin/perl/lib/site_perl/5.43.3/Test/WWW/Mechanize.pm line 321
	Test::WWW::Mechanize::post_ok(Test::WWW::Mechanize::PSGI=HASH(0x33ab02a8), "/account/login?john") called at t/03_mech.t line 84
Do not use HTTP::Session2::ClientStore. Use HTTP::Session2::ServerStore or HTTP::Session2::ClientStore2 instead. at /home/cpan/.cpan/build/HTTP-Session2-1.10-0/blib/lib/HTTP/Session2/ClientStore.pm line 35.
Do not use HTTP::Session2::ClientStore. Use HTTP::Session2::ServerStore or HTTP::Session2::ClientStore2 instead. at /home/cpan/.cpan/build/HTTP-Session2-1.10-0/blib/lib/HTTP/Session2/ClientStore.pm line 35.
Do not use HTTP::Session2::ClientStore. Use HTTP::Session2::ServerStore or HTTP::Session2::ClientStore2 instead. at /home/cpan/.cpan/build/HTTP-Session2-1.10-0/blib/lib/HTTP/Session2/ClientStore.pm line 25.
Secret string too short at /home/cpan/.cpan/build/HTTP-Session2-1.10-0/blib/lib/HTTP/Session2/Base.pm line 79.
	HTTP::Session2::Base::__ANON__(HTTP::Session2::ClientStore=HASH(0x33915220), "s3cret") called at t/03_mech.t line 127
	main::client_session(HASH(0x33aad810)) called at t/03_mech.t line 17
	main::__ANON__(HASH(0x33aad810)) called at /home/cpan/bin/perl/lib/site_perl/5.43.3/Test/WWW/Mechanize/PSGI.pm line 46
	Test::WWW::Mechanize::PSGI::try {...} () called at /home/cpan/bin/perl/lib/site_perl/5.43.3/Try/Tiny.pm line 102
	eval {...} called at /home/cpan/bin/perl/lib/site_perl/5.43.3/Try/Tiny.pm line 93
	Try::Tiny::try(CODE(0x33aa71d0), Try::Tiny::Catch=REF(0x33aaff90)) called at /home/cpan/bin/perl/lib/site_perl/5.43.3/Test/WWW/Mechanize/PSGI.pm line 53
	Test::WWW::Mechanize::PSGI::simple_request(Test::WWW::Mechanize::PSGI=HASH(0x33ab02a8), HTTP::Request=HASH(0x33a8a868), undef, undef) called at /home/cpan/bin/perl/lib/site_perl/5.43.3/LWP/UserAgent.pm line 310
	LWP::UserAgent::request(Test::WWW::Mechanize::PSGI=HASH(0x33ab02a8), HTTP::Request=HASH(0x33a8a868)) called at /home/cpan/bin/perl/lib/site_perl/5.43.3/WWW/Mechanize.pm line 1699
	WWW::Mechanize::_make_request(Test::WWW::Mechanize::PSGI=HASH(0x33ab02a8), HTTP::Request=HASH(0x33a8a868)) called at /home/cpan/bin/perl/lib/site_perl/5.43.3/WWW/Mechanize.pm line 1534
	WWW::Mechanize::request(Test::WWW::Mechanize::PSGI=HASH(0x33ab02a8), HTTP::Request=HASH(0x33a8a868)) called at /home/cpan/bin/perl/lib/site_perl/5.43.3/LWP/UserAgent.pm line 454
	LWP::UserAgent::get(Test::WWW::Mechanize::PSGI=HASH(0x33ab02a8), "http://localhost/wishlist") called at /home/cpan/bin/perl/lib/site_perl/5.43.3/WWW/Mechanize.pm line 124
	WWW::Mechanize::get(Test::WWW::Mechanize::PSGI=HASH(0x33ab02a8), "/wishlist") called at /home/cpan/bin/perl/lib/site_perl/5.43.3/Test/WWW/Mechanize.pm line 192
	Test::WWW::Mechanize::get_ok(Test::WWW::Mechanize::PSGI=HASH(0x33ab02a8), "/wishlist", "Wishlist is still available") called at t/03_mech.t line 85
Do not use HTTP::Session2::ClientStore. Use HTTP::Session2::ServerStore or HTTP::Session2::ClientStore2 instead. at /home/cpan/.cpan/build/HTTP-Session2-1.10-0/blib/lib/HTTP/Session2/ClientStore.pm line 35.
Secret string too short at /home/cpan/.cpan/build/HTTP-Session2-1.10-0/blib/lib/HTTP/Session2/Base.pm line 79.
	HTTP::Session2::Base::__ANON__(HTTP::Session2::ClientStore=HASH(0x33ab0560), "s3cret") called at t/03_mech.t line 127
	main::client_session(HASH(0x33914f08)) called at t/03_mech.t line 17
	main::__ANON__(HASH(0x33914f08)) called at /home/cpan/bin/perl/lib/site_perl/5.43.3/Test/WWW/Mechanize/PSGI.pm line 46
	Test::WWW::Mechanize::PSGI::try {...} () called at /home/cpan/bin/perl/lib/site_perl/5.43.3/Try/Tiny.pm line 102
	eval {...} called at /home/cpan/bin/perl/lib/site_perl/5.43.3/Try/Tiny.pm line 93
	Try::Tiny::try(CODE(0x33ab0698), Try::Tiny::Catch=REF(0x33a90438)) called at /home/cpan/bin/perl/lib/site_perl/5.43.3/Test/WWW/Mechanize/PSGI.pm line 53
	Test::WWW::Mechanize::PSGI::simple_request(Test::WWW::Mechanize::PSGI=HASH(0x33ab02a8), HTTP::Request=HASH(0x33aa7278), undef, undef) called at /home/cpan/bin/perl/lib/site_perl/5.43.3/LWP/UserAgent.pm line 310
	LWP::UserAgent::request(Test::WWW::Mechanize::PSGI=HASH(0x33ab02a8), HTTP::Request=HASH(0x33aa7278)) called at /home/cpan/bin/perl/lib/site_perl/5.43.3/WWW/Mechanize.pm line 1699
	WWW::Mechanize::_make_request(Test::WWW::Mechanize::PSGI=HASH(0x33ab02a8), HTTP::Request=HASH(0x33aa7278)) called at /home/cpan/bin/perl/lib/site_perl/5.43.3/WWW/Mechanize.pm line 1534
	WWW::Mechanize::request(Test::WWW::Mechanize::PSGI=HASH(0x33ab02a8), HTTP::Request=HASH(0x33aa7278)) called at /home/cpan/bin/perl/lib/site_perl/5.43.3/LWP/UserAgent.pm line 500
	LWP::UserAgent::post(Test::WWW::Mechanize::PSGI=HASH(0x33ab02a8), "http://localhost/wishlist?baz") called at /home/cpan/bin/perl/lib/site_perl/5.43.3/WWW/Mechanize.pm line 136
	WWW::Mechanize::post(Test::WWW::Mechanize::PSGI=HASH(0x33ab02a8), "/wishlist?baz") called at t/03_mech.t line 87
Do not use HTTP::Session2::ClientStore. Use HTTP::Session2::ServerStore or HTTP::Session2::ClientStore2 instead. at /home/cpan/.cpan/build/HTTP-Session2-1.10-0/blib/lib/HTTP/Session2/ClientStore.pm line 35.
Secret string too short at /home/cpan/.cpan/build/HTTP-Session2-1.10-0/blib/lib/HTTP/Session2/Base.pm line 79.
	HTTP::Session2::Base::__ANON__(HTTP::Session2::ClientStore=HASH(0x33aacda8), "s3cret") called at t/03_mech.t line 127
	main::client_session(HASH(0x33aad708)) called at t/03_mech.t line 17
	main::__ANON__(HASH(0x33aad708)) called at /home/cpan/bin/perl/lib/site_perl/5.43.3/Test/WWW/Mechanize/PSGI.pm line 46
	Test::WWW::Mechanize::PSGI::try {...} () called at /home/cpan/bin/perl/lib/site_perl/5.43.3/Try/Tiny.pm line 102
	eval {...} called at /home/cpan/bin/perl/lib/site_perl/5.43.3/Try/Tiny.pm line 93
	Try::Tiny::try(CODE(0x33ab0a88), Try::Tiny::Catch=REF(0x33ab0980)) called at /home/cpan/bin/perl/lib/site_perl/5.43.3/Test/WWW/Mechanize/PSGI.pm line 53
	Test::WWW::Mechanize::PSGI::simple_request(Test::WWW::Mechanize::PSGI=HASH(0x33ab02a8), HTTP::Request=HASH(0x33aafff0), undef, undef) called at /home/cpan/bin/perl/lib/site_perl/5.43.3/LWP/UserAgent.pm line 310
	LWP::UserAgent::request(Test::WWW::Mechanize::PSGI=HASH(0x33ab02a8), HTTP::Request=HASH(0x33aafff0)) called at /home/cpan/bin/perl/lib/site_perl/5.43.3/WWW/Mechanize.pm line 1699
	WWW::Mechanize::_make_request(Test::WWW::Mechanize::PSGI=HASH(0x33ab02a8), HTTP::Request=HASH(0x33aafff0)) called at /home/cpan/bin/perl/lib/site_perl/5.43.3/WWW/Mechanize.pm line 1534
	WWW::Mechanize::request(Test::WWW::Mechanize::PSGI=HASH(0x33ab02a8), HTTP::Request=HASH(0x33aafff0)) called at /home/cpan/bin/perl/lib/site_perl/5.43.3/LWP/UserAgent.pm line 500
	LWP::UserAgent::post(Test::WWW::Mechanize::PSGI=HASH(0x33ab02a8), "http://localhost/wishlist?baz", HASH(0x336116b0)) called at /home/cpan/bin/perl/lib/site_perl/5.43.3/WWW/Mechanize.pm line 136
	WWW::Mechanize::post(Test::WWW::Mechanize::PSGI=HASH(0x33ab02a8), "/wishlist?baz", HASH(0x336116b0)) called at /home/cpan/bin/perl/lib/site_perl/5.43.3/Test/WWW/Mechanize.pm line 321
	Test::WWW::Mechanize::post_ok(Test::WWW::Mechanize::PSGI=HASH(0x33ab02a8), "/wishlist?baz") called at t/03_mech.t line 90
Do not use HTTP::Session2::ClientStore. Use HTTP::Session2::ServerStore or HTTP::Session2::ClientStore2 instead. at /home/cpan/.cpan/build/HTTP-Session2-1.10-0/blib/lib/HTTP/Session2/ClientStore.pm line 35.
Do not use HTTP::Session2::ClientStore. Use HTTP::Session2::ServerStore or HTTP::Session2::ClientStore2 instead. at /home/cpan/.cpan/build/HTTP-Session2-1.10-0/blib/lib/HTTP/Session2/ClientStore.pm line 25.
Secret string too short at /home/cpan/.cpan/build/HTTP-Session2-1.10-0/blib/lib/HTTP/Session2/Base.pm line 79.
	HTTP::Session2::Base::__ANON__(HTTP::Session2::ClientStore=HASH(0x33ab03e0), "s3cret") called at t/03_mech.t line 127
	main::client_session(HASH(0x33aad228)) called at t/03_mech.t line 17
	main::__ANON__(HASH(0x33aad228)) called at /home/cpan/bin/perl/lib/site_perl/5.43.3/Test/WWW/Mechanize/PSGI.pm line 46
	Test::WWW::Mechanize::PSGI::try {...} () called at /home/cpan/bin/perl/lib/site_perl/5.43.3/Try/Tiny.pm line 102
	eval {...} called at /home/cpan/bin/perl/lib/site_perl/5.43.3/Try/Tiny.pm line 93
	Try::Tiny::try(CODE(0x33aa73f8), Try::Tiny::Catch=REF(0x33ab0c20)) called at /home/cpan/bin/perl/lib/site_perl/5.43.3/Test/WWW/Mechanize/PSGI.pm line 53
	Test::WWW::Mechanize::PSGI::simple_request(Test::WWW::Mechanize::PSGI=HASH(0x33ab02a8), HTTP::Request=HASH(0x33aaffc0), undef, undef) called at /home/cpan/bin/perl/lib/site_perl/5.43.3/LWP/UserAgent.pm line 310
	LWP::UserAgent::request(Test::WWW::Mechanize::PSGI=HASH(0x33ab02a8), HTTP::Request=HASH(0x33aaffc0)) called at /home/cpan/bin/perl/lib/site_perl/5.43.3/WWW/Mechanize.pm line 1699
	WWW::Mechanize::_make_request(Test::WWW::Mechanize::PSGI=HASH(0x33ab02a8), HTTP::Request=HASH(0x33aaffc0)) called at /home/cpan/bin/perl/lib/site_perl/5.43.3/WWW/Mechanize.pm line 1534
	WWW::Mechanize::request(Test::WWW::Mechanize::PSGI=HASH(0x33ab02a8), HTTP::Request=HASH(0x33aaffc0)) called at /home/cpan/bin/perl/lib/site_perl/5.43.3/LWP/UserAgent.pm line 454
	LWP::UserAgent::get(Test::WWW::Mechanize::PSGI=HASH(0x33ab02a8), "http://localhost/wishlist") called at /home/cpan/bin/perl/lib/site_perl/5.43.3/WWW/Mechanize.pm line 124
	WWW::Mechanize::get(Test::WWW::Mechanize::PSGI=HASH(0x33ab02a8), "/wishlist") called at /home/cpan/bin/perl/lib/site_perl/5.43.3/Test/WWW/Mechanize.pm line 192
	Test::WWW::Mechanize::get_ok(Test::WWW::Mechanize::PSGI=HASH(0x33ab02a8), "/wishlist", "Wishlist is still available") called at t/03_mech.t line 91
Do not use HTTP::Session2::ClientStore. Use HTTP::Session2::ServerStore or HTTP::Session2::ClientStore2 instead. at /home/cpan/.cpan/build/HTTP-Session2-1.10-0/blib/lib/HTTP/Session2/ClientStore.pm line 35.
Secret string too short at /home/cpan/.cpan/build/HTTP-Session2-1.10-0/blib/lib/HTTP/Session2/Base.pm line 79.
	HTTP::Session2::Base::__ANON__(HTTP::Session2::ClientStore=HASH(0x33ab56c8), "s3cret") called at t/03_mech.t line 127
	main::client_session(HASH(0x33ab0248)) called at t/03_mech.t line 17
	main::__ANON__(HASH(0x33ab0248)) called at /home/cpan/bin/perl/lib/site_perl/5.43.3/Test/WWW/Mechanize/PSGI.pm line 46
	Test::WWW::Mechanize::PSGI::try {...} () called at /home/cpan/bin/perl/lib/site_perl/5.43.3/Try/Tiny.pm line 102
	eval {...} called at /home/cpan/bin/perl/lib/site_perl/5.43.3/Try/Tiny.pm line 93
	Try::Tiny::try(CODE(0x33ab5638), Try::Tiny::Catch=REF(0x339150b8)) called at /home/cpan/bin/perl/lib/site_perl/5.43.3/Test/WWW/Mechanize/PSGI.pm line 53
	Test::WWW::Mechanize::PSGI::simple_request(Test::WWW::Mechanize::PSGI=HASH(0x33ab02a8), HTTP::Request=HASH(0x33aad798), undef, undef) called at /home/cpan/bin/perl/lib/site_perl/5.43.3/LWP/UserAgent.pm line 310
	LWP::UserAgent::request(Test::WWW::Mechanize::PSGI=HASH(0x33ab02a8), HTTP::Request=HASH(0x33aad798)) called at /home/cpan/bin/perl/lib/site_perl/5.43.3/WWW/Mechanize.pm line 1699
	WWW::Mechanize::_make_request(Test::WWW::Mechanize::PSGI=HASH(0x33ab02a8), HTTP::Request=HASH(0x33aad798)) called at /home/cpan/bin/perl/lib/site_perl/5.43.3/WWW/Mechanize.pm line 1534
	WWW::Mechanize::request(Test::WWW::Mechanize::PSGI=HASH(0x33ab02a8), HTTP::Request=HASH(0x33aad798)) called at /home/cpan/bin/perl/lib/site_perl/5.43.3/LWP/UserAgent.pm line 454
	LWP::UserAgent::get(Test::WWW::Mechanize::PSGI=HASH(0x33ab02a8), "http://localhost/my/name") called at /home/cpan/bin/perl/lib/site_perl/5.43.3/WWW/Mechanize.pm line 124
	WWW::Mechanize::get(Test::WWW::Mechanize::PSGI=HASH(0x33ab02a8), "/my/name") called at /home/cpan/bin/perl/lib/site_perl/5.43.3/Test/WWW/Mechanize.pm line 192
	Test::WWW::Mechanize::get_ok(Test::WWW::Mechanize::PSGI=HASH(0x33ab02a8), "/my/name") called at t/03_mech.t line 93
Do not use HTTP::Session2::ClientStore. Use HTTP::Session2::ServerStore or HTTP::Session2::ClientStore2 instead. at /home/cpan/.cpan/build/HTTP-Session2-1.10-0/blib/lib/HTTP/Session2/ClientStore.pm line 35.
Secret string too short at /home/cpan/.cpan/build/HTTP-Session2-1.10-0/blib/lib/HTTP/Session2/Base.pm line 79.
	HTTP::Session2::Base::__ANON__(HTTP::Session2::ClientStore=HASH(0x33ab5b90), "s3cret") called at t/03_mech.t line 127
	main::client_session(HASH(0x33ab5710)) called at t/03_mech.t line 17
	main::__ANON__(HASH(0x33ab5710)) called at /home/cpan/bin/perl/lib/site_perl/5.43.3/Test/WWW/Mechanize/PSGI.pm line 46
	Test::WWW::Mechanize::PSGI::try {...} () called at /home/cpan/bin/perl/lib/site_perl/5.43.3/Try/Tiny.pm line 102
	eval {...} called at /home/cpan/bin/perl/lib/site_perl/5.43.3/Try/Tiny.pm line 93
	Try::Tiny::try(CODE(0x33ab5cf8), Try::Tiny::Catch=REF(0x33ab5758)) called at /home/cpan/bin/perl/lib/site_perl/5.43.3/Test/WWW/Mechanize/PSGI.pm line 53
	Test::WWW::Mechanize::PSGI::simple_request(Test::WWW::Mechanize::PSGI=HASH(0x33ab02a8), HTTP::Request=HASH(0x339a0d68), undef, undef) called at /home/cpan/bin/perl/lib/site_perl/5.43.3/LWP/UserAgent.pm line 310
	LWP::UserAgent::request(Test::WWW::Mechanize::PSGI=HASH(0x33ab02a8), HTTP::Request=HASH(0x339a0d68)) called at /home/cpan/bin/perl/lib/site_perl/5.43.3/WWW/Mechanize.pm line 1699
	WWW::Mechanize::_make_request(Test::WWW::Mechanize::PSGI=HASH(0x33ab02a8), HTTP::Request=HASH(0x339a0d68)) called at /home/cpan/bin/perl/lib/site_perl/5.43.3/WWW/Mechanize.pm line 1534
	WWW::Mechanize::request(Test::WWW::Mechanize::PSGI=HASH(0x33ab02a8), HTTP::Request=HASH(0x339a0d68)) called at /home/cpan/bin/perl/lib/site_perl/5.43.3/LWP/UserAgent.pm line 500
	LWP::UserAgent::post(Test::WWW::Mechanize::PSGI=HASH(0x33ab02a8), "http://localhost/account/logout?john") called at /home/cpan/bin/perl/lib/site_perl/5.43.3/WWW/Mechanize.pm line 136
	WWW::Mechanize::post(Test::WWW::Mechanize::PSGI=HASH(0x33ab02a8), "/account/logout?john") called at t/03_mech.t line 97
Do not use HTTP::Session2::ClientStore. Use HTTP::Session2::ServerStore or HTTP::Session2::ClientStore2 instead. at /home/cpan/.cpan/build/HTTP-Session2-1.10-0/blib/lib/HTTP/Session2/ClientStore.pm line 35.
Do not use HTTP::Session2::ClientStore. Use HTTP::Session2::ServerStore or HTTP::Session2::ClientStore2 instead. at /home/cpan/.cpan/build/HTTP-Session2-1.10-0/blib/lib/HTTP/Session2/ClientStore.pm line 35.
t/03_mech.t ................. ok
Do not use HTTP::Session2::ClientStore. Use HTTP::Session2::ServerStore or HTTP::Session2::ClientStore2 instead. at /home/cpan/.cpan/build/HTTP-Session2-1.10-0/blib/lib/HTTP/Session2/ClientStore.pm line 25.
t/04_plack_response.t ....... ok
Secret string too short at /home/cpan/.cpan/build/HTTP-Session2-1.10-0/blib/lib/HTTP/Session2/Base.pm line 79.
	HTTP::Session2::Base::__ANON__(HTTP::Session2::ClientStore=HASH(0xfb10e80), "s3cret") called at t/05_keep_me_signed_in.t line 20
Do not use HTTP::Session2::ClientStore. Use HTTP::Session2::ServerStore or HTTP::Session2::ClientStore2 instead. at /home/cpan/.cpan/build/HTTP-Session2-1.10-0/blib/lib/HTTP/Session2/ClientStore.pm line 25.
t/05_keep_me_signed_in.t .... ok
Secret string too short at /home/cpan/.cpan/build/HTTP-Session2-1.10-0/blib/lib/HTTP/Session2/Base.pm line 79.
	HTTP::Session2::Base::__ANON__(HTTP::Session2::Base=HASH(0x26e79230), "i am secret") called at t/06_base_abstract.t line 7
t/06_base_abstract.t ........ ok
Secret string too short at /home/cpan/.cpan/build/HTTP-Session2-1.10-0/blib/lib/HTTP/Session2/Base.pm line 79.
	HTTP::Session2::Base::__ANON__(HTTP::Session2::ClientStore=HASH(0x21c3cb40), "secret") called at t/07_client_store.t line 23
	main::__ANON__() called at /home/cpan/bin/perl/lib/5.43.3/Test/Builder.pm line 368
	eval {...} called at /home/cpan/bin/perl/lib/5.43.3/Test/Builder.pm line 368
	Test::Builder::subtest(Test::Builder=HASH(0x20f66cd8), "get/set/remove", CODE(0x217d4a38)) called at /home/cpan/bin/perl/lib/5.43.3/Test/More.pm line 831
	Test::More::subtest("get/set/remove", CODE(0x217d4a38)) called at t/07_client_store.t line 31
Secret string too short at /home/cpan/.cpan/build/HTTP-Session2-1.10-0/blib/lib/HTTP/Session2/Base.pm line 79.
	HTTP::Session2::Base::__ANON__(HTTP::Session2::ClientStore=HASH(0x20f3cf90), "secret") called at t/07_client_store.t line 35
	main::__ANON__() called at /home/cpan/bin/perl/lib/5.43.3/Test/Builder.pm line 368
	eval {...} called at /home/cpan/bin/perl/lib/5.43.3/Test/Builder.pm line 368
	Test::Builder::subtest(Test::Builder=HASH(0x20f66cd8), "validate_token", CODE(0x217d4d08)) called at /home/cpan/bin/perl/lib/5.43.3/Test/More.pm line 831
	Test::More::subtest("validate_token", CODE(0x217d4d08)) called at t/07_client_store.t line 71
Do not use HTTP::Session2::ClientStore. Use HTTP::Session2::ServerStore or HTTP::Session2::ClientStore2 instead. at /home/cpan/.cpan/build/HTTP-Session2-1.10-0/blib/lib/HTTP/Session2/ClientStore.pm line 25.
Secret string too short at /home/cpan/.cpan/build/HTTP-Session2-1.10-0/blib/lib/HTTP/Session2/Base.pm line 79.
	HTTP::Session2::Base::__ANON__(HTTP::Session2::ClientStore=HASH(0x21c44550), "secret") called at t/07_client_store.t line 51
	main::__ANON__() called at /home/cpan/bin/perl/lib/5.43.3/Test/Builder.pm line 368
	eval {...} called at /home/cpan/bin/perl/lib/5.43.3/Test/Builder.pm line 368
	Test::Builder::subtest(Test::Builder=HASH(0x20f66cd8), "bad", CODE(0x21c347f0)) called at /home/cpan/bin/perl/lib/5.43.3/Test/More.pm line 831
	Test::More::subtest("bad", CODE(0x21c347f0)) called at t/07_client_store.t line 57
	main::__ANON__() called at /home/cpan/bin/perl/lib/5.43.3/Test/Builder.pm line 368
	eval {...} called at /home/cpan/bin/perl/lib/5.43.3/Test/Builder.pm line 368
	Test::Builder::subtest(Test::Builder=HASH(0x20f66cd8), "validate_token", CODE(0x217d4d08)) called at /home/cpan/bin/perl/lib/5.43.3/Test/More.pm line 831
	Test::More::subtest("validate_token", CODE(0x217d4d08)) called at t/07_client_store.t line 71
Do not use HTTP::Session2::ClientStore. Use HTTP::Session2::ServerStore or HTTP::Session2::ClientStore2 instead. at /home/cpan/.cpan/build/HTTP-Session2-1.10-0/blib/lib/HTTP/Session2/ClientStore.pm line 35.
Secret string too short at /home/cpan/.cpan/build/HTTP-Session2-1.10-0/blib/lib/HTTP/Session2/Base.pm line 79.
	HTTP::Session2::Base::__ANON__(HTTP::Session2::ClientStore=HASH(0x21c43e78), "secret") called at t/07_client_store.t line 65
	main::__ANON__() called at /home/cpan/bin/perl/lib/5.43.3/Test/Builder.pm line 368
	eval {...} called at /home/cpan/bin/perl/lib/5.43.3/Test/Builder.pm line 368
	Test::Builder::subtest(Test::Builder=HASH(0x20f66cd8), "good", CODE(0x21c347f0)) called at /home/cpan/bin/perl/lib/5.43.3/Test/More.pm line 831
	Test::More::subtest("good", CODE(0x21c347f0)) called at t/07_client_store.t line 70
	main::__ANON__() called at /home/cpan/bin/perl/lib/5.43.3/Test/Builder.pm line 368
	eval {...} called at /home/cpan/bin/perl/lib/5.43.3/Test/Builder.pm line 368
	Test::Builder::subtest(Test::Builder=HASH(0x20f66cd8), "validate_token", CODE(0x217d4d08)) called at /home/cpan/bin/perl/lib/5.43.3/Test/More.pm line 831
	Test::More::subtest("validate_token", CODE(0x217d4d08)) called at t/07_client_store.t line 71
Do not use HTTP::Session2::ClientStore. Use HTTP::Session2::ServerStore or HTTP::Session2::ClientStore2 instead. at /home/cpan/.cpan/build/HTTP-Session2-1.10-0/blib/lib/HTTP/Session2/ClientStore.pm line 35.
Secret string too short at /home/cpan/.cpan/build/HTTP-Session2-1.10-0/blib/lib/HTTP/Session2/Base.pm line 79.
	HTTP::Session2::Base::__ANON__(HTTP::Session2::ClientStore=HASH(0x20f341d0), "secret") called at t/07_client_store.t line 76
	main::__ANON__() called at /home/cpan/bin/perl/lib/5.43.3/Test/Builder.pm line 368
	eval {...} called at /home/cpan/bin/perl/lib/5.43.3/Test/Builder.pm line 368
	Test::Builder::subtest(Test::Builder=HASH(0x20f66cd8), "ignore_old", CODE(0x21c28410)) called at /home/cpan/bin/perl/lib/5.43.3/Test/More.pm line 831
	Test::More::subtest("ignore_old", CODE(0x21c28410)) called at t/07_client_store.t line 106
Do not use HTTP::Session2::ClientStore. Use HTTP::Session2::ServerStore or HTTP::Session2::ClientStore2 instead. at /home/cpan/.cpan/build/HTTP-Session2-1.10-0/blib/lib/HTTP/Session2/ClientStore.pm line 25.
Secret string too short at /home/cpan/.cpan/build/HTTP-Session2-1.10-0/blib/lib/HTTP/Session2/Base.pm line 79.
	HTTP::Session2::Base::__ANON__(HTTP::Session2::ClientStore=HASH(0x21c3d0b0), "secret") called at t/07_client_store.t line 87
	main::__ANON__() called at /home/cpan/bin/perl/lib/5.43.3/Test/Builder.pm line 368
	eval {...} called at /home/cpan/bin/perl/lib/5.43.3/Test/Builder.pm line 368
	Test::Builder::subtest(Test::Builder=HASH(0x20f66cd8), "ignore_old disabled", CODE(0x21c540e0)) called at /home/cpan/bin/perl/lib/5.43.3/Test/More.pm line 831
	Test::More::subtest("ignore_old disabled", CODE(0x21c540e0)) called at t/07_client_store.t line 95
	main::__ANON__() called at /home/cpan/bin/perl/lib/5.43.3/Test/Builder.pm line 368
	eval {...} called at /home/cpan/bin/perl/lib/5.43.3/Test/Builder.pm line 368
	Test::Builder::subtest(Test::Builder=HASH(0x20f66cd8), "ignore_old", CODE(0x21c28410)) called at /home/cpan/bin/perl/lib/5.43.3/Test/More.pm line 831
	Test::More::subtest("ignore_old", CODE(0x21c28410)) called at t/07_client_store.t line 106
Do not use HTTP::Session2::ClientStore. Use HTTP::Session2::ServerStore or HTTP::Session2::ClientStore2 instead. at /home/cpan/.cpan/build/HTTP-Session2-1.10-0/blib/lib/HTTP/Session2/ClientStore.pm line 35.
Secret string too short at /home/cpan/.cpan/build/HTTP-Session2-1.10-0/blib/lib/HTTP/Session2/Base.pm line 79.
	HTTP::Session2::Base::__ANON__(HTTP::Session2::ClientStore=HASH(0x21c43ef0), "secret") called at t/07_client_store.t line 97
	main::__ANON__() called at /home/cpan/bin/perl/lib/5.43.3/Test/Builder.pm line 368
	eval {...} called at /home/cpan/bin/perl/lib/5.43.3/Test/Builder.pm line 368
	Test::Builder::subtest(Test::Builder=HASH(0x20f66cd8), "ignore_old enabled", CODE(0x21c540e0)) called at /home/cpan/bin/perl/lib/5.43.3/Test/More.pm line 831
	Test::More::subtest("ignore_old enabled", CODE(0x21c540e0)) called at t/07_client_store.t line 105
	main::__ANON__() called at /home/cpan/bin/perl/lib/5.43.3/Test/Builder.pm line 368
	eval {...} called at /home/cpan/bin/perl/lib/5.43.3/Test/Builder.pm line 368
	Test::Builder::subtest(Test::Builder=HASH(0x20f66cd8), "ignore_old", CODE(0x21c28410)) called at /home/cpan/bin/perl/lib/5.43.3/Test/More.pm line 831
	Test::More::subtest("ignore_old", CODE(0x21c28410)) called at t/07_client_store.t line 106
t/07_client_store.t ......... ok
Secret string too short at /home/cpan/.cpan/build/HTTP-Session2-1.10-0/blib/lib/HTTP/Session2/Base.pm line 79.
	HTTP::Session2::Base::__ANON__(HTTP::Session2::Expired=HASH(0x332a2e80), 33333) called at t/08_expired.t line 7
t/08_expired.t .............. ok
# /dev/urandom available
# /dev/urandom(1): lBNiUZkhiH2LdwHjrys02GBRsvw5tuE
# /dev/urandom(2): WOzZwqUIUW33DjD5a6QGJPZgP5N5WOg
# perl:            ca00c63b574a4a991ace6f403555cd7
t/09_random.t ............... ok
t/11_secret_string.t ........ ok
Secret string too short at /home/cpan/.cpan/build/HTTP-Session2-1.10-0/blib/lib/HTTP/Session2/Base.pm line 79.
	HTTP::Session2::Base::__ANON__(HTTP::Session2::ClientStore2=HASH(0x29df15a0), "s3cret") called at t/client_store2/01_basic.t line 24
	main::__ANON__("client -> server: request without cookie", CODE(0x29deadf8)) called at t/client_store2/01_basic.t line 30
	main::__ANON__() called at /home/cpan/bin/perl/lib/5.43.3/Test/Builder.pm line 368
	eval {...} called at /home/cpan/bin/perl/lib/5.43.3/Test/Builder.pm line 368
	Test::Builder::subtest(Test::Builder=HASH(0x2941d838), "First request", CODE(0x293d0648)) called at /home/cpan/bin/perl/lib/5.43.3/Test/More.pm line 831
	Test::More::subtest("First request", CODE(0x293d0648)) called at t/client_store2/01_basic.t line 9
	main::scenario("First request", CODE(0x293d0648)) called at t/client_store2/01_basic.t line 36
Secret string too short at /home/cpan/.cpan/build/HTTP-Session2-1.10-0/blib/lib/HTTP/Session2/Base.pm line 79.
	HTTP::Session2::Base::__ANON__(HTTP::Session2::ClientStore2=HASH(0x29dea6f0), "s3cret") called at t/client_store2/01_basic.t line 41
	main::__ANON__("client -> server: request without cookie", CODE(0x29df1ae0)) called at t/client_store2/01_basic.t line 47
	main::__ANON__() called at /home/cpan/bin/perl/lib/5.43.3/Test/Builder.pm line 368
	eval {...} called at /home/cpan/bin/perl/lib/5.43.3/Test/Builder.pm line 368
	Test::Builder::subtest(Test::Builder=HASH(0x2941d838), "Store something without login", CODE(0x293d0648)) called at /home/cpan/bin/perl/lib/5.43.3/Test/More.pm line 831
	Test::More::subtest("Store something without login", CODE(0x293d0648)) called at t/client_store2/01_basic.t line 9
	main::scenario("Store something without login", CODE(0x293d0648)) called at t/client_store2/01_basic.t line 63
WARNING: The key derivation method "opensslv1" is deprecated. Using -pbkdf=>'pbkdf2' would be better.
Pass -nodeprecate=>1 to inhibit this message.
 at /home/cpan/.cpan/build/HTTP-Session2-1.10-0/blib/lib/HTTP/Session2/ClientStore2.pm line 177.
Secret string too short at /home/cpan/.cpan/build/HTTP-Session2-1.10-0/blib/lib/HTTP/Session2/Base.pm line 79.
	HTTP::Session2::Base::__ANON__(HTTP::Session2::ClientStore2=HASH(0x29e04eb8), "s3cret") called at t/client_store2/01_basic.t line 69
	main::__ANON__("client -> server: request without cookie", CODE(0x29deae70)) called at t/client_store2/01_basic.t line 76
	main::__ANON__() called at /home/cpan/bin/perl/lib/5.43.3/Test/Builder.pm line 368
	eval {...} called at /home/cpan/bin/perl/lib/5.43.3/Test/Builder.pm line 368
	Test::Builder::subtest(Test::Builder=HASH(0x2941d838), "Login", CODE(0x293d0648)) called at /home/cpan/bin/perl/lib/5.43.3/Test/More.pm line 831
	Test::More::subtest("Login", CODE(0x293d0648)) called at t/client_store2/01_basic.t line 9
	main::scenario("Login", CODE(0x293d0648)) called at t/client_store2/01_basic.t line 96
Ciphertext does not begin with a valid header for 'salt' header mode at /home/cpan/.cpan/build/HTTP-Session2-1.10-0/blib/lib/HTTP/Session2/ClientStore2.pm line 81.
Ciphertext does not begin with a valid header for 'salt' header mode at /home/cpan/.cpan/build/HTTP-Session2-1.10-0/blib/lib/HTTP/Session2/ClientStore2.pm line 81.
WARNING: The key derivation method "opensslv1" is deprecated. Using -pbkdf=>'pbkdf2' would be better.
Pass -nodeprecate=>1 to inhibit this message.
 at /home/cpan/.cpan/build/HTTP-Session2-1.10-0/blib/lib/HTTP/Session2/ClientStore2.pm line 177.
Secret string too short at /home/cpan/.cpan/build/HTTP-Session2-1.10-0/blib/lib/HTTP/Session2/Base.pm line 79.
	HTTP::Session2::Base::__ANON__(HTTP::Session2::ClientStore2=HASH(0x29df1e10), "s3cret") called at t/client_store2/01_basic.t line 102
	main::__ANON__("client -> server: request without cookie", CODE(0x29dfe970)) called at t/client_store2/01_basic.t line 109
	main::__ANON__() called at /home/cpan/bin/perl/lib/5.43.3/Test/Builder.pm line 368
	eval {...} called at /home/cpan/bin/perl/lib/5.43.3/Test/Builder.pm line 368
	Test::Builder::subtest(Test::Builder=HASH(0x2941d838), "In a login session", CODE(0x293d0648)) called at /home/cpan/bin/perl/lib/5.43.3/Test/More.pm line 831
	Test::More::subtest("In a login session", CODE(0x293d0648)) called at t/client_store2/01_basic.t line 9
	main::scenario("In a login session", CODE(0x293d0648)) called at t/client_store2/01_basic.t line 118
Ciphertext does not begin with a valid header for 'salt' header mode at /home/cpan/.cpan/build/HTTP-Session2-1.10-0/blib/lib/HTTP/Session2/ClientStore2.pm line 81.
WARNING: The key derivation method "opensslv1" is deprecated. Using -pbkdf=>'pbkdf2' would be better.
Pass -nodeprecate=>1 to inhibit this message.
 at /home/cpan/.cpan/build/HTTP-Session2-1.10-0/blib/lib/HTTP/Session2/ClientStore2.pm line 177.
Secret string too short at /home/cpan/.cpan/build/HTTP-Session2-1.10-0/blib/lib/HTTP/Session2/Base.pm line 79.
	HTTP::Session2::Base::__ANON__(HTTP::Session2::ClientStore2=HASH(0x29dfe550), "s3cret") called at t/client_store2/01_basic.t line 123
	main::__ANON__("client -> server: request without cookie", CODE(0x29df1c60)) called at t/client_store2/01_basic.t line 130
	main::__ANON__() called at /home/cpan/bin/perl/lib/5.43.3/Test/Builder.pm line 368
	eval {...} called at /home/cpan/bin/perl/lib/5.43.3/Test/Builder.pm line 368
	Test::Builder::subtest(Test::Builder=HASH(0x2941d838), "Logout", CODE(0x293d0648)) called at /home/cpan/bin/perl/lib/5.43.3/Test/More.pm line 831
	Test::More::subtest("Logout", CODE(0x293d0648)) called at t/client_store2/01_basic.t line 9
	main::scenario("Logout", CODE(0x293d0648)) called at t/client_store2/01_basic.t line 143
Ciphertext does not begin with a valid header for 'salt' header mode at /home/cpan/.cpan/build/HTTP-Session2-1.10-0/blib/lib/HTTP/Session2/ClientStore2.pm line 81.
t/client_store2/01_basic.t .. ok
WARNING: The key derivation method "opensslv1" is deprecated. Using -pbkdf=>'pbkdf2' would be better.
Pass -nodeprecate=>1 to inhibit this message.
 at /home/cpan/.cpan/build/HTTP-Session2-1.10-0/blib/lib/HTTP/Session2/ClientStore2.pm line 177.
WARNING: The key derivation method "opensslv1" is deprecated. Using -pbkdf=>'pbkdf2' would be better.
Pass -nodeprecate=>1 to inhibit this message.
 at /home/cpan/.cpan/build/HTTP-Session2-1.10-0/blib/lib/HTTP/Session2/ClientStore2.pm line 177.
WARNING: The key derivation method "opensslv1" is deprecated. Using -pbkdf=>'pbkdf2' would be better.
Pass -nodeprecate=>1 to inhibit this message.
 at /home/cpan/.cpan/build/HTTP-Session2-1.10-0/blib/lib/HTTP/Session2/ClientStore2.pm line 177.
t/client_store2/02_mech.t ... ok
WARNING: The key derivation method "opensslv1" is deprecated. Using -pbkdf=>'pbkdf2' would be better.
Pass -nodeprecate=>1 to inhibit this message.
 at /home/cpan/.cpan/build/HTTP-Session2-1.10-0/blib/lib/HTTP/Session2/ClientStore2.pm line 177.
t/client_store2/03_colon.t .. ok
All tests successful.
Files=14, Tests=84,  2 wallclock secs ( 0.05 usr  0.02 sys +  0.96 cusr  0.16 csys =  1.19 CPU)
Result: PASS

------------------------------
PREREQUISITES
------------------------------

Prerequisite modules loaded:

requires:

    Module                     Need     Have    
    -------------------------- -------- --------
    Cookie::Baker              0        0.12    
    Crypt::CBC                 0        3.07    
    Data::MessagePack          0        1.02    
    Digest::HMAC               0        1.05    
    Digest::SHA                0        6.04    
    Digest::SHA1               0        2.13    
    MIME::Base64               3.11     3.16_01 
    Mouse                      0        v2.5.11 
    parent                     0        0.244   
    perl                       5.008005 5.043003
    Time::HiRes                0        1.9779  

build_requires:

    Module                     Need     Have    
    -------------------------- -------- --------
    Crypt::Rijndael            0        1.16    
    Plack::Request             0        1.0051  
    Plack::Response            0        1.0051  
    Test::More                 0.98     1.302214
    Test::WWW::Mechanize::PSGI 0        0.39    

configure_requires:

    Module                     Need     Have    
    -------------------------- -------- --------
    Module::Build::Tiny        0.035    0.052   


------------------------------
ENVIRONMENT AND OTHER CONTEXT
------------------------------

Environment variables:

    AUTOMATED_TESTING = 1
    DATE_MANIP_TEST_DM5 = 1
    LANG = en_US.UTF-8
    LC_ALL = C
    NONINTERACTIVE_TESTING = 1
    NO_NETWORK_TESTING = 1
    PATH = /home/cpan/bin/perl/bin:/home/cpan/bin:/home/cpan/bin:/usr/local/bin:/usr/bin:/usr/local/sbin:/usr/sbin
    PERL5LIB = 
    PERL5OPT = 
    PERL5_CPANPLUS_IS_RUNNING = 555155
    PERL5_CPAN_IS_RUNNING = 555155
    PERL_MM_USE_DEFAULT = 1
    PERL_PERTURB_KEYS = 0
    PERL_USE_UNSAFE_INC = 1
    SHELL = /bin/bash
    TERM = screen
    TMPDIR = /home/cpan/tmp

Perl special variables (and OS-specific diagnostics, for MSWin32):

    $^X = /home/cpan/bin/perl/bin/perl5.43.3
    $UID/$EUID = 1001 / 1001
    $GID = 1001 1001
    $EGID = 1001 1001

Perl module toolchain versions installed:

    Module              Have    
    ------------------- --------
    CPAN                2.38    
    CPAN::Meta          2.150010
    Cwd                 3.94    
    ExtUtils::CBuilder  0.280242
    ExtUtils::Command   7.76    
    ExtUtils::Install   2.22    
    ExtUtils::MakeMaker 7.76    
    ExtUtils::Manifest  1.75    
    ExtUtils::ParseXS   3.60    
    File::Spec          3.94    
    JSON                4.10    
    JSON::PP            4.16    
    Module::Build       0.4234  
    Module::Signature   n/a     
    Parse::CPAN::Meta   2.150010
    Test2               1.302214
    Test::Harness       3.52    
    Test::More          1.302214
    YAML                1.31    
    YAML::Syck          1.34    
    version             0.9933  


--

Summary of my perl5 (revision 5 version 43 subversion 3) configuration:
  Commit id: f9d2deec767758d2dd1971d357c1aa4bf1c67b46
  Platform:
    osname=linux
    osvers=6.12.0-55.29.1.el10_0.x86_64
    archname=x86_64-linux
    uname='linux cjg-rhel10 6.12.0-55.29.1.el10_0.x86_64 #1 smp preempt_dynamic mon aug 18 05:37:24 edt 2025 x86_64 gnulinux '
    config_args='-des -Dprefix=/home/cpan/bin/perl -Dscriptdir=/home/cpan/bin/perl/bin -Dusedevel -Duse64bitall'
    hint=recommended
    useposix=true
    d_sigaction=define
    useithreads=undef
    usemultiplicity=undef
    use64bitint=define
    use64bitall=define
    uselongdouble=undef
    usemymalloc=n
    default_inc_excludes_dot=define
  Compiler:
    cc='cc'
    ccflags ='-fwrapv -fno-strict-aliasing -pipe -fstack-protector-strong -I/usr/local/include -D_LARGEFILE_SOURCE -D_FILE_OFFSET_BITS=64 -D_FORTIFY_SOURCE=2'
    optimize='-O2'
    cppflags='-fwrapv -fno-strict-aliasing -pipe -fstack-protector-strong -I/usr/local/include'
    ccversion=''
    gccversion='14.2.1 20250110 (Red Hat 14.2.1-7)'
    gccosandvers=''
    intsize=4
    longsize=8
    ptrsize=8
    doublesize=8
    byteorder=12345678
    doublekind=3
    d_longlong=define
    longlongsize=8
    d_longdbl=define
    longdblsize=16
    longdblkind=3
    ivtype='long'
    ivsize=8
    nvtype='double'
    nvsize=8
    Off_t='off_t'
    lseeksize=8
    alignbytes=8
    prototype=define
  Linker and Libraries:
    ld='cc'
    ldflags =' -fstack-protector-strong -L/usr/local/lib'
    libpth=/usr/local/lib /usr/lib /usr/lib64 /usr/local/lib64
    libs=-lpthread -ldb -ldl -lm -lcrypt -lutil -lc
    perllibs=-lpthread -ldl -lm -lcrypt -lutil -lc
    libc=/lib/../lib64/libc.so.6
    so=so
    useshrplib=false
    libperl=libperl.a
    gnulibc_version='2.39'
  Dynamic Linking:
    dlsrc=dl_dlopen.xs
    dlext=so
    d_dlsymun=undef
    ccdlflags='-Wl,-E'
    cccdlflags='-fPIC'
    lddlflags='-shared -O2 -L/usr/local/lib -fstack-protector-strong'


Characteristics of this binary (from libperl): 
  Compile-time options:
    HAS_LONG_DOUBLE
    HAS_STRTOLD
    HAS_TIMES
    PERLIO_LAYERS
    PERL_COPY_ON_WRITE
    PERL_DONT_CREATE_GVSV
    PERL_HASH_FUNC_SIPHASH13
    PERL_HASH_USE_SBOX32
    PERL_MALLOC_WRAP
    PERL_OP_PARENT
    PERL_PRESERVE_IVUV
    PERL_USE_DEVEL
    PERL_USE_SAFE_PUTENV
    USE_64_BIT_ALL
    USE_64_BIT_INT
    USE_LARGE_FILES
    USE_LOCALE
    USE_LOCALE_COLLATE
    USE_LOCALE_CTYPE
    USE_LOCALE_NUMERIC
    USE_LOCALE_TIME
    USE_PERLIO
    USE_PERL_ATOF
  Built under linux
  Compiled at Sep  1 2025 22:10:17
  %ENV:
    PERL5LIB=""
    PERL5OPT=""
    PERL5_CPANPLUS_IS_RUNNING="555155"
    PERL5_CPAN_IS_RUNNING="555155"
    PERL_MM_USE_DEFAULT="1"
    PERL_PERTURB_KEYS="0"
    PERL_USE_UNSAFE_INC="1"
  @INC:
    /home/cpan/bin/perl/lib/site_perl/5.43.3/x86_64-linux
    /home/cpan/bin/perl/lib/site_perl/5.43.3
    /home/cpan/bin/perl/lib/5.43.3/x86_64-linux
    /home/cpan/bin/perl/lib/5.43.3
    .