Plack-Middleware-Session v0.31 Perl 5 v5.24.0 x86_64-linux
- Status
- Pass
- From
- Slaven Rezić (SREZIC)
- Dist
-
Plack-Middleware-Session v0.31
- Platform
- Perl 5 v5.24.0 x86_64-linux
- Date
- 2019-02-26 21:53:56
- ID
- 03a94e60-3a11-11e9-ba06-df9163bd1037
This distribution has been tested as part of the CPAN Testers
project, supporting the Perl programming language. See
http://wiki.cpantesters.org/ for more information or email
questions to cpan-testers-discuss@perl.org
--
Dear Tatsuhiko Miyagawa,
This is a computer-generated report for Plack-Middleware-Session-0.31
on perl 5.24.0, created by CPAN-Reporter-1.2018.
Thank you for uploading your work to CPAN. Congratulations!
All tests were successful.
Sections of this report:
* Tester comments
* Program output
* Prerequisites
* Environment and other context
------------------------------
TESTER COMMENTS
------------------------------
Additional comments from tester:
none provided
------------------------------
PROGRAM OUTPUT
------------------------------
Output from './Build test':
Cookie::Baker::XS 0.10 is require. fallback to PP version at /home/cpansand/.cpan/build/2019022621/Cookie-Baker-0.10-5/blib/lib/Cookie/Baker.pm line 17.
t/000_load.t ................... ok
Cookie::Baker::XS 0.10 is require. fallback to PP version at /home/cpansand/.cpan/build/2019022621/Cookie-Baker-0.10-5/blib/lib/Cookie/Baker.pm line 17.
t/001_basic.t .................. ok
Cookie::Baker::XS 0.10 is require. fallback to PP version at /home/cpansand/.cpan/build/2019022621/Cookie-Baker-0.10-5/blib/lib/Cookie/Baker.pm line 17.
t/001a_basic.t ................. ok
Cookie::Baker::XS 0.10 is require. fallback to PP version at /home/cpansand/.cpan/build/2019022621/Cookie-Baker-0.10-5/blib/lib/Cookie/Baker.pm line 17.
t/002_basic_w_cookie.t ......... ok
Cookie::Baker::XS 0.10 is require. fallback to PP version at /home/cpansand/.cpan/build/2019022621/Cookie-Baker-0.10-5/blib/lib/Cookie/Baker.pm line 17.
t/002a_basic_w_cookie.t ........ ok
Cookie::Baker::XS 0.10 is require. fallback to PP version at /home/cpansand/.cpan/build/2019022621/Cookie-Baker-0.10-5/blib/lib/Cookie/Baker.pm line 17.
t/003_basic_w_file_store.t ..... ok
Cookie::Baker::XS 0.10 is require. fallback to PP version at /home/cpansand/.cpan/build/2019022621/Cookie-Baker-0.10-5/blib/lib/Cookie/Baker.pm line 17.
t/003a_basic_w_file_store.t .... ok
Cookie::Baker::XS 0.10 is require. fallback to PP version at /home/cpansand/.cpan/build/2019022621/Cookie-Baker-0.10-5/blib/lib/Cookie/Baker.pm line 17.
t/004_basic_file_w_customs.t ... ok
Cookie::Baker::XS 0.10 is require. fallback to PP version at /home/cpansand/.cpan/build/2019022621/Cookie-Baker-0.10-5/blib/lib/Cookie/Baker.pm line 17.
t/004a_basic_file_w_customs.t .. ok
Cookie::Baker::XS 0.10 is require. fallback to PP version at /home/cpansand/.cpan/build/2019022621/Cookie-Baker-0.10-5/blib/lib/Cookie/Baker.pm line 17.
t/005_basic_w_cache_store.t .... ok
Cookie::Baker::XS 0.10 is require. fallback to PP version at /home/cpansand/.cpan/build/2019022621/Cookie-Baker-0.10-5/blib/lib/Cookie/Baker.pm line 17.
t/005a_basic_w_cache_store.t ... ok
Cookie::Baker::XS 0.10 is require. fallback to PP version at /home/cpansand/.cpan/build/2019022621/Cookie-Baker-0.10-5/blib/lib/Cookie/Baker.pm line 17.
t/006_basic_w_dbi_store.t ...... ok
Cookie::Baker::XS 0.10 is require. fallback to PP version at /home/cpansand/.cpan/build/2019022621/Cookie-Baker-0.10-5/blib/lib/Cookie/Baker.pm line 17.
t/010_middleware.t ............. ok
Cookie::Baker::XS 0.10 is require. fallback to PP version at /home/cpansand/.cpan/build/2019022621/Cookie-Baker-0.10-5/blib/lib/Cookie/Baker.pm line 17.
t/010a_middleware.t ............ ok
Cookie::Baker::XS 0.10 is require. fallback to PP version at /home/cpansand/.cpan/build/2019022621/Cookie-Baker-0.10-5/blib/lib/Cookie/Baker.pm line 17.
t/012_streaming.t .............. ok
Cookie::Baker::XS 0.10 is require. fallback to PP version at /home/cpansand/.cpan/build/2019022621/Cookie-Baker-0.10-5/blib/lib/Cookie/Baker.pm line 17.
t/013_cookiestore.t ............ ok
Cookie::Baker::XS 0.10 is require. fallback to PP version at /home/cpansand/.cpan/build/2019022621/Cookie-Baker-0.10-5/blib/lib/Cookie/Baker.pm line 17.
t/014_cookie_options.t ......... ok
Cookie::Baker::XS 0.10 is require. fallback to PP version at /home/cpansand/.cpan/build/2019022621/Cookie-Baker-0.10-5/blib/lib/Cookie/Baker.pm line 17.
t/015_cookie_options_mw.t ...... ok
Cookie::Baker::XS 0.10 is require. fallback to PP version at /home/cpansand/.cpan/build/2019022621/Cookie-Baker-0.10-5/blib/lib/Cookie/Baker.pm line 17.
t/016_cookiestore_w_customs.t .. ok
t/author-pod-syntax.t .......... skipped: these tests are for testing by the author
All tests successful.
Files=20, Tests=513, 4 wallclock secs ( 0.06 usr 0.10 sys + 1.76 cusr 0.42 csys = 2.34 CPU)
Result: PASS
------------------------------
PREREQUISITES
------------------------------
Prerequisite modules loaded:
requires:
Module Need Have
------------------- ------ --------
Cookie::Baker 0 0.10
Digest::HMAC_SHA1 1.03 1.03
Digest::SHA1 0 2.13
Plack 0.9910 1.0047
build_requires:
Module Need Have
------------------- ------ --------
HTTP::Cookies 0 6.04
LWP::UserAgent 0 6.36
Test::Fatal 0.006 0.014
Test::More 0.88 1.302140
Test::Requires 0 0.10
configure_requires:
Module Need Have
------------------- ------ --------
Module::Build::Tiny 0.034 0.039
------------------------------
ENVIRONMENT AND OTHER CONTEXT
------------------------------
Environment variables:
LANG = en_US.UTF-8
PATH = /usr/local/bin:/usr/bin:/bin:/usr/local/sbin:/usr/sbin:/sbin:/home/cpansand/bin/linux-gnu:/home/cpansand/bin/sh:/home/cpansand/bin:/usr/games:/home/cpansand/devel:/home/eserte/src/srezic-misc/scripts
PERL5LIB = /home/cpansand/.cpan/build/2019022621/Cookie-Baker-0.10-5/blib/arch:/home/cpansand/.cpan/build/2019022621/Cookie-Baker-0.10-5/blib/lib
PERL5OPT =
PERL5_CPANPLUS_IS_RUNNING = 16842
PERL5_CPAN_IS_RUNNING = 16842
PERL5_CPAN_IS_RUNNING_IN_RECURSION = 13144,16842
PERLDOC = -MPod::Perldoc::ToTextOverstrike
PERL_BATCH = yes
PERL_CANARY_STABILITY_NOPROMPT = 1
PERL_CPAN_REPORTER_CONFIG = /var/tmp/cpansmoker-1023/2019022621/cpanreporter_000_config.ini
PERL_EXTUTILS_AUTOINSTALL = --defaultdeps
PERL_USE_UNSAFE_INC = 1
SHELL = /bin/zsh
TERM = screen
TMPDIR = /var/tmp/cpansmoker-1023/2019022621
Perl special variables (and OS-specific diagnostics, for MSWin32):
$^X = /opt/perl-5.24.0/bin/perl
$UID/$EUID = 1023 / 1023
$GID = 1023 1023
$EGID = 1023 1023
Perl module toolchain versions installed:
Module Have
------------------- --------
CPAN 2.22
CPAN::Meta 2.150010
Cwd 3.75
ExtUtils::CBuilder 0.280230
ExtUtils::Command 7.34
ExtUtils::Install 2.14
ExtUtils::MakeMaker 7.34
ExtUtils::Manifest 1.71
ExtUtils::ParseXS 3.31
File::Spec 3.75
JSON 4.01
JSON::PP 2.97001
Module::Build 0.4224
Module::Signature 0.83
Parse::CPAN::Meta 2.150010
Test::Harness 3.42
Test::More 1.302140
YAML 1.26
YAML::Syck 1.31
version 0.9923
--
Summary of my perl5 (revision 5 version 24 subversion 0) configuration:
Platform:
osname=linux, osvers=2.6.32-696.3.1.el6.x86_64, archname=x86_64-linux
uname='linux centos6 2.6.32-696.3.1.el6.x86_64 #1 smp tue may 30 19:52:55 utc 2017 x86_64 x86_64 x86_64 gnulinux '
config_args='-ds -e -Dprefix=/opt/perl-5.24.0 -Dcf_email=srezic@cpan.org'
hint=recommended, useposix=true, d_sigaction=define
useithreads=undef, usemultiplicity=undef
use64bitint=define, use64bitall=define, uselongdouble=undef
usemymalloc=n, bincompat5005=undef
Compiler:
cc='cc', ccflags ='-fwrapv -fno-strict-aliasing -pipe -fstack-protector -I/usr/local/include -D_LARGEFILE_SOURCE -D_FILE_OFFSET_BITS=64 -D_FORTIFY_SOURCE=2',
optimize='-O2',
cppflags='-fwrapv -fno-strict-aliasing -pipe -fstack-protector -I/usr/local/include'
ccversion='', gccversion='4.4.7 20120313 (Red Hat 4.4.7-18)', gccosandvers=''
intsize=4, longsize=8, ptrsize=8, doublesize=8, byteorder=12345678, doublekind=3
d_longlong=define, longlongsize=8, d_longdbl=define, longdblsize=16, longdblkind=3
ivtype='long', ivsize=8, nvtype='double', nvsize=8, Off_t='off_t', lseeksize=8
alignbytes=8, prototype=define
Linker and Libraries:
ld='cc', ldflags =' -fstack-protector -L/usr/local/lib'
libpth=/usr/local/lib /usr/lib /lib/../lib64 /usr/lib/../lib64 /lib /lib64 /usr/lib64 /usr/local/lib64
libs=-lpthread -lnsl -lgdbm -ldb -ldl -lm -lcrypt -lutil -lc
perllibs=-lpthread -lnsl -ldl -lm -lcrypt -lutil -lc
libc=libc-2.12.so, so=so, useshrplib=false, libperl=libperl.a
gnulibc_version='2.12'
Dynamic Linking:
dlsrc=dl_dlopen.xs, dlext=so, d_dlsymun=undef, ccdlflags='-Wl,-E'
cccdlflags='-fPIC', lddlflags='-shared -O2 -L/usr/local/lib -fstack-protector'
Characteristics of this binary (from libperl):
Compile-time options: HAS_TIMES PERLIO_LAYERS PERL_COPY_ON_WRITE
PERL_DONT_CREATE_GVSV
PERL_HASH_FUNC_ONE_AT_A_TIME_HARD PERL_MALLOC_WRAP
PERL_PRESERVE_IVUV USE_64_BIT_ALL USE_64_BIT_INT
USE_LARGE_FILES USE_LOCALE USE_LOCALE_COLLATE
USE_LOCALE_CTYPE USE_LOCALE_NUMERIC USE_LOCALE_TIME
USE_PERLIO USE_PERL_ATOF
Built under linux
Compiled at Jun 20 2017 21:17:18
%ENV:
PERL5LIB="/home/cpansand/.cpan/build/2019022621/Cookie-Baker-0.10-5/blib/arch:/home/cpansand/.cpan/build/2019022621/Cookie-Baker-0.10-5/blib/lib"
PERL5OPT=""
PERL5_CPANPLUS_IS_RUNNING="16842"
PERL5_CPAN_IS_RUNNING="16842"
PERL5_CPAN_IS_RUNNING_IN_RECURSION="13144,16842"
PERLDOC="-MPod::Perldoc::ToTextOverstrike"
PERL_BATCH="yes"
PERL_CANARY_STABILITY_NOPROMPT="1"
PERL_CPAN_REPORTER_CONFIG="/var/tmp/cpansmoker-1023/2019022621/cpanreporter_000_config.ini"
PERL_EXTUTILS_AUTOINSTALL="--defaultdeps"
PERL_USE_UNSAFE_INC="1"
@INC:
/home/cpansand/.cpan/build/2019022621/Cookie-Baker-0.10-5/blib/arch
/home/cpansand/.cpan/build/2019022621/Cookie-Baker-0.10-5/blib/lib
/opt/perl-5.24.0/lib/site_perl/5.24.0/x86_64-linux
/opt/perl-5.24.0/lib/site_perl/5.24.0
/opt/perl-5.24.0/lib/5.24.0/x86_64-linux
/opt/perl-5.24.0/lib/5.24.0
.