Plack-Middleware-UseChromeFrame v1.003 Perl 5 v5.8.8 IP35-irix-64int

Status
Pass
From
David Cantrell (DCANTRELL)
Dist
Plack-Middleware-UseChromeFrame v1.003
Platform
Perl 5 v5.8.8 IP35-irix-64int
Date
2011-03-04 01:23:30
ID
038a1ece-45fe-11e0-9edf-db1e1f50d73a
This distribution has been tested as part of the CPAN Testers
project, supporting the Perl programming language.  See
http://wiki.cpantesters.org/ for more information or email
questions to cpan-testers-discuss@perl.org


--
Dear Aristotle Pagaltzis,

This is a computer-generated report for Plack-Middleware-UseChromeFrame-1.003
on perl 5.8.8, created by CPAN-Reporter-1.1711.

Thank you for uploading your work to CPAN.  Congratulations!
All tests were successful.

Sections of this report:

    * Tester comments
    * Program output
    * Prerequisites
    * Environment and other context

------------------------------
TESTER COMMENTS
------------------------------

Additional comments from tester:

this report is from an automated smoke testing program
and was not reviewed by a human for accuracy

------------------------------
PROGRAM OUTPUT
------------------------------

Output from '/sbin/make test':

	PERL_DL_NONLAZY=1 /usr/people/drc/cpantesting/perl-5.8.8/bin/perl "-MExtUtils::Command::MM" "-e" "test_harness(0, 'blib/lib', 'blib/arch')" t/*.t
t/00.load.t ......... ok
t/cpants.t .......... skipped: This is just to fob CPANTS
t/usechromeframe.t .. ok
All tests successful.
Files=3, Tests=3,  1 wallclock secs ( 0.11 usr  0.04 sys +  0.46 cusr  0.13 csys =  0.74 CPU)
Result: PASS

------------------------------
PREREQUISITES
------------------------------

Prerequisite modules loaded:

requires:

    Module                Need   Have  
    --------------------- ------ ------
    parent                0      0.224 
    Plack                 0.9942 0.9973
    Plack::Middleware     0      0     
    Plack::Util           0      0     

build_requires:

    Module                Need   Have  
    --------------------- ------ ------
    HTTP::Request::Common 0      5.824 
    Plack::Builder        0      0     
    Plack::Test           0      0     
    Test::More            0      0.98  

configure_requires:

    Module                Need   Have  
    --------------------- ------ ------
    ExtUtils::MakeMaker   6.31   6.56  


------------------------------
ENVIRONMENT AND OTHER CONTEXT
------------------------------

Environment variables:

    AUTOMATED_TESTING = 1
    LC_ALL = en
    PATH = /usr/people/drc/bin:/usr/people/drc/cpantesting/bin:/sbin:/usr/sbin:/usr/nekoware/sbin:/usr/nekoware/bin:/usr/bsd:/usr/bin:/etc:/usr/sysadm/privbin:/usr/etc:/usr/bin/X11:/usr/gfx:/usr/nekoware/mysql4/bin:/usr/nekoware/qt4/bin:/usr/nekoware/kde/bin:/usr/nekoware/php5/bin
    PERL5LIB = 
    PERL5OPT = 
    PERL5_CPANPLUS_IS_RUNNING = 43146549
    PERL5_CPAN_IS_RUNNING = 43146549
    PERLVER = 5.8.8
    SHELL = /usr/nekoware/bin/bash
    TERM = vt100

Perl special variables (and OS-specific diagnostics, for MSWin32):

    $^X = /usr/people/drc/cpantesting/perl-5.8.8/bin/perl
    $UID/$EUID = 25020 / 25020
    $GID = 20 20
    $EGID = 20 20

Perl module toolchain versions installed:

    Module              Have  
    ------------------- ------
    CPAN                1.9402
    Cwd                 3.31  
    ExtUtils::CBuilder  0.2703
    ExtUtils::Command   1.16  
    ExtUtils::Install   1.52  
    ExtUtils::MakeMaker 6.56  
    ExtUtils::Manifest  1.56  
    ExtUtils::ParseXS   2.2206
    File::Spec          3.31  
    Module::Build       0.3607
    Module::Signature   n/a   
    Test::Harness       3.21  
    Test::More          0.98  
    YAML                0.70  
    YAML::Syck          1.17  
    version             0.88  


--

Summary of my perl5 (revision 5 version 8 subversion 8) configuration:
  Platform:
    osname=irix, osvers=6.5, archname=IP35-irix-64int
    uname='irix64 o3k 6.5 07202013 ip35 '
    config_args='-de -Dprefix=/usr/people/drc/cpantesting/perl-5.8.8 -Duse64bitint'
    hint=recommended, useposix=true, d_sigaction=define
    usethreads=undef use5005threads=undef useithreads=undef usemultiplicity=undef
    useperlio=define d_sfio=undef uselargefiles=define usesocks=undef
    use64bitint=define use64bitall=undef uselongdouble=undef
    usemymalloc=n, bincompat5005=undef
  Compiler:
    cc='cc -n32', ccflags ='-D_BSD_TYPES -D_BSD_TIME -woff 1184,1552 -I/usr/local/include -DLANGUAGE_C',
    optimize='-O3 -OPT:Olimit=0:space=ON',
    cppflags='-D_BSD_TYPES -D_BSD_TIME -woff 1184,1552 -I/usr/local/include -DLANGUAGE_C'
    ccversion='MIPSpro Compilers: Version 7.4.4m', gccversion='', gccosandvers=''
    intsize=4, longsize=4, ptrsize=4, doublesize=8, byteorder=87654321
    d_longlong=define, longlongsize=8, d_longdbl=define, longdblsize=16
    ivtype='long long', ivsize=8, nvtype='double', nvsize=8, Off_t='off_t', lseeksize=8
    alignbytes=8, prototype=define
  Linker and Libraries:
    ld='cc -n32', ldflags =' -Wl,-woff,84 -L/usr/local/lib'
    libpth=/usr/local/lib /usr/lib32 /lib32 /lib /usr/lib
    libs=-ldb -lm -lc
    perllibs=-lm -lc
    libc=/usr/lib32/libc.so, so=so, useshrplib=false, libperl=libperl.a
    gnulibc_version=''
  Dynamic Linking:
    dlsrc=dl_dlopen.xs, dlext=so, d_dlsymun=undef, ccdlflags=' '
    cccdlflags=' ', lddlflags='-n32 -shared -L/usr/local/lib'


Characteristics of this binary (from libperl): 
  Compile-time options: USE_64_BIT_INT USE_LARGE_FILES USE_PERLIO
  Built under irix
  Compiled at Jun  5 2008 18:52:27
  %ENV:
    PERL5LIB=""
    PERL5OPT=""
    PERL5_CPANPLUS_IS_RUNNING="43146549"
    PERL5_CPAN_IS_RUNNING="43146549"
    PERLVER="5.8.8"
  @INC:
    /usr/people/drc/cpantesting/perl-5.8.8/lib/5.8.8/IP35-irix-64int
    /usr/people/drc/cpantesting/perl-5.8.8/lib/5.8.8
    /usr/people/drc/cpantesting/perl-5.8.8/lib/site_perl/5.8.8/IP35-irix-64int
    /usr/people/drc/cpantesting/perl-5.8.8/lib/site_perl/5.8.8
    /usr/people/drc/cpantesting/perl-5.8.8/lib/site_perl
    .