Math-GSL v0.49 Perl 5 v5.16.3 x86_64-linux
- Status
- Pass
- From
- Andreas J. König (ANDK)
- Dist
-
Math-GSL v0.49
- Platform
- Perl 5 v5.16.3 x86_64-linux
- Date
- 2025-10-15 17:18:48
- ID
- 037b9b9a-a9eb-11f0-9391-912c32ed4bbe
This distribution has been tested as part of the CPAN Testers
project, supporting the Perl programming language. See
http://wiki.cpantesters.org/ for more information or email
questions to cpan-testers-discuss@perl.org
--
Dear Hakon Haegland,
This is a computer-generated report for Math-GSL-0.49
on perl 5.16.3, created by CPAN-Reporter-1.2019.
Thank you for uploading your work to CPAN. Congratulations!
All tests were successful.
Sections of this report:
* Tester comments
* Program output
* Prerequisites
* Environment and other context
------------------------------
TESTER COMMENTS
------------------------------
Additional comments from tester:
this report is from an automated smoke testing program
and was not reviewed by a human for accuracy
------------------------------
PROGRAM OUTPUT
------------------------------
Output from './Build test':
Processing 2.8 XS files, GSL 2.8 (via gsl-config) at /usr
Compiler = cc (Debian 14.3.0-5) 14.3.0
Copyright (C) 2024 Free Software Foundation, Inc.
This is free software; see the source for copying conditions. There is NO
warranty; not even for MERCHANTABILITY or FITNESS FOR A PARTICULAR PURPOSE.
ccflags = -fPIC -I/usr/include -fwrapv -DDEBUGGING -fno-strict-aliasing -pipe -fstack-protector -I/usr/local/include -D_LARGEFILE_SOURCE -D_FILE_OFFSET_BITS=64 -Wall -Wno-sometimes-uninitialized -Wno-unused-function -Wno-unused-value -Wno-unused-function -Wno-unused-variable -Wno-gnu -g -fPIC -fno-omit-frame-pointer -I/usr/include
ldflags = -shared -L/usr/lib/x86_64-linux-gnu -lgsl -lgslcblas -lm -fPIC -fno-omit-frame-pointer
PERL5LIB =
LD_LIBRARY_PATH =
# Testing Math::GSL 0.49 with GSL 2.8 on x86_64-linux, Perl (/home/sand/src/perl/repoperls/installed-perls/host/k93msid/v5.16.3/bb7f/bin/perl) 5.016003
t/00-load.t ........ ok
t/BLAS.t ........... ok
t/BSpline.t ........ ok
t/CBLAS.t .......... ok
t/CDF.t ............ ok
t/Chebyshev.t ...... ok
t/Combination.t .... ok
t/Complex.t ........ ok
t/Const.t .......... ok
t/DHT.t ............ ok
t/Deriv.t .......... ok
t/Diff.t ........... ok
t/Eigen.t .......... ok
t/Errno.t .......... ok
t/FFT.t ............ ok
t/Fit.t ............ ok
#
# Elements start differing at index 2, delta = 0.00099999999999989
# $x->[2] = 3
# $y->[2] = 3.001
#
# Elements start differing at index 2, delta = 9.99999998363421e-08
# $x->[2] = 3.0010001
# $y->[2] = 3.0010002
t/GSL.t ............ ok
t/Heapsort.t ....... ok
t/Histogram.t ...... ok
t/Histogram2D.t .... ok
t/IEEEUtils.t ...... ok
t/Integration.t .... ok
t/Interp.t ......... ok
t/Linalg.t ......... ok
t/Machine.t ........ ok
#
# Elements start differing at index 1, delta = 1
# $x->[1] = 3
# $y->[1] = 2
t/Matrix.t ......... ok
#
# Elements start differing at index 1, delta = 1
# $x->[1] = 3
# $y->[1] = 4
#
# Elements start differing at index 1, delta = 1
# $x->[1] = 3
# $y->[1] = 2
t/MatrixComplex.t .. ok
t/Min.t ............ ok
t/Monte.t .......... ok
t/Multifit.t ....... ok
t/Multilarge.t ..... ok
t/Multimin.t ....... ok
t/Multiroots.t ..... ok
t/Multiset.t ....... ok
t/NTuple.t ......... ok
t/ODEIV.t .......... ok
t/ODEIV_evolve.t ... ok
t/Permutation.t .... ok
t/Poly.t ........... ok
t/PowInt.t ......... ok
t/QRNG.t ........... ok
t/RNG.t ............ ok
t/Randist.t ........ ok
t/Roots.t .......... ok
t/Rstat.t .......... ok
t/SF.t ............. ok
t/Siman.t .......... ok
t/Sort.t ........... ok
t/SparseMatrix.t ... ok
t/Spline.t ......... ok
t/Statistics.t ..... ok
t/Sum.t ............ ok
t/Sys.t ............ ok
#
# Elements start differing at index 0, delta = 9
# $x->[0] = 1
# $y->[0] = 10
#
# Elements start differing at index 0, delta = 9
# $x->[0] = 1
# $y->[0] = 10
t/Vector.t ......... ok
t/VectorComplex.t .. ok
t/Wavelet.t ........ ok
t/Wavelet2D.t ...... ok
# Testing Math::GSL with GSL 1.16.1 on x86_64-linux, Perl (/home/sand/src/perl/repoperls/installed-perls/host/k93msid/v5.16.3/bb7f/bin/perl) 5.016003
t/ver2func.t ....... ok
All tests successful.
Files=58, Tests=4193, 11 wallclock secs ( 0.45 usr 0.11 sys + 6.15 cusr 1.30 csys = 8.01 CPU)
Result: PASS
------------------------------
PREREQUISITES
------------------------------
Prerequisite modules loaded:
requires:
Module Need Have
---------------- ------- --------
Math::Complex 0 1.59
parent 0 0.241
perl v5.8.1 5.016003
Scalar::Util 0 1.70
version 0.77 0.9929
build_requires:
Module Need Have
---------------- ------- --------
Test::Class 0.12 0.52
Test::Exception 0.21 0.43
Test::More 0 1.302209
Test::Most 0.31 0.38
Test::Taint 1.06 1.08
configure_requires:
Module Need Have
---------------- ------- --------
Math::GSL::Alien 1.03 1.05
Module::Build 0.38 0.4234
PkgConfig 0.07720 0.25026
------------------------------
ENVIRONMENT AND OTHER CONTEXT
------------------------------
Environment variables:
AUTOMATED_TESTING = 1
LANG = en_US.UTF-8
LANGUAGE = en_US:en
PATH = /home/sand/bin:/usr/local/bin:/usr/bin:/bin:/usr/games:/usr/local/perl/bin:/usr/X11/bin:/sbin:/usr/sbin
PERL5LIB =
PERL5OPT =
PERL5_CPANPLUS_IS_RUNNING = 1307594
PERL5_CPAN_IS_RUNNING = 1307594
PERL_CANARY_STABILITY_NOPROMPT = 1
PERL_MM_USE_DEFAULT = 1
PERL_USE_UNSAFE_INC = 1
SHELL = /usr/bin/zsh
TERM = screen
Perl special variables (and OS-specific diagnostics, for MSWin32):
$^X = /home/sand/src/perl/repoperls/installed-perls/host/k93msid/v5.16.3/bb7f/bin/perl
$UID/$EUID = 1005 / 1005
$GID = 1005 1005
$EGID = 1005 1005
Perl module toolchain versions installed:
Module Have
------------------- --------
CPAN 2.37
CPAN::Meta 2.150010
Cwd 3.75
ExtUtils::CBuilder 0.280236
ExtUtils::Command 7.74
ExtUtils::Install 2.06
ExtUtils::MakeMaker 7.74
ExtUtils::Manifest 1.70
ExtUtils::ParseXS 3.57
File::Spec 3.75
JSON 4.10
JSON::PP 4.16
Module::Build 0.4234
Module::Signature 0.88
Parse::CPAN::Meta 2.150010
Test2 1.302209
Test::Harness 3.47
Test::More 1.302209
YAML 1.30
YAML::Syck 1.36
version 0.9929
--
Summary of my perl5 (revision 5 version 16 subversion 3) configuration:
Derived from: fd04d42d38f4751b981eb6e9213ee1ab8ef11ea6
Platform:
osname=linux, osvers=6.1.0-7-amd64, archname=x86_64-linux
uname='linux k93msid 6.1.0-7-amd64 #1 smp preempt_dynamic debian 6.1.20-1 (2023-03-19) x86_64 gnulinux '
config_args='-Dprefix=/home/sand/src/perl/repoperls/installed-perls/host/k93msid/v5.16.3/bb7f -Dmyhostname=k93msid -Dinstallusrbinperl=n -Uversiononly -Dusedevel -des -Ui_db -Dlibswanted=cl pthread socket inet nsl gdbm dbm malloc dl ld sun m crypt sec util c cposix posix ucb BSD gdbm_compat -Uuseithreads -Uuselongdouble -DEBUGGING=both'
hint=recommended, useposix=true, d_sigaction=define
useithreads=undef, usemultiplicity=undef
useperlio=define, d_sfio=undef, uselargefiles=define, usesocks=undef
use64bitint=define, use64bitall=define, uselongdouble=undef
usemymalloc=n, bincompat5005=undef
Compiler:
cc='cc', ccflags ='-fwrapv -DDEBUGGING -fno-strict-aliasing -pipe -fstack-protector -I/usr/local/include -D_LARGEFILE_SOURCE -D_FILE_OFFSET_BITS=64',
optimize='-O2 -g',
cppflags='-fwrapv -DDEBUGGING -fno-strict-aliasing -pipe -fstack-protector -I/usr/local/include'
ccversion='', gccversion='12.2.0', gccosandvers=''
intsize=4, longsize=8, ptrsize=8, doublesize=8, byteorder=12345678
d_longlong=define, longlongsize=8, d_longdbl=define, longdblsize=16
ivtype='long', ivsize=8, nvtype='double', nvsize=8, Off_t='off_t', lseeksize=8
alignbytes=8, prototype=define
Linker and Libraries:
ld='cc', ldflags =' -fstack-protector -L/usr/local/lib'
libpth=/usr/local/lib /lib/x86_64-linux-gnu /lib/../lib /usr/lib/x86_64-linux-gnu /usr/lib/../lib /lib /usr/lib /lib64 /usr/lib64
libs=-lpthread -lnsl -ldl -lm -lcrypt -lutil -lc
perllibs=-lpthread -lnsl -ldl -lm -lcrypt -lutil -lc
libc=/lib/x86_64-linux-gnu/libc.so.6, so=so, useshrplib=false, libperl=libperl.a
gnulibc_version='2.36'
Dynamic Linking:
dlsrc=dl_dlopen.xs, dlext=so, d_dlsymun=undef, ccdlflags='-Wl,-E'
cccdlflags='-fPIC', lddlflags='-shared -O2 -g -L/usr/local/lib -fstack-protector'
Characteristics of this binary (from libperl):
Compile-time options: DEBUGGING HAS_TIMES PERLIO_LAYERS
PERL_DONT_CREATE_GVSV PERL_MALLOC_WRAP
PERL_PRESERVE_IVUV PERL_USE_DEVEL USE_64_BIT_ALL
USE_64_BIT_INT USE_LARGE_FILES USE_LOCALE
USE_LOCALE_COLLATE USE_LOCALE_CTYPE
USE_LOCALE_NUMERIC USE_PERLIO USE_PERL_ATOF
Locally applied patches:
uncommitted-changes
Built under linux
Compiled at Jul 2 2023 21:32:53
%ENV:
PERL5LIB=""
PERL5OPT=""
PERL5_CPANPLUS_IS_RUNNING="1307594"
PERL5_CPAN_IS_RUNNING="1307594"
PERL_CANARY_STABILITY_NOPROMPT="1"
PERL_MM_USE_DEFAULT="1"
PERL_USE_UNSAFE_INC="1"
@INC:
/home/sand/src/perl/repoperls/installed-perls/host/k93msid/v5.16.3/bb7f/lib/site_perl/5.16.3/x86_64-linux
/home/sand/src/perl/repoperls/installed-perls/host/k93msid/v5.16.3/bb7f/lib/site_perl/5.16.3
/home/sand/src/perl/repoperls/installed-perls/host/k93msid/v5.16.3/bb7f/lib/5.16.3/x86_64-linux
/home/sand/src/perl/repoperls/installed-perls/host/k93msid/v5.16.3/bb7f/lib/5.16.3
.