Pod-Markdown v3.200 Perl 5 v5.31.5 aarch64-linux
- Status
- Pass
- From
- Nigel Horne
- Dist
-
Pod-Markdown v3.200
- Platform
- Perl 5 v5.31.5 aarch64-linux
- Date
- 2019-11-16 14:33:10
- ID
- 036d65b2-087e-11ea-96b0-912eaa7caf1e
This distribution has been tested as part of the CPAN Testers
project, supporting the Perl programming language. See
http://wiki.cpantesters.org/ for more information or email
questions to cpan-testers-discuss@perl.org
--
Dear Randy Stauner,
This is a computer-generated report for Pod-Markdown-3.200
on perl 5.31.5, created by CPAN-Reporter-1.2018.
Thank you for uploading your work to CPAN. Congratulations!
All tests were successful.
Sections of this report:
* Tester comments
* Program output
* Prerequisites
* Environment and other context
------------------------------
TESTER COMMENTS
------------------------------
Additional comments from tester:
none provided
------------------------------
PROGRAM OUTPUT
------------------------------
Output from '/usr/bin/make test':
PERL_DL_NONLAZY=1 "/home/njh/perl5/perlbrew/perls/perl-5.31.5/bin/perl5.31.5" "-MExtUtils::Command::MM" "-MTest::Harness" "-e" "undef *Test::Harness::Switches; test_harness(0, 'blib/lib', 'blib/arch')" t/*.t
t/basic.t .............. ok
t/back-compat.t ........ ok
#
# Versions for all modules listed in MYMETA.json (including optional ones):
#
# === Configure Requires ===
#
# Module Want Have
# ------------------- ---- ----
# ExtUtils::MakeMaker any 7.38
#
# === Build Requires ===
#
# Module Want Have
# ------------------- ---- ----
# ExtUtils::MakeMaker any 7.38
#
# === Test Requires ===
#
# Module Want Have
# --------------------- ---- --------
# Exporter any 5.74
# ExtUtils::MakeMaker any 7.38
# File::Spec any 3.78
# File::Spec::Functions any 3.78
# File::Temp any 0.2309
# IO::Handle any 1.41
# IPC::Open3 any 1.20
# Symbol any 1.08
# Test::Differences any 0.67
# Test::More 0.88 1.302168
# lib any 0.65
# utf8 any 1.22
#
# === Test Recommends ===
#
# Module Want Have
# ---------- -------- --------
# CPAN::Meta 2.120900 2.150010
#
# === Runtime Requires ===
#
# Module Want Have
# -------------------- ---- -----
# Encode any 3.01
# Getopt::Long any 2.51
# Pod::Simple 3.27 3.40
# Pod::Simple::Methody any 3.40
# Pod::Usage any 1.69
# URI::Escape any 3.31
# parent any 0.237
# strict any 1.11
# warnings any 1.45
#
# === Runtime Recommends ===
#
# Module Want Have
# -------------- ---- ----
# HTML::Entities any 3.69
#
t/00-report-prereqs.t .. ok
t/00-compile.t ......... ok
t/codes.t .............. ok
t/encoding.t ........... ok
t/escape.t ............. ok
t/entities.t ........... ok
t/links.t .............. ok
t/lists.t .............. ok
t/formats.t ............ ok
t/meta.t ............... ok
t/misc.t ............... ok
t/nested.t ............. ok
t/verbatim.t ........... ok
t/new.t ................ ok
t/perldoc.t ............ ok
t/pod2markdown.t ....... ok
All tests successful.
Files=18, Tests=354, 7 wallclock secs ( 0.36 usr 0.07 sys + 11.95 cusr 1.23 csys = 13.61 CPU)
Result: PASS
------------------------------
PREREQUISITES
------------------------------
Prerequisite modules loaded:
requires:
Module Need Have
--------------------- ----- --------
Encode 0 3.01
Getopt::Long 0 2.51
parent 0 0.237
perl 5.008 5.031005
Pod::Simple 3.27 3.40
Pod::Simple::Methody 0 3.40
Pod::Usage 0 1.69
strict 0 1.11
URI::Escape 0 3.31
warnings 0 1.45
build_requires:
Module Need Have
--------------------- ----- --------
Exporter 0 5.74
ExtUtils::MakeMaker 0 7.38
File::Spec 0 3.78
File::Spec::Functions 0 3.78
File::Temp 0 0.2309
IO::Handle 0 1.41
IPC::Open3 0 1.20
lib 0 0.65
Symbol 0 1.08
Test::Differences 0 0.67
Test::More 0.88 1.302168
utf8 0 1.22
configure_requires:
Module Need Have
--------------------- ----- --------
ExtUtils::MakeMaker 0 7.38
perl 5.008 5.031005
------------------------------
ENVIRONMENT AND OTHER CONTEXT
------------------------------
Environment variables:
HARNESS_OPTIONS = c:j4
LANG = en_US.UTF-8
LANGUAGE = en_US.UTF-8
LC_ALL = en_US.UTF-8
NONINTERACTIVE_TESTING = 1
PATH = /home/njh/perl5/perlbrew/bin:/home/njh/perl5/perlbrew/perls/perl-5.31.5/bin:/home/njh/perl5/perlbrew/bin:/home/njh/bin:/usr/local/bin:/usr/bin:/bin:/usr/games
PERL5LIB =
PERL5OPT =
PERL5_CPANPLUS_IS_RUNNING = 22314
PERL5_CPAN_IS_RUNNING = 22314
PERLBREW_HOME = /home/njh/.perlbrew
PERLBREW_LIB =
PERLBREW_MANPATH = /home/njh/perl5/perlbrew/perls/perl-5.31.5/man
PERLBREW_PATH = /home/njh/perl5/perlbrew/bin:/home/njh/perl5/perlbrew/perls/perl-5.31.5/bin
PERLBREW_PERL = perl-5.31.5
PERLBREW_ROOT = /home/njh/perl5/perlbrew
PERLBREW_SHELLRC_VERSION = 0.83
PERLBREW_VERSION = 0.83
PERL_LOCAL_LIB_ROOT =
PERL_MM_USE_DEFAULT = 1
PERL_USE_UNSAFE_INC = 1
SHELL = /bin/bash
TEMP = /tmp/user/1000
TMPDIR = /tmp/user/1000
Perl special variables (and OS-specific diagnostics, for MSWin32):
$^X = /home/njh/perl5/perlbrew/perls/perl-5.31.5/bin/perl5.31.5
$UID/$EUID = 1000 / 1000
$GID = 1000 1000
$EGID = 1000 1000
Perl module toolchain versions installed:
Module Have
------------------- --------
CPAN 2.27
CPAN::Meta 2.150010
Cwd 3.78
ExtUtils::CBuilder 0.280233
ExtUtils::Command 7.38
ExtUtils::Install 2.14
ExtUtils::MakeMaker 7.38
ExtUtils::Manifest 1.72
ExtUtils::ParseXS 3.40
File::Spec 3.78
JSON 4.02
JSON::PP 4.04
Module::Build 0.4229
Module::Signature n/a
Parse::CPAN::Meta 2.150010
Test::Harness 3.42
Test::More 1.302168
YAML 1.29
YAML::Syck 1.31
version 0.9924
--
Summary of my perl5 (revision 5 version 31 subversion 5) configuration:
Platform:
osname=linux
osvers=4.15.11-mainline-rev1
archname=aarch64-linux
uname='linux scaleway 4.15.11-mainline-rev1 #1 smp mon mar 19 08:29:15 utc 2018 aarch64 gnulinux '
config_args='-de -Dprefix=/home/njh/perl5/perlbrew/perls/perl-5.31.5 -Dusedevel -Dusedevel -Accflags=-O2 -W -Wformat=2 -Wswitch -Wshadow -Wwrite-strings -Wuninitialized -Wall -pipe -fomit-frame-pointer -D_FORTIFY_SOURCE=2 -Wpointer-arith -Wstrict-prototypes -fstack-protector -Wstack-protector -Wextra -Wbad-function-cast -Wcast-align -Wcast-qual -Wdisabled-optimization -Wendif-labels -Wfloat-equal -Wformat-nonliteral -Winline -Wmissing-declarations -Wmissing-prototypes -Wnested-externs -Wpointer-arith -Wundef -Wformat-security -march=armv8-a+crc -fdiagnostics-color=auto -flto -Aeval:scriptdir=/home/njh/perl5/perlbrew/perls/perl-5.31.5/bin'
hint=recommended
useposix=true
d_sigaction=define
useithreads=undef
usemultiplicity=undef
use64bitint=define
use64bitall=define
uselongdouble=undef
usemymalloc=n
default_inc_excludes_dot=define
bincompat5005=undef
Compiler:
cc='cc'
ccflags ='-O2 -W -Wformat=2 -Wswitch -Wshadow -Wwrite-strings -Wuninitialized -Wall -pipe -fomit-frame-pointer -D_FORTIFY_SOURCE=2 -Wpointer-arith -Wstrict-prototypes -fstack-protector -Wstack-protector -Wextra -Wbad-function-cast -Wcast-align -Wcast-qual -Wdisabled-optimization -Wendif-labels -Wfloat-equal -Wformat-nonliteral -Winline -Wmissing-declarations -Wmissing-prototypes -Wnested-externs -Wpointer-arith -Wundef -Wformat-security -march=armv8-a+crc -fdiagnostics-color=auto -flto -fwrapv -fno-strict-aliasing -fstack-protector-strong -I/usr/local/include -D_LARGEFILE_SOURCE -D_FILE_OFFSET_BITS=64'
optimize='-O2'
cppflags='-O2 -W -Wformat=2 -Wswitch -Wshadow -Wwrite-strings -Wuninitialized -Wall -pipe -fomit-frame-pointer -D_FORTIFY_SOURCE=2 -Wpointer-arith -Wstrict-prototypes -fstack-protector -Wstack-protector -Wextra -Wbad-function-cast -Wcast-align -Wcast-qual -Wdisabled-optimization -Wendif-labels -Wfloat-equal -Wformat-nonliteral -Winline -Wmissing-declarations -Wmissing-prototypes -Wnested-externs -Wpointer-arith -Wundef -Wformat-security -march=armv8-a+crc -fdiagnostics-color=auto -flto -fwrapv -fno-strict-aliasing -fstack-protector-strong -I/usr/local/include'
ccversion=''
gccversion='8.3.0'
gccosandvers=''
intsize=4
longsize=8
ptrsize=8
doublesize=8
byteorder=12345678
doublekind=3
d_longlong=define
longlongsize=8
d_longdbl=define
longdblsize=16
longdblkind=1
ivtype='long'
ivsize=8
nvtype='double'
nvsize=8
Off_t='off_t'
lseeksize=8
alignbytes=8
prototype=define
Linker and Libraries:
ld='cc'
ldflags =' -fstack-protector-strong -L/usr/local/lib'
libpth=/usr/local/lib /usr/lib/gcc/aarch64-linux-gnu/8/include-fixed /usr/include/aarch64-linux-gnu /usr/lib /lib/aarch64-linux-gnu /lib/../lib /usr/lib/aarch64-linux-gnu /usr/lib/../lib /lib
libs=-lpthread -lnsl -lgdbm -ldb -ldl -lm -lcrypt -lutil -lc
perllibs=-lpthread -lnsl -ldl -lm -lcrypt -lutil -lc
libc=libc-2.28.so
so=so
useshrplib=false
libperl=libperl.a
gnulibc_version='2.28'
Dynamic Linking:
dlsrc=dl_dlopen.xs
dlext=so
d_dlsymun=undef
ccdlflags='-Wl,-E'
cccdlflags='-fPIC'
lddlflags='-shared -O2 -L/usr/local/lib -fstack-protector-strong'
Characteristics of this binary (from libperl):
Compile-time options:
HAS_TIMES
PERLIO_LAYERS
PERL_COPY_ON_WRITE
PERL_DONT_CREATE_GVSV
PERL_MALLOC_WRAP
PERL_OP_PARENT
PERL_PRESERVE_IVUV
PERL_USE_DEVEL
USE_64_BIT_ALL
USE_64_BIT_INT
USE_LARGE_FILES
USE_LOCALE
USE_LOCALE_COLLATE
USE_LOCALE_CTYPE
USE_LOCALE_NUMERIC
USE_LOCALE_TIME
USE_PERLIO
USE_PERL_ATOF
Locally applied patches:
Devel::PatchPerl 1.48
Built under linux
Compiled at Oct 21 2019 08:19:26
%ENV:
PERL5LIB=""
PERL5OPT=""
PERL5_CPANPLUS_IS_RUNNING="22314"
PERL5_CPAN_IS_RUNNING="22314"
PERLBREW_HOME="/home/njh/.perlbrew"
PERLBREW_LIB=""
PERLBREW_MANPATH="/home/njh/perl5/perlbrew/perls/perl-5.31.5/man"
PERLBREW_PATH="/home/njh/perl5/perlbrew/bin:/home/njh/perl5/perlbrew/perls/perl-5.31.5/bin"
PERLBREW_PERL="perl-5.31.5"
PERLBREW_ROOT="/home/njh/perl5/perlbrew"
PERLBREW_SHELLRC_VERSION="0.83"
PERLBREW_VERSION="0.83"
PERL_LOCAL_LIB_ROOT=""
PERL_MM_USE_DEFAULT="1"
PERL_USE_UNSAFE_INC="1"
@INC:
/home/njh/perl5/perlbrew/perls/perl-5.31.5/lib/site_perl/5.31.5/aarch64-linux
/home/njh/perl5/perlbrew/perls/perl-5.31.5/lib/site_perl/5.31.5
/home/njh/perl5/perlbrew/perls/perl-5.31.5/lib/5.31.5/aarch64-linux
/home/njh/perl5/perlbrew/perls/perl-5.31.5/lib/5.31.5
.