Crypt vMatrixSSL3 Perl 5 v5.12.0 OpenBSD.i386-openbsd-64int

Status
Pass
From
Chris Williams (BINGOS)
Dist
Crypt vMatrixSSL3
Platform
Perl 5 v5.12.0 OpenBSD.i386-openbsd-64int
Date
2012-06-19T19:14:37
ID
035bce24-ba43-11e1-9066-3d54fb7543f5
This distribution has been tested as part of the CPAN Testers
project, supporting the Perl programming language.  See
http://wiki.cpantesters.org/ for more information or email
questions to cpan-testers-discuss@perl.org


--

Dear CDRAKE,

This is a computer-generated error report created automatically by
CPANPLUS, version 0.9130. Testers personal comments may appear
at the end of this report.


Thank you for uploading your work to CPAN.  Congratulations!
All tests were successful.

TEST RESULTS:

Below is the error stack from stage 'make test':

PERL_DL_NONLAZY=1 /home/cpan/pit/64bit/perl-5.12.0/bin/perl "-MExtUtils::Command::MM" "-e" "test_harness(0, 'blib/lib', 'blib/arch')" t/*.t
# Testing Crypt::MatrixSSL3 3.3.0.1
t/00.load.t ............................... ok
t/03.impchk.t ............................. ok
t/04.keychk.t ............................. ok
t/05.keyload.t ............................ ok
t/06.client_server.t ...................... ok
t/export-all.t ............................ ok
t/export-some.t ........................... ok
t/export.t ................................ ok
t/google.t ................................ ok
t/HelloExtension.t ........................ ok
t/leak.t .................................. ok
t/manifest.t .............................. skipped: Author tests not required for installation
t/matrixSslEncodeClosureAlert.t ........... ok
t/matrixSslEncodeRehandshake.t ............ ok
t/matrixSslGetAnonStatus.t ................ ok
t/matrixSslLoadPkcs12.t ................... ok
t/matrixSslLoadRsaKeys.t .................. ok
t/matrixSslNewClientSession.t ............. ok
t/matrixSslNewServerSession.t ............. ok
t/matrixSslSetCipherSuiteEnabledStatus.t .. ok
t/pod-coverage.t .......................... skipped: Test::Pod::Coverage 1.08 required for testing POD coverage
t/pod.t ................................... skipped: Test::Pod 1.22 required for testing POD
t/Session.t ............................... ok
All tests successful.
Files=23, Tests=956, 15 wallclock secs ( 0.14 usr  0.17 sys + 10.81 cusr  2.36 csys = 13.48 CPU)
Result: PASS


PREREQUISITES:

Here is a list of prerequisites you specified and versions we
managed to load:

	  Module Name                        Have     Want
	  Archive::Tar                       1.88        0
	  Carp                               1.15        0
	  ExtUtils::MakeMaker                6.62        0
	  IO::Socket                         1.31        0
	  Scalar::Util                       1.22        0
	  Test::Exception                    0.31        0
	  Test::More                         0.98        0
	  version                            0.99        0

Perl module toolchain versions installed:
	Module Name                        Have
	CPANPLUS                         0.9130
	CPANPLUS::Dist::Build              0.62
	Cwd                                3.33
	ExtUtils::CBuilder             0.280205
	ExtUtils::Command                  1.16
	ExtUtils::Install                  1.55
	ExtUtils::MakeMaker                6.62
	ExtUtils::Manifest                 1.60
	ExtUtils::ParseXS                  3.15
	File::Spec                         3.33
	Module::Build                      0.40
	Test::Harness                      3.25
	Test::More                         0.98
	version                            0.99

******************************** NOTE ********************************
The comments above are created mechanically, possibly without manual
checking by the sender.  As there are many people performing automatic
tests on each upload to CPAN, it is likely that you will receive
identical messages about the same problem.

If you believe that the message is mistaken, please reply to the first
one with correction and/or additional informations, and do not take
it personally.  We appreciate your patience. :)
**********************************************************************

Additional comments:


This report was machine-generated by CPANPLUS::Dist::YACSmoke 0.80.
Powered by minismokebox version 0.54

------------------------------
ENVIRONMENT AND OTHER CONTEXT
------------------------------

Environment variables:

    AUTOMATED_TESTING = 1
    PATH = /home/cpan/bin:/bin:/sbin:/usr/bin:/usr/sbin:/usr/X11R6/bin:/usr/local/bin:/usr/local/sbin:/usr/games:.
    PERL5LIB = :/home/cpan/pit/64bit/conf/perl-5.12.0/.cpanplus/5.12.0/build/Sub-Uplevel-0.24/blib/lib:/home/cpan/pit/64bit/conf/perl-5.12.0/.cpanplus/5.12.0/build/Sub-Uplevel-0.24/blib/arch:/home/cpan/pit/64bit/conf/perl-5.12.0/.cpanplus/5.12.0/build/Test-Exception-0.31/blib/lib:/home/cpan/pit/64bit/conf/perl-5.12.0/.cpanplus/5.12.0/build/Test-Exception-0.31/blib/arch
    PERL5_CPANPLUS_IS_RUNNING = 4149
    PERL5_CPANPLUS_IS_VERSION = 0.9130
    PERL5_MINISMOKEBOX = 0.54
    PERL5_YACSMOKE_BASE = /home/cpan/pit/64bit/conf/perl-5.12.0
    PERL_EXTUTILS_AUTOINSTALL = --defaultdeps
    PERL_MM_USE_DEFAULT = 1
    SHELL = /usr/local/bin/bash
    TERM = screen

Perl special variables (and OS-specific diagnostics, for MSWin32):

    Perl: $^X = /home/cpan/pit/64bit/perl-5.12.0/bin/perl
    UID:  $<  = 1001
    EUID: $>  = 1001
    GID:  $(  = 1001 1001
    EGID: $)  = 1001 1001


-------------------------------


--

Summary of my perl5 (revision 5 version 12 subversion 0) configuration:
   
  Platform:
    osname=openbsd, osvers=5.1, archname=OpenBSD.i386-openbsd-64int
    uname='openbsd oatcake.bingosnet.co.uk 5.1 generic#160 i386 '
    config_args='-des -Dprefix=/home/cpan/pit/64bit/perl-5.12.0 -Duse64bitint'
    hint=recommended, useposix=true, d_sigaction=define
    useithreads=undef, usemultiplicity=undef
    useperlio=define, d_sfio=undef, uselargefiles=define, usesocks=undef
    use64bitint=define, use64bitall=undef, uselongdouble=undef
    usemymalloc=y, bincompat5005=undef
  Compiler:
    cc='cc', ccflags ='-fno-strict-aliasing -pipe -fstack-protector -I/usr/local/include',
    optimize='-O2',
    cppflags='-fno-strict-aliasing -pipe -fstack-protector -I/usr/local/include'
    ccversion='', gccversion='4.2.1 20070719 ', gccosandvers='openbsd5.1'
    intsize=4, longsize=4, ptrsize=4, doublesize=8, byteorder=12345678
    d_longlong=define, longlongsize=8, d_longdbl=define, longdblsize=12
    ivtype='long long', ivsize=8, nvtype='double', nvsize=8, Off_t='off_t', lseeksize=8
    alignbytes=4, prototype=define
  Linker and Libraries:
    ld='cc', ldflags ='-Wl,-E  -fstack-protector -L/usr/local/lib'
    libpth=/usr/local/lib /usr/lib
    libs=-lgdbm -lm -lutil -lc
    perllibs=-lm -lutil -lc
    libc=/usr/lib/libc.so.62.0, so=so, useshrplib=false, libperl=libperl.a
    gnulibc_version=''
  Dynamic Linking:
    dlsrc=dl_dlopen.xs, dlext=so, d_dlsymun=undef, ccdlflags=' '
    cccdlflags='-DPIC -fPIC ', lddlflags='-shared -fPIC  -L/usr/local/lib -fstack-protector'


Characteristics of this binary (from libperl): 
  Compile-time options: MYMALLOC PERL_DONT_CREATE_GVSV PERL_MALLOC_WRAP
                        USE_64_BIT_INT USE_LARGE_FILES USE_PERLIO
                        USE_PERL_ATOF
  Built under openbsd
  Compiled at May  4 2012 06:02:47
  %ENV:
    PERL5LIB=":/home/cpan/pit/64bit/conf/perl-5.12.0/.cpanplus/5.12.0/build/Sub-Uplevel-0.24/blib/lib:/home/cpan/pit/64bit/conf/perl-5.12.0/.cpanplus/5.12.0/build/Sub-Uplevel-0.24/blib/arch:/home/cpan/pit/64bit/conf/perl-5.12.0/.cpanplus/5.12.0/build/Test-Exception-0.31/blib/lib:/home/cpan/pit/64bit/conf/perl-5.12.0/.cpanplus/5.12.0/build/Test-Exception-0.31/blib/arch"
    PERL5_CPANPLUS_IS_RUNNING="4149"
    PERL5_CPANPLUS_IS_VERSION="0.9130"
    PERL5_MINISMOKEBOX="0.54"
    PERL5_YACSMOKE_BASE="/home/cpan/pit/64bit/conf/perl-5.12.0"
    PERL_EXTUTILS_AUTOINSTALL="--defaultdeps"
    PERL_MM_USE_DEFAULT="1"
  @INC:
    /home/cpan/pit/64bit/conf/perl-5.12.0/.cpanplus/5.12.0/build/Sub-Uplevel-0.24/blib/lib
    /home/cpan/pit/64bit/conf/perl-5.12.0/.cpanplus/5.12.0/build/Sub-Uplevel-0.24/blib/arch
    /home/cpan/pit/64bit/conf/perl-5.12.0/.cpanplus/5.12.0/build/Test-Exception-0.31/blib/lib
    /home/cpan/pit/64bit/conf/perl-5.12.0/.cpanplus/5.12.0/build/Test-Exception-0.31/blib/arch
    /home/cpan/pit/64bit/perl-5.12.0/lib/site_perl/5.12.0/OpenBSD.i386-openbsd-64int
    /home/cpan/pit/64bit/perl-5.12.0/lib/site_perl/5.12.0
    /home/cpan/pit/64bit/perl-5.12.0/lib/5.12.0/OpenBSD.i386-openbsd-64int
    /home/cpan/pit/64bit/perl-5.12.0/lib/5.12.0
    .