SDL v2.544 Perl 5 v5.21.3 x86_64-linux-thread-multi
- Status
- Pass
- From
- Andreas J. König (ANDK)
- Dist
-
SDL v2.544
- Platform
- Perl 5 v5.21.3 x86_64-linux-thread-multi
- Date
- 2014-08-03 08:13:12
- ID
- 0317d4e8-1ae6-11e4-b9c9-01f9c7ccabfc
This distribution has been tested as part of the CPAN Testers
project, supporting the Perl programming language. See
http://wiki.cpantesters.org/ for more information or email
questions to cpan-testers-discuss@perl.org
--
Dear Tobias Leich,
This is a computer-generated report for SDL-2.544
on perl 5.21.3, created by CPAN-Reporter-1.2011.
Thank you for uploading your work to CPAN. Congratulations!
All tests were successful.
Sections of this report:
* Tester comments
* Program output
* Prerequisites
* Environment and other context
------------------------------
TESTER COMMENTS
------------------------------
Additional comments from tester:
this report is from an automated smoke testing program
and was not reviewed by a human for accuracy
------------------------------
PROGRAM OUTPUT
------------------------------
Output from './Build test':
[Alien::SDL] Build option used:
Source code build
SDL(v1.2.15) SDL_image(v1.2.11) ogg(v1.3.0) vorbis(v1.3.3) SDL_mixer(v1.2.12) SDL_ttf(v2.0.11) SDL_gfx(v2.0.25) SDL_Pango(v1.2)
Building SDL
t/00-load.t ..................... ok
t/colorpm.t ..................... ok
t/config.t ...................... ok
t/core.t ........................ ok
t/core_audio.t .................. ok
Use of uninitialized value $p in numeric lt (<) at t/core_audiospec.t line 52.
t/core_audiospec.t .............. ok
t/core_cd.t ..................... ok
t/core_error.t .................. ok
t/core_events.t ................. ok
t/core_joystick.t ............... ok
t/core_mouse.t .................. ok
t/core_multi.t .................. ok
t/core_overlay.t ................ ok
t/core_palette.t ................ ok
t/core_rect.t ................... ok
t/core_rwops.t .................. ok
t/core_surface.t ................ ok
t/core_timer.t .................. ok
t/core_version.t ................ ok
t/core_video.t .................. ok
t/core_video_convert_surface.t .. ok
t/core_video_gamma.t ............ ok
t/extendingrect.t ............... ok
t/gfx.t ......................... ok
t/gfx_fpsmanager.t .............. ok
t/gfx_framerate.t ............... ok
t/gfx_imagefilter.t ............. ok
t/gfx_primitives.t .............. ok
t/gfx_primitives2.t ............. ok
t/gfx_rotozoom.t ................ ok
t/image.t ....................... ok
t/image_xpm_array.t ............. ok
t/mixer.t ....................... ok
t/mixer_channels.t .............. ok
t/mixer_effects.t ............... ok
t/mixer_groups.t ................ ok
t/mixer_mixchunk.t .............. ok
t/mixer_mixmusic.t .............. ok
t/mixer_music.t ................. ok
t/mixer_samples.t ............... ok
t/pango.t ....................... skipped: SDL_Pango support not compiled
t/sdlgamerect.t ................. ok
t/sdlx_app.t .................... ok
t/sdlx_controller.t ............. ok
t/sdlx_controller_interface.t ... ok
t/sdlx_fps.t .................... ok
t/sdlx_layermanager.t ........... ok
t/sdlx_music.t .................. ok
t/sdlx_rect.t ................... ok
t/sdlx_sfont.t .................. ok
t/sdlx_sound.t .................. ok
t/sdlx_sprite.t ................. ok
t/sdlx_sprite_animated.t ........ ok
t/sdlx_surface.t ................ ok
t/sdlx_text.t ................... ok
t/sdlx_validate.t ............... ok
t/smpeg.t ....................... skipped: smpeg support not compiled
t/ttf.t ......................... ok
t/ttf_font.t .................... ok
All tests successful.
Test Summary Report
-------------------
t/core.t (Wstat: 0 Tests: 28 Failed: 0)
TODO passed: 21-22
t/core_video.t (Wstat: 0 Tests: 110 Failed: 0)
TODO passed: 57, 59
Files=59, Tests=3814, 153 wallclock secs ( 0.46 usr 0.07 sys + 73.10 cusr 3.34 csys = 76.97 CPU)
Result: PASS
------------------------------
PREREQUISITES
------------------------------
Prerequisite modules loaded:
requires:
Module Need Have
------------------ -------- --------
CPAN 1.92 2.05
File::ShareDir 1.0 1.102
perl 5.008000 5.021003
Scalar::Util 0 1.39
Tie::Simple 0 1.03
build_requires:
Module Need Have
------------------ -------- --------
Alien::SDL 1.444 1.444
Capture::Tiny 0 0.24
ExtUtils::CBuilder 0 0.280216
File::Find 0 1.27
File::ShareDir 1.0 1.102
Scalar::Util 0 1.39
Test::Most 0.21 0.33
Test::Simple 0.88 1.001003
Tie::Simple 0 1.03
configure_requires:
Module Need Have
------------------ -------- --------
Alien::SDL 1.444 1.444
Capture::Tiny 0 0.24
ExtUtils::CBuilder 0.260301 0.280216
File::Find 0 1.27
File::ShareDir 1.0 1.102
Module::Build 0.40 0.4206
Tie::Simple 0 1.03
------------------------------
ENVIRONMENT AND OTHER CONTEXT
------------------------------
Environment variables:
AUTOMATED_TESTING = 1
LANG = en_US.UTF-8
LANGUAGE = en_US:en
PATH = /usr/lib/ccache:/home/sand/bin:/usr/local/bin:/usr/bin:/bin:/usr/games:/usr/local/perl/bin:/usr/X11/bin:/sbin:/usr/sbin
PERL5LIB = /tmp/loop_over_bdir-2945-2k2RpF/FusionInventory-Agent-2.3.10-EvdIcn/blib/arch:/tmp/loop_over_bdir-2945-2k2RpF/FusionInventory-Agent-2.3.10-EvdIcn/blib/lib
PERL5OPT =
PERL5_CPANPLUS_IS_RUNNING = 4256
PERL5_CPAN_IS_RUNNING = 4256
PERL_MM_USE_DEFAULT = 1
SHELL = /usr/bin/zsh
TERM = screen
Perl special variables (and OS-specific diagnostics, for MSWin32):
$^X = /tmp/basesmoker-reloperl-tUqr/bin/perl
$UID/$EUID = 1005 / 1005
$GID = 1005 1005
$EGID = 1005 1005
Perl module toolchain versions installed:
Module Have
------------------- --------
CPAN 2.05
CPAN::Meta 2.142060
Cwd 3.49
ExtUtils::CBuilder 0.280216
ExtUtils::Command 1.18
ExtUtils::Install 1.68
ExtUtils::MakeMaker 6.98
ExtUtils::Manifest 1.64
ExtUtils::ParseXS 3.25
File::Spec 3.49
JSON 2.90
JSON::PP 2.27203
Module::Build 0.4206
Module::Signature 0.73
Parse::CPAN::Meta 1.4414
Test::Harness 3.32
Test::More 1.001003
YAML 0.98
YAML::Syck 1.27
version 0.9908
--
Summary of my perl5 (revision 5 version 21 subversion 3) configuration:
Commit id: 60df6830c0429ffd1f40e4d01237803f337499a5
Platform:
osname=linux, osvers=3.14-2-amd64, archname=x86_64-linux-thread-multi
uname='linux k83 3.14-2-amd64 #1 smp debian 3.14.13-2 (2014-07-24) x86_64 gnulinux '
config_args='-Dprefix=/home/sand/src/perl/repoperls/installed-perls/perl/v5.21.2-88-g60df683/9980 -Dmyhostname=k83 -Dinstallusrbinperl=n -Uversiononly -Dusedevel -des -Ui_db -Duseithreads -Uuselongdouble -DDEBUGGING=-g'
hint=recommended, useposix=true, d_sigaction=define
useithreads=define, usemultiplicity=define
use64bitint=define, use64bitall=define, uselongdouble=undef
usemymalloc=n, bincompat5005=undef
Compiler:
cc='cc', ccflags ='-D_REENTRANT -D_GNU_SOURCE -fwrapv -fno-strict-aliasing -pipe -fstack-protector -I/usr/local/include -D_LARGEFILE_SOURCE -D_FILE_OFFSET_BITS=64 -D_FORTIFY_SOURCE=2',
optimize='-O2 -g',
cppflags='-D_REENTRANT -D_GNU_SOURCE -fwrapv -fno-strict-aliasing -pipe -fstack-protector -I/usr/local/include'
ccversion='', gccversion='4.9.1', gccosandvers=''
intsize=4, longsize=8, ptrsize=8, doublesize=8, byteorder=12345678
d_longlong=define, longlongsize=8, d_longdbl=define, longdblsize=16
ivtype='long', ivsize=8, nvtype='double', nvsize=8, Off_t='off_t', lseeksize=8
alignbytes=8, prototype=define
Linker and Libraries:
ld='cc', ldflags =' -fstack-protector -L/usr/local/lib'
libpth=/usr/local/lib /usr/lib/gcc/x86_64-linux-gnu/4.9/include-fixed /usr/include/x86_64-linux-gnu /usr/lib /lib/x86_64-linux-gnu /lib/../lib /usr/lib/x86_64-linux-gnu /usr/lib/../lib /lib
libs=-lnsl -lgdbm -ldb -ldl -lm -lcrypt -lutil -lpthread -lc -lgdbm_compat
perllibs=-lnsl -ldl -lm -lcrypt -lutil -lpthread -lc
libc=libc-2.19.so, so=so, useshrplib=false, libperl=libperl.a
gnulibc_version='2.19'
Dynamic Linking:
dlsrc=dl_dlopen.xs, dlext=so, d_dlsymun=undef, ccdlflags='-Wl,-E'
cccdlflags='-fPIC', lddlflags='-shared -O2 -g -L/usr/local/lib -fstack-protector'
Characteristics of this binary (from libperl):
Compile-time options: HAS_TIMES MULTIPLICITY PERLIO_LAYERS
PERL_DONT_CREATE_GVSV
PERL_HASH_FUNC_ONE_AT_A_TIME_HARD
PERL_IMPLICIT_CONTEXT PERL_MALLOC_WRAP
PERL_NEW_COPY_ON_WRITE PERL_PRESERVE_IVUV
PERL_USE_DEVEL USE_64_BIT_ALL USE_64_BIT_INT
USE_ITHREADS USE_LARGE_FILES USE_LOCALE
USE_LOCALE_COLLATE USE_LOCALE_CTYPE
USE_LOCALE_NUMERIC USE_LOCALE_TIME USE_PERLIO
USE_PERL_ATOF USE_REENTRANT_API
Built under linux
Compiled at Aug 2 2014 13:28:34
%ENV:
PERL5LIB="/tmp/loop_over_bdir-2945-2k2RpF/FusionInventory-Agent-2.3.10-EvdIcn/blib/arch:/tmp/loop_over_bdir-2945-2k2RpF/FusionInventory-Agent-2.3.10-EvdIcn/blib/lib"
PERL5OPT=""
PERL5_CPANPLUS_IS_RUNNING="4256"
PERL5_CPAN_IS_RUNNING="4256"
PERL_MM_USE_DEFAULT="1"
@INC:
/tmp/loop_over_bdir-2945-2k2RpF/FusionInventory-Agent-2.3.10-EvdIcn/blib/arch
/tmp/loop_over_bdir-2945-2k2RpF/FusionInventory-Agent-2.3.10-EvdIcn/blib/lib
/home/sand/src/perl/repoperls/installed-perls/perl/v5.21.2-88-g60df683/9980/lib/site_perl/5.21.3/x86_64-linux-thread-multi
/home/sand/src/perl/repoperls/installed-perls/perl/v5.21.2-88-g60df683/9980/lib/site_perl/5.21.3
/home/sand/src/perl/repoperls/installed-perls/perl/v5.21.2-88-g60df683/9980/lib/5.21.3/x86_64-linux-thread-multi
/home/sand/src/perl/repoperls/installed-perls/perl/v5.21.2-88-g60df683/9980/lib/5.21.3
.