IO-Iron v0.11 Perl 5 v5.18.4 x86_64-linux-ld

Status
Pass
From
Joelle Maslak
Dist
IO-Iron v0.11
Platform
Perl 5 v5.18.4 x86_64-linux-ld
Date
2015-07-26 13:27:07
ID
030f192a-339a-11e5-8667-84a47c839d7e
This distribution has been tested as part of the CPAN Testers
project, supporting the Perl programming language.  See
http://wiki.cpantesters.org/ for more information or email
questions to cpan-testers-discuss@perl.org


--
Dear Mikko Koivunalho,

This is a computer-generated report for IO-Iron-0.11
on perl 5.18.4, created by CPAN-Reporter-1.2014.

Thank you for uploading your work to CPAN.  Congratulations!
All tests were successful.

Sections of this report:

    * Tester comments
    * Program output
    * Prerequisites
    * Environment and other context

------------------------------
TESTER COMMENTS
------------------------------

Additional comments from tester:

this report is from an automated smoke testing program
and was not reviewed by a human for accuracy

------------------------------
PROGRAM OUTPUT
------------------------------

Output from '/usr/bin/make test':

PERL_DL_NONLAZY=1 "/data/perl5/perlbrew/perls/perl-5.18.4-ld/bin/perl" "-MExtUtils::Command::MM" "-MTest::Harness" "-e" "undef *Test::Harness::Switches; test_harness(0, 'blib/lib', 'blib/arch')" t/Iron/*.t t/IronCache/*.t t/IronMQ/*.t t/IronWorker/*.t
# Testing IO::Iron::IronMQ 0.11, Perl 5.018004, /data/perl5/perlbrew/perls/perl-5.18.4-ld/bin/perl
# test ReadIronMQConfig
# Current dir config filename: ./iron.json
# Extra config filename: t/.IronMQTestConfig.json
t/Iron/client_readconfig.t ... ok
# Testing IO::Iron 0.11, Perl 5.018004, /data/perl5/perlbrew/perls/perl-5.18.4-ld/bin/perl
t/Iron/load.t ................ ok
# Testing IO::Iron::IronCache::Client with policies, Perl 5.018004, /data/perl5/perlbrew/perls/perl-5.18.4-ld/bin/perl
t/IronCache/cache_policy.t ... ok
# Testing IO::Iron::IronCache::Client with policies, Perl 5.018004, /data/perl5/perlbrew/perls/perl-5.18.4-ld/bin/perl
t/IronCache/cache_policy2.t .. ok
# Testing IO::Iron::IronCache, Perl 5.018004, /data/perl5/perlbrew/perls/perl-5.18.4-ld/bin/perl
t/IronCache/load.t ........... ok
# Testing IO::Iron::IronMQ 0.11, Perl 5.018004, /data/perl5/perlbrew/perls/perl-5.18.4-ld/bin/perl
t/IronMQ/load.t .............. ok
# Testing IO::Iron::IronWorker 0.11, Perl 5.018004, /data/perl5/perlbrew/perls/perl-5.18.4-ld/bin/perl
t/IronWorker/load.t .......... ok
All tests successful.
Files=7, Tests=92,  0 wallclock secs ( 0.03 usr  0.01 sys +  0.46 cusr  0.04 csys =  0.54 CPU)
Result: PASS

------------------------------
PREREQUISITES
------------------------------

Prerequisite modules loaded:

requires:

    Module             Need Have    
    ------------------ ---- --------
    Carp               0    1.29    
    Carp::Assert       0    0.21    
    Carp::Assert::More 0    1.14    
    constant           0    1.27    
    Data::Dumper       0    2.145   
    Data::UUID         0    1.220   
    English            0    1.06_01 
    Exception::Class   0    1.39    
    Exporter           0    5.68    
    File::HomeDir      0    1.00    
    File::Slurp        0    9999.19 
    File::Spec         0    3.40    
    Hash::Util         0.06 0.16    
    JSON::MaybeXS      0    1.003005
    Log::Any           0    1.032   
    Params::Validate   0    1.21    
    parent             0    0.225   
    REST::Client       0    272     
    Scalar::Util       0    1.42    
    strict             0    1.07    
    Try::Tiny          0    0.22    
    URI::Escape        0    3.31    
    warnings           0    1.18    

build_requires:

    Module             Need Have    
    ------------------ ---- --------
    File::Copy         0    2.26    
    File::Remove       0    1.52    
    lib                0    0.63    
    Log::Any::Test     0    1.032   
    Test::Exception    0    0.40    
    Test::More         0    1.001014


------------------------------
ENVIRONMENT AND OTHER CONTEXT
------------------------------

Environment variables:

    AUTOMATED_TESTING = 1
    LANG = en_US.UTF-8
    NONINTERACTIVE_TESTING = 1
    PATH = /home/perltest/sysperl/bin:/home/perltest/perl5/perlbrew/bin:/home/perltest/perl5/perlbrew/perls/perl-5.18.4-ld/bin:/home/perltest/perltest/bin:/home/perltest/perltest/bin:/home/perltest/perltest/bin:/home/perltest/perl5/perlbrew/bin:/home/perltest/perl5/perlbrew/perls/perl-5.23.1/bin:/usr/local/sbin:/usr/local/bin:/usr/sbin:/usr/bin:/sbin:/bin:/usr/games:/usr/local/games:/home/perltest/perltest/bin
    PERL5LIB = /home/perltest/.cpan/build/REST-Client-272-2C8BLa/blib/arch:/home/perltest/.cpan/build/REST-Client-272-2C8BLa/blib/lib:/home/perltest/sysperl/lib/perl5
    PERL5OPT = 
    PERL5_CPANPLUS_IS_RUNNING = 25776
    PERL5_CPAN_IS_RUNNING = 25776
    PERL5_CPAN_IS_RUNNING_IN_RECURSION = 2924,25776
    PERLBREW_BASHRC_VERSION = 0.73
    PERLBREW_HOME = /home/perltest/.perlbrew
    PERLBREW_LIB = 
    PERLBREW_MANPATH = /home/perltest/perl5/perlbrew/perls/perl-5.18.4-ld/man
    PERLBREW_PATH = /home/perltest/perl5/perlbrew/bin:/home/perltest/perl5/perlbrew/perls/perl-5.18.4-ld/bin
    PERLBREW_PERL = perl-5.18.4-ld
    PERLBREW_ROOT = /home/perltest/perl5/perlbrew
    PERLBREW_VERSION = 0.73
    PERL_CR_SMOKER_CURRENT = IO-Iron-0.11
    PERL_EXTUTILS_AUTOINSTALL = --defaultdeps
    PERL_LOCAL_LIB_ROOT = /home/perltest/sysperl:
    PERL_MB_OPT = --install_base "//home/perltest/sysperl"
    PERL_MM_OPT = INSTALL_BASE=/home/perltest/sysperl
    PERL_MM_USE_DEFAULT = 1
    SHELL = /bin/bash
    TERM = screen

Perl special variables (and OS-specific diagnostics, for MSWin32):

    $^X = /data/perl5/perlbrew/perls/perl-5.18.4-ld/bin/perl
    $UID/$EUID = 2000 / 2000
    $GID = 2000 2000
    $EGID = 2000 2000

Perl module toolchain versions installed:

    Module              Have    
    ------------------- --------
    CPAN                2.00    
    CPAN::Meta          2.150005
    Cwd                 3.40    
    ExtUtils::CBuilder  0.280210
    ExtUtils::Command   1.17    
    ExtUtils::Install   1.59    
    ExtUtils::MakeMaker 7.04    
    ExtUtils::Manifest  1.70    
    ExtUtils::ParseXS   3.18    
    File::Spec          3.40    
    JSON                2.90    
    JSON::PP            2.27203 
    Module::Build       0.4214  
    Module::Signature   n/a     
    Parse::CPAN::Meta   1.4417  
    Test::Harness       3.35    
    Test::More          1.001014
    YAML                1.15    
    YAML::Syck          n/a     
    version             0.9912  


--

Summary of my perl5 (revision 5 version 18 subversion 4) configuration:
   
  Platform:
    osname=linux, osvers=3.19.0-18-generic, archname=x86_64-linux-ld
    uname='linux perltest.antelope.net 3.19.0-18-generic #18-ubuntu smp tue may 19 18:31:35 utc 2015 x86_64 x86_64 x86_64 gnulinux '
    config_args='-de -Dprefix=/home/perltest/perl5/perlbrew/perls/perl-5.18.4-ld -Duselongdouble -Aeval:scriptdir=/home/perltest/perl5/perlbrew/perls/perl-5.18.4-ld/bin'
    hint=recommended, useposix=true, d_sigaction=define
    useithreads=undef, usemultiplicity=undef
    useperlio=define, d_sfio=undef, uselargefiles=define, usesocks=undef
    use64bitint=define, use64bitall=define, uselongdouble=define
    usemymalloc=n, bincompat5005=undef
  Compiler:
    cc='cc', ccflags ='-fno-strict-aliasing -pipe -fstack-protector -I/usr/local/include -D_LARGEFILE_SOURCE -D_FILE_OFFSET_BITS=64',
    optimize='-O2',
    cppflags='-fno-strict-aliasing -pipe -fstack-protector -I/usr/local/include'
    ccversion='', gccversion='4.9.2', gccosandvers=''
    intsize=4, longsize=8, ptrsize=8, doublesize=8, byteorder=12345678
    d_longlong=define, longlongsize=8, d_longdbl=define, longdblsize=16
    ivtype='long', ivsize=8, nvtype='long double', nvsize=16, Off_t='off_t', lseeksize=8
    alignbytes=16, prototype=define
  Linker and Libraries:
    ld='cc', ldflags =' -fstack-protector -L/usr/local/lib'
    libpth=/usr/local/lib /lib/x86_64-linux-gnu /lib/../lib /usr/lib/x86_64-linux-gnu /usr/lib/../lib /lib /usr/lib
    libs=-lnsl -ldb -ldl -lm -lcrypt -lutil -lc
    perllibs=-lnsl -ldl -lm -lcrypt -lutil -lc
    libc=libc-2.21.so, so=so, useshrplib=false, libperl=libperl.a
    gnulibc_version='2.21'
  Dynamic Linking:
    dlsrc=dl_dlopen.xs, dlext=so, d_dlsymun=undef, ccdlflags='-Wl,-E'
    cccdlflags='-fPIC', lddlflags='-shared -O2 -L/usr/local/lib -fstack-protector'


Characteristics of this binary (from libperl): 
  Compile-time options: HAS_TIMES PERLIO_LAYERS PERL_DONT_CREATE_GVSV
                        PERL_HASH_FUNC_ONE_AT_A_TIME_HARD PERL_MALLOC_WRAP
                        PERL_PRESERVE_IVUV PERL_SAWAMPERSAND USE_64_BIT_ALL
                        USE_64_BIT_INT USE_LARGE_FILES USE_LOCALE
                        USE_LOCALE_COLLATE USE_LOCALE_CTYPE
                        USE_LOCALE_NUMERIC USE_LONG_DOUBLE USE_PERLIO
                        USE_PERL_ATOF
  Locally applied patches:
	Devel::PatchPerl 1.38
  Built under linux
  Compiled at Jul 19 2015 22:40:37
  %ENV:
    PERL5LIB="/home/perltest/.cpan/build/REST-Client-272-2C8BLa/blib/arch:/home/perltest/.cpan/build/REST-Client-272-2C8BLa/blib/lib:/home/perltest/sysperl/lib/perl5"
    PERL5OPT=""
    PERL5_CPANPLUS_IS_RUNNING="25776"
    PERL5_CPAN_IS_RUNNING="25776"
    PERL5_CPAN_IS_RUNNING_IN_RECURSION="2924,25776"
    PERLBREW_BASHRC_VERSION="0.73"
    PERLBREW_HOME="/home/perltest/.perlbrew"
    PERLBREW_LIB=""
    PERLBREW_MANPATH="/home/perltest/perl5/perlbrew/perls/perl-5.18.4-ld/man"
    PERLBREW_PATH="/home/perltest/perl5/perlbrew/bin:/home/perltest/perl5/perlbrew/perls/perl-5.18.4-ld/bin"
    PERLBREW_PERL="perl-5.18.4-ld"
    PERLBREW_ROOT="/home/perltest/perl5/perlbrew"
    PERLBREW_VERSION="0.73"
    PERL_CR_SMOKER_CURRENT="IO-Iron-0.11"
    PERL_EXTUTILS_AUTOINSTALL="--defaultdeps"
    PERL_LOCAL_LIB_ROOT="/home/perltest/sysperl:"
    PERL_MB_OPT="--install_base "//home/perltest/sysperl""
    PERL_MM_OPT="INSTALL_BASE=/home/perltest/sysperl"
    PERL_MM_USE_DEFAULT="1"
  @INC:
    /home/perltest/.cpan/build/REST-Client-272-2C8BLa/blib/arch
    /home/perltest/.cpan/build/REST-Client-272-2C8BLa/blib/lib
    /home/perltest/sysperl/lib/perl5/x86_64-linux-ld
    /home/perltest/sysperl/lib/perl5
    /home/perltest/perl5/perlbrew/perls/perl-5.18.4-ld/lib/site_perl/5.18.4/x86_64-linux-ld
    /home/perltest/perl5/perlbrew/perls/perl-5.18.4-ld/lib/site_perl/5.18.4
    /home/perltest/perl5/perlbrew/perls/perl-5.18.4-ld/lib/5.18.4/x86_64-linux-ld
    /home/perltest/perl5/perlbrew/perls/perl-5.18.4-ld/lib/5.18.4
    .