Class-DBI-MSAccess v0.10.2 Perl 5 v5.12.2 i686-linux-gnu-thread-multi
- Status
- Pass
- From
- Dan Collins (DCOLLINS)
- Dist
-
Class-DBI-MSAccess v0.10.2
- Platform
- Perl 5 v5.12.2 i686-linux-gnu-thread-multi
- Date
- 2010-11-15 20:43:33
- ID
- 030ec134-f0f9-11df-9f8c-f9f0460775b1
This distribution has been tested as part of the CPAN Testers
project, supporting the Perl programming language. See
http://wiki.cpantesters.org/ for more information or email
questions to cpan-testers-discuss@perl.org
--
Dear Michael Hendricks,
This is a computer-generated report for Class-DBI-MSAccess-0.10.2
on perl 5.12.2, created by CPAN-Reporter-1.1805.
Thank you for uploading your work to CPAN. Congratulations!
All tests were successful.
Sections of this report:
* Tester comments
* Program output
* Prerequisites
* Environment and other context
------------------------------
TESTER COMMENTS
------------------------------
Additional comments from tester:
this report is from an automated smoke testing program
and was not reviewed by a human for accuracy
------------------------------
PROGRAM OUTPUT
------------------------------
Output from './Build test':
t/0-signature.t ............ ok
# Testing Class::DBI::MSAccess 0.10.2
t/00-load.t ................ ok
t/multiple_primary_keys.t .. skipped: Test::MockModule not installed
t/pod-coverage.t ........... ok
t/pod.t .................... ok
t/single_primary_key.t ..... skipped: Test::MockModule not installed
All tests successful.
Files=6, Tests=4, 0 wallclock secs ( 0.03 usr 0.02 sys + 0.30 cusr 0.07 csys = 0.42 CPU)
Result: PASS
------------------------------
PREREQUISITES
------------------------------
Prerequisite modules loaded:
requires:
Module Need Have
---------- ---- ------
Class::DBI 0 3.0.17
build_requires:
Module Need Have
---------- ---- ------
Test::More 0 0.94
------------------------------
ENVIRONMENT AND OTHER CONTEXT
------------------------------
Environment variables:
AUTOMATED_TESTING = 1
LANG = en_US.UTF-8
PATH = /usr/local/sbin:/usr/local/bin:/usr/sbin:/usr/bin:/sbin:/bin:/usr/games
PERL5LIB = /home/perl5122/.cpan/build/Class-DBI-v3.0.17-LwGET5/blib/arch:/home/perl5122/.cpan/build/Class-DBI-v3.0.17-LwGET5/blib/lib:/home/perl5122/.cpan/build/Ima-DBI-0.35-ZhiTqx/blib/arch:/home/perl5122/.cpan/build/Ima-DBI-0.35-ZhiTqx/blib/lib:/home/perl5122/.cpan/build/DBIx-ContextualFetch-1.03-7rwk7W/blib/arch:/home/perl5122/.cpan/build/DBIx-ContextualFetch-1.03-7rwk7W/blib/lib:/home/perl5122/.cpan/build/Class-Trigger-0.14-DqgKmh/blib/arch:/home/perl5122/.cpan/build/Class-Trigger-0.14-DqgKmh/blib/lib:/home/perl5122/.cpan/build/IO-stringy-2.110-KvYfwp/blib/arch:/home/perl5122/.cpan/build/IO-stringy-2.110-KvYfwp/blib/lib:/home/perl5122/.cpan/build/Class-Accessor-0.34-4FNzio/blib/arch:/home/perl5122/.cpan/build/Class-Accessor-0.34-4FNzio/blib/lib:/home/perl5122/.cpan/build/UNIVERSAL-moniker-0.08-MglKK8/blib/arch:/home/perl5122/.cpan/build/UNIVERSAL-moniker-0.08-MglKK8/blib/lib
PERL5OPT =
PERL5_CPANPLUS_IS_RUNNING = 25453
PERL5_CPAN_IS_RUNNING = 25453
PERL5_CPAN_IS_RUNNING_IN_RECURSION = 16811,25453
PERL_CR_SMOKER_CURRENT = Class-DBI-MSAccess-0.10.2
PERL_EXTUTILS_AUTOINSTALL = --defaultdeps
PERL_MM_USE_DEFAULT = 1
SHELL = /bin/bash
TERM = xterm
Perl special variables (and OS-specific diagnostics, for MSWin32):
$^X = /home/perl5122/perl/bin/perl
$UID/$EUID = 1008 / 1008
$GID = 1008 1008
$EGID = 1008 1008
Perl module toolchain versions installed:
Module Have
------------------- -------
CPAN 1.94_56
Cwd 3.31
ExtUtils::CBuilder 0.2703
ExtUtils::Command 1.16
ExtUtils::Install 1.55
ExtUtils::MakeMaker 6.56
ExtUtils::Manifest 1.57
ExtUtils::ParseXS 2.21
File::Spec 3.31_01
Module::Build 0.3607
Module::Signature n/a
Test::Harness 3.17
Test::More 0.94
YAML 0.71
YAML::Syck 1.09
version 0.82
--
Summary of my perl5 (revision 5 version 12 subversion 2) configuration:
Platform:
osname=linux, osvers=2.6.32-25-generic, archname=i686-linux-thread-multi
uname='linux st47-laptop 2.6.32-25-generic #44-ubuntu smp fri sep 17 20:26:08 utc 2010 i686 gnulinux '
config_args=''
hint=recommended, useposix=true, d_sigaction=define
useithreads=define, usemultiplicity=define
useperlio=define, d_sfio=undef, uselargefiles=define, usesocks=undef
use64bitint=undef, use64bitall=undef, uselongdouble=undef
usemymalloc=n, bincompat5005=undef
Compiler:
cc='cc', ccflags ='-D_REENTRANT -D_GNU_SOURCE -fno-strict-aliasing -pipe -fstack-protector -I/usr/local/include -D_LARGEFILE_SOURCE -D_FILE_OFFSET_BITS=64',
optimize='-O2',
cppflags='-D_REENTRANT -D_GNU_SOURCE -fno-strict-aliasing -pipe -fstack-protector -I/usr/local/include'
ccversion='', gccversion='4.4.3', gccosandvers=''
intsize=4, longsize=4, ptrsize=4, doublesize=8, byteorder=1234
d_longlong=define, longlongsize=8, d_longdbl=define, longdblsize=12
ivtype='long', ivsize=4, nvtype='double', nvsize=8, Off_t='off_t', lseeksize=8
alignbytes=4, prototype=define
Linker and Libraries:
ld='cc', ldflags =' -fstack-protector -L/usr/local/lib'
libpth=/usr/local/lib /lib /usr/lib /usr/lib64
libs=-lnsl -ldl -lm -lcrypt -lutil -lpthread -lc
perllibs=-lnsl -ldl -lm -lcrypt -lutil -lpthread -lc
libc=/lib/libc-2.11.1.so, so=so, useshrplib=false, libperl=libperl.a
gnulibc_version='2.11.1'
Dynamic Linking:
dlsrc=dl_dlopen.xs, dlext=so, d_dlsymun=undef, ccdlflags='-Wl,-E'
cccdlflags='-fPIC', lddlflags='-shared -O2 -L/usr/local/lib -fstack-protector'
Characteristics of this binary (from libperl):
Compile-time options: MULTIPLICITY PERL_DONT_CREATE_GVSV
PERL_IMPLICIT_CONTEXT PERL_MALLOC_WRAP USE_ITHREADS
USE_LARGE_FILES USE_PERLIO USE_PERL_ATOF
USE_REENTRANT_API
Built under linux
Compiled at Oct 9 2010 12:54:22
%ENV:
PERL5LIB="/home/perl5122/.cpan/build/Class-DBI-v3.0.17-LwGET5/blib/arch:/home/perl5122/.cpan/build/Class-DBI-v3.0.17-LwGET5/blib/lib:/home/perl5122/.cpan/build/Ima-DBI-0.35-ZhiTqx/blib/arch:/home/perl5122/.cpan/build/Ima-DBI-0.35-ZhiTqx/blib/lib:/home/perl5122/.cpan/build/DBIx-ContextualFetch-1.03-7rwk7W/blib/arch:/home/perl5122/.cpan/build/DBIx-ContextualFetch-1.03-7rwk7W/blib/lib:/home/perl5122/.cpan/build/Class-Trigger-0.14-DqgKmh/blib/arch:/home/perl5122/.cpan/build/Class-Trigger-0.14-DqgKmh/blib/lib:/home/perl5122/.cpan/build/IO-stringy-2.110-KvYfwp/blib/arch:/home/perl5122/.cpan/build/IO-stringy-2.110-KvYfwp/blib/lib:/home/perl5122/.cpan/build/Class-Accessor-0.34-4FNzio/blib/arch:/home/perl5122/.cpan/build/Class-Accessor-0.34-4FNzio/blib/lib:/home/perl5122/.cpan/build/UNIVERSAL-moniker-0.08-MglKK8/blib/arch:/home/perl5122/.cpan/build/UNIVERSAL-moniker-0.08-MglKK8/blib/lib"
PERL5OPT=""
PERL5_CPANPLUS_IS_RUNNING="25453"
PERL5_CPAN_IS_RUNNING="25453"
PERL5_CPAN_IS_RUNNING_IN_RECURSION="16811,25453"
PERL_CR_SMOKER_CURRENT="Class-DBI-MSAccess-0.10.2"
PERL_EXTUTILS_AUTOINSTALL="--defaultdeps"
PERL_MM_USE_DEFAULT="1"
@INC:
/home/perl5122/.cpan/build/Class-DBI-v3.0.17-LwGET5/blib/arch
/home/perl5122/.cpan/build/Class-DBI-v3.0.17-LwGET5/blib/lib
/home/perl5122/.cpan/build/Ima-DBI-0.35-ZhiTqx/blib/arch
/home/perl5122/.cpan/build/Ima-DBI-0.35-ZhiTqx/blib/lib
/home/perl5122/.cpan/build/DBIx-ContextualFetch-1.03-7rwk7W/blib/arch
/home/perl5122/.cpan/build/DBIx-ContextualFetch-1.03-7rwk7W/blib/lib
/home/perl5122/.cpan/build/Class-Trigger-0.14-DqgKmh/blib/arch
/home/perl5122/.cpan/build/Class-Trigger-0.14-DqgKmh/blib/lib
/home/perl5122/.cpan/build/IO-stringy-2.110-KvYfwp/blib/arch
/home/perl5122/.cpan/build/IO-stringy-2.110-KvYfwp/blib/lib
/home/perl5122/.cpan/build/Class-Accessor-0.34-4FNzio/blib/arch
/home/perl5122/.cpan/build/Class-Accessor-0.34-4FNzio/blib/lib
/home/perl5122/.cpan/build/UNIVERSAL-moniker-0.08-MglKK8/blib/arch
/home/perl5122/.cpan/build/UNIVERSAL-moniker-0.08-MglKK8/blib/lib
/home/perl5122/perl/lib
/home/perl5122/perl/lib
.