Test-Pod-LinkCheck v0.007 Perl 5 v5.19.8 darwin-2level

Status
Pass
From
Stanislaw Pusep
Dist
Test-Pod-LinkCheck v0.007
Platform
Perl 5 v5.19.8 darwin-2level
Date
2014-01-22 10:21:52
ID
02f4adda-834f-11e3-b51e-d0004f20b19a
This distribution has been tested as part of the CPAN Testers
project, supporting the Perl programming language.  See
http://wiki.cpantesters.org/ for more information or email
questions to cpan-testers-discuss@perl.org


--
Dear Apocalypse,

This is a computer-generated report for Test-Pod-LinkCheck-0.007
on perl 5.19.8, created by CPAN-Reporter-1.2010.

Thank you for uploading your work to CPAN.  Congratulations!
All tests were successful.

Sections of this report:

    * Tester comments
    * Program output
    * Prerequisites
    * Environment and other context

------------------------------
TESTER COMMENTS
------------------------------

Additional comments from tester:

none provided

------------------------------
PROGRAM OUTPUT
------------------------------

Output from './Build test':

t/00-compile.t ................ ok
# 
You should load Test::Tester before Test::Builder (or anything that loads Test::Builder) at /Users/stas/perl5/perlbrew/perls/perl-5.19.8/lib/5.19.8/Test/Tester.pm line 9.
# 
# Generated by Dist::Zilla::Plugin::ReportVersions::Tiny v1.03
# perl: v5.19.8 (wanted 5.006) on darwin from /Users/stas/perl5/perlbrew/perls/perl-5.19.8/bin/perl5.19.8
# 
# App::PodLinkCheck::ParseLinks                 => 12         (want 4)      
# App::PodLinkCheck::ParseSections              => 12         (want any version)
# Capture::Tiny                                 => 0.23       (want any version)
# Config                                        => 5.019008   (want any version)
# Exporter                                      => 5.70       (want any version)
# File::Find                                    => 1.26       (want any version)
# File::Spec                                    => 3.40       (want any version)
# File::Temp                                    => 0.2304     (want any version)
# Module::Build                                 => 0.4204     (want 0.3601) 
# Moose                                         => 2.1202     (want 1.01)   
# Moose::Util::TypeConstraints                  => 2.1202     (want 1.01)   
# Pod::Find                                     => 1.61       (want any version)
# Test::Builder                                 => 1.001002   (want 0.94)   
# Test::More                                    => 1.001002   (want 0.88)   
# Test::Pod                                     => 1.48       (want 1.44)   
# Test::Tester                                  => 0.109      (want any version)
# parent                                        => 0.228      (want any version)
# 
# Thanks for using my code.  I hope it works for you.
# If not, please try and include this output in the bug report.
# That will help me reproduce the issue and solve your problem.
# 
t/000-report-versions-tiny.t .. ok
t/apocalypse.t ................ skipped: Test::Apocalypse required for validating the distribution
t/cpan_backend.t .............. ok
t/functions.t ................. ok
t/simple.t .................... ok
All tests successful.

Test Summary Report
-------------------
t/cpan_backend.t            (Wstat: 0 Tests: 12 Failed: 0)
  TODO passed:   1-8
Files=6, Tests=118, 11 wallclock secs ( 0.05 usr  0.02 sys +  7.79 cusr  0.87 csys =  8.73 CPU)
Result: PASS

------------------------------
PREREQUISITES
------------------------------

Prerequisite modules loaded:

requires:

    Module                           Need   Have    
    -------------------------------- ------ --------
    App::PodLinkCheck::ParseLinks    4      12      
    App::PodLinkCheck::ParseSections 0      12      
    Capture::Tiny                    0      0.23    
    Config                           0      5.019008
    Exporter                         0      5.70    
    File::Spec                       0      3.40    
    Moose                            1.01   2.1202  
    Moose::Util::TypeConstraints     1.01   2.1202  
    parent                           0      0.228   
    perl                             5.006  5.019008
    Pod::Find                        0      1.61    
    Test::Builder                    0.94   1.001002
    Test::Pod                        1.44   1.48    

build_requires:

    Module                           Need   Have    
    -------------------------------- ------ --------
    File::Find                       0      1.26    
    File::Temp                       0      0.2304  
    Module::Build                    0.3601 0.4204  
    Test::More                       0.88   1.001002
    Test::Tester                     0      0.109   

configure_requires:

    Module                           Need   Have    
    -------------------------------- ------ --------
    Module::Build                    0.3601 0.4204  


------------------------------
ENVIRONMENT AND OTHER CONTEXT
------------------------------

Environment variables:

    LANG = en_US.UTF-8
    LC_ALL = en_US.UTF-8
    LC_CTYPE = en_US.UTF-8
    PATH = /Users/stas/perl5/perlbrew/bin:/Users/stas/perl5/perlbrew/perls/perl-5.19.8/bin:/Users/stas/.vim/bin:/Users/stas/bin:/Users/stas/node_modules/.bin:/opt/local/Library/Frameworks/Python.framework/Versions/2.7/bin:/opt/local/lib/postgresql92/bin:/opt/local/bin:/opt/local/sbin:/usr/bin:/bin:/usr/sbin:/sbin:/usr/local/bin:/opt/X11/bin:/Users/stas/.vim/bin:/Users/stas/bin:/Users/stas/node_modules/.bin:/opt/local/Library/Frameworks/Python.framework/Versions/2.7/bin:/opt/local/lib/postgresql92/bin:/opt/local/bin:/opt/local/sbin
    PERL5LIB = 
    PERL5OPT = 
    PERL5_CPANPLUS_IS_RUNNING = 20041
    PERL5_CPAN_IS_RUNNING = 20041
    PERLBREW_BASHRC_VERSION = 0.65
    PERLBREW_HOME = /Users/stas/.perlbrew
    PERLBREW_MANPATH = /Users/stas/perl5/perlbrew/perls/perl-5.19.8/man
    PERLBREW_PATH = /Users/stas/perl5/perlbrew/bin:/Users/stas/perl5/perlbrew/perls/perl-5.19.8/bin
    PERLBREW_PERL = perl-5.19.8
    PERLBREW_ROOT = /Users/stas/perl5/perlbrew
    PERLBREW_VERSION = 0.65
    PERL_MM_USE_DEFAULT = 1
    SHELL = /opt/local/bin/zsh
    TERM = screen
    TMPDIR = /var/folders/k7/cj2hxbn162362g2150r7t9480000gn/T/

Perl special variables (and OS-specific diagnostics, for MSWin32):

    $^X = /Users/stas/perl5/perlbrew/perls/perl-5.19.8/bin/perl5.19.8
    $UID/$EUID = 501 / 501
    $GID = 20 20 508 12 61 79 80 81 98 398 399 33 100 204
    $EGID = 20 20 508 12 61 79 80 81 98 398 399 33 100 204

Perl module toolchain versions installed:

    Module              Have    
    ------------------- --------
    CPAN                2.00    
    CPAN::Meta          2.133380
    Cwd                 3.40    
    ExtUtils::CBuilder  0.280213
    ExtUtils::Command   1.18    
    ExtUtils::Install   1.61    
    ExtUtils::MakeMaker 6.86    
    ExtUtils::Manifest  1.63    
    ExtUtils::ParseXS   3.23    
    File::Spec          3.40    
    JSON                2.90    
    JSON::PP            2.27203 
    Module::Build       0.4204  
    Module::Signature   0.73    
    Parse::CPAN::Meta   1.4409  
    Test::Harness       3.30    
    Test::More          1.001002
    YAML                0.88    
    YAML::Syck          n/a     
    version             0.9907  


--

Summary of my perl5 (revision 5 version 19 subversion 8) configuration:
   
  Platform:
    osname=darwin, osvers=13.0.0, archname=darwin-2level
    uname='darwin stas-macbook.local 13.0.0 darwin kernel version 13.0.0: thu sep 19 22:22:27 pdt 2013; root:xnu-2422.1.72~6release_x86_64 x86_64 '
    config_args='-de -Dprefix=/Users/stas/perl5/perlbrew/perls/perl-5.19.8 -Dusedevel -Aeval:scriptdir=/Users/stas/perl5/perlbrew/perls/perl-5.19.8/bin'
    hint=recommended, useposix=true, d_sigaction=define
    useithreads=undef, usemultiplicity=undef
    use64bitint=define, use64bitall=define, uselongdouble=undef
    usemymalloc=n, bincompat5005=undef
  Compiler:
    cc='cc', ccflags ='-fno-common -DPERL_DARWIN -fno-strict-aliasing -pipe -fstack-protector -I/opt/local/include',
    optimize='-O3',
    cppflags='-fno-common -DPERL_DARWIN -fno-strict-aliasing -pipe -fstack-protector -I/opt/local/include'
    ccversion='', gccversion='4.2.1 Compatible Apple LLVM 5.0 (clang-500.2.79)', gccosandvers=''
    intsize=4, longsize=8, ptrsize=8, doublesize=8, byteorder=12345678
    d_longlong=define, longlongsize=8, d_longdbl=define, longdblsize=16
    ivtype='long', ivsize=8, nvtype='double', nvsize=8, Off_t='off_t', lseeksize=8
    alignbytes=8, prototype=define
  Linker and Libraries:
    ld='env MACOSX_DEPLOYMENT_TARGET=10.3 cc', ldflags =' -fstack-protector -L/usr/local/lib -L/opt/local/lib'
    libpth=/Applications/Xcode.app/Contents/Developer/Toolchains/XcodeDefault.xctoolchain/usr/bin/../lib/clang/5.0/lib /Applications/Xcode.app/Contents/Developer/Toolchains/XcodeDefault.xctoolchain/usr/lib /usr/lib /usr/local/lib /opt/local/lib
    libs=-lgdbm -ldbm -ldl -lm -lutil -lc
    perllibs=-ldl -lm -lutil -lc
    libc=, so=dylib, useshrplib=false, libperl=libperl.a
    gnulibc_version=''
  Dynamic Linking:
    dlsrc=dl_dlopen.xs, dlext=bundle, d_dlsymun=undef, ccdlflags=' '
    cccdlflags=' ', lddlflags=' -bundle -undefined dynamic_lookup -L/usr/local/lib -L/opt/local/lib -fstack-protector'


Characteristics of this binary (from libperl): 
  Compile-time options: HAS_TIMES PERLIO_LAYERS PERL_DONT_CREATE_GVSV
                        PERL_HASH_FUNC_ONE_AT_A_TIME_HARD PERL_MALLOC_WRAP
                        PERL_NEW_COPY_ON_WRITE PERL_PRESERVE_IVUV
                        PERL_USE_DEVEL USE_64_BIT_ALL USE_64_BIT_INT
                        USE_LARGE_FILES USE_LOCALE USE_LOCALE_COLLATE
                        USE_LOCALE_CTYPE USE_LOCALE_NUMERIC USE_PERLIO
                        USE_PERL_ATOF
  Built under darwin
  Compiled at Jan 21 2014 11:01:31
  %ENV:
    PERL5LIB=""
    PERL5OPT=""
    PERL5_CPANPLUS_IS_RUNNING="20041"
    PERL5_CPAN_IS_RUNNING="20041"
    PERLBREW_BASHRC_VERSION="0.65"
    PERLBREW_HOME="/Users/stas/.perlbrew"
    PERLBREW_MANPATH="/Users/stas/perl5/perlbrew/perls/perl-5.19.8/man"
    PERLBREW_PATH="/Users/stas/perl5/perlbrew/bin:/Users/stas/perl5/perlbrew/perls/perl-5.19.8/bin"
    PERLBREW_PERL="perl-5.19.8"
    PERLBREW_ROOT="/Users/stas/perl5/perlbrew"
    PERLBREW_VERSION="0.65"
    PERL_MM_USE_DEFAULT="1"
  @INC:
    /Users/stas/perl5/perlbrew/perls/perl-5.19.8/lib/site_perl/5.19.8/darwin-2level
    /Users/stas/perl5/perlbrew/perls/perl-5.19.8/lib/site_perl/5.19.8
    /Users/stas/perl5/perlbrew/perls/perl-5.19.8/lib/5.19.8/darwin-2level
    /Users/stas/perl5/perlbrew/perls/perl-5.19.8/lib/5.19.8
    .