PostScript-Report v0.13 Perl 5 v5.25.5 x86_64-linux-thread-multi-ld

Status
Pass
From
Andreas J. König (ANDK)
Dist
PostScript-Report v0.13
Platform
Perl 5 v5.25.5 x86_64-linux-thread-multi-ld
Date
2016-08-31 13:01:20
ID
02f06f16-6f7b-11e6-be8e-286958b9f28c
This distribution has been tested as part of the CPAN Testers
project, supporting the Perl programming language.  See
http://wiki.cpantesters.org/ for more information or email
questions to cpan-testers-discuss@perl.org


--
Dear Christopher J. Madsen,

This is a computer-generated report for PostScript-Report-0.13
on perl 5.25.5, created by CPAN-Reporter-1.2018.

Thank you for uploading your work to CPAN.  Congratulations!
All tests were successful.

Sections of this report:

    * Tester comments
    * Program output
    * Prerequisites
    * Environment and other context

------------------------------
TESTER COMMENTS
------------------------------

Additional comments from tester:

this report is from an automated smoke testing program
and was not reviewed by a human for accuracy

------------------------------
PROGRAM OUTPUT
------------------------------

Output from '/usr/bin/make test':

PERL_DL_NONLAZY=1 "/tmp/basesmoker-reloperl-WC6j/bin/perl" "-MExtUtils::Command::MM" "-MTest::Harness" "-e" "undef *Test::Harness::Switches; test_harness(0, 'blib/lib', 'blib/arch')" t/*.t
# Listing %INC
#                                                         B 1.63
#                                      B::Hooks::EndOfScope 0.21
#                                  B::Hooks::EndOfScope::XS 0.21
#                                                      Carp 1.42
#                                                Carp::Clan 6.06
#                                               Class::Load 0.23
#                                           Class::Load::XS 0.09
#                                                Class::MOP 2.1805
#                                     Class::MOP::Attribute 2.1805
#                                         Class::MOP::Class 2.1805
#           Class::MOP::Class::Immutable::Class::MOP::Class undef
#          Class::MOP::Class::Immutable::Moose::Meta::Class undef
#                       Class::MOP::Class::Immutable::Trait 2.1805
#                                    Class::MOP::Deprecated 2.1805
#                                      Class::MOP::Instance 2.1805
#                                        Class::MOP::Method 2.1805
#                              Class::MOP::Method::Accessor 2.1805
#                           Class::MOP::Method::Constructor 2.1805
#                             Class::MOP::Method::Generated 2.1805
#                               Class::MOP::Method::Inlined 2.1805
#                                  Class::MOP::Method::Meta 2.1805
#                               Class::MOP::Method::Wrapped 2.1805
#                                     Class::MOP::MiniTrait 2.1805
#                                         Class::MOP::Mixin 2.1805
#                          Class::MOP::Mixin::AttributeCore 2.1805
#                          Class::MOP::Mixin::HasAttributes 2.1805
#                             Class::MOP::Mixin::HasMethods 2.1805
#                           Class::MOP::Mixin::HasOverloads 2.1805
#                                        Class::MOP::Module 2.1805
#                                        Class::MOP::Object 2.1805
#                                      Class::MOP::Overload 2.1805
#                                       Class::MOP::Package 2.1805
#                                                    Config 5.025005
#                                             Data::OptList 0.110
#                                  Devel::GlobalDestruction 0.13
#                                       Devel::OverloadInfo 0.004
#                                                DynaLoader 1.39
#                                             Eval::Closure 0.14
#                                                  Exporter 5.72
#                                                File::Spec 3.65
#                                          File::Spec::Unix 3.65
#                                                List::Util 1.4501
#                                               MRO::Compat 0.12
#                                    Module::Implementation 0.09
#                                           Module::Runtime 0.014
#                                                     Moose 2.1805
#                                         Moose::Deprecated 2.1805
#                                           Moose::Exporter 2.1805
#                                    Moose::Meta::Attribute 2.1805
#                            Moose::Meta::Attribute::Native 2.1805
#                                        Moose::Meta::Class 2.1805
#                      Moose::Meta::Class::Immutable::Trait 2.1805
#                   Moose::Meta::Class::__ANON__::SERIAL::1 undef
#                   Moose::Meta::Class::__ANON__::SERIAL::2 undef
#                   Moose::Meta::Class::__ANON__::SERIAL::3 undef
#                                     Moose::Meta::Instance 2.1805
#                                       Moose::Meta::Method 2.1805
#                             Moose::Meta::Method::Accessor 2.1805
#                            Moose::Meta::Method::Augmented 2.1805
#                          Moose::Meta::Method::Constructor 2.1805
#                           Moose::Meta::Method::Delegation 2.1805
#                           Moose::Meta::Method::Destructor 2.1805
#                                 Moose::Meta::Method::Meta 2.1805
#                           Moose::Meta::Method::Overridden 2.1805
#                         Moose::Meta::Mixin::AttributeCore 2.1805
#                                Moose::Meta::Object::Trait 2.1805
#                                         Moose::Meta::Role 2.1805
#                            Moose::Meta::Role::Application 2.1805
#             Moose::Meta::Role::Application::RoleSummation 2.1805
#                   Moose::Meta::Role::Application::ToClass 2.1805
#                Moose::Meta::Role::Application::ToInstance 2.1805
#                    Moose::Meta::Role::Application::ToRole 2.1805
#                              Moose::Meta::Role::Attribute 2.1805
#                              Moose::Meta::Role::Composite 2.1805
#                                 Moose::Meta::Role::Method 2.1805
#                    Moose::Meta::Role::Method::Conflicting 2.1805
#                       Moose::Meta::Role::Method::Required 2.1805
#                                 Moose::Meta::TypeCoercion 2.1805
#                          Moose::Meta::TypeCoercion::Union 2.1805
#                               Moose::Meta::TypeConstraint 2.1805
#                        Moose::Meta::TypeConstraint::Class 2.1805
#                     Moose::Meta::TypeConstraint::DuckType 2.1805
#                         Moose::Meta::TypeConstraint::Enum 2.1805
#              Moose::Meta::TypeConstraint::Parameterizable 2.1805
#                Moose::Meta::TypeConstraint::Parameterized 2.1805
#                     Moose::Meta::TypeConstraint::Registry 2.1805
#                         Moose::Meta::TypeConstraint::Role 2.1805
#                        Moose::Meta::TypeConstraint::Union 2.1805
#                                             Moose::Object 2.1805
#                                               Moose::Role 2.1805
#                                               Moose::Util 2.1805
#                                     Moose::Util::MetaRole 2.1805
#                              Moose::Util::TypeConstraints 2.1805
#                    Moose::Util::TypeConstraints::Builtins 2.1805
#                                     MooseX::AttributeTree 0.06
#                           MooseX::AttributeTree::Accessor 0.06
#                               MooseX::Role::Parameterized 1.09
#    MooseX::Role::Parameterized::Meta::Role::Parameterized 1.09
# MooseX::Role::Parameterized::Meta::Trait::Parameterizable 1.09
#   MooseX::Role::Parameterized::Meta::Trait::Parameterized 1.09
#                   MooseX::Role::Parameterized::Parameters 1.09
#                                             MooseX::Types 0.46
#                                       MooseX::Types::Base 0.46
#                         MooseX::Types::CheckedUtilExports 0.46
#                                      MooseX::Types::Moose 0.46
#                              MooseX::Types::TypeDecorator 0.46
#                              MooseX::Types::UndefinedType 0.46
#                                       MooseX::Types::Util 0.46
#                               Package::DeprecationManager 0.17
#                                            Package::Stash 0.37
#                                        Package::Stash::XS 0.28
#                                              Params::Util 1.07
#                                          PostScript::File 2.23
#                                              Scalar::Util 1.4501
#                                     String::RewritePrefix 0.007
#                                             Sub::Exporter 0.987
#                                 Sub::Exporter::ForMethods 0.100052
#                                Sub::Exporter::Progressive 0.001012
#                                             Sub::Identify 0.12
#                                              Sub::Install 0.928
#                                                 Sub::Name 0.19
#                                                 Sub::Util 1.4501
#                                                 Try::Tiny 0.27
#                                           Variable::Magic 0.59
#                                                  XSLoader 0.22
#                                                      base 2.24
#                                                  constant 1.33
#                                                        if 0.0606
#                                                 metaclass 2.1805
#                                                       mro 1.18
#                                      namespace::autoclean 0.28
#                                          namespace::clean 0.27
#                                   namespace::clean::_Util undef
#                                                  overload 1.26
#                                               overloading 0.02
#                                                    parent 0.234
#                                                        re 0.33
#                                                    strict 1.11
#                                                      utf8 1.19
#                                                      vars 1.03
#                                                  warnings 1.37
#                                        warnings::register 1.04
t/00-all_prereqs.t .. ok
# Testing PostScript::Report 0.13
t/00-load.t ......... ok
t/10-structure.t .... ok
t/20-warnings.t ..... ok
t/30-output.t ....... ok
t/40-linkparser.t ... ok
All tests successful.
Files=6, Tests=89,  3 wallclock secs ( 0.03 usr  0.02 sys +  2.17 cusr  0.12 csys =  2.34 CPU)
Result: PASS

------------------------------
PREREQUISITES
------------------------------

Prerequisite modules loaded:

requires:

    Module                Need  Have    
    --------------------- ----- --------
    Carp                  0     1.42    
    File::Spec            0     3.65    
    List::Util            0     1.45_01 
    Module::Runtime       0     0.014   
    Moose                 0.90  2.1805  
    Moose::Role           0     2.1805  
    MooseX::AttributeTree 0.02  0.06    
    MooseX::Types         0     0.46    
    MooseX::Types::Moose  0     0.46    
    namespace::autoclean  0     0.28    
    PostScript::File      2.20  2.23    
    Scalar::Util          0     1.45_01 
    String::RewritePrefix 0     0.007   

build_requires:

    Module                Need  Have    
    --------------------- ----- --------
    Encode                0     2.86    
    Test::More            0.88  1.302052

configure_requires:

    Module                Need  Have    
    --------------------- ----- --------
    ExtUtils::MakeMaker   6.30  7.24    
    Moose                 0     2.1805  
    MooseX::Types         0     0.46    
    perl                  5.008 5.025005
    version               0.77  0.9917  


------------------------------
ENVIRONMENT AND OTHER CONTEXT
------------------------------

Environment variables:

    AUTOMATED_TESTING = 1
    LANG = C
    PATH = /home/sand/bin:/usr/local/bin:/usr/bin:/bin:/usr/games:/usr/local/perl/bin:/usr/X11/bin:/sbin:/usr/sbin
    PERL = /tmp/basesmoker-reloperl-WC6j/bin/perl
    PERL5LIB = 
    PERL5OPT = 
    PERL5_CPANPLUS_IS_RUNNING = 1576
    PERL5_CPAN_IS_RUNNING = 1576
    PERL_CANARY_STABILITY_NOPROMPT = 1
    PERL_MM_USE_DEFAULT = 1
    SHELL = /usr/bin/zsh
    TERM = screen

Perl special variables (and OS-specific diagnostics, for MSWin32):

    $^X = /tmp/basesmoker-reloperl-WC6j/bin/perl
    $UID/$EUID = 1005 / 1005
    $GID = 1005 1005
    $EGID = 1005 1005

Perl module toolchain versions installed:

    Module              Have      
    ------------------- ----------
    CPAN                2.15      
    CPAN::Meta          2.150010  
    Cwd                 3.65      
    ExtUtils::CBuilder  0.280225  
    ExtUtils::Command   7.24      
    ExtUtils::Install   2.04      
    ExtUtils::MakeMaker 7.24      
    ExtUtils::Manifest  1.70      
    ExtUtils::ParseXS   3.33      
    File::Spec          3.65      
    JSON                2.90      
    JSON::PP            2.27400_01
    Module::Build       0.4220    
    Module::Signature   0.80      
    Parse::CPAN::Meta   2.150010  
    Test::Harness       3.36_01   
    Test::More          1.302052  
    YAML                1.18      
    YAML::Syck          1.29      
    version             0.9917    


--

Summary of my perl5 (revision 5 version 25 subversion 5) configuration:
  Commit id: f16e7fa35c1302aa056db5d8d022b7861c1dd2e8
  Platform:
    osname=linux
    osvers=4.6.0-1-amd64
    archname=x86_64-linux-thread-multi-ld
    uname='linux k93x64sid 4.6.0-1-amd64 #1 smp debian 4.6.2-2 (2016-06-25) x86_64 gnulinux '
    config_args='-Dprefix=/home/sand/src/perl/repoperls/installed-perls/host/k93x64sid/v5.25.4-27-gf16e7fa/a3f9 -Dmyhostname=k93x64sid -Dinstallusrbinperl=n -Uversiononly -Dusedevel -des -Ui_db -Dlibswanted=cl pthread socket inet nsl gdbm dbm malloc dl ld sun m crypt sec util c cposix posix ucb BSD gdbm_compat -Duseithreads -Duselongdouble -DDEBUGGING=-g'
    hint=recommended
    useposix=true
    d_sigaction=define
    useithreads=define
    usemultiplicity=define
    use64bitint=define
    use64bitall=define
    uselongdouble=define
    usemymalloc=n
    bincompat5005=undef
  Compiler:
    cc='cc'
    ccflags ='-D_REENTRANT -D_GNU_SOURCE -fwrapv -fno-strict-aliasing -pipe -fstack-protector-strong -I/usr/local/include -D_LARGEFILE_SOURCE -D_FILE_OFFSET_BITS=64'
    optimize='-O2 -g'
    cppflags='-D_REENTRANT -D_GNU_SOURCE -fwrapv -fno-strict-aliasing -pipe -fstack-protector-strong -I/usr/local/include'
    ccversion=''
    gccversion='6.2.0 20160822'
    gccosandvers=''
    intsize=4
    longsize=8
    ptrsize=8
    doublesize=8
    byteorder=12345678
    doublekind=3
    d_longlong=define
    longlongsize=8
    d_longdbl=define
    longdblsize=16
    longdblkind=3
    ivtype='long'
    ivsize=8
    nvtype='long double'
    nvsize=16
    Off_t='off_t'
    lseeksize=8
    alignbytes=16
    prototype=define
  Linker and Libraries:
    ld='cc'
    ldflags =' -fstack-protector-strong -L/usr/local/lib'
    libpth=/usr/local/lib /usr/lib/gcc/x86_64-linux-gnu/6/include-fixed /usr/include/x86_64-linux-gnu /usr/lib /lib/x86_64-linux-gnu /lib/../lib /usr/lib/x86_64-linux-gnu /usr/lib/../lib /lib
    libs=-lpthread -lnsl -ldl -lm -lcrypt -lutil -lc
    perllibs=-lpthread -lnsl -ldl -lm -lcrypt -lutil -lc
    libc=libc-2.23.so
    so=so
    useshrplib=false
    libperl=libperl.a
    gnulibc_version='2.23'
  Dynamic Linking:
    dlsrc=dl_dlopen.xs
    dlext=so
    d_dlsymun=undef
    ccdlflags='-Wl,-E'
    cccdlflags='-fPIC'
    lddlflags='-shared -O2 -g -L/usr/local/lib -fstack-protector-strong'


Characteristics of this binary (from libperl): 
  Compile-time options:
    HAS_TIMES
    MULTIPLICITY
    PERLIO_LAYERS
    PERL_COPY_ON_WRITE
    PERL_DONT_CREATE_GVSV
    PERL_HASH_FUNC_ONE_AT_A_TIME_HARD
    PERL_IMPLICIT_CONTEXT
    PERL_MALLOC_WRAP
    PERL_OP_PARENT
    PERL_PRESERVE_IVUV
    PERL_USE_DEVEL
    USE_64_BIT_ALL
    USE_64_BIT_INT
    USE_ITHREADS
    USE_LARGE_FILES
    USE_LOCALE
    USE_LOCALE_COLLATE
    USE_LOCALE_CTYPE
    USE_LOCALE_NUMERIC
    USE_LOCALE_TIME
    USE_LONG_DOUBLE
    USE_PERLIO
    USE_PERL_ATOF
    USE_REENTRANT_API
  Built under linux
  Compiled at Aug 31 2016 05:21:46
  %ENV:
    PERL="/tmp/basesmoker-reloperl-WC6j/bin/perl"
    PERL5LIB=""
    PERL5OPT=""
    PERL5_CPANPLUS_IS_RUNNING="1576"
    PERL5_CPAN_IS_RUNNING="1576"
    PERL_CANARY_STABILITY_NOPROMPT="1"
    PERL_MM_USE_DEFAULT="1"
  @INC:
    /home/sand/src/perl/repoperls/installed-perls/host/k93x64sid/v5.25.4-27-gf16e7fa/a3f9/lib/site_perl/5.25.5/x86_64-linux-thread-multi-ld
    /home/sand/src/perl/repoperls/installed-perls/host/k93x64sid/v5.25.4-27-gf16e7fa/a3f9/lib/site_perl/5.25.5
    /home/sand/src/perl/repoperls/installed-perls/host/k93x64sid/v5.25.4-27-gf16e7fa/a3f9/lib/5.25.5/x86_64-linux-thread-multi-ld
    /home/sand/src/perl/repoperls/installed-perls/host/k93x64sid/v5.25.4-27-gf16e7fa/a3f9/lib/5.25.5
    .