WWW-Alltop v0.01 Perl 5 v5.17.0 x86_64-linux-thread-multi

Status
Pass
From
Andreas J. K├Ânig (ANDK)
Dist
WWW-Alltop v0.01
Platform
Perl 5 v5.17.0 x86_64-linux-thread-multi
Date
2012-06-13T19:21:44
ID
02e8acce-b58d-11e1-bb25-f1e139f89482
This distribution has been tested as part of the CPAN Testers
project, supporting the Perl programming language.  See
http://wiki.cpantesters.org/ for more information or email
questions to cpan-testers-discuss@perl.org


--
Dear Joshua Braegger,

This is a computer-generated report for WWW-Alltop-0.01
on perl 5.17.0, created by CPAN-Reporter-1.2006.

Thank you for uploading your work to CPAN.  Congratulations!
All tests were successful.

Sections of this report:

    * Tester comments
    * Program output
    * Prerequisites
    * Environment and other context

------------------------------
TESTER COMMENTS
------------------------------

Additional comments from tester:

this report is from an automated smoke testing program
and was not reviewed by a human for accuracy

------------------------------
PROGRAM OUTPUT
------------------------------

Output from '/usr/bin/make test':

/mnt/k75/homesand/src/perl/repoperls/installed-perls/perl/v5.17.0-331-gc0b8aeb/9980/bin/perl "-Iinc" Makefile.PL --config= --installdeps=XML::OPML,0
Cannot determine perl version info from lib/WWW/Alltop.pm
PERL_DL_NONLAZY=1 /mnt/k75/homesand/src/perl/repoperls/installed-perls/perl/v5.17.0-331-gc0b8aeb/9980/bin/perl "-MExtUtils::Command::MM" "-e" "test_harness(0, 'inc', 'blib/lib', 'blib/arch')" t/01-compile.t t/02-pod.t t/03-topics.t t/04-topic.t t/05-topiclisting.t t/class_WWW-Alltop-Topic.t t/class_WWW-Alltop-TopicListing.t t/class_WWW-Alltop.t
t/01-compile.t ..................... ok
t/02-pod.t ......................... ok
t/03-topics.t ...................... ok
t/04-topic.t ....................... ok
# Trying MSNBC
t/05-topiclisting.t ................ ok
t/class_WWW-Alltop-Topic.t ......... ok
t/class_WWW-Alltop-TopicListing.t .. ok
t/class_WWW-Alltop.t ............... ok
All tests successful.
Files=8, Tests=34,  7 wallclock secs ( 0.03 usr  0.01 sys +  1.84 cusr  0.14 csys =  2.02 CPU)
Result: PASS

------------------------------
PREREQUISITES
------------------------------

Prerequisite modules loaded:

requires:

    Module              Need   Have   
    ------------------- ------ -------
    DateTime            0      0.75   
    ExtUtils::MakeMaker 6.6302 6.63_02
    HTML::TokeParser    0      3.69   
    Log::Log4perl       0      1.37   
    Moose               0      2.0602 
    WWW::Mechanize      0      1.72   
    XML::OPML           0      0.26   

build_requires:

    Module              Need   Have   
    ------------------- ------ -------
    ExtUtils::MakeMaker 0      6.63_02


------------------------------
ENVIRONMENT AND OTHER CONTEXT
------------------------------

Environment variables:

    AUTOMATED_TESTING = 1
    LANG = en_US.UTF-8
    LANGUAGE = en_US:en
    PATH = /home/sand/bin:/usr/local/bin:/usr/bin:/bin:/usr/bin/X11:/usr/games:/usr/local/perl/bin:/usr/X11/bin:/sbin:/usr/sbin
    PERL5LIB = 
    PERL5OPT = 
    PERL5_CPANPLUS_IS_RUNNING = 28324
    PERL5_CPAN_IS_RUNNING = 28324
    PERL_MM_USE_DEFAULT = 1
    SHELL = /usr/bin/zsh
    TERM = screen

Perl special variables (and OS-specific diagnostics, for MSWin32):

    $^X = /mnt/k75/homesand/src/perl/repoperls/installed-perls/perl/v5.17.0-331-gc0b8aeb/9980/bin/perl
    $UID/$EUID = 1005 / 1005
    $GID = 1005 1005
    $EGID = 1005 1005

Perl module toolchain versions installed:

    Module              Have    
    ------------------- --------
    CPAN                1.9800  
    CPAN::Meta          2.120921
    Cwd                 3.39_02 
    ExtUtils::CBuilder  0.280208
    ExtUtils::Command   1.17    
    ExtUtils::Install   1.58    
    ExtUtils::MakeMaker 6.63_02 
    ExtUtils::Manifest  1.61    
    ExtUtils::ParseXS   3.17    
    File::Spec          3.39_02 
    JSON                2.53    
    JSON::PP            2.27200 
    Module::Build       0.40    
    Module::Signature   0.68    
    Parse::CPAN::Meta   1.4404  
    Test::Harness       3.25    
    Test::More          0.98    
    YAML                0.81    
    YAML::Syck          1.20    
    version             0.99    


--

Summary of my perl5 (revision 5 version 17 subversion 0) configuration:
  Commit id: c0b8aebd3285e94126140a78c9d5503be4f76b62
  Platform:
    osname=linux, osvers=3.2.0-2-amd64, archname=x86_64-linux-thread-multi
    uname='linux k83 3.2.0-2-amd64 #1 smp mon may 21 17:45:41 utc 2012 x86_64 gnulinux '
    config_args='-Dprefix=/home/src/perl/repoperls/installed-perls/perl/v5.17.0-331-gc0b8aeb/9980 -Dmyhostname=k83 -Dinstallusrbinperl=n -Uversiononly -Dusedevel -des -Ui_db -Duseithreads -Uuselongdouble -DDEBUGGING=-g'
    hint=recommended, useposix=true, d_sigaction=define
    useithreads=define, usemultiplicity=define
    useperlio=define, d_sfio=undef, uselargefiles=define, usesocks=undef
    use64bitint=define, use64bitall=define, uselongdouble=undef
    usemymalloc=n, bincompat5005=undef
  Compiler:
    cc='cc', ccflags ='-D_REENTRANT -D_GNU_SOURCE -fno-strict-aliasing -pipe -fstack-protector -I/usr/local/include -D_LARGEFILE_SOURCE -D_FILE_OFFSET_BITS=64',
    optimize='-O2 -g',
    cppflags='-D_REENTRANT -D_GNU_SOURCE -fno-strict-aliasing -pipe -fstack-protector -I/usr/local/include'
    ccversion='', gccversion='4.7.0', gccosandvers=''
    intsize=4, longsize=8, ptrsize=8, doublesize=8, byteorder=12345678
    d_longlong=define, longlongsize=8, d_longdbl=define, longdblsize=16
    ivtype='long', ivsize=8, nvtype='double', nvsize=8, Off_t='off_t', lseeksize=8
    alignbytes=8, prototype=define
  Linker and Libraries:
    ld='cc', ldflags =' -fstack-protector -L/usr/local/lib'
    libpth=/usr/local/lib /lib/x86_64-linux-gnu /lib/../lib /usr/lib/x86_64-linux-gnu /usr/lib/../lib /lib /usr/lib
    libs=-lnsl -ldb -ldl -lm -lcrypt -lutil -lpthread -lc
    perllibs=-lnsl -ldl -lm -lcrypt -lutil -lpthread -lc
    libc=, so=so, useshrplib=false, libperl=libperl.a
    gnulibc_version='2.13'
  Dynamic Linking:
    dlsrc=dl_dlopen.xs, dlext=so, d_dlsymun=undef, ccdlflags='-Wl,-E'
    cccdlflags='-fPIC', lddlflags='-shared -O2 -g -L/usr/local/lib -fstack-protector'


Characteristics of this binary (from libperl): 
  Compile-time options: HAS_TIMES MULTIPLICITY PERLIO_LAYERS
                        PERL_DONT_CREATE_GVSV PERL_IMPLICIT_CONTEXT
                        PERL_MALLOC_WRAP PERL_PRESERVE_IVUV PERL_USE_DEVEL
                        USE_64_BIT_ALL USE_64_BIT_INT USE_ITHREADS
                        USE_LARGE_FILES USE_LOCALE USE_LOCALE_COLLATE
                        USE_LOCALE_CTYPE USE_LOCALE_NUMERIC USE_PERLIO
                        USE_PERL_ATOF USE_REENTRANT_API
  Built under linux
  Compiled at Jun  9 2012 05:53:28
  %ENV:
    PERL5LIB=""
    PERL5OPT=""
    PERL5_CPANPLUS_IS_RUNNING="28324"
    PERL5_CPAN_IS_RUNNING="28324"
    PERL_MM_USE_DEFAULT="1"
  @INC:
    /home/src/perl/repoperls/installed-perls/perl/v5.17.0-331-gc0b8aeb/9980/lib/site_perl/5.17.0/x86_64-linux-thread-multi
    /home/src/perl/repoperls/installed-perls/perl/v5.17.0-331-gc0b8aeb/9980/lib/site_perl/5.17.0
    /home/src/perl/repoperls/installed-perls/perl/v5.17.0-331-gc0b8aeb/9980/lib/5.17.0/x86_64-linux-thread-multi
    /home/src/perl/repoperls/installed-perls/perl/v5.17.0-331-gc0b8aeb/9980/lib/5.17.0
    .