PDL-Algorithm-Center v0.15 Perl 5 v5.20.0 amd64-freebsd

Status
Pass
From
Slaven Rezić
Dist
PDL-Algorithm-Center v0.15
Platform
Perl 5 v5.20.0 amd64-freebsd
Date
2024-04-02 14:19:26
ID
02e88e9e-f0fc-11ee-93d8-6d4e6e8775ea
This distribution has been tested as part of the CPAN Testers
project, supporting the Perl programming language.  See
http://wiki.cpantesters.org/ for more information or email
questions to cpan-testers-discuss@perl.org


--
Dear Diab Jerius,

This is a computer-generated report for PDL-Algorithm-Center-0.15
on perl 5.20.0, created by CPAN-Reporter-1.2019.

Thank you for uploading your work to CPAN.  Congratulations!
All tests were successful.

Sections of this report:

    * Tester comments
    * Program output
    * Prerequisites
    * Environment and other context

------------------------------
TESTER COMMENTS
------------------------------

Additional comments from tester:

none provided

------------------------------
PROGRAM OUTPUT
------------------------------

Output from './Build test':

t/00-compile.t ......... ok
# 
# Versions for all modules listed in MYMETA.json (including optional ones):
# 
# === Configure Requires ===
# 
#     Module               Want  Have
#     ------------------- ----- -----
#     ExtUtils::MakeMaker   any  7.70
#     Module::Build::Tiny 0.034 0.046
# 
# === Test Requires ===
# 
#     Module              Want     Have
#     ------------------- ---- --------
#     Data::Dump           any     1.24
#     ExtUtils::MakeMaker  any     7.70
#     File::Spec           any     3.75
#     IO::Handle           any     1.55
#     IPC::Open3           any     1.16
#     PDL::Core            any    2.028
#     PDL::IO::FITS        any     0.92
#     PDL::Ufunc           any    undef
#     Test2::V0            any 0.000159
#     Test::More           any 1.302198
# 
# === Test Recommends ===
# 
#     Module         Want     Have
#     ---------- -------- --------
#     CPAN::Meta 2.120900 2.150010
# 
# === Runtime Requires ===
# 
#     Module                         Want     Have
#     -------------------------- -------- --------
#     Data::Clone                     any    0.006
#     Data::Visitor::Tiny             any    0.001
#     Hash::Wrap                     0.10     1.01
#     List::Util                     1.33     1.63
#     PDL                             any    2.058
#     PDL::Image2D                    any    undef
#     PDL::Lite                       any    undef
#     PDL::Transform                  any    undef
#     Ref::Util                       any    0.204
#     Safe::Isa                       any 1.000010
#     Scalar::Util                    any     1.63
#     Try::Tiny                       any     0.31
#     Type::Library                   any 2.004000
#     Type::Params                    any 2.004000
#     Type::Tiny                 1.002001 2.004000
#     Type::Utils                     any 2.004000
#     Types::Common::Numeric          any 2.004000
#     Types::PDL                      any     0.04
#     Types::Standard                 any 2.004000
#     custom::failures::x::alias     0.02     0.04
#     perl                       5.010000 5.020000
#     strict                          any     1.08
#     warnings                        any     1.23
# 
t/00-report-prereqs.t .. ok
t/sigma_clip.t ......... ok
t/types.t .............. ok
All tests successful.
Files=4, Tests=32,  7 wallclock secs ( 0.04 usr  0.02 sys +  6.13 cusr  0.57 csys =  6.76 CPU)
Result: PASS

------------------------------
PREREQUISITES
------------------------------

Prerequisite modules loaded:

requires:

    Module                     Need     Have    
    -------------------------- -------- --------
    custom::failures::x::alias 0.02     0.04    
    Data::Clone                0        0.006   
    Data::Visitor::Tiny        0        0.001   
    Hash::Wrap                 0.10     1.01    
    List::Util                 1.33     1.63    
    PDL                        0        2.058   
    PDL::Image2D               0        0       
    PDL::Lite                  0        2.058   
    PDL::Transform             0        0       
    perl                       5.010000 5.020000
    Ref::Util                  0        0.204   
    Safe::Isa                  0        1.000010
    Scalar::Util               0        1.63    
    strict                     0        1.08    
    Try::Tiny                  0        0.31    
    Type::Library              0        2.004000
    Type::Params               0        2.004000
    Type::Tiny                 1.002001 2.004000
    Type::Utils                0        2.004000
    Types::Common::Numeric     0        2.004000
    Types::PDL                 0        0.04    
    Types::Standard            0        2.004000
    warnings                   0        1.23    

build_requires:

    Module                     Need     Have    
    -------------------------- -------- --------
    Data::Dump                 0        1.24    
    ExtUtils::MakeMaker        0        7.70    
    File::Spec                 0        3.75    
    IO::Handle                 0        1.55    
    IPC::Open3                 0        1.16    
    PDL::Core                  0        2.028   
    PDL::IO::FITS              0        0.92    
    PDL::Ufunc                 0        0       
    Test2::V0                  0        0.000159
    Test::More                 0        1.302198

configure_requires:

    Module                     Need     Have    
    -------------------------- -------- --------
    ExtUtils::MakeMaker        0        7.70    
    Module::Build::Tiny        0.034    0.046   

opt_build_requires:

    Module                     Need     Have    
    -------------------------- -------- --------
    CPAN::Meta                 2.120900 2.150010


------------------------------
ENVIRONMENT AND OTHER CONTEXT
------------------------------

Environment variables:

    LC_ALL = de_DE.ISO8859-1
    PATH = /usr/local/bin:/usr/bin:/bin:/usr/local/sbin:/usr/sbin:/sbin:/home/cpansand/bin/freebsd9.3:/home/cpansand/bin/sh:/home/cpansand/bin:/usr/games:/home/cpansand/devel:/usr/home/eserte/src/srezic-misc/scripts
    PERL5LIB = 
    PERL5OPT = 
    PERL5_CPANPLUS_IS_RUNNING = 66774
    PERL5_CPAN_IS_RUNNING = 66774
    PERL5_CPAN_IS_RUNNING_IN_RECURSION = 66597,66774
    PERLDOC = -MPod::Perldoc::ToTextOverstrike
    PERL_BATCH = yes
    PERL_CANARY_STABILITY_NOPROMPT = 1
    PERL_CPAN_REPORTER_CONFIG = /var/tmp/cpansmoker-1023/2024040216/cpanreporter_000_config.ini
    PERL_EXTUTILS_AUTOINSTALL = --defaultdeps
    PERL_USE_UNSAFE_INC = 1
    SHELL = /usr/local/bin/zsh
    TERM = screen
    TMPDIR = /var/tmp/cpansmoker-1023/2024040216

Perl special variables (and OS-specific diagnostics, for MSWin32):

    $^X = /usr/perl5.20.0/bin/perl5.20.0
    $UID/$EUID = 1023 / 1023
    $GID = 1023 1023
    $EGID = 1023 1023

Perl module toolchain versions installed:

    Module              Have    
    ------------------- --------
    CPAN                2.36    
    CPAN::Meta          2.150010
    Cwd                 3.75    
    ExtUtils::CBuilder  0.280236
    ExtUtils::Command   7.70    
    ExtUtils::Install   2.22    
    ExtUtils::MakeMaker 7.70    
    ExtUtils::Manifest  1.75    
    ExtUtils::ParseXS   3.51    
    File::Spec          3.75    
    JSON                4.10    
    JSON::PP            4.16    
    Module::Build       0.4234  
    Module::Signature   0.88    
    Parse::CPAN::Meta   2.150010
    Test2               1.302198
    Test::Harness       3.47    
    Test::More          1.302198
    YAML                1.30    
    YAML::Syck          1.34    
    version             0.9929  


--

Summary of my perl5 (revision 5 version 20 subversion 0) configuration:
   
  Platform:
    osname=freebsd, osvers=9.2-release-p4, archname=amd64-freebsd
    uname='freebsd cvrsnica-freebsd-92 9.2-release-p4 freebsd 9.2-release-p4 #0: tue apr 8 18:08:22 utc 2014 root@amd64-builder.daemonology.net:usrobjusrsrcsysgeneric amd64 '
    config_args='-ds -e -Dprefix=/usr/perl5.20.0'
    hint=recommended, useposix=true, d_sigaction=define
    useithreads=undef, usemultiplicity=undef
    use64bitint=define, use64bitall=define, uselongdouble=undef
    usemymalloc=n, bincompat5005=undef
  Compiler:
    cc='cc', ccflags ='-DHAS_FPSETMASK -DHAS_FLOATINGPOINT_H -fno-strict-aliasing -pipe -fstack-protector -I/usr/local/include',
    optimize='-O',
    cppflags='-DHAS_FPSETMASK -DHAS_FLOATINGPOINT_H -fno-strict-aliasing -pipe -fstack-protector -I/usr/local/include'
    ccversion='', gccversion='4.2.1 20070831 patched [FreeBSD]', gccosandvers=''
    intsize=4, longsize=8, ptrsize=8, doublesize=8, byteorder=12345678
    d_longlong=define, longlongsize=8, d_longdbl=define, longdblsize=16
    ivtype='long', ivsize=8, nvtype='double', nvsize=8, Off_t='off_t', lseeksize=8
    alignbytes=8, prototype=define
  Linker and Libraries:
    ld='cc', ldflags ='-Wl,-E  -fstack-protector -L/usr/local/lib'
    libpth=/usr/lib /usr/local/lib /usr/include/gcc/4.2 /usr/lib
    libs=-lgdbm -lm -lcrypt -lutil -lc
    perllibs=-lm -lcrypt -lutil -lc
    libc=, so=so, useshrplib=false, libperl=libperl.a
    gnulibc_version=''
  Dynamic Linking:
    dlsrc=dl_dlopen.xs, dlext=so, d_dlsymun=undef, ccdlflags=' '
    cccdlflags='-DPIC -fPIC', lddlflags='-shared  -L/usr/local/lib -fstack-protector'


Characteristics of this binary (from libperl): 
  Compile-time options: HAS_TIMES PERLIO_LAYERS PERL_DONT_CREATE_GVSV
                        PERL_HASH_FUNC_ONE_AT_A_TIME_HARD PERL_MALLOC_WRAP
                        PERL_NEW_COPY_ON_WRITE PERL_PRESERVE_IVUV
                        USE_64_BIT_ALL USE_64_BIT_INT USE_LARGE_FILES
                        USE_LOCALE USE_LOCALE_COLLATE USE_LOCALE_CTYPE
                        USE_LOCALE_NUMERIC USE_PERLIO USE_PERL_ATOF
  Built under freebsd
  Compiled at May 27 2014 13:55:26
  %ENV:
    PERL5LIB=""
    PERL5OPT=""
    PERL5_CPANPLUS_IS_RUNNING="66774"
    PERL5_CPAN_IS_RUNNING="66774"
    PERL5_CPAN_IS_RUNNING_IN_RECURSION="66597,66774"
    PERLDOC="-MPod::Perldoc::ToTextOverstrike"
    PERL_BATCH="yes"
    PERL_CANARY_STABILITY_NOPROMPT="1"
    PERL_CPAN_REPORTER_CONFIG="/var/tmp/cpansmoker-1023/2024040216/cpanreporter_000_config.ini"
    PERL_EXTUTILS_AUTOINSTALL="--defaultdeps"
    PERL_USE_UNSAFE_INC="1"
  @INC:
    /usr/perl5.20.0/lib/site_perl/5.20.0/amd64-freebsd
    /usr/perl5.20.0/lib/site_perl/5.20.0
    /usr/perl5.20.0/lib/5.20.0/amd64-freebsd
    /usr/perl5.20.0/lib/5.20.0
    .