Alt-Crypt-RSA-BigInt v0.06 Perl 5 v5.37.0 darwin-2level

Status
Pass
From
Nigel Horne
Dist
Alt-Crypt-RSA-BigInt v0.06
Platform
Perl 5 v5.37.0 darwin-2level
Date
2022-06-02 15:52:31
ID
02e0213a-e28c-11ec-b2b7-a58c6bbb6868
This distribution has been tested as part of the CPAN Testers
project, supporting the Perl programming language.  See
http://wiki.cpantesters.org/ for more information or email
questions to cpan-testers-discuss@perl.org


--
Dear Dana Jacobsen,

This is a computer-generated report for Alt-Crypt-RSA-BigInt-0.06
on perl 5.37.0, created by CPAN-Reporter-1.2018.

Thank you for uploading your work to CPAN.  Congratulations!
All tests were successful.

Sections of this report:

    * Tester comments
    * Program output
    * Prerequisites
    * Environment and other context

------------------------------
TESTER COMMENTS
------------------------------

Additional comments from tester:

this report is from an automated smoke testing program
and was not reviewed by a human for accuracy

------------------------------
PROGRAM OUTPUT
------------------------------

Output from '/usr/bin/make test':

PERL_DL_NONLAZY=1 "/Users/nhorne/perl5/perlbrew/perls/perl-5.37.0/bin/perl5.37.0" "-MExtUtils::Command::MM" "-MTest::Harness" "-e" "undef *Test::Harness::Switches; test_harness(0, 'blib/lib', 'blib/arch')" t/*.t
t/00-errorhandler.t ........ ok
t/02a-h2osp.t .............. ok
t/01-i2osp.t ............... ok
t/02-os2ip.t ............... ok
t/04-octet_xor.t ........... ok
t/05-primitives.t .......... ok
t/03-random_octet.t ........ ok
t/09-publickey.t ........... ok
# BigInt library: Calc
# 
# *** These tests will be VERY slow.  Install GMP! ***
# 
t/12-versioning.t .......... ok
t/07-pss.t ................. ok
WARNING: The key derivation method "opensslv1" is deprecated. Using -pbkdf=>'pbkdf2' would be better.
Pass -nodeprecate=>1 to inhibit this message.
 at /Users/nhorne/perl5/perlbrew/perls/perl-5.37.0/lib/site_perl/5.37.0/Tie/EncryptedHash.pm line 125.
WARNING: The key derivation method "opensslv1" is deprecated. Using -pbkdf=>'pbkdf2' would be better.
Pass -nodeprecate=>1 to inhibit this message.
 at /Users/nhorne/perl5/perlbrew/perls/perl-5.37.0/lib/site_perl/5.37.0/Tie/EncryptedHash.pm line 125.
WARNING: The key derivation method "opensslv1" is deprecated. Using -pbkdf=>'pbkdf2' would be better.
Pass -nodeprecate=>1 to inhibit this message.
 at /Users/nhorne/perl5/perlbrew/perls/perl-5.37.0/lib/site_perl/5.37.0/Tie/EncryptedHash.pm line 125.
WARNING: The key derivation method "opensslv1" is deprecated. Using -pbkdf=>'pbkdf2' would be better.
Pass -nodeprecate=>1 to inhibit this message.
 at /Users/nhorne/perl5/perlbrew/perls/perl-5.37.0/lib/site_perl/5.37.0/Tie/EncryptedHash.pm line 125.
t/08-secretkey.t ........... ok
t/06-oaep.t ................ ok
t/13-es-pkcs1v15.t ......... ok
t/16-serialize.t ........... ok
WARNING: The key derivation method "opensslv1" is deprecated. Using -pbkdf=>'pbkdf2' would be better.
Pass -nodeprecate=>1 to inhibit this message.
 at /Users/nhorne/.cpan/build/Alt-Crypt-RSA-BigInt-0.06-0/blib/lib/Crypt/RSA/Key/Private/SSH.pm line 236.
t/18-private-ssh.t ......... ok
t/91-release-pod-syntax.t .. skipped: these tests are for release candidate testing
t/14-ss-pkcs1v15.t ......... ok
t/17-public-ssh.t .......... ok
t/15-benchmark.t ........... ok
t/11-wrapper.t ............. ok
t/10-keygen.t .............. ok
All tests successful.
Files=21, Tests=109, 20 wallclock secs ( 0.05 usr  0.04 sys + 49.40 cusr  0.65 csys = 50.14 CPU)
Result: PASS

------------------------------
PREREQUISITES
------------------------------

Prerequisite modules loaded:

requires:

    Module                 Need  Have    
    ---------------------- ----- --------
    Carp                   0     1.52    
    Class::Loader          0     2.03    
    Convert::ASCII::Armour 0     1.4     
    Crypt::Blowfish        0     2.14    
    Crypt::CBC             2.17  3.04    
    Data::Buffer           0     0.04    
    Data::Dumper           0     2.184   
    Digest::MD2            0     2.04    
    Digest::MD5            0     2.58    
    Digest::SHA            0     6.02    
    Exporter               0     5.77    
    Math::BigInt           1.78  1.999835
    Math::Prime::Util      0.64  0.73    
    perl                   5.008 5.037000
    Sort::Versions         0     1.62    
    Tie::EncryptedHash     0     1.8     

build_requires:

    Module                 Need  Have    
    ---------------------- ----- --------
    Benchmark              0     1.23    
    MIME::Base64           0     3.16    
    Test::More             0.45  1.302190

configure_requires:

    Module                 Need  Have    
    ---------------------- ----- --------
    ExtUtils::MakeMaker    0     7.64    


------------------------------
ENVIRONMENT AND OTHER CONTEXT
------------------------------

Environment variables:

    AUTOMATED_TESTING = 1
    HARNESS_OPTIONS = j6:c
    LANG = en_US.UTF-8
    LC_TERMINAL = iTerm2
    LC_TERMINAL_VERSION = 3.4.15
    LDFLAGS = -L/usr/local/opt/openssl@1.1/lib:/usr/local/opt/python@3.8/lib
    NONINTERACTIVE_TESTING = 1
    PATH = /Users/nhorne/perl5/perlbrew/bin:/Users/nhorne/perl5/perlbrew/perls/perl-5.37.0/bin:/Users/nhorne/perl5/perlbrew/bin:/Users/nhorne/perl5/perlbrew/perls/perl-5.36.0/bin:/Users/nhorne/bin:/usr/local/opt/openssl@1.1/bin:/usr/local/opt/python@3.8/bin:/usr/local/bin:/usr/bin:/bin:/usr/sbin:/sbin:/Library/Apple/usr/bin
    PERL5LIB = 
    PERL5OPT = 
    PERL5_CPANPLUS_IS_RUNNING = 46392
    PERL5_CPAN_IS_RUNNING = 46392
    PERLBREW_HOME = /Users/nhorne/.perlbrew
    PERLBREW_LIB = 
    PERLBREW_MANPATH = /Users/nhorne/perl5/perlbrew/perls/perl-5.37.0/man
    PERLBREW_PATH = /Users/nhorne/perl5/perlbrew/bin:/Users/nhorne/perl5/perlbrew/perls/perl-5.37.0/bin
    PERLBREW_PERL = perl-5.37.0
    PERLBREW_ROOT = /Users/nhorne/perl5/perlbrew
    PERLBREW_SHELLRC_VERSION = 0.95
    PERLBREW_VERSION = 0.95
    PERL_LOCAL_LIB_ROOT = 
    PERL_MM_USE_DEFAULT = 1
    PERL_USE_UNSAFE_INC = 1
    SHELL = /bin/bash
    TERM = xterm-256color
    TMPDIR = /var/folders/rb/cnysxwf16zq1n94dyy56v2q00000gp/T/

Perl special variables (and OS-specific diagnostics, for MSWin32):

    $^X = /Users/nhorne/perl5/perlbrew/perls/perl-5.37.0/bin/perl5.37.0
    $UID/$EUID = 502 / 502
    $GID = 20 20 12 61 79 80 81 98 702 701 33 100 204 250 395 398 399
    $EGID = 20 20 12 61 79 80 81 98 702 701 33 100 204 250 395 398 399

Perl module toolchain versions installed:

    Module              Have    
    ------------------- --------
    CPAN                2.34    
    CPAN::Meta          2.150010
    Cwd                 3.84    
    ExtUtils::CBuilder  0.280236
    ExtUtils::Command   7.64    
    ExtUtils::Install   2.20    
    ExtUtils::MakeMaker 7.64    
    ExtUtils::Manifest  1.73    
    ExtUtils::ParseXS   3.45    
    File::Spec          3.84    
    JSON                n/a     
    JSON::PP            4.07    
    Module::Build       0.4231  
    Module::Signature   n/a     
    Parse::CPAN::Meta   2.150010
    Test::Harness       3.44    
    Test::More          1.302190
    YAML                1.30    
    YAML::Syck          1.34    
    version             0.9929  


--

Summary of my perl5 (revision 5 version 37 subversion 0) configuration:
   
  Platform:
    osname=darwin
    osvers=20.6.0
    archname=darwin-2level
    uname='darwin gslal0320030003 20.6.0 darwin kernel version 20.6.0: tue apr 19 21:04:45 pdt 2022; root:xnu-7195.141.29~1release_x86_64 x86_64 '
    config_args='-de -Dprefix=/Users/nhorne/perl5/perlbrew/perls/perl-5.37.0 -Dusedevel -Aeval:scriptdir=/Users/nhorne/perl5/perlbrew/perls/perl-5.37.0/bin'
    hint=recommended
    useposix=true
    d_sigaction=define
    useithreads=undef
    usemultiplicity=undef
    use64bitint=define
    use64bitall=define
    uselongdouble=undef
    usemymalloc=n
    default_inc_excludes_dot=define
  Compiler:
    cc='cc'
    ccflags ='-fno-common -DPERL_DARWIN -mmacosx-version-min=11.6 -fno-strict-aliasing -pipe -fstack-protector-strong -I/usr/local/include -DPERL_USE_SAFE_PUTENV'
    optimize='-O3'
    cppflags='-fno-common -DPERL_DARWIN -mmacosx-version-min=11.6 -fno-strict-aliasing -pipe -fstack-protector-strong -I/usr/local/include'
    ccversion=''
    gccversion='Apple LLVM 12.0.0 (clang-1200.0.32.27)'
    gccosandvers=''
    intsize=4
    longsize=8
    ptrsize=8
    doublesize=8
    byteorder=12345678
    doublekind=3
    d_longlong=define
    longlongsize=8
    d_longdbl=define
    longdblsize=16
    longdblkind=3
    ivtype='long'
    ivsize=8
    nvtype='double'
    nvsize=8
    Off_t='off_t'
    lseeksize=8
    alignbytes=8
    prototype=define
  Linker and Libraries:
    ld='cc'
    ldflags =' -mmacosx-version-min=11.6 -fstack-protector-strong -L/usr/local/lib'
    libpth=/usr/local/lib /Library/Developer/CommandLineTools/usr/lib/clang/12.0.0/lib /Library/Developer/CommandLineTools/SDKs/MacOSX.sdk/usr/lib /Library/Developer/CommandLineTools/usr/lib /usr/lib
    libs=-lgdbm
    perllibs=
    libc=
    so=dylib
    useshrplib=false
    libperl=libperl.a
    gnulibc_version=''
  Dynamic Linking:
    dlsrc=dl_dlopen.xs
    dlext=bundle
    d_dlsymun=undef
    ccdlflags=' '
    cccdlflags=' '
    lddlflags=' -mmacosx-version-min=11.6 -bundle -undefined dynamic_lookup -L/usr/local/lib -fstack-protector-strong'


Characteristics of this binary (from libperl): 
  Compile-time options:
    HAS_TIMES
    PERLIO_LAYERS
    PERL_COPY_ON_WRITE
    PERL_DONT_CREATE_GVSV
    PERL_MALLOC_WRAP
    PERL_OP_PARENT
    PERL_PRESERVE_IVUV
    PERL_USE_DEVEL
    PERL_USE_SAFE_PUTENV
    USE_64_BIT_ALL
    USE_64_BIT_INT
    USE_LARGE_FILES
    USE_LOCALE
    USE_LOCALE_COLLATE
    USE_LOCALE_CTYPE
    USE_LOCALE_NUMERIC
    USE_LOCALE_TIME
    USE_PERLIO
    USE_PERL_ATOF
  Built under darwin
  Compiled at May 31 2022 09:32:31
  %ENV:
    PERL5LIB=""
    PERL5OPT=""
    PERL5_CPANPLUS_IS_RUNNING="46392"
    PERL5_CPAN_IS_RUNNING="46392"
    PERLBREW_HOME="/Users/nhorne/.perlbrew"
    PERLBREW_LIB=""
    PERLBREW_MANPATH="/Users/nhorne/perl5/perlbrew/perls/perl-5.37.0/man"
    PERLBREW_PATH="/Users/nhorne/perl5/perlbrew/bin:/Users/nhorne/perl5/perlbrew/perls/perl-5.37.0/bin"
    PERLBREW_PERL="perl-5.37.0"
    PERLBREW_ROOT="/Users/nhorne/perl5/perlbrew"
    PERLBREW_SHELLRC_VERSION="0.95"
    PERLBREW_VERSION="0.95"
    PERL_LOCAL_LIB_ROOT=""
    PERL_MM_USE_DEFAULT="1"
    PERL_USE_UNSAFE_INC="1"
  @INC:
    /Users/nhorne/perl5/perlbrew/perls/perl-5.37.0/lib/site_perl/5.37.0/darwin-2level
    /Users/nhorne/perl5/perlbrew/perls/perl-5.37.0/lib/site_perl/5.37.0
    /Users/nhorne/perl5/perlbrew/perls/perl-5.37.0/lib/5.37.0/darwin-2level
    /Users/nhorne/perl5/perlbrew/perls/perl-5.37.0/lib/5.37.0
    .