XML-Toolkit v0.15 Perl 5 v5.19.2 x86_64-linux-ld
- Status
- Pass
- From
- Andreas J. König (ANDK)
- Dist
-
XML-Toolkit v0.15
- Platform
- Perl 5 v5.19.2 x86_64-linux-ld
- Date
- 2013-07-17 12:32:57
- ID
- 02c7c7fe-eedd-11e2-a3da-659bf1ff63fb
This distribution has been tested as part of the CPAN Testers
project, supporting the Perl programming language. See
http://wiki.cpantesters.org/ for more information or email
questions to cpan-testers-discuss@perl.org
--
Dear Chris Prather,
This is a computer-generated report for XML-Toolkit-0.15
on perl 5.19.2, created by CPAN-Reporter-1.2010.
Thank you for uploading your work to CPAN. Congratulations!
All tests were successful.
Sections of this report:
* Tester comments
* Program output
* Prerequisites
* Environment and other context
------------------------------
TESTER COMMENTS
------------------------------
Additional comments from tester:
this report is from an automated smoke testing program
and was not reviewed by a human for accuracy
------------------------------
PROGRAM OUTPUT
------------------------------
Output from '/usr/bin/make test':
PERL_DL_NONLAZY=1 /tmp/basesmoker-reloperl-0LCV/bin/perl "-MExtUtils::Command::MM" "-e" "test_harness(0, 'blib/lib', 'blib/arch')" t/*.t t/02.namespaces/*.t t/06.reuse/*.t
t/00-compile.t ................................ ok
t/01.basic.t .................................. ok
t/02.namespaces/01.basic_namespace.t .......... ok
t/02.namespaces/02.root_namespace_equality.t .. ok
t/02.namespaces/03.namespaced_loading.t ....... ok
t/03.xspf.t ................................... ok
t/04.rdf.t .................................... ok
t/05.cdata.t .................................. ok
t/06.reuse/06.reuse_generator.t ............... ok
t/06.reuse/06.reuse_loader.t .................. ok
t/release-pod-coverage.t ...................... skipped: these tests are for release candidate testing
t/release-pod-syntax.t ........................ skipped: these tests are for release candidate testing
All tests successful.
Files=12, Tests=91, 14 wallclock secs ( 0.06 usr 0.03 sys + 13.40 cusr 0.56 csys = 14.05 CPU)
Result: PASS
------------------------------
PREREQUISITES
------------------------------
Prerequisite modules loaded:
requires:
Module Need Have
---------------------------------------- ---- ------
aliased 0 0.31
Bread::Board 0 0.25
Bread::Board::Container 0 0.25
Devel::PackagePath 0.01 0.03
Encode 0 2.51
Moose 0.92 2.0802
Moose::Role 0 2.0802
Moose::Util::TypeConstraints 0 2.0802
MooseX::Aliases 0 0.11
MooseX::App::Cmd 0 0.10
MooseX::App::Cmd::Command 0 0.10
MooseX::Getopt::Dashes 0 0.56
MooseX::MetaDescription 0.03 0.06
MooseX::MetaDescription::Description 0 0.06
MooseX::MetaDescription::Meta::Attribute 0 0.06
MooseX::MetaDescription::Meta::Trait 0 0.06
MooseX::NonMoose 0 0.22
MooseX::Types::Path::Class 0.04 0.06
namespace::autoclean 0 0.13
strict 0 1.08
Template 2.20 2.24
warnings 0 1.18
XML::SAX 0.96 0.99
XML::SAX::Base 0 1.08
XML::SAX::Writer 0.50 0.53
build_requires:
Module Need Have
---------------------------------------- ---- ------
File::Find 0 1.24
File::Temp 0 0.2301
Path::Class 0 0.32
Test::Deep 0 0.110
Test::Exception 0 0.32
Test::More 0 0.98
Test::Simple 0.94 0.98
Test::XML 0.00 0.08
configure_requires:
Module Need Have
---------------------------------------- ---- ------
ExtUtils::MakeMaker 6.30 6.68
------------------------------
ENVIRONMENT AND OTHER CONTEXT
------------------------------
Environment variables:
AUTOMATED_TESTING = 1
LANG = en_US.UTF-8
LANGUAGE = en_US:en
PATH = /usr/lib/ccache:/home/sand/bin:/usr/local/bin:/usr/bin:/bin:/usr/bin/X11:/usr/games:/usr/local/perl/bin:/usr/X11/bin:/sbin:/usr/sbin
PERL5LIB =
PERL5OPT =
PERL5_CPANPLUS_IS_RUNNING = 23580
PERL5_CPAN_IS_RUNNING = 23580
PERL_MM_USE_DEFAULT = 1
SHELL = /usr/bin/zsh
TERM = screen
Perl special variables (and OS-specific diagnostics, for MSWin32):
$^X = /tmp/basesmoker-reloperl-0LCV/bin/perl
$UID/$EUID = 1005 / 1005
$GID = 1005 1005
$EGID = 1005 1005
Perl module toolchain versions installed:
Module Have
------------------- --------
CPAN 2.00
CPAN::Meta 2.131560
Cwd 3.41
ExtUtils::CBuilder 0.280210
ExtUtils::Command 1.17
ExtUtils::Install 1.60
ExtUtils::MakeMaker 6.68
ExtUtils::Manifest 1.63
ExtUtils::ParseXS 3.21
File::Spec 3.41
JSON 2.59
JSON::PP 2.27202
Module::Build 0.4005
Module::Signature 0.73
Parse::CPAN::Meta 1.4404
Test::Harness 3.28
Test::More 0.98
YAML 0.84
YAML::Syck 1.27
version 0.9902
--
Summary of my perl5 (revision 5 version 19 subversion 2) configuration:
Commit id: 7d279cabb7b2168bc324f9c63b1e89c02412259e
Platform:
osname=linux, osvers=3.9-1-amd64, archname=x86_64-linux-thread-multi
uname='linux k83 3.9-1-amd64 #1 smp debian 3.9.8-1 x86_64 gnulinux '
config_args='-Dprefix=/home/sand/src/perl/repoperls/installed-perls/perl/v5.19.1-459-g7d279ca/9980 -Dmyhostname=k83 -Dinstallusrbinperl=n -Uversiononly -Dusedevel -des -Ui_db -Duseithreads -Uuselongdouble -DDEBUGGING=-g'
hint=recommended, useposix=true, d_sigaction=define
useithreads=define, usemultiplicity=define
useperlio=define, d_sfio=undef, uselargefiles=define, usesocks=undef
use64bitint=define, use64bitall=define, uselongdouble=undef
usemymalloc=n, bincompat5005=undef
Compiler:
cc='cc', ccflags ='-D_REENTRANT -D_GNU_SOURCE -fno-strict-aliasing -pipe -fstack-protector -I/usr/local/include -D_LARGEFILE_SOURCE -D_FILE_OFFSET_BITS=64',
optimize='-O2 -g',
cppflags='-D_REENTRANT -D_GNU_SOURCE -fno-strict-aliasing -pipe -fstack-protector -I/usr/local/include'
ccversion='', gccversion='4.8.1', gccosandvers=''
intsize=4, longsize=8, ptrsize=8, doublesize=8, byteorder=12345678
d_longlong=define, longlongsize=8, d_longdbl=define, longdblsize=16
ivtype='long', ivsize=8, nvtype='double', nvsize=8, Off_t='off_t', lseeksize=8
alignbytes=8, prototype=define
Linker and Libraries:
ld='cc', ldflags =' -fstack-protector -L/usr/local/lib'
libpth=/usr/local/lib /lib/x86_64-linux-gnu /lib/../lib /usr/lib/x86_64-linux-gnu /usr/lib/../lib /lib /usr/lib
libs=-lnsl -lgdbm -ldb -ldl -lm -lcrypt -lutil -lpthread -lc -lgdbm_compat
perllibs=-lnsl -ldl -lm -lcrypt -lutil -lpthread -lc
libc=, so=so, useshrplib=false, libperl=libperl.a
gnulibc_version='2.17'
Dynamic Linking:
dlsrc=dl_dlopen.xs, dlext=so, d_dlsymun=undef, ccdlflags='-Wl,-E'
cccdlflags='-fPIC', lddlflags='-shared -O2 -g -L/usr/local/lib -fstack-protector'
Characteristics of this binary (from libperl):
Compile-time options: HAS_TIMES MULTIPLICITY PERLIO_LAYERS
PERL_DONT_CREATE_GVSV
PERL_HASH_FUNC_ONE_AT_A_TIME_HARD
PERL_IMPLICIT_CONTEXT PERL_MALLOC_WRAP
PERL_NEW_COPY_ON_WRITE PERL_PRESERVE_IVUV
PERL_USE_DEVEL USE_64_BIT_ALL USE_64_BIT_INT
USE_ITHREADS USE_LARGE_FILES USE_LOCALE
USE_LOCALE_COLLATE USE_LOCALE_CTYPE
USE_LOCALE_NUMERIC USE_PERLIO USE_PERL_ATOF
USE_REENTRANT_API
Built under linux
Compiled at Jul 16 2013 10:13:11
%ENV:
PERL5LIB=""
PERL5OPT=""
PERL5_CPANPLUS_IS_RUNNING="23580"
PERL5_CPAN_IS_RUNNING="23580"
PERL_MM_USE_DEFAULT="1"
@INC:
/home/sand/src/perl/repoperls/installed-perls/perl/v5.19.1-459-g7d279ca/9980/lib/site_perl/5.19.2/x86_64-linux-thread-multi
/home/sand/src/perl/repoperls/installed-perls/perl/v5.19.1-459-g7d279ca/9980/lib/site_perl/5.19.2
/home/sand/src/perl/repoperls/installed-perls/perl/v5.19.1-459-g7d279ca/9980/lib/5.19.2/x86_64-linux-thread-multi
/home/sand/src/perl/repoperls/installed-perls/perl/v5.19.1-459-g7d279ca/9980/lib/5.19.2
.