Cache-CacheFactory v1.10 Perl 5 v5.18.0 amd64-freebsd

Status
Pass
From
Tom Molesworth
Dist
Cache-CacheFactory v1.10
Platform
Perl 5 v5.18.0 amd64-freebsd
Date
2013-08-24 17:02:51
ID
02c0a33c-0cdf-11e3-98e5-b87fd5018592
This distribution has been tested as part of the CPAN Testers
project, supporting the Perl programming language.  See
http://wiki.cpantesters.org/ for more information or email
questions to cpan-testers-discuss@perl.org


--
Dear Sam Graham,

This is a computer-generated report for Cache-CacheFactory-1.10
on perl 5.18.0, created by CPAN-Reporter-1.2010.

Thank you for uploading your work to CPAN.  Congratulations!
All tests were successful.

Sections of this report:

    * Tester comments
    * Program output
    * Prerequisites
    * Environment and other context

------------------------------
TESTER COMMENTS
------------------------------

Additional comments from tester:

this report is from an automated smoke testing program
and was not reviewed by a human for accuracy

------------------------------
PROGRAM OUTPUT
------------------------------

Output from './Build test':

# Testing Cache::CacheFactory 1.10, Perl 5.018000, /usr/home/cpan/perl5/perlbrew/perls/perl-5.18.0/bin/perl
t/00-load.t ................................ ok
t/10-namespace.t ........................... ok
t/20-storage.t ............................. ok
t/30-size-hack-with-devel-size.t ........... ok
t/31-size-hack-force-missing-devel-size.t .. ok
t/40-expiry-lastmodified.t ................. ok
t/40-expiry-size.t ......................... ok
t/40-expiry-time.t ......................... ok
t/50-deep-clone.t .......................... ok
t/80-export.t .............................. ok
t/90-pod.t ................................. ok
t/99-pod-coverage.t ........................ ok
All tests successful.
Files=12, Tests=247,  6 wallclock secs ( 0.09 usr  0.05 sys +  1.43 cusr  0.20 csys =  1.77 CPU)
Result: PASS

------------------------------
PREREQUISITES
------------------------------

Prerequisite modules loaded:

requires:

    Module           Need  Have   
    ---------------- ----- -------
    Cache::BaseCache 0     0      
    Cache::Cache     1     1.06   
    Cache::Object    0     0      
    Carp             0     1.26   
    Class::Factory   0     1.06   
    Scalar::Util     0     1.31   
    Storable         1.014 2.45   

build_requires:

    Module           Need  Have   
    ---------------- ----- -------
    Module::Build    0.07  0.4007 
    Test::More       0     0.98_05

configure_requires:

    Module           Need  Have   
    ---------------- ----- -------
    Module::Build    0.36  0.4007 


------------------------------
ENVIRONMENT AND OTHER CONTEXT
------------------------------

Environment variables:

    AUTOMATED_TESTING = 1
    PATH = /home/cpan/perl5/perlbrew/bin:/home/cpan/perl5/perlbrew/perls/perl-5.18.0/bin:/home/cpan/perl5/bin:/sbin:/bin:/usr/sbin:/usr/bin:/usr/games:/usr/local/sbin:/usr/local/bin:/home/cpan/bin
    PERL5LIB = 
    PERL5OPT = 
    PERL5_CPANPLUS_IS_RUNNING = 25555
    PERL5_CPAN_IS_RUNNING = 25555
    PERL5_CPAN_IS_RUNNING_IN_RECURSION = 7856,25555
    PERLBREW_BASHRC_VERSION = 0.66
    PERLBREW_HOME = /home/cpan/.perlbrew
    PERLBREW_MANPATH = /home/cpan/perl5/perlbrew/perls/perl-5.18.0/man
    PERLBREW_PATH = /home/cpan/perl5/perlbrew/bin:/home/cpan/perl5/perlbrew/perls/perl-5.18.0/bin
    PERLBREW_PERL = perl-5.18.0
    PERLBREW_ROOT = /home/cpan/perl5/perlbrew
    PERLBREW_VERSION = 0.66
    PERL_CR_SMOKER_CURRENT = Task-Template-Benchmark-1.00_05
    PERL_EXTUTILS_AUTOINSTALL = --defaultdeps
    PERL_LOCAL_LIB_ROOT = 
    PERL_MB_OPT = 
    PERL_MM_OPT = 
    PERL_MM_USE_DEFAULT = 1
    SHELL = /usr/local/bin/bash
    TERM = xterm-256color

Perl special variables (and OS-specific diagnostics, for MSWin32):

    $^X = /usr/home/cpan/perl5/perlbrew/perls/perl-5.18.0/bin/perl
    $UID/$EUID = 1002 / 1002
    $GID = 1002 1002
    $EGID = 1002 1002

Perl module toolchain versions installed:

    Module              Have    
    ------------------- --------
    CPAN                2.00    
    CPAN::Meta          2.132140
    Cwd                 3.40    
    ExtUtils::CBuilder  0.280205
    ExtUtils::Command   1.17    
    ExtUtils::Install   1.59    
    ExtUtils::MakeMaker 6.73_12 
    ExtUtils::Manifest  1.61    
    ExtUtils::ParseXS   3.21    
    File::Spec          3.40    
    JSON                2.59    
    JSON::PP            2.27202 
    Module::Build       0.4007  
    Module::Signature   n/a     
    Parse::CPAN::Meta   1.4405  
    Test::Harness       3.28    
    Test::More          0.98_05 
    YAML                0.84    
    YAML::Syck          1.27    
    version             0.9903  


--

Summary of my perl5 (revision 5 version 18 subversion 0) configuration:
   
  Platform:
    osname=freebsd, osvers=9.0-release, archname=amd64-freebsd
    uname='freebsd freebsd90 9.0-release freebsd 9.0-release #0: tue jan 3 07:46:30 utc 2012 root@farrell.cse.buffalo.edu:usrobjusrsrcsysgeneric amd64 '
    config_args='-de -Dprefix=/home/cpan/perl5/perlbrew/perls/perl-5.18.0 -Aeval:scriptdir=/home/cpan/perl5/perlbrew/perls/perl-5.18.0/bin'
    hint=recommended, useposix=true, d_sigaction=define
    useithreads=undef, usemultiplicity=undef
    useperlio=define, d_sfio=undef, uselargefiles=define, usesocks=undef
    use64bitint=define, use64bitall=define, uselongdouble=undef
    usemymalloc=n, bincompat5005=undef
  Compiler:
    cc='cc', ccflags ='-DHAS_FPSETMASK -DHAS_FLOATINGPOINT_H -fno-strict-aliasing -pipe -fstack-protector -I/usr/local/include',
    optimize='-O',
    cppflags='-DHAS_FPSETMASK -DHAS_FLOATINGPOINT_H -fno-strict-aliasing -pipe -fstack-protector -I/usr/local/include'
    ccversion='', gccversion='4.2.1 20070831 patched [FreeBSD]', gccosandvers=''
    intsize=4, longsize=8, ptrsize=8, doublesize=8, byteorder=12345678
    d_longlong=define, longlongsize=8, d_longdbl=define, longdblsize=16
    ivtype='long', ivsize=8, nvtype='double', nvsize=8, Off_t='off_t', lseeksize=8
    alignbytes=8, prototype=define
  Linker and Libraries:
    ld='cc', ldflags ='-Wl,-E  -fstack-protector -L/usr/local/lib'
    libpth=/usr/lib /usr/local/lib
    libs=-lm -lcrypt -lutil -lc
    perllibs=-lm -lcrypt -lutil -lc
    libc=, so=so, useshrplib=false, libperl=libperl.a
    gnulibc_version=''
  Dynamic Linking:
    dlsrc=dl_dlopen.xs, dlext=so, d_dlsymun=undef, ccdlflags=' '
    cccdlflags='-DPIC -fPIC', lddlflags='-shared  -L/usr/local/lib -fstack-protector'


Characteristics of this binary (from libperl): 
  Compile-time options: HAS_TIMES PERLIO_LAYERS PERL_DONT_CREATE_GVSV
                        PERL_HASH_FUNC_ONE_AT_A_TIME_HARD PERL_MALLOC_WRAP
                        PERL_PRESERVE_IVUV PERL_SAWAMPERSAND USE_64_BIT_ALL
                        USE_64_BIT_INT USE_LARGE_FILES USE_LOCALE
                        USE_LOCALE_COLLATE USE_LOCALE_CTYPE
                        USE_LOCALE_NUMERIC USE_PERLIO USE_PERL_ATOF
  Built under freebsd
  Compiled at Aug  9 2013 19:40:59
  %ENV:
    PERL5LIB=""
    PERL5OPT=""
    PERL5_CPANPLUS_IS_RUNNING="25555"
    PERL5_CPAN_IS_RUNNING="25555"
    PERL5_CPAN_IS_RUNNING_IN_RECURSION="7856,25555"
    PERLBREW_BASHRC_VERSION="0.66"
    PERLBREW_HOME="/home/cpan/.perlbrew"
    PERLBREW_MANPATH="/home/cpan/perl5/perlbrew/perls/perl-5.18.0/man"
    PERLBREW_PATH="/home/cpan/perl5/perlbrew/bin:/home/cpan/perl5/perlbrew/perls/perl-5.18.0/bin"
    PERLBREW_PERL="perl-5.18.0"
    PERLBREW_ROOT="/home/cpan/perl5/perlbrew"
    PERLBREW_VERSION="0.66"
    PERL_CR_SMOKER_CURRENT="Task-Template-Benchmark-1.00_05"
    PERL_EXTUTILS_AUTOINSTALL="--defaultdeps"
    PERL_LOCAL_LIB_ROOT=""
    PERL_MB_OPT=""
    PERL_MM_OPT=""
    PERL_MM_USE_DEFAULT="1"
  @INC:
    /home/cpan/perl5/perlbrew/perls/perl-5.18.0/lib/site_perl/5.18.0/amd64-freebsd
    /home/cpan/perl5/perlbrew/perls/perl-5.18.0/lib/site_perl/5.18.0
    /home/cpan/perl5/perlbrew/perls/perl-5.18.0/lib/5.18.0/amd64-freebsd
    /home/cpan/perl5/perlbrew/perls/perl-5.18.0/lib/5.18.0
    .