IO-Socket-SSL v2.085 Perl 5 v5.30.3 darwin-thread-multi-2level
- Status
- Pass
- From
- Gintautas Grigelionis
- Dist
-
IO-Socket-SSL v2.085
- Platform
- Perl 5 v5.30.3 darwin-thread-multi-2level
- Date
- 2024-01-28 19:47:03
- ID
- 02a617da-be16-11ee-87df-ab646d8929ef
This distribution has been tested as part of the CPAN Testers
project, supporting the Perl programming language. See
http://wiki.cpantesters.org/ for more information or email
questions to cpan-testers-discuss@perl.org
--
Dear Steffen Ullrich,
This is a computer-generated report for IO-Socket-SSL-2.085
on perl 5.30.3, created by CPAN-Reporter-1.2019.
Thank you for uploading your work to CPAN. Congratulations!
All tests were successful.
Sections of this report:
* Tester comments
* Program output
* Prerequisites
* Environment and other context
------------------------------
TESTER COMMENTS
------------------------------
Additional comments from tester:
none provided
------------------------------
PROGRAM OUTPUT
------------------------------
Output from '/usr/bin/make test':
PERL_DL_NONLAZY=1 "/usr/bin/perl" "-MExtUtils::Command::MM" "-MTest::Harness" "-e" "undef *Test::Harness::Switches; test_harness(0, 'blib/lib', 'blib/arch')" t/*.t t/external/*.t
# openssl version compiled=0x30200000 linked=0x30200000 -- OpenSSL 3.2.0 23 Nov 2023
# Net::SSLeay version=1.94
# parent IO::Socket::IP version=0.42
t/01loadmodule.t .................. ok
t/acceptSSL-timeout.t ............. ok
t/alpn.t .......................... ok
t/auto_verify_hostname.t .......... ok
t/cert_formats.t .................. ok
t/cert_no_file.t .................. ok
t/compatibility.t ................. ok
t/connectSSL-timeout.t ............ ok
t/core.t .......................... ok
t/dhe.t ........................... ok
t/ecdhe.t ......................... ok
# tcp connect to www.chksum.de:443 ok
# fingerprint matches
# validation with default CA w/o OCSP ok
# got stapled response as expected
# validation with default CA with OCSP defaults ok
# validation with default CA with OCSP full chain ok
# tcp connect to www.bild.de:443 ok
# fingerprint matches
# validation with default CA w/o OCSP ok
# validation with default CA with OCSP defaults ok
# validation with default CA with OCSP full chain ok
# tcp connect to revoked.grc.com:443 ok
t/external/ocsp.t ................. ok
# found 156 CA certs
# have root CA for www.bild.de in store
# 5 connections to www.bild.de ok
# have root CA for www.yahoo.com in store
# 5 connections to www.yahoo.com ok
# have root CA for www.comdirect.de in store
# 5 connections to www.comdirect.de ok
# fingerprint www.comdirect.de matches
# have root CA for meine.deutsche-bank.de in store
# 5 connections to meine.deutsche-bank.de ok
# fingerprint meine.deutsche-bank.de matches
# have root CA for www.twitter.com in store
# 5 connections to www.twitter.com ok
# fingerprint www.twitter.com matches
# have root CA for www.facebook.com in store
# 5 connections to www.facebook.com ok
# have root CA for www.live.com in store
# 5 connections to www.live.com ok
# fingerprint www.live.com matches
t/external/usable_ca.t ............ ok
t/io-socket-inet6.t ............... ok
t/io-socket-ip.t .................. ok
t/memleak_bad_handshake.t ......... ok
t/mitm.t .......................... ok
t/multiple-cert-rsa-ecc.t ......... ok
t/nonblock.t ...................... ok
t/npn.t ........................... ok
# -- test: newINET start_SSL stop_SSL start_SSL
# server accepted new client
# wait for initial data from client
# got 0x666f6f from client
# server: got plain data at start of connection
# server: TLS upgrade
# server: TLS downgrade
# server: TLS upgrade#2
# -- test: newSSL stop_SSL connect_SSL
# server accepted new client
# wait for initial data from client
# got 0x160301 from client
# server: TLS upgrade
# server: TLS downgrade
# server: TLS upgrade#2
# -- test: newSSL:0 connect_SSL stop_SSL connect_SSL
# server accepted new client
# wait for initial data from client
# got 0x666f6f from client
# server: got plain data at start of connection
# server: TLS upgrade
# server: TLS downgrade
# server: TLS upgrade#2
# -- test: newSSL:0 start_SSL stop_SSL connect_SSL
# server accepted new client
# wait for initial data from client
# got 0x666f6f from client
# server: got plain data at start of connection
# server: TLS upgrade
# server: TLS downgrade
# server: TLS upgrade#2
# server accepted new client
# wait for initial data from client
# got 0x656e64 from client
# client requested end of tests
t/plain_upgrade_downgrade.t ....... ok
# looks like OpenSSL was compiled without SSLv3 support
t/protocol_version.t .............. ok
t/public_suffix_lib_encode_idn.t .. ok
t/public_suffix_lib_libidn.t ...... ok
t/public_suffix_lib_uri.t ......... ok
t/public_suffix_ssl.t ............. ok
t/readline.t ...................... ok
t/session_cache.t ................. ok
# listen at 127.0.0.1:51488
# listen at 127.0.0.1:51489
# connect to 0: success reuse=0 version=TLSv1_3
# connect to 0: success reuse=1 version=TLSv1_3
# connect to 1: success reuse=1 version=TLSv1_3
# connect to 1: success reuse=0 version=TLSv1_3
# connect to 0: success reuse=0 version=TLSv1_3
# connect to 0: success reuse=1 version=TLSv1_3
t/session_ticket.t ................ ok
t/sessions.t ...................... ok
t/set_curves.t .................... ok
t/signal-readline.t ............... ok
t/sni.t ........................... ok
t/sni_verify.t .................... ok
t/start-stopssl.t ................. ok
t/startssl-failed.t ............... ok
t/startssl.t ...................... ok
t/sysread_write.t ................. ok
t/verify_fingerprint.t ............ ok
t/verify_hostname.t ............... ok
t/verify_hostname_standalone.t .... ok
t/verify_partial_chain.t .......... ok
All tests successful.
Files=42, Tests=818, 45 wallclock secs ( 0.10 usr 0.05 sys + 4.90 cusr 1.05 csys = 6.10 CPU)
Result: PASS
------------------------------
PREREQUISITES
------------------------------
Prerequisite modules loaded:
requires:
Module Need Have
------------------- ---- --------
Mozilla::CA 0 20231213
Net::SSLeay 1.46 1.94
Scalar::Util 0 1.63
build_requires:
Module Need Have
------------------- ---- --------
ExtUtils::MakeMaker 0 7.70
configure_requires:
Module Need Have
------------------- ---- --------
ExtUtils::MakeMaker 0 7.70
Net::SSLeay 1.46 1.94
------------------------------
ENVIRONMENT AND OTHER CONTEXT
------------------------------
Environment variables:
LANG = sv_SE.UTF-8
PATH = /usr/local/bin:/System/Cryptexes/App/usr/bin:/usr/bin:/bin:/usr/sbin:/sbin:/var/run/com.apple.security.cryptexd/codex.system/bootstrap/usr/local/bin:/var/run/com.apple.security.cryptexd/codex.system/bootstrap/usr/bin:/var/run/com.apple.security.cryptexd/codex.system/bootstrap/usr/appleinternal/bin:/opt/X11/bin:/Library/Apple/usr/bin:/usr/local/MacGPG2/bin:/Library/TeX/texbin
PERL5LIB =
PERL5OPT =
PERL5_CPANPLUS_IS_RUNNING = 3557
PERL5_CPAN_IS_RUNNING = 3557
PERL_USE_UNSAFE_INC = 1
SHELL = /bin/bash
TERM = xterm-256color
TMPDIR = /var/folders/y9/7vddvyqs64j1pfp28_p_6dfm0000gq/T/
Perl special variables (and OS-specific diagnostics, for MSWin32):
$^X = /usr/bin/perl
$UID/$EUID = 503 / 503
$GID = 20 20 12 61 79 80 81 98 701 702 33 100 204 250 395 398 399 400
$EGID = 20 20 12 61 79 80 81 98 701 702 33 100 204 250 395 398 399 400
Perl module toolchain versions installed:
Module Have
------------------- --------
CPAN 2.36
CPAN::Meta 2.150010
Cwd 3.78
ExtUtils::CBuilder 0.280236
ExtUtils::Command 7.70
ExtUtils::Install 2.22
ExtUtils::MakeMaker 7.70
ExtUtils::Manifest 1.75
ExtUtils::ParseXS 3.40
File::Spec 3.78
JSON 4.10
JSON::PP 4.16
Module::Build 0.4231
Module::Signature 0.88
Parse::CPAN::Meta 2.150010
Test2 1.302198
Test::Harness 3.48
Test::More 1.302198
YAML 1.31
YAML::Syck 1.32
version 0.9930
--
Summary of my perl5 (revision 5 version 30 subversion 3) configuration:
Platform:
osname=darwin
osvers=23.0
archname=darwin-thread-multi-2level
uname='darwin tmjf6.p1s.plx.sd.apple.com 23.0 darwin kernel version 22.1.0: thu dec 15 17:42:24 pst 2022; root:xnu-8792.41.9.100.2~1development_x86_64 x86_64 '
config_args='-ds -e -Dprefix=/usr -Dccflags=-g -pipe -Dldflags= -Dman3ext=3pm -Duseithreads -Duseshrplib -Dinc_version_list=none -Dcc=cc'
hint=recommended
useposix=true
d_sigaction=define
useithreads=define
usemultiplicity=define
use64bitint=define
use64bitall=define
uselongdouble=undef
usemymalloc=n
default_inc_excludes_dot=define
bincompat5005=undef
Compiler:
cc='cc'
ccflags =' -g -pipe -DPERL_USE_SAFE_PUTENV'
optimize='-Os'
cppflags='-g -pipe'
ccversion=''
gccversion='Apple LLVM 15.0.0 (clang-1500.1.0.2.2) [+internal-os]'
gccosandvers=''
intsize=4
longsize=8
ptrsize=8
doublesize=8
byteorder=12345678
doublekind=3
d_longlong=define
longlongsize=8
d_longdbl=define
longdblsize=16
longdblkind=3
ivtype='long'
ivsize=8
nvtype='double'
nvsize=8
Off_t='off_t'
lseeksize=8
alignbytes=8
prototype=define
Linker and Libraries:
ld='cc'
ldflags =' '
libpth=/AppleInternal/Library/BuildRoots/4e1473ee-9f66-11ee-8daf-cedaeb4cabe2/Applications/Xcode.app/Contents/Developer/Platforms/MacOSX.platform/Developer/SDKs/MacOSX14.3.Internal.sdk/usr/local/lib /AppleInternal/Library/BuildRoots/4e1473ee-9f66-11ee-8daf-cedaeb4cabe2/Applications/Xcode.app/Contents/Developer/Toolchains/OSX14.3.xctoolchain/usr/lib/clang/15.0.0/lib /AppleInternal/Library/BuildRoots/4e1473ee-9f66-11ee-8daf-cedaeb4cabe2/Applications/Xcode.app/Contents/Developer/Platforms/MacOSX.platform/Developer/SDKs/MacOSX14.3.Internal.sdk/usr/lib /AppleInternal/Library/BuildRoots/4e1473ee-9f66-11ee-8daf-cedaeb4cabe2/Applications/Xcode.app/Contents/Developer/Toolchains/XcodeDefault.xctoolchain/usr/lib /usr/lib /usr/local/lib
libs=
perllibs=
libc=
so=dylib
useshrplib=true
libperl=libperl.dylib
gnulibc_version=''
Dynamic Linking:
dlsrc=dl_dlopen.xs
dlext=bundle
d_dlsymun=undef
ccdlflags=' '
cccdlflags=' '
lddlflags=' -bundle -undefined dynamic_lookup'
Characteristics of this binary (from libperl):
Compile-time options:
HAS_TIMES
MULTIPLICITY
PERLIO_LAYERS
PERL_COPY_ON_WRITE
PERL_DONT_CREATE_GVSV
PERL_IMPLICIT_CONTEXT
PERL_MALLOC_WRAP
PERL_OP_PARENT
PERL_PRESERVE_IVUV
PERL_USE_SAFE_PUTENV
USE_64_BIT_ALL
USE_64_BIT_INT
USE_ITHREADS
USE_LARGE_FILES
USE_LOCALE
USE_LOCALE_COLLATE
USE_LOCALE_CTYPE
USE_LOCALE_NUMERIC
USE_LOCALE_TIME
USE_PERLIO
USE_PERL_ATOF
USE_REENTRANT_API
USE_THREAD_SAFE_LOCALE
Locally applied patches:
/Library/Perl/Updates/<version> comes before system perl directories
installprivlib and installarchlib points to the Updates directory
Built under darwin
Compiled at Dec 20 2023 17:11:28
%ENV:
PERL5LIB=""
PERL5OPT=""
PERL5_CPANPLUS_IS_RUNNING="3557"
PERL5_CPAN_IS_RUNNING="3557"
PERL_USE_UNSAFE_INC="1"
@INC:
/Library/Perl/5.30/darwin-thread-multi-2level
/Library/Perl/5.30
/Network/Library/Perl/5.30/darwin-thread-multi-2level
/Network/Library/Perl/5.30
/Library/Perl/Updates/5.30.3/darwin-thread-multi-2level
/Library/Perl/Updates/5.30.3
/System/Library/Perl/5.30/darwin-thread-multi-2level
/System/Library/Perl/5.30
/System/Library/Perl/Extras/5.30/darwin-thread-multi-2level
/System/Library/Perl/Extras/5.30
.