XML-Rabbit v0.4.1 Perl 5 v5.28.3 arm64-freebsd
- Status
- Pass
- From
- Slaven Rezić
- Dist
-
XML-Rabbit v0.4.1
- Platform
- Perl 5 v5.28.3 arm64-freebsd
- Date
- 2024-10-18 07:53:06
- ID
- 027cf668-8d26-11ef-8032-43dd6d8775ea
This distribution has been tested as part of the CPAN Testers
project, supporting the Perl programming language. See
http://wiki.cpantesters.org/ for more information or email
questions to cpan-testers-discuss@perl.org
--
Dear Robin Smidsrod,
This is a computer-generated report for XML-Rabbit-0.4.1
on perl 5.28.3, created by CPAN-Reporter-1.2019.
Thank you for uploading your work to CPAN. Congratulations!
All tests were successful.
Sections of this report:
* Tester comments
* Program output
* Prerequisites
* Environment and other context
------------------------------
TESTER COMMENTS
------------------------------
Additional comments from tester:
none provided
------------------------------
PROGRAM OUTPUT
------------------------------
Output from '/usr/bin/make test':
PERL_DL_NONLAZY=1 "/usr/perl5.28.3/bin/perl" "-MExtUtils::Command::MM" "-MTest::Harness" "-e" "undef *Test::Harness::Switches; test_harness(0, 'blib/lib', 'blib/arch')" t/*.t t/regression/*.t
# Testing XML::Rabbit 0.4.1, Perl 5.028003, /usr/perl5.28.3/bin/perl
t/00_load.t ........................... ok
# Detected libxml2 version: 21109
t/01_libxml_version.t ................. ok
t/10_parse_xhtml_fh.t ................. ok
t/10_parse_xhtml_file.t ............... ok
t/10_parse_xhtml_string.t ............. ok
t/11_parse_imsqti.t ................... ok
t/12_xpath_value_map.t ................ ok
t/13_xpath_object_map.t ............... ok
t/14_sugar_parse_xhtml_file.t ......... ok
t/15_sugar_parse_imsqti.t ............. ok
t/16_sugar_xpath_value_map.t .......... ok
t/17_sugar_xpath_object_map.t ......... ok
t/18_dump_xml.t ....................... ok
t/19_RT_71815.t ....................... ok
t/20_RT_81519.t ....................... ok
t/author-critic.t ..................... skipped: these tests are for testing by the author
t/regression/node_attribute_traits.t .. ok
t/release-eol.t ....................... skipped: these tests are for release candidate testing
t/release-kwalitee.t .................. skipped: these tests are for release candidate testing
t/release-no-tabs.t ................... skipped: these tests are for release candidate testing
t/release-pod-coverage.t .............. skipped: these tests are for release candidate testing
t/release-pod-syntax.t ................ skipped: these tests are for release candidate testing
All tests successful.
Files=22, Tests=165, 5 wallclock secs ( 0.09 usr 0.06 sys + 4.49 cusr 0.64 csys = 5.29 CPU)
Result: PASS
------------------------------
PREREQUISITES
------------------------------
Prerequisite modules loaded:
requires:
Module Need Have
---------------------------- ---- --------
Carp 0 1.50
Class::Load 0 0.25
Encode 0 3.21
Moose 0.89 2.2207
Moose::Exporter 0 2.2207
Moose::Role 0 2.2207
Moose::Util::TypeConstraints 0 2.2207
MooseX::Role::Parameterized 0 1.11
namespace::autoclean 0 0.29
Perl6::Junction 0 1.60000
Scalar::Util 0 1.63
strict 0 1.11
warnings 0 1.42
XML::LibXML 1.70 2.0210
build_requires:
Module Need Have
---------------------------- ---- --------
lib 0 0.64
Test::Exception 0 0.43
Test::More 0 1.302202
utf8 0 1.21
configure_requires:
Module Need Have
---------------------------- ---- --------
ExtUtils::MakeMaker 6.30 7.70
XML::LibXML 1.70 2.0210
------------------------------
ENVIRONMENT AND OTHER CONTEXT
------------------------------
Environment variables:
LANG = C.UTF-8
PATH = /usr/local/bin:/usr/bin:/bin:/usr/local/sbin:/usr/sbin:/sbin:/home/cpansand/bin/freebsd14.0:/home/cpansand/bin/sh:/home/cpansand/bin:/usr/games:/home/cpansand/devel:/home/eserte/src/srezic-misc/scripts
PERL5LIB = /home/cpansand/.cpan/build/2024101807/Perl6-Junction-1.60000-0/blib/arch:/home/cpansand/.cpan/build/2024101807/Perl6-Junction-1.60000-0/blib/lib:/home/cpansand/.cpan/build/2024101807/Types-DateTime-0.002-0/blib/arch:/home/cpansand/.cpan/build/2024101807/Types-DateTime-0.002-0/blib/lib:/home/cpansand/.cpan/build/2024101807/Throwable-SugarFactory-0.213360-0/blib/arch:/home/cpansand/.cpan/build/2024101807/Throwable-SugarFactory-0.213360-0/blib/lib:/home/cpansand/.cpan/build/2024101807/Syntax-Feature-Qs-1.0000-0/blib/arch:/home/cpansand/.cpan/build/2024101807/Syntax-Feature-Qs-1.0000-0/blib/lib:/home/cpansand/.cpan/build/2024101807/Devel-Declare-0.006022-0/blib/arch:/home/cpansand/.cpan/build/2024101807/Devel-Declare-0.006022-0/blib/lib
PERL5OPT =
PERL5_CPANPLUS_IS_RUNNING = 36126
PERL5_CPAN_IS_RUNNING = 36126
PERL5_CPAN_IS_RUNNING_IN_RECURSION = 36113,36126
PERLDOC = -MPod::Perldoc::ToTextOverstrike
PERL_BATCH = yes
PERL_CANARY_STABILITY_NOPROMPT = 1
PERL_CPAN_REPORTER_CONFIG = /var/tmp/cpansmoker-1023/2024101807/cpanreporter_000_config.ini
PERL_EXTUTILS_AUTOINSTALL = --defaultdeps
PERL_USE_UNSAFE_INC = 1
SHELL = /usr/local/bin/zsh
TERM = screen
TMPDIR = /var/tmp/cpansmoker-1023/2024101807
Perl special variables (and OS-specific diagnostics, for MSWin32):
$^X = /usr/perl5.28.3/bin/perl
$UID/$EUID = 1023 / 1023
$GID = 1023 1023
$EGID = 1023 1023
Perl module toolchain versions installed:
Module Have
------------------- --------
CPAN 2.20
CPAN::Meta 2.150010
Cwd 3.75
ExtUtils::CBuilder 0.280236
ExtUtils::Command 7.70
ExtUtils::Install 2.22
ExtUtils::MakeMaker 7.70
ExtUtils::Manifest 1.75
ExtUtils::ParseXS 3.51
File::Spec 3.75
JSON 4.10
JSON::PP 4.16
Module::Build 0.4234
Module::Signature n/a
Parse::CPAN::Meta 2.150010
Test2 1.302202
Test::Harness 3.50
Test::More 1.302202
YAML 1.31
YAML::Syck 1.34
version 0.9923
--
Summary of my perl5 (revision 5 version 28 subversion 3) configuration:
Platform:
osname=freebsd
osvers=14.1-stable
archname=arm64-freebsd
uname='freebsd cloud9.bbbike.org 14.1-stable freebsd 14.1-stable stable14-n268041-bb7b7b0eb7cf generic arm64 '
config_args='-ds -e -Dprefix=/usr/perl5.28.3 -Dcf_email=srezic@cpan.org -Doptimize=-O2 -pipe'
hint=recommended
useposix=true
d_sigaction=define
useithreads=undef
usemultiplicity=undef
use64bitint=define
use64bitall=define
uselongdouble=undef
usemymalloc=n
default_inc_excludes_dot=define
bincompat5005=undef
Compiler:
cc='cc'
ccflags ='-DHAS_FPSETMASK -DHAS_FLOATINGPOINT_H -fno-strict-aliasing -pipe -fstack-protector-strong -I/usr/local/include'
optimize='-O2 -pipe'
cppflags='-DHAS_FPSETMASK -DHAS_FLOATINGPOINT_H -fno-strict-aliasing -pipe -fstack-protector-strong -I/usr/local/include'
ccversion=''
gccversion='FreeBSD Clang 18.1.6 (https://github.com/llvm/llvm-project.git llvmorg-18.1.6-0-g1118c2e05e67)'
gccosandvers=''
intsize=4
longsize=8
ptrsize=8
doublesize=8
byteorder=12345678
doublekind=3
d_longlong=define
longlongsize=8
d_longdbl=define
longdblsize=16
longdblkind=1
ivtype='long'
ivsize=8
nvtype='double'
nvsize=8
Off_t='off_t'
lseeksize=8
alignbytes=8
prototype=define
Linker and Libraries:
ld='cc'
ldflags ='-Wl,-E -fstack-protector-strong -L/usr/local/lib'
libpth=/usr/lib /usr/local/lib /usr/lib/clang/18/lib /usr/lib
libs=-lpthread -lgdbm -ldl -lm -lcrypt -lutil -lc
perllibs=-lpthread -ldl -lm -lcrypt -lutil -lc
libc=
so=so
useshrplib=false
libperl=libperl.a
gnulibc_version=''
Dynamic Linking:
dlsrc=dl_dlopen.xs
dlext=so
d_dlsymun=undef
ccdlflags=' '
cccdlflags='-DPIC -fPIC'
lddlflags='-shared -L/usr/local/lib -fstack-protector-strong'
Characteristics of this binary (from libperl):
Compile-time options:
HAS_TIMES
PERLIO_LAYERS
PERL_COPY_ON_WRITE
PERL_DONT_CREATE_GVSV
PERL_MALLOC_WRAP
PERL_OP_PARENT
PERL_PRESERVE_IVUV
USE_64_BIT_ALL
USE_64_BIT_INT
USE_LARGE_FILES
USE_LOCALE
USE_LOCALE_COLLATE
USE_LOCALE_CTYPE
USE_LOCALE_NUMERIC
USE_LOCALE_TIME
USE_PERLIO
USE_PERL_ATOF
Locally applied patches:
Devel::PatchPerl 2.08
Built under freebsd
Compiled at Jun 30 2024 07:39:37
%ENV:
PERL5LIB="/home/cpansand/.cpan/build/2024101807/Perl6-Junction-1.60000-0/blib/arch:/home/cpansand/.cpan/build/2024101807/Perl6-Junction-1.60000-0/blib/lib:/home/cpansand/.cpan/build/2024101807/Types-DateTime-0.002-0/blib/arch:/home/cpansand/.cpan/build/2024101807/Types-DateTime-0.002-0/blib/lib:/home/cpansand/.cpan/build/2024101807/Throwable-SugarFactory-0.213360-0/blib/arch:/home/cpansand/.cpan/build/2024101807/Throwable-SugarFactory-0.213360-0/blib/lib:/home/cpansand/.cpan/build/2024101807/Syntax-Feature-Qs-1.0000-0/blib/arch:/home/cpansand/.cpan/build/2024101807/Syntax-Feature-Qs-1.0000-0/blib/lib:/home/cpansand/.cpan/build/2024101807/Devel-Declare-0.006022-0/blib/arch:/home/cpansand/.cpan/build/2024101807/Devel-Declare-0.006022-0/blib/lib"
PERL5OPT=""
PERL5_CPANPLUS_IS_RUNNING="36126"
PERL5_CPAN_IS_RUNNING="36126"
PERL5_CPAN_IS_RUNNING_IN_RECURSION="36113,36126"
PERLDOC="-MPod::Perldoc::ToTextOverstrike"
PERL_BATCH="yes"
PERL_CANARY_STABILITY_NOPROMPT="1"
PERL_CPAN_REPORTER_CONFIG="/var/tmp/cpansmoker-1023/2024101807/cpanreporter_000_config.ini"
PERL_EXTUTILS_AUTOINSTALL="--defaultdeps"
PERL_USE_UNSAFE_INC="1"
@INC:
/home/cpansand/.cpan/build/2024101807/Perl6-Junction-1.60000-0/blib/arch
/home/cpansand/.cpan/build/2024101807/Perl6-Junction-1.60000-0/blib/lib
/home/cpansand/.cpan/build/2024101807/Types-DateTime-0.002-0/blib/arch
/home/cpansand/.cpan/build/2024101807/Types-DateTime-0.002-0/blib/lib
/home/cpansand/.cpan/build/2024101807/Throwable-SugarFactory-0.213360-0/blib/arch
/home/cpansand/.cpan/build/2024101807/Throwable-SugarFactory-0.213360-0/blib/lib
/home/cpansand/.cpan/build/2024101807/Syntax-Feature-Qs-1.0000-0/blib/arch
/home/cpansand/.cpan/build/2024101807/Syntax-Feature-Qs-1.0000-0/blib/lib
/home/cpansand/.cpan/build/2024101807/Devel-Declare-0.006022-0/blib/arch
/home/cpansand/.cpan/build/2024101807/Devel-Declare-0.006022-0/blib/lib
/usr/perl5.28.3/lib/site_perl/5.28.3/arm64-freebsd
/usr/perl5.28.3/lib/site_perl/5.28.3
/usr/perl5.28.3/lib/5.28.3/arm64-freebsd
/usr/perl5.28.3/lib/5.28.3
.