Catalyst-DispatchType-Regex v5.90035 Perl 5 v5.21.10 amd64-freebsd

Status
Pass
From
Slaven Rezić (SREZIC)
Dist
Catalyst-DispatchType-Regex v5.90035
Platform
Perl 5 v5.21.10 amd64-freebsd
Date
2015-03-31 14:55:44
ID
0242baaa-d7b6-11e4-b27f-df8ce0bfc7aa
This distribution has been tested as part of the CPAN Testers
project, supporting the Perl programming language.  See
http://wiki.cpantesters.org/ for more information or email
questions to cpan-testers-discuss@perl.org


--
Dear Mark Grimes,

This is a computer-generated report for Catalyst-DispatchType-Regex-5.90035
on perl 5.21.10, created by CPAN-Reporter-1.2011.

Thank you for uploading your work to CPAN.  Congratulations!
All tests were successful.

Sections of this report:

    * Tester comments
    * Program output
    * Prerequisites
    * Environment and other context

------------------------------
TESTER COMMENTS
------------------------------

Additional comments from tester:

none provided

------------------------------
PROGRAM OUTPUT
------------------------------

Output from './Build test':

# Testing Catalyst::DispatchType::Regex 5.90035
t/01use.t .............................................. ok
DEPRECATION WARNING: The Regex dispatch type is deprecated.
  It is recommended that you convert Regex and LocalRegex 
  methods to Chained methods. at /home/cpansand/.cpan/build/Catalyst-DispatchType-Regex-5.90035-0y40CC/blib/lib/Catalyst/DispatchType/Regex.pm line 210.
t/aggregate/live_component_controller_action_regexp.t .. ok
DEPRECATION WARNING: The Regex dispatch type is deprecated.
  It is recommended that you convert Regex and LocalRegex 
  methods to Chained methods. at /home/cpansand/.cpan/build/Catalyst-DispatchType-Regex-5.90035-0y40CC/blib/lib/Catalyst/DispatchType/Regex.pm line 210.
t/aggregate/live_priorities.t .......................... ok
DEPRECATION WARNING: The Regex dispatch type is deprecated.
  It is recommended that you convert Regex and LocalRegex 
  methods to Chained methods. at /home/cpansand/.cpan/build/Catalyst-DispatchType-Regex-5.90035-0y40CC/blib/lib/Catalyst/DispatchType/Regex.pm line 210.
t/aggregate/unit_core_uri_for_action.t ................. ok
All tests successful.
Files=4, Tests=60, 15 wallclock secs ( 0.05 usr  0.05 sys +  9.31 cusr  0.96 csys = 10.38 CPU)
Result: PASS

------------------------------
PREREQUISITES
------------------------------

Prerequisite modules loaded:

requires:

    Module               Need    Have    
    -------------------- ------- --------
    Catalyst::Runtime    5.90060 5.90085 
    Moose                0       2.1403  
    Text::Balanced       0       2.03    
    Text::SimpleTable    0       2.03    

build_requires:

    Module               Need    Have    
    -------------------- ------- --------
    Data::Dumper         0       2.158   
    MRO::Compat          0       0.12    
    namespace::autoclean 0       0.24    
    Scalar::Util         0       1.41    
    Test::More           0       1.001014

configure_requires:

    Module               Need    Have    
    -------------------- ------- --------
    Module::Build        0.4004  0.4211  


------------------------------
ENVIRONMENT AND OTHER CONTEXT
------------------------------

Environment variables:

    DBIC_NO_WARN_BAD_PERL = 1
    LC_ALL = de_DE.ISO8859-1
    PATH = /usr/local/bin:/usr/bin:/bin:/usr/local/sbin:/usr/sbin:/sbin:/home/cpansand/bin/freebsd10.0:/home/cpansand/bin/sh:/home/cpansand/bin:/usr/games:/home/cpansand/devel:/home/eserte/src/srezic-misc/scripts
    PERL5LIB = /home/cpansand/.cpan/build/Business-Fixflo-0.02-nHNeuh/blib/arch:/home/cpansand/.cpan/build/Business-Fixflo-0.02-nHNeuh/blib/lib:/home/cpansand/.cpan/build/Mojolicious-Plugin-Form-0.005-c1LjPc/blib/arch:/home/cpansand/.cpan/build/Mojolicious-Plugin-Form-0.005-c1LjPc/blib/lib:/home/cpansand/.cpan/build/Mojolicious-Plugin-DBInfo-0.001-FxU3gx/blib/arch:/home/cpansand/.cpan/build/Mojolicious-Plugin-DBInfo-0.001-FxU3gx/blib/lib:/home/cpansand/.cpan/build/Webqq-Qun-1.2-47Java/blib/arch:/home/cpansand/.cpan/build/Webqq-Qun-1.2-47Java/blib/lib
    PERL5OPT = 
    PERL5_CPANPLUS_IS_RUNNING = 66049
    PERL5_CPAN_IS_RUNNING = 66049
    PERL5_CPAN_IS_RUNNING_IN_RECURSION = 66012,66049
    PERLDOC = -MPod::Perldoc::ToTextOverstrike
    PERL_BATCH = yes
    PERL_CPAN_REPORTER_CONFIG = /var/tmp/cpansmoker-1023/W4e7xUF0nT_config.ini
    PERL_EXTUTILS_AUTOINSTALL = --defaultdeps
    PERL_HTML_DISPLAY_CLASS = HTML::Display::Mozilla
    SHELL = /usr/local/bin/zsh
    TERM = screen
    TMPDIR = /var/tmp/cpansmoker-1023

Perl special variables (and OS-specific diagnostics, for MSWin32):

    $^X = /usr/perl5.21.10p/bin/perl5.21.10
    $UID/$EUID = 1023 / 1023
    $GID = 1023 1023
    $EGID = 1023 1023

Perl module toolchain versions installed:

    Module              Have    
    ------------------- --------
    CPAN                2.10    
    CPAN::Meta          2.150001
    Cwd                 3.55    
    ExtUtils::CBuilder  0.280221
    ExtUtils::Command   1.20    
    ExtUtils::Install   2.04    
    ExtUtils::MakeMaker 7.04    
    ExtUtils::Manifest  1.70    
    ExtUtils::ParseXS   3.27    
    File::Spec          3.55    
    JSON                2.90    
    JSON::PP            2.27300 
    Module::Build       0.4211  
    Module::Signature   n/a     
    Parse::CPAN::Meta   1.4414  
    Test::Harness       3.35    
    Test::More          1.001014
    YAML                1.14    
    YAML::Syck          1.29    
    version             0.9912  


--

Summary of my perl5 (revision 5 version 21 subversion 10) configuration:
   
  Platform:
    osname=freebsd, osvers=10.1-release, archname=amd64-freebsd
    uname='freebsd cvrsnica-freebsd-101.herceg.de 10.1-release freebsd 10.1-release #0 r274401: tue nov 11 21:02:49 utc 2014 root@releng1.nyi.freebsd.org:usrobjusrsrcsysgeneric amd64 '
    config_args='-ds -e -Dprefix=/usr/perl5.21.10p -Dusedevel -Dusemallocwrap=no'
    hint=recommended, useposix=true, d_sigaction=define
    useithreads=undef, usemultiplicity=undef
    use64bitint=define, use64bitall=define, uselongdouble=undef
    usemymalloc=n, bincompat5005=undef
  Compiler:
    cc='cc', ccflags ='-DHAS_FPSETMASK -DHAS_FLOATINGPOINT_H -fno-strict-aliasing -pipe -fstack-protector -I/usr/local/include -D_FORTIFY_SOURCE=2',
    optimize='-O',
    cppflags='-DHAS_FPSETMASK -DHAS_FLOATINGPOINT_H -fno-strict-aliasing -pipe -fstack-protector -I/usr/local/include'
    ccversion='', gccversion='4.2.1 Compatible FreeBSD Clang 3.4.1 (tags/RELEASE_34/dot1-final 208032)', gccosandvers=''
    intsize=4, longsize=8, ptrsize=8, doublesize=8, byteorder=12345678, doublekind=3
    d_longlong=define, longlongsize=8, d_longdbl=define, longdblsize=16, longdblkind=3
    ivtype='long', ivsize=8, nvtype='double', nvsize=8, Off_t='off_t', lseeksize=8
    alignbytes=8, prototype=define
  Linker and Libraries:
    ld='cc', ldflags ='-pthread -Wl,-E  -fstack-protector -L/usr/local/lib'
    libpth=/usr/lib /usr/local/lib /usr/include/clang/3.4.1 /usr/lib
    libs=-lpthread -lgdbm -lm -lcrypt -lutil -lc
    perllibs=-lpthread -lm -lcrypt -lutil -lc
    libc=, so=so, useshrplib=false, libperl=libperl.a
    gnulibc_version=''
  Dynamic Linking:
    dlsrc=dl_dlopen.xs, dlext=so, d_dlsymun=undef, ccdlflags=' '
    cccdlflags='-DPIC -fPIC', lddlflags='-shared  -L/usr/local/lib -fstack-protector'


Characteristics of this binary (from libperl): 
  Compile-time options: HAS_TIMES PERLIO_LAYERS PERL_DONT_CREATE_GVSV
                        PERL_HASH_FUNC_ONE_AT_A_TIME_HARD
                        PERL_NEW_COPY_ON_WRITE PERL_PRESERVE_IVUV
                        PERL_USE_DEVEL USE_64_BIT_ALL USE_64_BIT_INT
                        USE_LARGE_FILES USE_LOCALE USE_LOCALE_COLLATE
                        USE_LOCALE_CTYPE USE_LOCALE_NUMERIC USE_LOCALE_TIME
                        USE_PERLIO USE_PERL_ATOF
  Built under freebsd
  Compiled at Mar 20 2015 21:05:24
  %ENV:
    PERL5LIB="/home/cpansand/.cpan/build/Business-Fixflo-0.02-nHNeuh/blib/arch:/home/cpansand/.cpan/build/Business-Fixflo-0.02-nHNeuh/blib/lib:/home/cpansand/.cpan/build/Mojolicious-Plugin-Form-0.005-c1LjPc/blib/arch:/home/cpansand/.cpan/build/Mojolicious-Plugin-Form-0.005-c1LjPc/blib/lib:/home/cpansand/.cpan/build/Mojolicious-Plugin-DBInfo-0.001-FxU3gx/blib/arch:/home/cpansand/.cpan/build/Mojolicious-Plugin-DBInfo-0.001-FxU3gx/blib/lib:/home/cpansand/.cpan/build/Webqq-Qun-1.2-47Java/blib/arch:/home/cpansand/.cpan/build/Webqq-Qun-1.2-47Java/blib/lib"
    PERL5OPT=""
    PERL5_CPANPLUS_IS_RUNNING="66049"
    PERL5_CPAN_IS_RUNNING="66049"
    PERL5_CPAN_IS_RUNNING_IN_RECURSION="66012,66049"
    PERLDOC="-MPod::Perldoc::ToTextOverstrike"
    PERL_BATCH="yes"
    PERL_CPAN_REPORTER_CONFIG="/var/tmp/cpansmoker-1023/W4e7xUF0nT_config.ini"
    PERL_EXTUTILS_AUTOINSTALL="--defaultdeps"
    PERL_HTML_DISPLAY_CLASS="HTML::Display::Mozilla"
  @INC:
    /home/cpansand/.cpan/build/Business-Fixflo-0.02-nHNeuh/blib/arch
    /home/cpansand/.cpan/build/Business-Fixflo-0.02-nHNeuh/blib/lib
    /home/cpansand/.cpan/build/Mojolicious-Plugin-Form-0.005-c1LjPc/blib/arch
    /home/cpansand/.cpan/build/Mojolicious-Plugin-Form-0.005-c1LjPc/blib/lib
    /home/cpansand/.cpan/build/Mojolicious-Plugin-DBInfo-0.001-FxU3gx/blib/arch
    /home/cpansand/.cpan/build/Mojolicious-Plugin-DBInfo-0.001-FxU3gx/blib/lib
    /home/cpansand/.cpan/build/Webqq-Qun-1.2-47Java/blib/arch
    /home/cpansand/.cpan/build/Webqq-Qun-1.2-47Java/blib/lib
    /usr/perl5.21.10p/lib/site_perl/5.21.10/amd64-freebsd
    /usr/perl5.21.10p/lib/site_perl/5.21.10
    /usr/perl5.21.10p/lib/5.21.10/amd64-freebsd
    /usr/perl5.21.10p/lib/5.21.10
    .