Carp-Source v1.101420 Perl 5 v5.14.3 i686-linux-thread-multi

Status
Pass
From
Kevin William Henwood
Dist
Carp-Source v1.101420
Platform
Perl 5 v5.14.3 i686-linux-thread-multi
Date
2013-04-20 16:04:41
ID
022f03be-a9d4-11e2-a29b-d53fdd236785
This distribution has been tested as part of the CPAN Testers
project, supporting the Perl programming language.  See
http://wiki.cpantesters.org/ for more information or email
questions to cpan-testers-discuss@perl.org


--
Dear Marcel Gruenauer,

This is a computer-generated report for Carp-Source-1.101420
on perl 5.14.3, created by CPAN-Reporter-1.2009.

Thank you for uploading your work to CPAN.  Congratulations!
All tests were successful.

Sections of this report:

    * Tester comments
    * Program output
    * Prerequisites
    * Environment and other context

------------------------------
TESTER COMMENTS
------------------------------

Additional comments from tester:

this report is from an automated smoke testing program
and was not reviewed by a human for accuracy

------------------------------
PROGRAM OUTPUT
------------------------------

Output from '/usr/bin/make test':

PERL_DL_NONLAZY=1 /opt/ActivePerl-5.14/bin/perl-static "-MExtUtils::Command::MM" "-e" "test_harness(0, 'blib/lib', 'blib/arch')" t/*.t
[09:03:56] t/00-compile.t ............... ok      901 ms
# Testing with Perl 5.014003, /opt/ActivePerl-5.14/bin/perl-static
#     Carp version is 1.26
#     English version is 1.04
#     Exporter version is 5.68
#     ExtUtils::MakeMaker version is 6.64
#     File::Find version is 1.19
#     File::Temp version is 0.23
#     Scalar::Util version is 1.27
#     Term::ANSIColor version is 4.02
#     Test::Differences version is 0.61
#     Test::More version is 0.98
#     utf8 version is 1.09
[09:03:57] t/000-report-versions.t ...... ok     1158 ms
[09:03:58] t/01_context.t ............... ok      227 ms
[09:03:58] t/02_with_options.t .......... ok      218 ms
[09:03:58] t/author-critic.t ............ skipped: Test::Perl::Critic required to criticise code
[09:03:58] t/release-check-changes.t .... skipped: Test::CheckChanges required for testing changes
[09:03:59] t/release-dist-manifest.t .... skipped: Test::DistManifest required for testing the manifest
[09:03:59] t/release-distmeta.t ......... ok      214 ms
[09:03:59] t/release-has-version.t ...... skipped: Test::HasVersion required for testing version numbers
[09:03:59] t/release-kwalitee.t ......... skipped: Test::Kwalitee required for testing kwalitee
[09:04:16] t/release-minimum-version.t .. ok    16558 ms
# Carp::Source::Always: no public symbols defined
[09:04:17] t/release-pod-coverage.t ..... ok     1217 ms
[09:04:17] t/release-pod-spell.t ........ skipped: Pod::Wordlist:hanekomu required for testing POD spelling
[09:04:18] t/release-pod-syntax.t ....... ok      587 ms
[09:04:18] t/release-portability.t ...... ok      529 ms
[09:04:19] t/release-synopsis.t ......... ok      544 ms
[09:04:19] t/release-unused-vars.t ...... ok      596 ms
[09:04:19]
All tests successful.
Files=17, Tests=46, 24 wallclock secs ( 0.16 usr  0.03 sys +  9.65 cusr  0.40 csys = 10.24 CPU)
Result: PASS

------------------------------
PREREQUISITES
------------------------------

Prerequisite modules loaded:

requires:

    Module              Need Have
    ------------------- ---- ----
    Exporter            0    5.68
    Term::ANSIColor     0    4.02
    utf8                0    1.09

build_requires:

    Module              Need Have
    ------------------- ---- ----
    Carp                0    1.26
    English             0    1.04
    File::Find          0    1.19
    File::Temp          0    0.23
    Scalar::Util        0    1.27
    Test::Differences   0    0.61
    Test::More          0.94 0.98

configure_requires:

    Module              Need Have
    ------------------- ---- ----
    ExtUtils::MakeMaker 6.31 6.64


------------------------------
ENVIRONMENT AND OTHER CONTEXT
------------------------------

Environment variables:

    AUTHOR_TESTING = 1
    AUTOMATED_TESTING = 1
    LANG = en_US.UTF-8
    PATH = /usr/lib/qt-3.3/bin:/usr/kerberos/sbin:/usr/kerberos/bin:/usr/lib/ccache:/usr/local/sbin:/usr/local/bin:/sbin:/bin:/usr/sbin:/usr/bin:/usr/X11R6/bin:/usr/lib/alliance/bin:/root/bin:/usr/lib/alliance/bin
    PERL5LIB = 
    PERL5OPT = 
    PERL5_CPANPLUS_IS_RUNNING = 7906
    PERL5_CPAN_IS_RUNNING = 7906
    PERL5_CPAN_IS_RUNNING_IN_RECURSION = 3717,7906
    PERL_ANYEVENT_MODEL = POE
    PERL_ANYEVENT_VERBOSE = 1
    PERL_MM_USE_DEFAULT = 1
    SHELL = /bin/bash
    TERM = xterm

Perl special variables (and OS-specific diagnostics, for MSWin32):

    $^X = /opt/ActivePerl-5.14/bin/perl-static
    $UID/$EUID = 0 / 0
    $GID = 0 0 1 2 3 4 6 10
    $EGID = 0 0 1 2 3 4 6 10

Perl module toolchain versions installed:

    Module              Have    
    ------------------- --------
    CPAN                1.99_51 
    CPAN::Meta          2.130880
    Cwd                 3.40    
    ExtUtils::CBuilder  0.280205
    ExtUtils::Command   1.17    
    ExtUtils::Install   1.54    
    ExtUtils::MakeMaker 6.64    
    ExtUtils::Manifest  1.61    
    ExtUtils::ParseXS   3.18    
    File::Spec          3.40    
    JSON                2.53    
    JSON::PP            2.27202 
    Module::Build       0.4004  
    Module::Signature   n/a     
    Parse::CPAN::Meta   1.4404  
    Test::Harness       3.26    
    Test::More          0.98    
    YAML                0.84    
    YAML::Syck          1.25    
    version             0.9902  


--

Summary of my perl5 (revision 5 version 14 subversion 3) configuration:
   
  Platform:
    osname=linux, osvers=2.6.17-1.2142_fc4, archname=i686-linux-thread-multi
    uname='linux perl-linux-vm 2.6.17-1.2142_fc4 #1 tue jul 11 22:41:14 edt 2006 i686 i686 i386 gnulinux '
    config_args='-ders -Dcc=gcc -Dusethreads -Duseithreads -Uinstallusrbinperl -Ulocincpth= -Uloclibpth= -Accflags=-DUSE_SITECUSTOMIZE -Duselargefiles -Accflags=-DPERL_RELOCATABLE_INCPUSH -Accflags=-fno-merge-constants -Dprefix=/opt/ActivePerl-5.14 -Dprivlib=/opt/ActivePerl-5.14/lib -Darchlib=/opt/ActivePerl-5.14/lib -Dsiteprefix=/opt/ActivePerl-5.14/site -Dsitelib=/opt/ActivePerl-5.14/site/lib -Dsitearch=/opt/ActivePerl-5.14/site/lib -Dsed=/bin/sed -Duseshrplib -Dcf_by=ActiveState -Dcf_email=support@ActiveState.com'
    hint=recommended, useposix=true, d_sigaction=define
    useithreads=define, usemultiplicity=define
    useperlio=define, d_sfio=undef, uselargefiles=define, usesocks=undef
    use64bitint=undef, use64bitall=undef, uselongdouble=undef
    usemymalloc=n, bincompat5005=undef
  Compiler:
    cc='gcc', ccflags ='-D_REENTRANT -D_GNU_SOURCE -DUSE_SITECUSTOMIZE -DPERL_RELOCATABLE_INCPUSH -fno-merge-constants -fno-strict-aliasing -pipe -D_LARGEFILE_SOURCE -D_FILE_OFFSET_BITS=64',
    optimize='-O2',
    cppflags='-D_REENTRANT -D_GNU_SOURCE -DUSE_SITECUSTOMIZE -DPERL_RELOCATABLE_INCPUSH -fno-merge-constants -fno-strict-aliasing -pipe'
    ccversion='', gccversion='4.0.2 20051125 (Red Hat 4.0.2-8)', gccosandvers=''
    intsize=4, longsize=4, ptrsize=4, doublesize=8, byteorder=1234
    d_longlong=define, longlongsize=8, d_longdbl=define, longdblsize=12
    ivtype='long', ivsize=4, nvtype='double', nvsize=8, Off_t='off_t', lseeksize=8
    alignbytes=4, prototype=define
  Linker and Libraries:
    ld='gcc', ldflags =''
    libpth=/lib /usr/lib /usr/local/lib
    libs=-lnsl -lgdbm -ldb -ldl -lm -lcrypt -lutil -lpthread -lc
    perllibs=-lnsl -ldl -lm -lcrypt -lutil -lpthread -lc
    libc=/lib/libc-2.3.6.so, so=so, useshrplib=true, libperl=libperl.so
    gnulibc_version='2.3.6'
  Dynamic Linking:
    dlsrc=dl_dlopen.xs, dlext=so, d_dlsymun=undef, ccdlflags='-Wl,-E -Wl,-rpath,/opt/ActivePerl-5.14/lib/CORE'
    cccdlflags='-fPIC', lddlflags='-shared -O2'


Characteristics of this binary (from libperl): 
  Compile-time options: MULTIPLICITY PERL_DONT_CREATE_GVSV
                        PERL_IMPLICIT_CONTEXT PERL_MALLOC_WRAP
                        PERL_PRESERVE_IVUV USE_ITHREADS USE_LARGE_FILES
                        USE_PERLIO USE_PERL_ATOF USE_REENTRANT_API
                        USE_SITECUSTOMIZE
  Locally applied patches:
	ActivePerl Build 1404 [296513]
	ca8398a sv.c: S_anonymise_cv_maybe UTF8 cleanup.
  Built under linux
  Compiled at Dec 18 2012 14:30:05
  %ENV:
    PERL5LIB=""
    PERL5OPT=""
    PERL5_CPANPLUS_IS_RUNNING="7906"
    PERL5_CPAN_IS_RUNNING="7906"
    PERL5_CPAN_IS_RUNNING_IN_RECURSION="3717,7906"
    PERL_ANYEVENT_MODEL="POE"
    PERL_ANYEVENT_VERBOSE="1"
    PERL_MM_USE_DEFAULT="1"
  @INC:
    /opt/ActivePerl-5.14/site/lib
    /opt/ActivePerl-5.14/lib
    .