Class-EHierarchy v0.93 Perl 5 v5.12.5 darwin-2level
- Status
- Pass
- From
- Nigel Horne
- Dist
-
Class-EHierarchy v0.93
- Platform
- Perl 5 v5.12.5 darwin-2level
- Date
- 2016-09-22 13:53:57
- ID
- 0212942c-80cc-11e6-ad6c-1005c9d0f03a
This distribution has been tested as part of the CPAN Testers
project, supporting the Perl programming language. See
http://wiki.cpantesters.org/ for more information or email
questions to cpan-testers-discuss@perl.org
--
Dear Arthur Corliss,
This is a computer-generated report for Class-EHierarchy-0.93
on perl 5.12.5, created by CPAN-Reporter-1.2018.
Thank you for uploading your work to CPAN. Congratulations!
All tests were successful.
Sections of this report:
* Tester comments
* Program output
* Prerequisites
* Environment and other context
------------------------------
TESTER COMMENTS
------------------------------
Additional comments from tester:
this report is from an automated smoke testing program
and was not reviewed by a human for accuracy
------------------------------
PROGRAM OUTPUT
------------------------------
Output from '/sw/bin/make test':
PERL_DL_NONLAZY=1 "/Users/hornenj/perl5/perlbrew/perls/perl-5.12.5/bin/perl" "-MExtUtils::Command::MM" "-MTest::Harness" "-e" "undef *Test::Harness::Switches; test_harness(0, 'blib/lib', 'blib/arch')" t/*.t
t/01_ini.t ............ ok
CEH Objects: 4
CEH Obj #0: undef undef Class::EHierarchy ARRAY(0x7f9b3b811d08) ARRAY(0x7f9b3b91e5d8) Class::EHierarchy0 HASH(0x7f9b3b91e5f0)
CEH Obj #1: undef undef Class::EHierarchy ARRAY(0x7f9b3b91e740) ARRAY(0x7f9b3b91e758) Class::EHierarchy1 HASH(0x7f9b3b91f230)
CEH Obj #2: undef Class::EHierarchy=SCALAR(0x7f9b3b91e680) Class::EHierarchy ARRAY(0x7f9b3b91e8d8) ARRAY(0x7f9b3b91e8f0) Class::EHierarchy2 HASH(0x7f9b3b91e5f0)
CEH Obj #3: undef undef Class::EHierarchy ARRAY(0x7f9b3b91ea70) ARRAY(0x7f9b3b91ea88) Class::EHierarchy0 HASH(0x7f9b3b91eae8)
CEH Objects: 5
CEH Obj #0: undef undef Class::EHierarchy ARRAY(0x7f9b3b931c58) ARRAY(0x7f9b3b91ea28) Class::EHierarchy0 HASH(0x7f9b3b91fdd0)
CEH Obj #1: undef undef Class::EHierarchy ARRAY(0x7f9b3b91f8c0) ARRAY(0x7f9b3b91fcf8) Class::EHierarchy0 HASH(0x7f9b3b91e6b0)
CEH Obj #2: undef undef Class::EHierarchy ARRAY(0x7f9b3b91e8d8) ARRAY(0x7f9b3b91e8f0) Class::EHierarchy2 HASH(0x7f9b3b91eea8)
CEH Obj #3: unused
CEH Obj #4: undef Class::EHierarchy=SCALAR(0x7f9b3b91e5d8) Bar ARRAY(0x7f9b3b91ff38) ARRAY(0x7f9b3b9201c0) Bar0 HASH(0x7f9b3b91e6b0)
CEH Objects: 5
CEH Obj #0: undef undef Class::EHierarchy ARRAY(0x7f9b3b931c58) ARRAY(0x7f9b3b91ea28) Class::EHierarchy0 HASH(0x7f9b3b91fdd0)
CEH Obj #1: undef undef Class::EHierarchy ARRAY(0x7f9b3b91f8c0) ARRAY(0x7f9b3b91fcf8) Class::EHierarchy0 HASH(0x7f9b3b91e6b0)
CEH Obj #2: undef undef Class::EHierarchy ARRAY(0x7f9b3b91e8d8) ARRAY(0x7f9b3b91e8f0) Class::EHierarchy2 HASH(0x7f9b3b91eea8)
CEH Obj #3: undef undef Bar ARRAY(0x7f9b3b91e260) ARRAY(0x7f9b3b811cd8) Class::EHierarchy0 HASH(0x7f9b3b91ea88)
CEH Obj #4: undef Class::EHierarchy=SCALAR(0x7f9b3b91e5d8) Bar ARRAY(0x7f9b3b91ff38) ARRAY(0x7f9b3b9201c0) Bar0 HASH(0x7f9b3b91e6b0)
t/02_relationships.t .. ok
t/03_properties.t ..... ok
Argument "foo" isn't numeric in array element at /Users/hornenj/.cpan/build/Class-EHierarchy-0.93-BtQ0vs/blib/lib/Class/EHierarchy.pm line 1234.
Argument "bar" isn't numeric in array element at /Users/hornenj/.cpan/build/Class-EHierarchy-0.93-BtQ0vs/blib/lib/Class/EHierarchy.pm line 1234.
t/04_array_methods.t .. ok
t/05_hash_methods.t ... ok
t/06_methods.t ........ ok
t/07_loadProps.t ...... ok
t/08_loadMethods.t .... ok
t/09_aliases.t ........ ok
t/98_pod_coverage.t ... ok
t/99_pod.t ............ ok
All tests successful.
Files=11, Tests=353, 1 wallclock secs ( 0.04 usr 0.02 sys + 0.33 cusr 0.06 csys = 0.45 CPU)
Result: PASS
------------------------------
PREREQUISITES
------------------------------
Prerequisite modules loaded:
build_requires:
Module Need Have
------------------- ---- ----
ExtUtils::MakeMaker 0 7.22
configure_requires:
Module Need Have
------------------- ---- ----
ExtUtils::MakeMaker 0 7.22
------------------------------
ENVIRONMENT AND OTHER CONTEXT
------------------------------
Environment variables:
AUTOMATED_TESTING = 1
LANG = en_US.UTF-8
LC_ALL = POSIX
LDFLAGS =
PATH = /Users/hornenj/perl5/perlbrew/bin:/Users/hornenj/perl5/perlbrew/perls/perl-5.12.5/bin:/Users/hornenj/perl5/perlbrew/bin:/Users/hornenj/perl5/perlbrew/perls/perl-5.24.0/bin:/Users/hornenj/bin:/sw/lib/perl5/ExtUtils:/sw/bin:/am/ncbiapdata/bin:/usr/bin:/bin:/usr/X11R6/bin:/netopt/ncbi_tools/bin:/usr/local/ncbi/blast/bin:/net/traces01.be-md.ncbi.nlm.nih.gov/trace_software/vdb/mac/release/x86_64/bin
PERL5LIB =
PERL5OPT =
PERL5_CPANPLUS_IS_RUNNING = 72257
PERL5_CPAN_IS_RUNNING = 72257
PERL5_MINISMOKEBOX = 0.58
PERLBREW_BASHRC_VERSION = 0.76
PERLBREW_HOME = /Users/hornenj/.perlbrew
PERLBREW_LIB =
PERLBREW_MANPATH = /Users/hornenj/perl5/perlbrew/perls/perl-5.12.5/man
PERLBREW_PATH = /Users/hornenj/perl5/perlbrew/bin:/Users/hornenj/perl5/perlbrew/perls/perl-5.12.5/bin
PERLBREW_PERL = perl-5.12.5
PERLBREW_ROOT = /Users/hornenj/perl5/perlbrew
PERLBREW_VERSION = 0.76
PERL_EXTUTILS_AUTOINSTALL = --defaultdeps
PERL_LOCAL_LIB_ROOT =
PERL_MM_USE_DEFAULT = 1
SHELL = /bin/bash
TERM = xterm-256color
TMPDIR = /var/folders/pz/pd7y1qjs6s3cbk170cw50fjc000c61/T/
ac_cv_path_INTLTOOL_PERL = /usr/bin/perl
Perl special variables (and OS-specific diagnostics, for MSWin32):
$^X = /Users/hornenj/perl5/perlbrew/perls/perl-5.12.5/bin/perl
$UID/$EUID = 12481 / 12481
$GID = 14 14 5344 37191 527 37223 241
$EGID = 14 14 5344 37191 527 37223 241
Perl module toolchain versions installed:
Module Have
------------------- --------
CPAN 2.10
CPAN::Meta 2.150005
Cwd 3.47
ExtUtils::CBuilder 0.280224
ExtUtils::Command 7.22
ExtUtils::Install 2.04
ExtUtils::MakeMaker 7.22
ExtUtils::Manifest 1.70
ExtUtils::ParseXS 3.30
File::Spec 3.47
JSON 2.90
JSON::PP 2.27400
Module::Build 0.4214
Module::Signature n/a
Parse::CPAN::Meta 1.4422
Test::Harness 3.36
Test::More 1.302030
YAML 1.15
YAML::Syck 1.29
version 0.9912
--
Summary of my perl5 (revision 5 version 12 subversion 5) configuration:
Platform:
osname=darwin, osvers=12.2.1, archname=darwin-2level
uname='darwin ncbimac2008.ncbi.nlm.nih.gov 12.2.1 darwin kernel version 12.2.1: thu oct 18 12:13:47 pdt 2012; root:xnu-2050.20.9~1release_x86_64 x86_64 '
config_args='-de -Dprefix=/Users/hornenj/perl5/perlbrew/perls/perl-5.12.5'
hint=recommended, useposix=true, d_sigaction=define
useithreads=undef, usemultiplicity=undef
useperlio=define, d_sfio=undef, uselargefiles=define, usesocks=undef
use64bitint=define, use64bitall=define, uselongdouble=undef
usemymalloc=n, bincompat5005=undef
Compiler:
cc='cc', ccflags ='-fno-common -DPERL_DARWIN -no-cpp-precomp -fno-strict-aliasing -pipe -fstack-protector',
optimize='-O3',
cppflags='-no-cpp-precomp -fno-common -DPERL_DARWIN -no-cpp-precomp -fno-strict-aliasing -pipe -fstack-protector'
ccversion='', gccversion='4.2.1 Compatible Apple LLVM 4.2 (clang-425.0.24)', gccosandvers=''
intsize=4, longsize=8, ptrsize=8, doublesize=8, byteorder=12345678
d_longlong=define, longlongsize=8, d_longdbl=define, longdblsize=16
ivtype='long', ivsize=8, nvtype='double', nvsize=8, Off_t='off_t', lseeksize=8
alignbytes=8, prototype=define
Linker and Libraries:
ld='env MACOSX_DEPLOYMENT_TARGET=10.3 cc', ldflags =' -fstack-protector'
libpth=/usr/lib
libs=-ldbm -ldl -lm -lutil -lc
perllibs=-ldl -lm -lutil -lc
libc=, so=dylib, useshrplib=false, libperl=libperl.a
gnulibc_version=''
Dynamic Linking:
dlsrc=dl_dlopen.xs, dlext=bundle, d_dlsymun=undef, ccdlflags=' '
cccdlflags=' ', lddlflags=' -bundle -undefined dynamic_lookup -fstack-protector'
Characteristics of this binary (from libperl):
Compile-time options: PERL_DONT_CREATE_GVSV PERL_MALLOC_WRAP USE_64_BIT_ALL
USE_64_BIT_INT USE_LARGE_FILES USE_PERLIO
USE_PERL_ATOF
Built under darwin
Compiled at Mar 5 2013 11:08:14
%ENV:
PERL5LIB=""
PERL5OPT=""
PERL5_CPANPLUS_IS_RUNNING="72257"
PERL5_CPAN_IS_RUNNING="72257"
PERL5_MINISMOKEBOX="0.58"
PERLBREW_BASHRC_VERSION="0.76"
PERLBREW_HOME="/Users/hornenj/.perlbrew"
PERLBREW_LIB=""
PERLBREW_MANPATH="/Users/hornenj/perl5/perlbrew/perls/perl-5.12.5/man"
PERLBREW_PATH="/Users/hornenj/perl5/perlbrew/bin:/Users/hornenj/perl5/perlbrew/perls/perl-5.12.5/bin"
PERLBREW_PERL="perl-5.12.5"
PERLBREW_ROOT="/Users/hornenj/perl5/perlbrew"
PERLBREW_VERSION="0.76"
PERL_EXTUTILS_AUTOINSTALL="--defaultdeps"
PERL_LOCAL_LIB_ROOT=""
PERL_MM_USE_DEFAULT="1"
@INC:
/Users/hornenj/perl5/perlbrew/perls/perl-5.12.5/lib/site_perl/5.12.5/darwin-2level
/Users/hornenj/perl5/perlbrew/perls/perl-5.12.5/lib/site_perl/5.12.5
/Users/hornenj/perl5/perlbrew/perls/perl-5.12.5/lib/5.12.5/darwin-2level
/Users/hornenj/perl5/perlbrew/perls/perl-5.12.5/lib/5.12.5
.