String-Palindrome v2.000001 Perl 5 v5.16.3 MSWin32-x86-multi-thread

Status
Pass
From
Michiel Beijen
Dist
String-Palindrome v2.000001
Platform
Perl 5 v5.16.3 MSWin32-x86-multi-thread
Date
2013-05-21 02:41:19
ID
02114f58-6cdf-1014-bf14-9ad892c9f027
This distribution has been tested as part of the CPAN Testers
project, supporting the Perl programming language.  See
http://wiki.cpantesters.org/ for more information or email
questions to cpan-testers-discuss@perl.org


--
Dear Adam Lesperance,

This is a computer-generated report for String-Palindrome-2.000001
on perl 5.16.3, created by CPAN-Reporter-1.2010.

Thank you for uploading your work to CPAN.  Congratulations!
All tests were successful.

Sections of this report:

    * Tester comments
    * Program output
    * Prerequisites
    * Environment and other context

------------------------------
TESTER COMMENTS
------------------------------

Additional comments from tester:

this report is from an automated smoke testing program
and was not reviewed by a human for accuracy

------------------------------
PROGRAM OUTPUT
------------------------------

Output from 'C:\Perl\bin\perl.exe ./Build test':

Set up gcc environment - 3.4.5 (mingw-vista special r3)
Set up gcc environment - 3.4.5 (mingw-vista special r3)
Set up gcc environment - 3.4.5 (mingw-vista special r3)
t/00-compile.t .................. ok
# 
# 
# perl: v5.16.3 (wanted 5.008) on MSWin32 from C:\Perl\bin\perl.exe
# 
# Data::Dumper                                  => 2.145      (want any version)
# English                                       => 1.05       (want any version)
# Exporter                                      => 5.67       (want any version)
# File::Find                                    => 1.20       (want any version)
# File::Temp                                    => 0.2301     (want any version)
# Module::Build                                 => 0.4005     (want 0.3601) 
# Test::More                                    => 0.98       (want 0.88)   
# utf8                                          => 1.09       (want any version)
# vars                                          => 1.02       (want any version)
# 
# Thanks for using my code.  I hope it works for you.
# If not, please try and include this output in the bug report.
# That will help me reproduce the issue and solve you problem.
# 
t/000-report-versions-tiny.t .... ok
t/01-func_test.t ................ ok
t/author-critic.t ............... skipped: these tests are for testing by the author
t/release-common_spelling.t ..... skipped: these tests are for release candidate testing
t/release-consistent-version.t .. skipped: these tests are for release candidate testing
t/release-cpan-changes.t ........ skipped: these tests are for release candidate testing
t/release-dist-manifest.t ....... skipped: these tests are for release candidate testing
t/release-distmeta.t ............ skipped: these tests are for release candidate testing
t/release-eol.t ................. skipped: these tests are for release candidate testing
t/release-has-version.t ......... skipped: these tests are for release candidate testing
t/release-kwalitee.t ............ skipped: these tests are for release candidate testing
t/release-minimum-version.t ..... skipped: these tests are for release candidate testing
t/release-no-tabs.t ............. skipped: these tests are for release candidate testing
t/release-pod-coverage.t ........ skipped: these tests are for release candidate testing
t/release-pod-syntax.t .......... skipped: these tests are for release candidate testing
t/release-portability.t ......... skipped: these tests are for release candidate testing
t/release-synopsis.t ............ skipped: these tests are for release candidate testing
t/release-unused-vars.t ......... skipped: these tests are for release candidate testing
All tests successful.
Files=19, Tests=81,  2 wallclock secs ( 0.11 usr +  0.06 sys =  0.17 CPU)
Result: PASS

------------------------------
PREREQUISITES
------------------------------

Prerequisite modules loaded:

requires:

    Module        Need   Have    
    ------------- ------ --------
    Exporter      0      5.67    
    perl          5.008  5.016003
    utf8          0      1.09    
    vars          0      1.02    

build_requires:

    Module        Need   Have    
    ------------- ------ --------
    Data::Dumper  0      2.145   
    English       0      1.05    
    File::Find    0      1.20    
    File::Temp    0      0.2301  
    Module::Build 0.3601 0.4005  
    Test::More    0.88   0.98    

configure_requires:

    Module        Need   Have    
    ------------- ------ --------
    Module::Build 0.3601 0.4005  


------------------------------
ENVIRONMENT AND OTHER CONTEXT
------------------------------

Environment variables:

    AUTOMATED_TESTING = 1
    COMSPEC = C:\windows\system32\cmd.exe
    NUMBER_OF_PROCESSORS = 4
    PATH = C:\Perl\site\bin;C:\Perl\bin;C:\Program Files\Common Files\Microsoft Shared\Windows Live;C:\Program Files (x86)\Common Files\Microsoft Shared\Windows Live;C:\Program Files (x86)\Intel\iCLS Client\;C:\Program Files\Intel\iCLS Client\;C:\windows\system32;C:\windows;C:\windows\System32\Wbem;C:\windows\System32\WindowsPowerShell\v1.0\;C:\Program Files\Intel\Intel(R) Management Engine Components\DAL;C:\Program Files\Intel\Intel(R) Management Engine Components\IPT;C:\Program Files (x86)\Intel\Intel(R) Management Engine Components\DAL;C:\Program Files (x86)\Intel\Intel(R) Management Engine Components\IPT;C:\Program Files (x86)\Windows Live\Shared;C:\Program Files\MySQL\MySQL Server 5.5\bin
    PERL5LIB = 
    PERL5OPT = 
    PERL5_CPANPLUS_IS_RUNNING = 8412
    PERL5_CPAN_IS_RUNNING = 8412
    PERL5_CPAN_IS_RUNNING_IN_RECURSION = 8092,8412
    PERL_CR_SMOKER_CURRENT = String-Palindrome-2.000001
    PERL_EXTUTILS_AUTOINSTALL = --defaultdeps
    PERL_MM_USE_DEFAULT = 1
    PROCESSOR_IDENTIFIER = Intel64 Family 6 Model 42 Stepping 7, GenuineIntel
    TEMP = C:\Users\training\AppData\Local\Temp

Perl special variables (and OS-specific diagnostics, for MSWin32):

    $^X = C:\Perl\bin\perl.exe
    $UID/$EUID = 0 / 0
    $GID = 0
    $EGID = 0
    Win32::GetOSName = Win7
    Win32::GetOSVersion = Service Pack 1, 6, 1, 7601, 2, 1, 0, 768, 1
    Win32::FsType = NTFS
    Win32::IsAdminUser = 0

Perl module toolchain versions installed:

    Module              Have    
    ------------------- --------
    CPAN                2.00    
    CPAN::Meta          2.130880
    Cwd                 3.40    
    ExtUtils::CBuilder  0.280205
    ExtUtils::Command   1.17    
    ExtUtils::Install   1.54    
    ExtUtils::MakeMaker 6.66    
    ExtUtils::Manifest  1.61    
    ExtUtils::ParseXS   3.18    
    File::Spec          3.40    
    JSON                2.57    
    JSON::PP            2.27200 
    Module::Build       0.4005  
    Module::Signature   0.70    
    Parse::CPAN::Meta   1.4404  
    Test::Harness       3.26    
    Test::More          0.98    
    YAML                0.81    
    YAML::Syck          1.25    
    version             0.9902  


--

Summary of my perl5 (revision 5 version 16 subversion 3) configuration:
   
  Platform:
    osname=MSWin32, osvers=5.2, archname=MSWin32-x86-multi-thread
    uname=''
    config_args='undef'
    hint=recommended, useposix=true, d_sigaction=undef
    useithreads=define, usemultiplicity=define
    useperlio=define, d_sfio=undef, uselargefiles=define, usesocks=undef
    use64bitint=undef, use64bitall=undef, uselongdouble=undef
    usemymalloc=n, bincompat5005=undef
  Compiler:
    cc='C:\Perl\site\bin\gcc.exe', ccflags ='-DNDEBUG -DWIN32 -D_CONSOLE -DNO_STRICT -DPERL_TEXTMODE_SCRIPTS -DUSE_SITECUSTOMIZE -DPERL_IMPLICIT_CONTEXT -DPERL_IMPLICIT_SYS -DUSE_PERLIO -D_USE_32BIT_TIME_T -DHASATTRIBUTE -fno-strict-aliasing -mms-bitfields',
    optimize='-O2',
    cppflags='-DWIN32'
    ccversion='', gccversion='3.4.5 (mingw-vista special r3)', gccosandvers=''
    intsize=4, longsize=4, ptrsize=4, doublesize=8, byteorder=1234
    d_longlong=undef, longlongsize=8, d_longdbl=define, longdblsize=8
    ivtype='long', ivsize=4, nvtype='double', nvsize=8, Off_t='__int64', lseeksize=8
    alignbytes=8, prototype=define
  Linker and Libraries:
    ld='C:\Perl\site\bin\g++.exe', ldflags ='-L"C:\Perl\lib\CORE"'
    libpth=\lib
    libs=-lkernel32 -luser32 -lgdi32 -lwinspool -lcomdlg32 -ladvapi32 -lshell32 -lole32 -loleaut32 -lnetapi32 -luuid -lws2_32 -lmpr -lwinmm -lversion -lodbc32 -lodbccp32 -lcomctl32 -lmsvcrt
    perllibs=-lkernel32 -luser32 -lgdi32 -lwinspool -lcomdlg32 -ladvapi32 -lshell32 -lole32 -loleaut32 -lnetapi32 -luuid -lws2_32 -lmpr -lwinmm -lversion -lodbc32 -lodbccp32 -lcomctl32 -lmsvcrt
    libc=msvcrt.lib, so=dll, useshrplib=true, libperl=perl516.lib
    gnulibc_version=''
  Dynamic Linking:
    dlsrc=dl_win32.xs, dlext=dll, d_dlsymun=undef, ccdlflags=' '
    cccdlflags=' ', lddlflags='-mdll -L"C:\Perl\lib\CORE"'


Characteristics of this binary (from libperl): 
  Compile-time options: HAS_TIMES HAVE_INTERP_INTERN MULTIPLICITY
                        PERLIO_LAYERS PERL_DONT_CREATE_GVSV
                        PERL_IMPLICIT_CONTEXT PERL_IMPLICIT_SYS
                        PERL_MALLOC_WRAP PERL_PRESERVE_IVUV PL_OP_SLAB_ALLOC
                        USE_ITHREADS USE_LARGE_FILES USE_LOCALE
                        USE_LOCALE_COLLATE USE_LOCALE_CTYPE
                        USE_LOCALE_NUMERIC USE_PERLIO USE_PERL_ATOF
                        USE_SITECUSTOMIZE
  Locally applied patches:
	ActivePerl Build 1603 [296746]
  Built under MSWin32
  Compiled at Mar 13 2013 11:29:21
  %ENV:
    PERL5_CPANPLUS_IS_RUNNING="8412"
    PERL5_CPAN_IS_RUNNING="8412"
    PERL5_CPAN_IS_RUNNING_IN_RECURSION="8092,8412"
    PERL_CR_SMOKER_CURRENT="String-Palindrome-2.000001"
    PERL_EXTUTILS_AUTOINSTALL="--defaultdeps"
    PERL_MM_USE_DEFAULT="1"
  @INC:
    C:/Perl/site/lib
    C:/Perl/lib
    .