Data-Pipeline v0.02 Perl 5 v5.16.3 i686-linux
- Status
- Pass
- From
- Ryan Whitworth
- Dist
-
Data-Pipeline v0.02
- Platform
- Perl 5 v5.16.3 i686-linux
- Date
- 2013-09-08 23:04:26
- ID
- 020845dc-18db-11e3-a265-63a2b3fe1846
This distribution has been tested as part of the CPAN Testers
project, supporting the Perl programming language. See
http://wiki.cpantesters.org/ for more information or email
questions to cpan-testers-discuss@perl.org
--
Dear James G Smith,
This is a computer-generated report for Data-Pipeline-0.02
on perl 5.16.3, created by CPAN-Reporter-1.2010.
Thank you for uploading your work to CPAN. Congratulations!
All tests were successful.
Sections of this report:
* Tester comments
* Program output
* Prerequisites
* Environment and other context
------------------------------
TESTER COMMENTS
------------------------------
Additional comments from tester:
this report is from an automated smoke testing program
and was not reviewed by a human for accuracy
------------------------------
PROGRAM OUTPUT
------------------------------
Output from '/usr/bin/make test':
Skip blib/lib/Data/Pipeline/Iterator/Options.pm (unchanged)
Skip blib/lib/Data/Pipeline/Action.pm (unchanged)
Skip blib/lib/Data/Pipeline/Adapter/CSV.pm (unchanged)
Skip blib/lib/Data/Pipeline/Action/Rename.pm (unchanged)
Skip blib/lib/Data/Pipeline/Action/Filter.pm (unchanged)
Skip blib/lib/Data/Pipeline/Aggregator/Union.pm (unchanged)
Skip blib/lib/Data/Pipeline.pm (unchanged)
Skip blib/lib/Data/Pipeline/Machine.pm (unchanged)
Skip blib/lib/Data/Pipeline/Adapter/Array.pm (unchanged)
Skip blib/lib/Data/Pipeline/Aggregator.pm (unchanged)
Skip blib/lib/Data/Pipeline/Aggregator/Machine.pm (unchanged)
Skip blib/lib/Data/Pipeline/Adapter/SPARQL.pm (unchanged)
Skip blib/lib/Data/Pipeline/Adapter/RSS.pm (unchanged)
Skip blib/lib/Data/Pipeline/Adapter/StringBuilder.pm (unchanged)
Skip blib/lib/Data/Pipeline/Action/Unique.pm (unchanged)
Skip blib/lib/Data/Pipeline/Iterator/Output.pm (unchanged)
Skip blib/lib/Data/Pipeline/Action/ExcludeFields.pm (unchanged)
Skip blib/lib/Data/Pipeline/Action/Regex.pm (unchanged)
Skip blib/lib/Data/Pipeline/Iterator.pm (unchanged)
Skip blib/lib/Data/Pipeline/Adapter.pm (unchanged)
Skip blib/lib/Data/Pipeline/Adapter/JSON.pm (unchanged)
Skip blib/lib/Data/Pipeline/Adapter/UrlBuilder.pm (unchanged)
Skip blib/lib/Data/Pipeline/Action/StringReplace.pm (unchanged)
cp lib/Data/Pipeline/Parser.pm blib/lib/Data/Pipeline/Parser.pm
Skip blib/lib/Data/Pipeline/Action/Count.pm (unchanged)
Skip blib/lib/Data/Pipeline/Action/Tail.pm (unchanged)
Skip blib/lib/Data/Pipeline/Adapter/FetchPage.pm (unchanged)
Skip blib/lib/Data/Pipeline/Action/Identity.pm (unchanged)
Skip blib/lib/Data/Pipeline/Aggregator/Pipeline.pm (unchanged)
Skip blib/lib/Data/Pipeline/Iterator/Source.pm (unchanged)
Skip blib/lib/Data/Pipeline/Iterator/ArrayOptions.pm (unchanged)
Skip blib/lib/Data/Pipeline/Action/ForEach.pm (unchanged)
Skip blib/lib/Data/Pipeline/Machine/Surrogate.pm (unchanged)
Skip blib/lib/Data/Pipeline/Action/Truncate.pm (unchanged)
Skip blib/lib/Data/Pipeline/Types.pm (unchanged)
PERL_DL_NONLAZY=1 /root/perl5/perlbrew/perls/perl-5.16.3/bin/perl "-MExtUtils::Command::MM" "-e" "test_harness(0, 'inc', 'blib/lib', 'blib/arch')" t/*.t
Class::MOP::load_class is deprecated at /root/perl5/perlbrew/perls/perl-5.16.3/lib/site_perl/5.16.3/i686-linux/Class/MOP.pm line 76.
Class::MOP::load_class("Data::Pipeline::Aggregator::Machine") called at /root/.cpan/build/Data-Pipeline-0.02-vw_cwO/blib/lib/Data/Pipeline/Machine.pm line 20
Data::Pipeline::Machine::BEGIN() called at /root/.cpan/build/Data-Pipeline-0.02-vw_cwO/blib/lib/Data/Pipeline/Machine.pm line 22
eval {...} called at /root/.cpan/build/Data-Pipeline-0.02-vw_cwO/blib/lib/Data/Pipeline/Machine.pm line 22
require Data/Pipeline/Machine.pm called at /root/.cpan/build/Data-Pipeline-0.02-vw_cwO/blib/lib/Data/Pipeline/Aggregator/Machine.pm line 6
Data::Pipeline::Aggregator::Machine::BEGIN() called at /root/.cpan/build/Data-Pipeline-0.02-vw_cwO/blib/lib/Data/Pipeline/Machine.pm line 22
eval {...} called at /root/.cpan/build/Data-Pipeline-0.02-vw_cwO/blib/lib/Data/Pipeline/Machine.pm line 22
require Data/Pipeline/Aggregator/Machine.pm called at /root/.cpan/build/Data-Pipeline-0.02-vw_cwO/blib/lib/Data/Pipeline/Adapter.pm line 9
Data::Pipeline::Adapter::BEGIN() called at /root/.cpan/build/Data-Pipeline-0.02-vw_cwO/blib/lib/Data/Pipeline/Machine.pm line 22
eval {...} called at /root/.cpan/build/Data-Pipeline-0.02-vw_cwO/blib/lib/Data/Pipeline/Machine.pm line 22
require Data/Pipeline/Adapter.pm called at t/00-compile.t line 16
main::BEGIN() called at /root/.cpan/build/Data-Pipeline-0.02-vw_cwO/blib/lib/Data/Pipeline/Machine.pm line 22
eval {...} called at /root/.cpan/build/Data-Pipeline-0.02-vw_cwO/blib/lib/Data/Pipeline/Machine.pm line 22
eval 'package main;
#line 16 t/00-compile.t
use Data::Pipeline::Adapter @{$args[0]};
1;
;' called at /root/perl5/perlbrew/perls/perl-5.16.3/lib/5.16.3/Test/More.pm line 992
Test::More::_eval("package main;\x{a}\x{a}#line 16 t/00-compile.t\x{a}use Data::Pipeline::Ad"..., ARRAY(0x8d72b00)) called at /root/perl5/perlbrew/perls/perl-5.16.3/lib/5.16.3/Test/More.pm line 967
Test::More::use_ok("Data::Pipeline::Adapter") called at t/00-compile.t line 16
main::BEGIN() called at /root/.cpan/build/Data-Pipeline-0.02-vw_cwO/blib/lib/Data/Pipeline/Machine.pm line 22
eval {...} called at /root/.cpan/build/Data-Pipeline-0.02-vw_cwO/blib/lib/Data/Pipeline/Machine.pm line 22
t/00-compile.t ......... ok
t/01-iteratorsource.t .. ok
t/02-iterator.t ........ ok
Class::MOP::load_class is deprecated at /root/perl5/perlbrew/perls/perl-5.16.3/lib/site_perl/5.16.3/i686-linux/Class/MOP.pm line 76.
Class::MOP::load_class("Data::Pipeline::Aggregator::Machine") called at /root/.cpan/build/Data-Pipeline-0.02-vw_cwO/blib/lib/Data/Pipeline/Machine.pm line 20
Data::Pipeline::Machine::BEGIN() called at /root/.cpan/build/Data-Pipeline-0.02-vw_cwO/blib/lib/Data/Pipeline/Machine.pm line 22
eval {...} called at /root/.cpan/build/Data-Pipeline-0.02-vw_cwO/blib/lib/Data/Pipeline/Machine.pm line 22
require Data/Pipeline/Machine.pm called at /root/.cpan/build/Data-Pipeline-0.02-vw_cwO/blib/lib/Data/Pipeline/Aggregator/Machine.pm line 6
Data::Pipeline::Aggregator::Machine::BEGIN() called at /root/.cpan/build/Data-Pipeline-0.02-vw_cwO/blib/lib/Data/Pipeline/Machine.pm line 22
eval {...} called at /root/.cpan/build/Data-Pipeline-0.02-vw_cwO/blib/lib/Data/Pipeline/Machine.pm line 22
require Data/Pipeline/Aggregator/Machine.pm called at /root/.cpan/build/Data-Pipeline-0.02-vw_cwO/blib/lib/Data/Pipeline/Adapter.pm line 9
Data::Pipeline::Adapter::BEGIN() called at /root/.cpan/build/Data-Pipeline-0.02-vw_cwO/blib/lib/Data/Pipeline/Machine.pm line 22
eval {...} called at /root/.cpan/build/Data-Pipeline-0.02-vw_cwO/blib/lib/Data/Pipeline/Machine.pm line 22
require Data/Pipeline/Adapter.pm called at /root/perl5/perlbrew/perls/perl-5.16.3/lib/site_perl/5.16.3/Module/Runtime.pm line 317
Module::Runtime::require_module("Data::Pipeline::Adapter") called at /root/perl5/perlbrew/perls/perl-5.16.3/lib/site_perl/5.16.3/Module/Runtime.pm line 383
eval {...} called at /root/perl5/perlbrew/perls/perl-5.16.3/lib/site_perl/5.16.3/Module/Runtime.pm line 383
Module::Runtime::use_package_optimistically("Data::Pipeline::Adapter", undef) called at /root/perl5/perlbrew/perls/perl-5.16.3/lib/site_perl/5.16.3/i686-linux/Moose/Util.pm line 339
Moose::Util::_load_user_class("Data::Pipeline::Adapter", undef) called at /root/perl5/perlbrew/perls/perl-5.16.3/lib/site_perl/5.16.3/i686-linux/Moose/Meta/Class.pm line 563
Moose::Meta::Class::superclasses(undef, "Data::Pipeline::Adapter") called at /root/perl5/perlbrew/perls/perl-5.16.3/lib/site_perl/5.16.3/i686-linux/Moose.pm line 63
Moose::extends(Moose::Meta::Class=HASH(0x9943a90), "Data::Pipeline::Adapter") called at /root/perl5/perlbrew/perls/perl-5.16.3/lib/site_perl/5.16.3/i686-linux/Moose/Exporter.pm line 409
Moose::extends("Data::Pipeline::Adapter") called at /root/.cpan/build/Data-Pipeline-0.02-vw_cwO/blib/lib/Data/Pipeline/Adapter/Array.pm line 4
require Data/Pipeline/Adapter/Array.pm called at t/03-arraysource.t line 3
main::BEGIN() called at /root/.cpan/build/Data-Pipeline-0.02-vw_cwO/blib/lib/Data/Pipeline/Machine.pm line 22
eval {...} called at /root/.cpan/build/Data-Pipeline-0.02-vw_cwO/blib/lib/Data/Pipeline/Machine.pm line 22
Class::MOP::load_class is deprecated at /root/perl5/perlbrew/perls/perl-5.16.3/lib/site_perl/5.16.3/i686-linux/Class/MOP.pm line 76.
Class::MOP::load_class("Data::Pipeline::Iterator") called at /root/.cpan/build/Data-Pipeline-0.02-vw_cwO/blib/lib/Data/Pipeline/Types.pm line 123
Data::Pipeline::Types::__ANON__(Data::Pipeline::Iterator::Source=HASH(0x9b16a38)) called at /root/perl5/perlbrew/perls/perl-5.16.3/lib/site_perl/5.16.3/i686-linux/Moose/Meta/TypeCoercion.pm line 68
Moose::Meta::TypeCoercion::__ANON__(Data::Pipeline::Iterator::Source=HASH(0x9b16a38)) called at /root/perl5/perlbrew/perls/perl-5.16.3/lib/site_perl/5.16.3/i686-linux/Moose/Meta/TypeCoercion.pm line 102
Moose::Meta::TypeCoercion::coerce(Moose::Meta::TypeCoercion=HASH(0x9a10048), Data::Pipeline::Iterator::Source=HASH(0x9b16a38)) called at /root/perl5/perlbrew/perls/perl-5.16.3/lib/site_perl/5.16.3/i686-linux/Moose/Meta/TypeConstraint.pm line 149
Moose::Meta::TypeConstraint::coerce(Moose::Meta::TypeConstraint=HASH(0x9a0e500), Data::Pipeline::Iterator::Source=HASH(0x9b16a38)) called at /root/perl5/perlbrew/perls/perl-5.16.3/lib/site_perl/5.16.3/MooseX/Types.pm line 145
MooseX::Types::__ANON__(Data::Pipeline::Iterator::Source=HASH(0x9b16a38)) called at t/03-arraysource.t line 17
t/03-arraysource.t ..... ok
Class::MOP::load_class is deprecated at /root/perl5/perlbrew/perls/perl-5.16.3/lib/site_perl/5.16.3/i686-linux/Class/MOP.pm line 76.
Class::MOP::load_class("Data::Pipeline::Aggregator::Machine") called at /root/.cpan/build/Data-Pipeline-0.02-vw_cwO/blib/lib/Data/Pipeline/Machine.pm line 20
Data::Pipeline::Machine::BEGIN() called at /root/.cpan/build/Data-Pipeline-0.02-vw_cwO/blib/lib/Data/Pipeline/Machine.pm line 22
eval {...} called at /root/.cpan/build/Data-Pipeline-0.02-vw_cwO/blib/lib/Data/Pipeline/Machine.pm line 22
require Data/Pipeline/Machine.pm called at /root/.cpan/build/Data-Pipeline-0.02-vw_cwO/blib/lib/Data/Pipeline/Aggregator/Machine.pm line 6
Data::Pipeline::Aggregator::Machine::BEGIN() called at /root/.cpan/build/Data-Pipeline-0.02-vw_cwO/blib/lib/Data/Pipeline/Machine.pm line 22
eval {...} called at /root/.cpan/build/Data-Pipeline-0.02-vw_cwO/blib/lib/Data/Pipeline/Machine.pm line 22
require Data/Pipeline/Aggregator/Machine.pm called at /root/.cpan/build/Data-Pipeline-0.02-vw_cwO/blib/lib/Data/Pipeline/Adapter.pm line 9
Data::Pipeline::Adapter::BEGIN() called at /root/.cpan/build/Data-Pipeline-0.02-vw_cwO/blib/lib/Data/Pipeline/Machine.pm line 22
eval {...} called at /root/.cpan/build/Data-Pipeline-0.02-vw_cwO/blib/lib/Data/Pipeline/Machine.pm line 22
require Data/Pipeline/Adapter.pm called at /root/perl5/perlbrew/perls/perl-5.16.3/lib/site_perl/5.16.3/Module/Runtime.pm line 317
Module::Runtime::require_module("Data::Pipeline::Adapter") called at /root/perl5/perlbrew/perls/perl-5.16.3/lib/site_perl/5.16.3/Module/Runtime.pm line 383
eval {...} called at /root/perl5/perlbrew/perls/perl-5.16.3/lib/site_perl/5.16.3/Module/Runtime.pm line 383
Module::Runtime::use_package_optimistically("Data::Pipeline::Adapter", undef) called at /root/perl5/perlbrew/perls/perl-5.16.3/lib/site_perl/5.16.3/i686-linux/Moose/Util.pm line 339
Moose::Util::_load_user_class("Data::Pipeline::Adapter", undef) called at /root/perl5/perlbrew/perls/perl-5.16.3/lib/site_perl/5.16.3/i686-linux/Moose/Meta/Class.pm line 563
Moose::Meta::Class::superclasses(undef, "Data::Pipeline::Adapter") called at /root/perl5/perlbrew/perls/perl-5.16.3/lib/site_perl/5.16.3/i686-linux/Moose.pm line 63
Moose::extends(Moose::Meta::Class=HASH(0x946cd30), "Data::Pipeline::Adapter") called at /root/perl5/perlbrew/perls/perl-5.16.3/lib/site_perl/5.16.3/i686-linux/Moose/Exporter.pm line 409
Moose::extends("Data::Pipeline::Adapter") called at /root/.cpan/build/Data-Pipeline-0.02-vw_cwO/blib/lib/Data/Pipeline/Adapter/Array.pm line 4
require Data/Pipeline/Adapter/Array.pm called at t/04-count.t line 4
main::BEGIN() called at /root/.cpan/build/Data-Pipeline-0.02-vw_cwO/blib/lib/Data/Pipeline/Machine.pm line 22
eval {...} called at /root/.cpan/build/Data-Pipeline-0.02-vw_cwO/blib/lib/Data/Pipeline/Machine.pm line 22
t/04-count.t ........... ok
Class::MOP::load_class is deprecated at /root/perl5/perlbrew/perls/perl-5.16.3/lib/site_perl/5.16.3/i686-linux/Class/MOP.pm line 76.
Class::MOP::load_class("Data::Pipeline::Aggregator::Machine") called at /root/.cpan/build/Data-Pipeline-0.02-vw_cwO/blib/lib/Data/Pipeline/Machine.pm line 20
Data::Pipeline::Machine::BEGIN() called at /root/.cpan/build/Data-Pipeline-0.02-vw_cwO/blib/lib/Data/Pipeline/Machine.pm line 22
eval {...} called at /root/.cpan/build/Data-Pipeline-0.02-vw_cwO/blib/lib/Data/Pipeline/Machine.pm line 22
require Data/Pipeline/Machine.pm called at /root/.cpan/build/Data-Pipeline-0.02-vw_cwO/blib/lib/Data/Pipeline/Aggregator/Machine.pm line 6
Data::Pipeline::Aggregator::Machine::BEGIN() called at /root/.cpan/build/Data-Pipeline-0.02-vw_cwO/blib/lib/Data/Pipeline/Machine.pm line 22
eval {...} called at /root/.cpan/build/Data-Pipeline-0.02-vw_cwO/blib/lib/Data/Pipeline/Machine.pm line 22
require Data/Pipeline/Aggregator/Machine.pm called at /root/.cpan/build/Data-Pipeline-0.02-vw_cwO/blib/lib/Data/Pipeline/Adapter.pm line 9
Data::Pipeline::Adapter::BEGIN() called at /root/.cpan/build/Data-Pipeline-0.02-vw_cwO/blib/lib/Data/Pipeline/Machine.pm line 22
eval {...} called at /root/.cpan/build/Data-Pipeline-0.02-vw_cwO/blib/lib/Data/Pipeline/Machine.pm line 22
require Data/Pipeline/Adapter.pm called at /root/perl5/perlbrew/perls/perl-5.16.3/lib/site_perl/5.16.3/Module/Runtime.pm line 317
Module::Runtime::require_module("Data::Pipeline::Adapter") called at /root/perl5/perlbrew/perls/perl-5.16.3/lib/site_perl/5.16.3/Module/Runtime.pm line 383
eval {...} called at /root/perl5/perlbrew/perls/perl-5.16.3/lib/site_perl/5.16.3/Module/Runtime.pm line 383
Module::Runtime::use_package_optimistically("Data::Pipeline::Adapter", undef) called at /root/perl5/perlbrew/perls/perl-5.16.3/lib/site_perl/5.16.3/i686-linux/Moose/Util.pm line 339
Moose::Util::_load_user_class("Data::Pipeline::Adapter", undef) called at /root/perl5/perlbrew/perls/perl-5.16.3/lib/site_perl/5.16.3/i686-linux/Moose/Meta/Class.pm line 563
Moose::Meta::Class::superclasses(undef, "Data::Pipeline::Adapter") called at /root/perl5/perlbrew/perls/perl-5.16.3/lib/site_perl/5.16.3/i686-linux/Moose.pm line 63
Moose::extends(Moose::Meta::Class=HASH(0x9cecdb0), "Data::Pipeline::Adapter") called at /root/perl5/perlbrew/perls/perl-5.16.3/lib/site_perl/5.16.3/i686-linux/Moose/Exporter.pm line 409
Moose::extends("Data::Pipeline::Adapter") called at /root/.cpan/build/Data-Pipeline-0.02-vw_cwO/blib/lib/Data/Pipeline/Adapter/Array.pm line 4
require Data/Pipeline/Adapter/Array.pm called at t/05-truncate.t line 4
main::BEGIN() called at /root/.cpan/build/Data-Pipeline-0.02-vw_cwO/blib/lib/Data/Pipeline/Machine.pm line 22
eval {...} called at /root/.cpan/build/Data-Pipeline-0.02-vw_cwO/blib/lib/Data/Pipeline/Machine.pm line 22
t/05-truncate.t ........ ok
Class::MOP::load_class is deprecated at /root/perl5/perlbrew/perls/perl-5.16.3/lib/site_perl/5.16.3/i686-linux/Class/MOP.pm line 76.
Class::MOP::load_class("Data::Pipeline::Aggregator::Pipeline") called at /root/.cpan/build/Data-Pipeline-0.02-vw_cwO/blib/lib/Data/Pipeline.pm line 70
eval {...} called at /root/.cpan/build/Data-Pipeline-0.02-vw_cwO/blib/lib/Data/Pipeline.pm line 70
Data::Pipeline::_find_class("Pipeline") called at /root/.cpan/build/Data-Pipeline-0.02-vw_cwO/blib/lib/Data/Pipeline.pm line 23
Data::Pipeline::import("Data::Pipeline", "Pipeline", "Truncate", "Count", "Array") called at t/06-pipeline.t line 4
main::BEGIN() called at t/06-pipeline.t line 4
eval {...} called at t/06-pipeline.t line 4
Class::MOP::load_class is deprecated at /root/perl5/perlbrew/perls/perl-5.16.3/lib/site_perl/5.16.3/i686-linux/Class/MOP.pm line 76.
Class::MOP::load_class("Data::Pipeline::Aggregator::Machine") called at /root/.cpan/build/Data-Pipeline-0.02-vw_cwO/blib/lib/Data/Pipeline/Machine.pm line 20
Data::Pipeline::Machine::BEGIN() called at /root/.cpan/build/Data-Pipeline-0.02-vw_cwO/blib/lib/Data/Pipeline/Machine.pm line 22
eval {...} called at /root/.cpan/build/Data-Pipeline-0.02-vw_cwO/blib/lib/Data/Pipeline/Machine.pm line 22
require Data/Pipeline/Machine.pm called at /root/.cpan/build/Data-Pipeline-0.02-vw_cwO/blib/lib/Data/Pipeline/Aggregator/Pipeline.pm line 10
Data::Pipeline::Aggregator::Pipeline::BEGIN() called at /root/.cpan/build/Data-Pipeline-0.02-vw_cwO/blib/lib/Data/Pipeline/Machine.pm line 22
eval {...} called at /root/.cpan/build/Data-Pipeline-0.02-vw_cwO/blib/lib/Data/Pipeline/Machine.pm line 22
require Data/Pipeline/Aggregator/Pipeline.pm called at /root/perl5/perlbrew/perls/perl-5.16.3/lib/site_perl/5.16.3/Module/Runtime.pm line 317
Module::Runtime::require_module("Data::Pipeline::Aggregator::Pipeline") called at /root/perl5/perlbrew/perls/perl-5.16.3/lib/site_perl/5.16.3/Class/Load.pm line 177
Class::Load::try {...} () called at /root/perl5/perlbrew/perls/perl-5.16.3/lib/site_perl/5.16.3/Try/Tiny.pm line 78
eval {...} called at /root/perl5/perlbrew/perls/perl-5.16.3/lib/site_perl/5.16.3/Try/Tiny.pm line 74
Try::Tiny::try(CODE(0x9765758), Try::Tiny::Catch=REF(0x97e3db8)) called at /root/perl5/perlbrew/perls/perl-5.16.3/lib/site_perl/5.16.3/Class/Load.pm line 183
Class::Load::try_load_class("Data::Pipeline::Aggregator::Pipeline", undef) called at /root/perl5/perlbrew/perls/perl-5.16.3/lib/site_perl/5.16.3/Class/Load.pm line 38
Class::Load::load_class("Data::Pipeline::Aggregator::Pipeline") called at /root/.cpan/build/Data-Pipeline-0.02-vw_cwO/blib/lib/Data/Pipeline.pm line 70
eval {...} called at /root/.cpan/build/Data-Pipeline-0.02-vw_cwO/blib/lib/Data/Pipeline.pm line 70
Data::Pipeline::_find_class("Pipeline") called at /root/.cpan/build/Data-Pipeline-0.02-vw_cwO/blib/lib/Data/Pipeline.pm line 23
Data::Pipeline::import("Data::Pipeline", "Pipeline", "Truncate", "Count", "Array") called at t/06-pipeline.t line 4
main::BEGIN() called at /root/.cpan/build/Data-Pipeline-0.02-vw_cwO/blib/lib/Data/Pipeline/Machine.pm line 22
eval {...} called at /root/.cpan/build/Data-Pipeline-0.02-vw_cwO/blib/lib/Data/Pipeline/Machine.pm line 22
Class::MOP::load_class is deprecated at /root/perl5/perlbrew/perls/perl-5.16.3/lib/site_perl/5.16.3/i686-linux/Class/MOP.pm line 76.
Class::MOP::load_class("Data::Pipeline::Iterator") called at /root/.cpan/build/Data-Pipeline-0.02-vw_cwO/blib/lib/Data/Pipeline/Types.pm line 133
Data::Pipeline::Types::__ANON__(Data::Pipeline::Adapter::Array=HASH(0x98b9d88)) called at /root/perl5/perlbrew/perls/perl-5.16.3/lib/site_perl/5.16.3/i686-linux/Moose/Meta/TypeCoercion.pm line 68
Moose::Meta::TypeCoercion::__ANON__(Data::Pipeline::Adapter::Array=HASH(0x98b9d88)) called at /root/perl5/perlbrew/perls/perl-5.16.3/lib/site_perl/5.16.3/i686-linux/Moose/Meta/TypeCoercion.pm line 102
Moose::Meta::TypeCoercion::coerce(Moose::Meta::TypeCoercion=HASH(0x9770f40), Data::Pipeline::Adapter::Array=HASH(0x98b9d88)) called at /root/perl5/perlbrew/perls/perl-5.16.3/lib/site_perl/5.16.3/i686-linux/Moose/Meta/TypeConstraint.pm line 149
Moose::Meta::TypeConstraint::coerce(Moose::Meta::TypeConstraint=HASH(0x976f8b8), Data::Pipeline::Adapter::Array=HASH(0x98b9d88)) called at /root/perl5/perlbrew/perls/perl-5.16.3/lib/site_perl/5.16.3/MooseX/Types.pm line 145
MooseX::Types::__ANON__(Data::Pipeline::Adapter::Array=HASH(0x98b9d88)) called at /root/.cpan/build/Data-Pipeline-0.02-vw_cwO/blib/lib/Data/Pipeline/Aggregator/Pipeline.pm line 47
Data::Pipeline::Aggregator::Pipeline::transform(Data::Pipeline::Aggregator::Pipeline=HASH(0x98d51a8), Data::Pipeline::Adapter::Array=HASH(0x98b9d88)) called at t/06-pipeline.t line 19
t/06-pipeline.t ........ ok
Class::MOP::load_class is deprecated at /root/perl5/perlbrew/perls/perl-5.16.3/lib/site_perl/5.16.3/i686-linux/Class/MOP.pm line 76.
Class::MOP::load_class("Data::Pipeline::Aggregator::Pipeline") called at /root/.cpan/build/Data-Pipeline-0.02-vw_cwO/blib/lib/Data/Pipeline.pm line 70
eval {...} called at /root/.cpan/build/Data-Pipeline-0.02-vw_cwO/blib/lib/Data/Pipeline.pm line 70
Data::Pipeline::_find_class("Pipeline") called at /root/.cpan/build/Data-Pipeline-0.02-vw_cwO/blib/lib/Data/Pipeline.pm line 23
Data::Pipeline::import("Data::Pipeline", "Pipeline", "Count", "CSV") called at t/07-csvsource.t line 23
main::BEGIN() called at t/07-csvsource.t line 23
eval {...} called at t/07-csvsource.t line 23
Class::MOP::load_class is deprecated at /root/perl5/perlbrew/perls/perl-5.16.3/lib/site_perl/5.16.3/i686-linux/Class/MOP.pm line 76.
Class::MOP::load_class("Data::Pipeline::Aggregator::Machine") called at /root/.cpan/build/Data-Pipeline-0.02-vw_cwO/blib/lib/Data/Pipeline/Machine.pm line 20
Data::Pipeline::Machine::BEGIN() called at /root/.cpan/build/Data-Pipeline-0.02-vw_cwO/blib/lib/Data/Pipeline/Machine.pm line 22
eval {...} called at /root/.cpan/build/Data-Pipeline-0.02-vw_cwO/blib/lib/Data/Pipeline/Machine.pm line 22
require Data/Pipeline/Machine.pm called at /root/.cpan/build/Data-Pipeline-0.02-vw_cwO/blib/lib/Data/Pipeline/Aggregator/Pipeline.pm line 10
Data::Pipeline::Aggregator::Pipeline::BEGIN() called at /root/.cpan/build/Data-Pipeline-0.02-vw_cwO/blib/lib/Data/Pipeline/Machine.pm line 22
eval {...} called at /root/.cpan/build/Data-Pipeline-0.02-vw_cwO/blib/lib/Data/Pipeline/Machine.pm line 22
require Data/Pipeline/Aggregator/Pipeline.pm called at /root/perl5/perlbrew/perls/perl-5.16.3/lib/site_perl/5.16.3/Module/Runtime.pm line 317
Module::Runtime::require_module("Data::Pipeline::Aggregator::Pipeline") called at /root/perl5/perlbrew/perls/perl-5.16.3/lib/site_perl/5.16.3/Class/Load.pm line 177
Class::Load::try {...} () called at /root/perl5/perlbrew/perls/perl-5.16.3/lib/site_perl/5.16.3/Try/Tiny.pm line 78
eval {...} called at /root/perl5/perlbrew/perls/perl-5.16.3/lib/site_perl/5.16.3/Try/Tiny.pm line 74
Try::Tiny::try(CODE(0x94e71a8), Try::Tiny::Catch=REF(0x9565008)) called at /root/perl5/perlbrew/perls/perl-5.16.3/lib/site_perl/5.16.3/Class/Load.pm line 183
Class::Load::try_load_class("Data::Pipeline::Aggregator::Pipeline", undef) called at /root/perl5/perlbrew/perls/perl-5.16.3/lib/site_perl/5.16.3/Class/Load.pm line 38
Class::Load::load_class("Data::Pipeline::Aggregator::Pipeline") called at /root/.cpan/build/Data-Pipeline-0.02-vw_cwO/blib/lib/Data/Pipeline.pm line 70
eval {...} called at /root/.cpan/build/Data-Pipeline-0.02-vw_cwO/blib/lib/Data/Pipeline.pm line 70
Data::Pipeline::_find_class("Pipeline") called at /root/.cpan/build/Data-Pipeline-0.02-vw_cwO/blib/lib/Data/Pipeline.pm line 23
Data::Pipeline::import("Data::Pipeline", "Pipeline", "Count", "CSV") called at t/07-csvsource.t line 23
main::BEGIN() called at /root/.cpan/build/Data-Pipeline-0.02-vw_cwO/blib/lib/Data/Pipeline/Machine.pm line 22
eval {...} called at /root/.cpan/build/Data-Pipeline-0.02-vw_cwO/blib/lib/Data/Pipeline/Machine.pm line 22
Class::MOP::load_class is deprecated at /root/perl5/perlbrew/perls/perl-5.16.3/lib/site_perl/5.16.3/i686-linux/Class/MOP.pm line 76.
Class::MOP::load_class("Data::Pipeline::Iterator") called at /root/.cpan/build/Data-Pipeline-0.02-vw_cwO/blib/lib/Data/Pipeline/Types.pm line 133
Data::Pipeline::Types::__ANON__(Data::Pipeline::Adapter::CSV=HASH(0x8e87dd8)) called at /root/perl5/perlbrew/perls/perl-5.16.3/lib/site_perl/5.16.3/i686-linux/Moose/Meta/TypeCoercion.pm line 68
Moose::Meta::TypeCoercion::__ANON__(Data::Pipeline::Adapter::CSV=HASH(0x8e87dd8)) called at /root/perl5/perlbrew/perls/perl-5.16.3/lib/site_perl/5.16.3/i686-linux/Moose/Meta/TypeCoercion.pm line 102
Moose::Meta::TypeCoercion::coerce(Moose::Meta::TypeCoercion=HASH(0x94f2070), Data::Pipeline::Adapter::CSV=HASH(0x8e87dd8)) called at /root/perl5/perlbrew/perls/perl-5.16.3/lib/site_perl/5.16.3/i686-linux/Moose/Meta/TypeConstraint.pm line 149
Moose::Meta::TypeConstraint::coerce(Moose::Meta::TypeConstraint=HASH(0x94efb88), Data::Pipeline::Adapter::CSV=HASH(0x8e87dd8)) called at /root/perl5/perlbrew/perls/perl-5.16.3/lib/site_perl/5.16.3/MooseX/Types.pm line 145
MooseX::Types::__ANON__(Data::Pipeline::Adapter::CSV=HASH(0x8e87dd8)) called at /root/.cpan/build/Data-Pipeline-0.02-vw_cwO/blib/lib/Data/Pipeline/Action.pm line 23
Data::Pipeline::Action::transform(Data::Pipeline::Action::Count=HASH(0x8e87d08), Data::Pipeline::Adapter::CSV=HASH(0x8e87dd8)) called at t/07-csvsource.t line 26
t/07-csvsource.t ....... ok
Class::MOP::load_class is deprecated at /root/perl5/perlbrew/perls/perl-5.16.3/lib/site_perl/5.16.3/i686-linux/Class/MOP.pm line 76.
Class::MOP::load_class("Data::Pipeline::Adapter::Array") called at /root/.cpan/build/Data-Pipeline-0.02-vw_cwO/blib/lib/Data/Pipeline/Types.pm line 78
Data::Pipeline::Types::__ANON__(ARRAY(0x981f068)) called at /root/perl5/perlbrew/perls/perl-5.16.3/lib/site_perl/5.16.3/i686-linux/Moose/Meta/TypeCoercion.pm line 68
Moose::Meta::TypeCoercion::__ANON__(ARRAY(0x981f068)) called at /root/perl5/perlbrew/perls/perl-5.16.3/lib/site_perl/5.16.3/i686-linux/Moose/Meta/TypeCoercion.pm line 102
Moose::Meta::TypeCoercion::coerce(Moose::Meta::TypeCoercion=HASH(0x9ed40b0), ARRAY(0x981f068)) called at /root/perl5/perlbrew/perls/perl-5.16.3/lib/site_perl/5.16.3/i686-linux/Moose/Meta/TypeConstraint.pm line 149
Moose::Meta::TypeConstraint::coerce(Moose::Meta::TypeConstraint=HASH(0x9ee2368), ARRAY(0x981f068)) called at /root/perl5/perlbrew/perls/perl-5.16.3/lib/site_perl/5.16.3/MooseX/Types.pm line 145
MooseX::Types::__ANON__(ARRAY(0x981f068)) called at t/08-types.t line 28
Class::MOP::load_class is deprecated at /root/perl5/perlbrew/perls/perl-5.16.3/lib/site_perl/5.16.3/i686-linux/Class/MOP.pm line 76.
Class::MOP::load_class("Data::Pipeline::Aggregator::Machine") called at /root/.cpan/build/Data-Pipeline-0.02-vw_cwO/blib/lib/Data/Pipeline/Machine.pm line 20
Data::Pipeline::Machine::BEGIN() called at /root/.cpan/build/Data-Pipeline-0.02-vw_cwO/blib/lib/Data/Pipeline/Machine.pm line 22
eval {...} called at /root/.cpan/build/Data-Pipeline-0.02-vw_cwO/blib/lib/Data/Pipeline/Machine.pm line 22
require Data/Pipeline/Machine.pm called at /root/.cpan/build/Data-Pipeline-0.02-vw_cwO/blib/lib/Data/Pipeline/Aggregator/Machine.pm line 6
Data::Pipeline::Aggregator::Machine::BEGIN() called at /root/.cpan/build/Data-Pipeline-0.02-vw_cwO/blib/lib/Data/Pipeline/Machine.pm line 22
eval {...} called at /root/.cpan/build/Data-Pipeline-0.02-vw_cwO/blib/lib/Data/Pipeline/Machine.pm line 22
require Data/Pipeline/Aggregator/Machine.pm called at /root/.cpan/build/Data-Pipeline-0.02-vw_cwO/blib/lib/Data/Pipeline/Adapter.pm line 9
Data::Pipeline::Adapter::BEGIN() called at /root/.cpan/build/Data-Pipeline-0.02-vw_cwO/blib/lib/Data/Pipeline/Machine.pm line 22
eval {...} called at /root/.cpan/build/Data-Pipeline-0.02-vw_cwO/blib/lib/Data/Pipeline/Machine.pm line 22
require Data/Pipeline/Adapter.pm called at /root/perl5/perlbrew/perls/perl-5.16.3/lib/site_perl/5.16.3/Module/Runtime.pm line 317
Module::Runtime::require_module("Data::Pipeline::Adapter") called at /root/perl5/perlbrew/perls/perl-5.16.3/lib/site_perl/5.16.3/Module/Runtime.pm line 383
eval {...} called at /root/perl5/perlbrew/perls/perl-5.16.3/lib/site_perl/5.16.3/Module/Runtime.pm line 383
Module::Runtime::use_package_optimistically("Data::Pipeline::Adapter", undef) called at /root/perl5/perlbrew/perls/perl-5.16.3/lib/site_perl/5.16.3/i686-linux/Moose/Util.pm line 339
Moose::Util::_load_user_class("Data::Pipeline::Adapter", undef) called at /root/perl5/perlbrew/perls/perl-5.16.3/lib/site_perl/5.16.3/i686-linux/Moose/Meta/Class.pm line 563
Moose::Meta::Class::superclasses(undef, "Data::Pipeline::Adapter") called at /root/perl5/perlbrew/perls/perl-5.16.3/lib/site_perl/5.16.3/i686-linux/Moose.pm line 63
Moose::extends(Moose::Meta::Class=HASH(0x9f19a38), "Data::Pipeline::Adapter") called at /root/perl5/perlbrew/perls/perl-5.16.3/lib/site_perl/5.16.3/i686-linux/Moose/Exporter.pm line 409
Moose::extends("Data::Pipeline::Adapter") called at /root/.cpan/build/Data-Pipeline-0.02-vw_cwO/blib/lib/Data/Pipeline/Adapter/Array.pm line 4
require Data/Pipeline/Adapter/Array.pm called at /root/perl5/perlbrew/perls/perl-5.16.3/lib/site_perl/5.16.3/Module/Runtime.pm line 317
Module::Runtime::require_module("Data::Pipeline::Adapter::Array") called at /root/perl5/perlbrew/perls/perl-5.16.3/lib/site_perl/5.16.3/Class/Load.pm line 177
Class::Load::try {...} () called at /root/perl5/perlbrew/perls/perl-5.16.3/lib/site_perl/5.16.3/Try/Tiny.pm line 78
eval {...} called at /root/perl5/perlbrew/perls/perl-5.16.3/lib/site_perl/5.16.3/Try/Tiny.pm line 74
Try::Tiny::try(CODE(0x9f15670), Try::Tiny::Catch=REF(0x9f054f0)) called at /root/perl5/perlbrew/perls/perl-5.16.3/lib/site_perl/5.16.3/Class/Load.pm line 183
Class::Load::try_load_class("Data::Pipeline::Adapter::Array", undef) called at /root/perl5/perlbrew/perls/perl-5.16.3/lib/site_perl/5.16.3/Class/Load.pm line 38
Class::Load::load_class("Data::Pipeline::Adapter::Array") called at /root/.cpan/build/Data-Pipeline-0.02-vw_cwO/blib/lib/Data/Pipeline/Types.pm line 78
Data::Pipeline::Types::__ANON__(ARRAY(0x981f068)) called at /root/perl5/perlbrew/perls/perl-5.16.3/lib/site_perl/5.16.3/i686-linux/Moose/Meta/TypeCoercion.pm line 68
Moose::Meta::TypeCoercion::__ANON__(ARRAY(0x981f068)) called at /root/perl5/perlbrew/perls/perl-5.16.3/lib/site_perl/5.16.3/i686-linux/Moose/Meta/TypeCoercion.pm line 102
Moose::Meta::TypeCoercion::coerce(Moose::Meta::TypeCoercion=HASH(0x9ed40b0), ARRAY(0x981f068)) called at /root/perl5/perlbrew/perls/perl-5.16.3/lib/site_perl/5.16.3/i686-linux/Moose/Meta/TypeConstraint.pm line 149
Moose::Meta::TypeConstraint::coerce(Moose::Meta::TypeConstraint=HASH(0x9ee2368), ARRAY(0x981f068)) called at /root/perl5/perlbrew/perls/perl-5.16.3/lib/site_perl/5.16.3/MooseX/Types.pm line 145
MooseX::Types::__ANON__(ARRAY(0x981f068)) called at t/08-types.t line 28
t/08-types.t ........... ok
t/09-rename.t .......... ok
Class::MOP::load_class is deprecated at /root/perl5/perlbrew/perls/perl-5.16.3/lib/site_perl/5.16.3/i686-linux/Class/MOP.pm line 76.
Class::MOP::load_class("Data::Pipeline::Aggregator::Machine") called at /root/.cpan/build/Data-Pipeline-0.02-vw_cwO/blib/lib/Data/Pipeline/Machine.pm line 20
Data::Pipeline::Machine::BEGIN() called at /root/.cpan/build/Data-Pipeline-0.02-vw_cwO/blib/lib/Data/Pipeline/Machine.pm line 22
eval {...} called at /root/.cpan/build/Data-Pipeline-0.02-vw_cwO/blib/lib/Data/Pipeline/Machine.pm line 22
require Data/Pipeline/Machine.pm called at t/11-machine.t line 6
My::Machine::BEGIN() called at /root/.cpan/build/Data-Pipeline-0.02-vw_cwO/blib/lib/Data/Pipeline/Machine.pm line 22
eval {...} called at /root/.cpan/build/Data-Pipeline-0.02-vw_cwO/blib/lib/Data/Pipeline/Machine.pm line 22
Class::MOP::load_class is deprecated at /root/perl5/perlbrew/perls/perl-5.16.3/lib/site_perl/5.16.3/i686-linux/Class/MOP.pm line 76.
Class::MOP::load_class("Data::Pipeline::Aggregator::Array") called at /root/.cpan/build/Data-Pipeline-0.02-vw_cwO/blib/lib/Data/Pipeline.pm line 70
eval {...} called at /root/.cpan/build/Data-Pipeline-0.02-vw_cwO/blib/lib/Data/Pipeline.pm line 70
Data::Pipeline::_find_class("Array") called at /root/.cpan/build/Data-Pipeline-0.02-vw_cwO/blib/lib/Data/Pipeline.pm line 23
Data::Pipeline::import("Data::Pipeline", "Array", "Count", "CSV") called at t/11-machine.t line 7
My::Machine::BEGIN() called at t/11-machine.t line 7
eval {...} called at t/11-machine.t line 7
Class::MOP::load_class is deprecated at /root/perl5/perlbrew/perls/perl-5.16.3/lib/site_perl/5.16.3/i686-linux/Class/MOP.pm line 76.
Class::MOP::load_class("Data::Pipeline::Iterator") called at /root/.cpan/build/Data-Pipeline-0.02-vw_cwO/blib/lib/Data/Pipeline/Types.pm line 133
Data::Pipeline::Types::__ANON__(Data::Pipeline::Adapter::Array=HASH(0x88e9600)) called at /root/perl5/perlbrew/perls/perl-5.16.3/lib/site_perl/5.16.3/i686-linux/Moose/Meta/TypeCoercion.pm line 68
Moose::Meta::TypeCoercion::__ANON__(Data::Pipeline::Adapter::Array=HASH(0x88e9600)) called at /root/perl5/perlbrew/perls/perl-5.16.3/lib/site_perl/5.16.3/i686-linux/Moose/Meta/TypeCoercion.pm line 102
Moose::Meta::TypeCoercion::coerce(Moose::Meta::TypeCoercion=HASH(0x8fb8c98), Data::Pipeline::Adapter::Array=HASH(0x88e9600)) called at /root/perl5/perlbrew/perls/perl-5.16.3/lib/site_perl/5.16.3/i686-linux/Moose/Meta/TypeConstraint.pm line 149
Moose::Meta::TypeConstraint::coerce(Moose::Meta::TypeConstraint=HASH(0x8fb8618), Data::Pipeline::Adapter::Array=HASH(0x88e9600)) called at /root/perl5/perlbrew/perls/perl-5.16.3/lib/site_perl/5.16.3/MooseX/Types.pm line 145
MooseX::Types::__ANON__(Data::Pipeline::Adapter::Array=HASH(0x88e9600)) called at /root/.cpan/build/Data-Pipeline-0.02-vw_cwO/blib/lib/Data/Pipeline/Aggregator/Pipeline.pm line 30
Data::Pipeline::Aggregator::Pipeline::from(Data::Pipeline::Aggregator::Pipeline=HASH(0x912f828), "array", Data::Pipeline::Iterator=HASH(0x88e59d0)) called at /root/.cpan/build/Data-Pipeline-0.02-vw_cwO/blib/lib/Data/Pipeline/Aggregator/Machine.pm line 124
Data::Pipeline::Aggregator::Machine::__ANON__() called at /root/.cpan/build/Data-Pipeline-0.02-vw_cwO/blib/lib/Data/Pipeline/Machine.pm line 162
Data::Pipeline::Machine::with_options(CODE(0x88e9030), HASH(0x88e90f0)) called at /root/.cpan/build/Data-Pipeline-0.02-vw_cwO/blib/lib/Data/Pipeline/Aggregator/Machine.pm line 125
Data::Pipeline::Aggregator::Machine::from(Data::Pipeline::Aggregator::Machine=HASH(0x8f33d38), "foo", "array", Data::Pipeline::Iterator=HASH(0x88e59d0)) called at /root/.cpan/build/Data-Pipeline-0.02-vw_cwO/blib/lib/Data/Pipeline/Machine/Surrogate.pm line 38
Data::Pipeline::Machine::Surrogate::from(Data::Pipeline::Machine::Surrogate=HASH(0x912f868)) called at /root/.cpan/build/Data-Pipeline-0.02-vw_cwO/blib/lib/Data/Pipeline/Types.pm line 143
Data::Pipeline::Types::__ANON__(Data::Pipeline::Machine::Surrogate=HASH(0x912f868)) called at /root/perl5/perlbrew/perls/perl-5.16.3/lib/site_perl/5.16.3/i686-linux/Moose/Meta/TypeCoercion.pm line 68
Moose::Meta::TypeCoercion::__ANON__(Data::Pipeline::Machine::Surrogate=HASH(0x912f868)) called at /root/perl5/perlbrew/perls/perl-5.16.3/lib/site_perl/5.16.3/i686-linux/Moose/Meta/TypeCoercion.pm line 102
Moose::Meta::TypeCoercion::coerce(Moose::Meta::TypeCoercion=HASH(0x8fb8c98), Data::Pipeline::Machine::Surrogate=HASH(0x912f868)) called at /root/perl5/perlbrew/perls/perl-5.16.3/lib/site_perl/5.16.3/i686-linux/Moose/Meta/TypeConstraint.pm line 149
Moose::Meta::TypeConstraint::coerce(Moose::Meta::TypeConstraint=HASH(0x8fb8618), Data::Pipeline::Machine::Surrogate=HASH(0x912f868)) called at /root/perl5/perlbrew/perls/perl-5.16.3/lib/site_perl/5.16.3/MooseX/Types.pm line 145
MooseX::Types::__ANON__(Data::Pipeline::Machine::Surrogate=HASH(0x912f868)) called at /root/.cpan/build/Data-Pipeline-0.02-vw_cwO/blib/lib/Data/Pipeline/Aggregator/Pipeline.pm line 30
Data::Pipeline::Aggregator::Pipeline::from(Data::Pipeline::Aggregator::Pipeline=HASH(0x912f928), "array", ARRAY(0x912fb48)) called at /root/.cpan/build/Data-Pipeline-0.02-vw_cwO/blib/lib/Data/Pipeline/Aggregator/Machine.pm line 124
Data::Pipeline::Aggregator::Machine::__ANON__() called at /root/.cpan/build/Data-Pipeline-0.02-vw_cwO/blib/lib/Data/Pipeline/Machine.pm line 162
Data::Pipeline::Machine::with_options(CODE(0x912fb98), HASH(0x88e8dc0)) called at /root/.cpan/build/Data-Pipeline-0.02-vw_cwO/blib/lib/Data/Pipeline/Aggregator/Machine.pm line 125
Data::Pipeline::Aggregator::Machine::from(Data::Pipeline::Aggregator::Machine=HASH(0x8f33d38), "array", ARRAY(0x912fb48)) called at /root/perl5/perlbrew/perls/perl-5.16.3/lib/site_perl/5.16.3/i686-linux/Moose/Meta/Method/Delegation.pm line 110
Data::Pipeline::Machine::from(My::Machine=HASH(0x912f8f8), "array", ARRAY(0x912fb48)) called at t/11-machine.t line 42
t/11-machine.t ......... ok
Class::MOP::load_class is deprecated at /root/perl5/perlbrew/perls/perl-5.16.3/lib/site_perl/5.16.3/i686-linux/Class/MOP.pm line 76.
Class::MOP::load_class("Data::Pipeline::Aggregator::Pipeline") called at /root/.cpan/build/Data-Pipeline-0.02-vw_cwO/blib/lib/Data/Pipeline.pm line 70
eval {...} called at /root/.cpan/build/Data-Pipeline-0.02-vw_cwO/blib/lib/Data/Pipeline.pm line 70
Data::Pipeline::_find_class("Pipeline") called at /root/.cpan/build/Data-Pipeline-0.02-vw_cwO/blib/lib/Data/Pipeline.pm line 23
Data::Pipeline::import("Data::Pipeline", "Pipeline", "Count", "Array") called at t/12-options.t line 3
main::BEGIN() called at t/12-options.t line 3
eval {...} called at t/12-options.t line 3
Class::MOP::load_class is deprecated at /root/perl5/perlbrew/perls/perl-5.16.3/lib/site_perl/5.16.3/i686-linux/Class/MOP.pm line 76.
Class::MOP::load_class("Data::Pipeline::Aggregator::Machine") called at /root/.cpan/build/Data-Pipeline-0.02-vw_cwO/blib/lib/Data/Pipeline/Machine.pm line 20
Data::Pipeline::Machine::BEGIN() called at /root/.cpan/build/Data-Pipeline-0.02-vw_cwO/blib/lib/Data/Pipeline/Machine.pm line 22
eval {...} called at /root/.cpan/build/Data-Pipeline-0.02-vw_cwO/blib/lib/Data/Pipeline/Machine.pm line 22
require Data/Pipeline/Machine.pm called at /root/.cpan/build/Data-Pipeline-0.02-vw_cwO/blib/lib/Data/Pipeline/Aggregator/Pipeline.pm line 10
Data::Pipeline::Aggregator::Pipeline::BEGIN() called at /root/.cpan/build/Data-Pipeline-0.02-vw_cwO/blib/lib/Data/Pipeline/Machine.pm line 22
eval {...} called at /root/.cpan/build/Data-Pipeline-0.02-vw_cwO/blib/lib/Data/Pipeline/Machine.pm line 22
require Data/Pipeline/Aggregator/Pipeline.pm called at /root/perl5/perlbrew/perls/perl-5.16.3/lib/site_perl/5.16.3/Module/Runtime.pm line 317
Module::Runtime::require_module("Data::Pipeline::Aggregator::Pipeline") called at /root/perl5/perlbrew/perls/perl-5.16.3/lib/site_perl/5.16.3/Class/Load.pm line 177
Class::Load::try {...} () called at /root/perl5/perlbrew/perls/perl-5.16.3/lib/site_perl/5.16.3/Try/Tiny.pm line 78
eval {...} called at /root/perl5/perlbrew/perls/perl-5.16.3/lib/site_perl/5.16.3/Try/Tiny.pm line 74
Try::Tiny::try(CODE(0xa01b3a0), Try::Tiny::Catch=REF(0xa0997f0)) called at /root/perl5/perlbrew/perls/perl-5.16.3/lib/site_perl/5.16.3/Class/Load.pm line 183
Class::Load::try_load_class("Data::Pipeline::Aggregator::Pipeline", undef) called at /root/perl5/perlbrew/perls/perl-5.16.3/lib/site_perl/5.16.3/Class/Load.pm line 38
Class::Load::load_class("Data::Pipeline::Aggregator::Pipeline") called at /root/.cpan/build/Data-Pipeline-0.02-vw_cwO/blib/lib/Data/Pipeline.pm line 70
eval {...} called at /root/.cpan/build/Data-Pipeline-0.02-vw_cwO/blib/lib/Data/Pipeline.pm line 70
Data::Pipeline::_find_class("Pipeline") called at /root/.cpan/build/Data-Pipeline-0.02-vw_cwO/blib/lib/Data/Pipeline.pm line 23
Data::Pipeline::import("Data::Pipeline", "Pipeline", "Count", "Array") called at t/12-options.t line 3
main::BEGIN() called at /root/.cpan/build/Data-Pipeline-0.02-vw_cwO/blib/lib/Data/Pipeline/Machine.pm line 22
eval {...} called at /root/.cpan/build/Data-Pipeline-0.02-vw_cwO/blib/lib/Data/Pipeline/Machine.pm line 22
Class::MOP::load_class is deprecated at /root/perl5/perlbrew/perls/perl-5.16.3/lib/site_perl/5.16.3/i686-linux/Class/MOP.pm line 76.
Class::MOP::load_class("Data::Pipeline::Adapter::Array") called at /root/.cpan/build/Data-Pipeline-0.02-vw_cwO/blib/lib/Data/Pipeline/Types.pm line 83
Data::Pipeline::Types::__ANON__(59) called at /root/perl5/perlbrew/perls/perl-5.16.3/lib/site_perl/5.16.3/i686-linux/Moose/Meta/TypeCoercion.pm line 68
Moose::Meta::TypeCoercion::__ANON__(59) called at /root/perl5/perlbrew/perls/perl-5.16.3/lib/site_perl/5.16.3/i686-linux/Moose/Meta/TypeCoercion.pm line 102
Moose::Meta::TypeCoercion::coerce(Moose::Meta::TypeCoercion=HASH(0xa0253c0), 59) called at /root/perl5/perlbrew/perls/perl-5.16.3/lib/site_perl/5.16.3/i686-linux/Moose/Meta/TypeConstraint.pm line 149
Moose::Meta::TypeConstraint::coerce(Moose::Meta::TypeConstraint=HASH(0xa087eb0), 59) called at /root/perl5/perlbrew/perls/perl-5.16.3/lib/site_perl/5.16.3/MooseX/Types.pm line 145
MooseX::Types::__ANON__(59) called at /root/.cpan/build/Data-Pipeline-0.02-vw_cwO/blib/lib/Data/Pipeline/Types.pm line 128
Data::Pipeline::Types::__ANON__(59) called at /root/perl5/perlbrew/perls/perl-5.16.3/lib/site_perl/5.16.3/i686-linux/Moose/Meta/TypeCoercion.pm line 68
Moose::Meta::TypeCoercion::__ANON__(59) called at /root/perl5/perlbrew/perls/perl-5.16.3/lib/site_perl/5.16.3/i686-linux/Moose/Meta/TypeCoercion.pm line 102
Moose::Meta::TypeCoercion::coerce(Moose::Meta::TypeCoercion=HASH(0xa026918), 59) called at /root/perl5/perlbrew/perls/perl-5.16.3/lib/site_perl/5.16.3/i686-linux/Moose/Meta/TypeConstraint.pm line 149
Moose::Meta::TypeConstraint::coerce(Moose::Meta::TypeConstraint=HASH(0xa025320), 59) called at /root/perl5/perlbrew/perls/perl-5.16.3/lib/site_perl/5.16.3/MooseX/Types.pm line 145
MooseX::Types::__ANON__(59) called at /root/.cpan/build/Data-Pipeline-0.02-vw_cwO/blib/lib/Data/Pipeline/Iterator/Options.pm line 45
Data::Pipeline::Iterator::Options::build_source(Data::Pipeline::Iterator::Options=HASH(0xa178280)) called at /root/.cpan/build/Data-Pipeline-0.02-vw_cwO/blib/lib/Data/Pipeline/Iterator/Options.pm line 24
Data::Pipeline::Iterator::Options::__ANON__(Data::Pipeline::Iterator::Options=HASH(0xa178280)) called at accessor Data::Pipeline::Iterator::Options::source (defined at /root/.cpan/build/Data-Pipeline-0.02-vw_cwO/blib/lib/Data/Pipeline/Iterator/Options.pm line 27) line 17
Data::Pipeline::Iterator::Options::source(Data::Pipeline::Iterator::Options=HASH(0xa178280)) called at /root/.cpan/build/Data-Pipeline-0.02-vw_cwO/blib/lib/Data/Pipeline/Iterator.pm line 53
Data::Pipeline::Iterator::finished(Data::Pipeline::Iterator::Options=HASH(0xa178280)) called at t/12-options.t line 23
t/12-options.t ......... ok
Class::MOP::load_class is deprecated at /root/perl5/perlbrew/perls/perl-5.16.3/lib/site_perl/5.16.3/i686-linux/Class/MOP.pm line 76.
Class::MOP::load_class("Data::Pipeline::Aggregator::Pipeline") called at /root/.cpan/build/Data-Pipeline-0.02-vw_cwO/blib/lib/Data/Pipeline.pm line 70
eval {...} called at /root/.cpan/build/Data-Pipeline-0.02-vw_cwO/blib/lib/Data/Pipeline.pm line 70
Data::Pipeline::_find_class("Pipeline") called at /root/.cpan/build/Data-Pipeline-0.02-vw_cwO/blib/lib/Data/Pipeline.pm line 23
Data::Pipeline::import("Data::Pipeline", "Pipeline", "UrlBuilder") called at t/13-uribuilder.t line 3
main::BEGIN() called at t/13-uribuilder.t line 3
eval {...} called at t/13-uribuilder.t line 3
Class::MOP::load_class is deprecated at /root/perl5/perlbrew/perls/perl-5.16.3/lib/site_perl/5.16.3/i686-linux/Class/MOP.pm line 76.
Class::MOP::load_class("Data::Pipeline::Aggregator::Machine") called at /root/.cpan/build/Data-Pipeline-0.02-vw_cwO/blib/lib/Data/Pipeline/Machine.pm line 20
Data::Pipeline::Machine::BEGIN() called at /root/.cpan/build/Data-Pipeline-0.02-vw_cwO/blib/lib/Data/Pipeline/Machine.pm line 22
eval {...} called at /root/.cpan/build/Data-Pipeline-0.02-vw_cwO/blib/lib/Data/Pipeline/Machine.pm line 22
require Data/Pipeline/Machine.pm called at /root/.cpan/build/Data-Pipeline-0.02-vw_cwO/blib/lib/Data/Pipeline/Aggregator/Pipeline.pm line 10
Data::Pipeline::Aggregator::Pipeline::BEGIN() called at /root/.cpan/build/Data-Pipeline-0.02-vw_cwO/blib/lib/Data/Pipeline/Machine.pm line 22
eval {...} called at /root/.cpan/build/Data-Pipeline-0.02-vw_cwO/blib/lib/Data/Pipeline/Machine.pm line 22
require Data/Pipeline/Aggregator/Pipeline.pm called at /root/perl5/perlbrew/perls/perl-5.16.3/lib/site_perl/5.16.3/Module/Runtime.pm line 317
Module::Runtime::require_module("Data::Pipeline::Aggregator::Pipeline") called at /root/perl5/perlbrew/perls/perl-5.16.3/lib/site_perl/5.16.3/Class/Load.pm line 177
Class::Load::try {...} () called at /root/perl5/perlbrew/perls/perl-5.16.3/lib/site_perl/5.16.3/Try/Tiny.pm line 78
eval {...} called at /root/perl5/perlbrew/perls/perl-5.16.3/lib/site_perl/5.16.3/Try/Tiny.pm line 74
Try::Tiny::try(CODE(0x8e78290), Try::Tiny::Catch=REF(0x8ef6640)) called at /root/perl5/perlbrew/perls/perl-5.16.3/lib/site_perl/5.16.3/Class/Load.pm line 183
Class::Load::try_load_class("Data::Pipeline::Aggregator::Pipeline", undef) called at /root/perl5/perlbrew/perls/perl-5.16.3/lib/site_perl/5.16.3/Class/Load.pm line 38
Class::Load::load_class("Data::Pipeline::Aggregator::Pipeline") called at /root/.cpan/build/Data-Pipeline-0.02-vw_cwO/blib/lib/Data/Pipeline.pm line 70
eval {...} called at /root/.cpan/build/Data-Pipeline-0.02-vw_cwO/blib/lib/Data/Pipeline.pm line 70
Data::Pipeline::_find_class("Pipeline") called at /root/.cpan/build/Data-Pipeline-0.02-vw_cwO/blib/lib/Data/Pipeline.pm line 23
Data::Pipeline::import("Data::Pipeline", "Pipeline", "UrlBuilder") called at t/13-uribuilder.t line 3
main::BEGIN() called at /root/.cpan/build/Data-Pipeline-0.02-vw_cwO/blib/lib/Data/Pipeline/Machine.pm line 22
eval {...} called at /root/.cpan/build/Data-Pipeline-0.02-vw_cwO/blib/lib/Data/Pipeline/Machine.pm line 22
Class::MOP::load_class is deprecated at /root/perl5/perlbrew/perls/perl-5.16.3/lib/site_perl/5.16.3/i686-linux/Class/MOP.pm line 76.
Class::MOP::load_class("Data::Pipeline::Iterator") called at /root/.cpan/build/Data-Pipeline-0.02-vw_cwO/blib/lib/Data/Pipeline/Types.pm line 133
Data::Pipeline::Types::__ANON__(Data::Pipeline::Adapter::UrlBuilder=HASH(0x8f6d900)) called at /root/perl5/perlbrew/perls/perl-5.16.3/lib/site_perl/5.16.3/i686-linux/Moose/Meta/TypeCoercion.pm line 68
Moose::Meta::TypeCoercion::__ANON__(Data::Pipeline::Adapter::UrlBuilder=HASH(0x8f6d900)) called at /root/perl5/perlbrew/perls/perl-5.16.3/lib/site_perl/5.16.3/i686-linux/Moose/Meta/TypeCoercion.pm line 102
Moose::Meta::TypeCoercion::coerce(Moose::Meta::TypeCoercion=HASH(0x8e837a0), Data::Pipeline::Adapter::UrlBuilder=HASH(0x8f6d900)) called at /root/perl5/perlbrew/perls/perl-5.16.3/lib/site_perl/5.16.3/i686-linux/Moose/Meta/TypeConstraint.pm line 149
Moose::Meta::TypeConstraint::coerce(Moose::Meta::TypeConstraint=HASH(0x8e82218), Data::Pipeline::Adapter::UrlBuilder=HASH(0x8f6d900)) called at /root/perl5/perlbrew/perls/perl-5.16.3/lib/site_perl/5.16.3/MooseX/Types.pm line 145
MooseX::Types::__ANON__(Data::Pipeline::Adapter::UrlBuilder=HASH(0x8f6d900)) called at /root/.cpan/build/Data-Pipeline-0.02-vw_cwO/blib/lib/Data/Pipeline/Aggregator/Pipeline.pm line 47
Data::Pipeline::Aggregator::Pipeline::transform(Data::Pipeline::Aggregator::Pipeline=HASH(0x8f67778), Data::Pipeline::Adapter::UrlBuilder=HASH(0x8f6d900)) called at t/13-uribuilder.t line 16
t/13-uribuilder.t ...... ok
Class::MOP::load_class is deprecated at /root/perl5/perlbrew/perls/perl-5.16.3/lib/site_perl/5.16.3/i686-linux/Class/MOP.pm line 76.
Class::MOP::load_class("Data::Pipeline::Aggregator::Machine") called at /root/.cpan/build/Data-Pipeline-0.02-vw_cwO/blib/lib/Data/Pipeline/Machine.pm line 20
Data::Pipeline::Machine::BEGIN() called at /root/.cpan/build/Data-Pipeline-0.02-vw_cwO/blib/lib/Data/Pipeline/Machine.pm line 22
eval {...} called at /root/.cpan/build/Data-Pipeline-0.02-vw_cwO/blib/lib/Data/Pipeline/Machine.pm line 22
require Data/Pipeline/Machine.pm called at unkown line 638
Data::Pipeline::Parser::BEGIN() called at /root/.cpan/build/Data-Pipeline-0.02-vw_cwO/blib/lib/Data/Pipeline/Machine.pm line 22
eval {...} called at /root/.cpan/build/Data-Pipeline-0.02-vw_cwO/blib/lib/Data/Pipeline/Machine.pm line 22
require Data/Pipeline/Parser.pm called at t/20-script.t line 3
main::BEGIN() called at /root/.cpan/build/Data-Pipeline-0.02-vw_cwO/blib/lib/Data/Pipeline/Machine.pm line 22
eval {...} called at /root/.cpan/build/Data-Pipeline-0.02-vw_cwO/blib/lib/Data/Pipeline/Machine.pm line 22
Class::MOP::load_class is deprecated at /root/perl5/perlbrew/perls/perl-5.16.3/lib/site_perl/5.16.3/i686-linux/Class/MOP.pm line 76.
Class::MOP::load_class("Data::Pipeline::Adapter::Array") called at unkown line 1005
eval {...} called at unkown line 1005
Data::Pipeline::Parser::_load_filter(Data::Pipeline::Parser=HASH(0xa5f23b8), "Adapter", "Array") called at unkown line 988
Data::Pipeline::Parser::load_actions(Data::Pipeline::Parser=HASH(0xa5f23b8), "Adapter", "Array") called at unkown line 264
Data::Pipeline::Parser::__ANON__() called at unkown line 61
Data::Pipeline::Parser::__ANON__() called at unkown line 978
Data::Pipeline::Parser::_eval_in_m(Data::Pipeline::Parser=HASH(0xa5f23b8), "", CODE(0xa5cf070)) called at unkown line 883
Data::Pipeline::Parser::parse(Data::Pipeline::Parser=HASH(0xa5d2960), HASH(0x9dc5c68), "\x{a} IN: Array\x{a} OUT: Array\x{a} USE: Identity\x{a}\x{a} PIPELINE"..., HASH(0x9dc5d58)) called at t/20-script.t line 9
Class::MOP::load_class is deprecated at /root/perl5/perlbrew/perls/perl-5.16.3/lib/site_perl/5.16.3/i686-linux/Class/MOP.pm line 76.
Class::MOP::load_class("Data::Pipeline::Iterator") called at /root/.cpan/build/Data-Pipeline-0.02-vw_cwO/blib/lib/Data/Pipeline/Types.pm line 133
Data::Pipeline::Types::__ANON__(Data::Pipeline::Adapter::Array=HASH(0xa5cef40)) called at /root/perl5/perlbrew/perls/perl-5.16.3/lib/site_perl/5.16.3/i686-linux/Moose/Meta/TypeCoercion.pm line 68
Moose::Meta::TypeCoercion::__ANON__(Data::Pipeline::Adapter::Array=HASH(0xa5cef40)) called at /root/perl5/perlbrew/perls/perl-5.16.3/lib/site_perl/5.16.3/i686-linux/Moose/Meta/TypeCoercion.pm line 102
Moose::Meta::TypeCoercion::coerce(Moose::Meta::TypeCoercion=HASH(0xa131888), Data::Pipeline::Adapter::Array=HASH(0xa5cef40)) called at /root/perl5/perlbrew/perls/perl-5.16.3/lib/site_perl/5.16.3/i686-linux/Moose/Meta/TypeConstraint.pm line 149
Moose::Meta::TypeConstraint::coerce(Moose::Meta::TypeConstraint=HASH(0xa130370), Data::Pipeline::Adapter::Array=HASH(0xa5cef40)) called at /root/perl5/perlbrew/perls/perl-5.16.3/lib/site_perl/5.16.3/MooseX/Types.pm line 145
MooseX::Types::__ANON__(Data::Pipeline::Adapter::Array=HASH(0xa5cef40)) called at /root/.cpan/build/Data-Pipeline-0.02-vw_cwO/blib/lib/Data/Pipeline/Aggregator/Pipeline.pm line 30
Data::Pipeline::Aggregator::Pipeline::from(Data::Pipeline::Aggregator::Pipeline=HASH(0xa64bc90), "array", ARRAY(0x9dc5d58)) called at /root/.cpan/build/Data-Pipeline-0.02-vw_cwO/blib/lib/Data/Pipeline/Aggregator/Machine.pm line 124
Data::Pipeline::Aggregator::Machine::__ANON__() called at /root/.cpan/build/Data-Pipeline-0.02-vw_cwO/blib/lib/Data/Pipeline/Machine.pm line 162
Data::Pipeline::Machine::with_options(CODE(0x9dd8aa0), HASH(0x9dda9d0)) called at /root/.cpan/build/Data-Pipeline-0.02-vw_cwO/blib/lib/Data/Pipeline/Aggregator/Machine.pm line 125
Data::Pipeline::Aggregator::Machine::from(Data::Pipeline::Aggregator::Machine=HASH(0xa5c0698), "array", ARRAY(0x9dc5d58)) called at unkown line 964
Data::Pipeline::Parser::run(Data::Pipeline::Parser=HASH(0xa5f23b8), "from", HASH(0xa5cf520), "to", ARRAY(0xa5c00b8)) called at t/20-script.t line 24
t/20-script.t .......... ok
All tests successful.
Files=14, Tests=137, 7 wallclock secs ( 0.45 usr 0.32 sys + 3.26 cusr 2.02 csys = 6.05 CPU)
Result: PASS
------------------------------
PREREQUISITES
------------------------------
Prerequisite modules loaded:
requires:
Module Need Have
------------------- ---- -------
Moose 2.06 2.1100
build_requires:
Module Need Have
------------------- ---- -------
ExtUtils::MakeMaker 6.36 6.76
Test::More 0 0.98_05
configure_requires:
Module Need Have
------------------- ---- -------
ExtUtils::MakeMaker 6.36 6.76
------------------------------
ENVIRONMENT AND OTHER CONTEXT
------------------------------
Environment variables:
AUTOMATED_TESTING = 1
LANG = en_US.UTF-8
PATH = /root/perl5/perlbrew/bin:/root/perl5/perlbrew/perls/perl-5.16.3/bin:/usr/local/sbin:/usr/local/bin:/sbin:/bin:/usr/sbin:/usr/bin:/root/bin
PERL5LIB =
PERL5OPT =
PERL5_CPANPLUS_IS_RUNNING = 27806
PERL5_CPAN_IS_RUNNING = 27806
PERL5_CPAN_IS_RUNNING_IN_RECURSION = 14248,27806
PERLBREW_BASHRC_VERSION = 0.66
PERLBREW_HOME = /root/.perlbrew
PERLBREW_MANPATH = /root/perl5/perlbrew/perls/perl-5.16.3/man
PERLBREW_PATH = /root/perl5/perlbrew/bin:/root/perl5/perlbrew/perls/perl-5.16.3/bin
PERLBREW_PERL = perl-5.16.3
PERLBREW_ROOT = /root/perl5/perlbrew
PERLBREW_VERSION = 0.66
PERL_CR_SMOKER_CURRENT = Data-Pipeline-0.02
PERL_EXTUTILS_AUTOINSTALL = --defaultdeps
PERL_MM_USE_DEFAULT = 1
SHELL = /bin/bash
TERM = linux
Perl special variables (and OS-specific diagnostics, for MSWin32):
$^X = /root/perl5/perlbrew/perls/perl-5.16.3/bin/perl
$UID/$EUID = 0 / 0
$GID = 0 0
$EGID = 0 0
Perl module toolchain versions installed:
Module Have
------------------- --------
CPAN 2.02
CPAN::Meta 2.132140
Cwd 3.40
ExtUtils::CBuilder 0.280210
ExtUtils::Command 1.17
ExtUtils::Install 1.58
ExtUtils::MakeMaker 6.76
ExtUtils::Manifest 1.61
ExtUtils::ParseXS 3.22
File::Spec 3.40
JSON 2.59
JSON::PP 2.27202
Module::Build 0.4007
Module::Signature n/a
Parse::CPAN::Meta 1.4405
Test::Harness 3.26
Test::More 0.98_05
YAML 0.84
YAML::Syck 1.27
version 0.9904
--
Summary of my perl5 (revision 5 version 16 subversion 3) configuration:
Platform:
osname=linux, osvers=2.6.32-358.el6.i686, archname=i686-linux
uname='linux centos64-32bit 2.6.32-358.el6.i686 #1 smp thu feb 21 21:50:49 utc 2013 i686 i686 i386 gnulinux '
config_args='-de -Dprefix=/root/perl5/perlbrew/perls/perl-5.16.3 -Aeval:scriptdir=/root/perl5/perlbrew/perls/perl-5.16.3/bin'
hint=recommended, useposix=true, d_sigaction=define
useithreads=undef, usemultiplicity=undef
useperlio=define, d_sfio=undef, uselargefiles=define, usesocks=undef
use64bitint=undef, use64bitall=undef, uselongdouble=undef
usemymalloc=n, bincompat5005=undef
Compiler:
cc='cc', ccflags ='-fno-strict-aliasing -pipe -fstack-protector -I/usr/local/include -D_LARGEFILE_SOURCE -D_FILE_OFFSET_BITS=64',
optimize='-O2',
cppflags='-fno-strict-aliasing -pipe -fstack-protector -I/usr/local/include'
ccversion='', gccversion='4.4.7 20120313 (Red Hat 4.4.7-3)', gccosandvers=''
intsize=4, longsize=4, ptrsize=4, doublesize=8, byteorder=1234
d_longlong=define, longlongsize=8, d_longdbl=define, longdblsize=12
ivtype='long', ivsize=4, nvtype='double', nvsize=8, Off_t='off_t', lseeksize=8
alignbytes=4, prototype=define
Linker and Libraries:
ld='cc', ldflags =' -fstack-protector -L/usr/local/lib'
libpth=/usr/local/lib /lib /usr/lib
libs=-lnsl -ldl -lm -lcrypt -lutil -lc
perllibs=-lnsl -ldl -lm -lcrypt -lutil -lc
libc=/lib/libc-2.12.so, so=so, useshrplib=false, libperl=libperl.a
gnulibc_version='2.12'
Dynamic Linking:
dlsrc=dl_dlopen.xs, dlext=so, d_dlsymun=undef, ccdlflags='-Wl,-E'
cccdlflags='-fPIC', lddlflags='-shared -O2 -L/usr/local/lib -fstack-protector'
Characteristics of this binary (from libperl):
Compile-time options: HAS_TIMES PERLIO_LAYERS PERL_DONT_CREATE_GVSV
PERL_MALLOC_WRAP PERL_PRESERVE_IVUV USE_LARGE_FILES
USE_LOCALE USE_LOCALE_COLLATE USE_LOCALE_CTYPE
USE_LOCALE_NUMERIC USE_PERLIO USE_PERL_ATOF
Built under linux
Compiled at Sep 2 2013 20:40:46
%ENV:
PERL5LIB=""
PERL5OPT=""
PERL5_CPANPLUS_IS_RUNNING="27806"
PERL5_CPAN_IS_RUNNING="27806"
PERL5_CPAN_IS_RUNNING_IN_RECURSION="14248,27806"
PERLBREW_BASHRC_VERSION="0.66"
PERLBREW_HOME="/root/.perlbrew"
PERLBREW_MANPATH="/root/perl5/perlbrew/perls/perl-5.16.3/man"
PERLBREW_PATH="/root/perl5/perlbrew/bin:/root/perl5/perlbrew/perls/perl-5.16.3/bin"
PERLBREW_PERL="perl-5.16.3"
PERLBREW_ROOT="/root/perl5/perlbrew"
PERLBREW_VERSION="0.66"
PERL_CR_SMOKER_CURRENT="Data-Pipeline-0.02"
PERL_EXTUTILS_AUTOINSTALL="--defaultdeps"
PERL_MM_USE_DEFAULT="1"
@INC:
/root/perl5/perlbrew/perls/perl-5.16.3/lib/site_perl/5.16.3/i686-linux
/root/perl5/perlbrew/perls/perl-5.16.3/lib/site_perl/5.16.3
/root/perl5/perlbrew/perls/perl-5.16.3/lib/5.16.3/i686-linux
/root/perl5/perlbrew/perls/perl-5.16.3/lib/5.16.3
.