HTTP-Session2 v1.09 Perl 5 v5.27.6 x86_64-linux

Status
Pass
From
Slaven Rezić (SREZIC)
Dist
HTTP-Session2 v1.09
Platform
Perl 5 v5.27.6 x86_64-linux
Date
2017-12-10 12:52:41
ID
0203f954-dda9-11e7-adaa-e1de86c17d35
This distribution has been tested as part of the CPAN Testers
project, supporting the Perl programming language.  See
http://wiki.cpantesters.org/ for more information or email
questions to cpan-testers-discuss@perl.org


--
Dear Author,

This is a computer-generated report for HTTP-Session2-1.09
on perl 5.27.6, created by CPAN-Reporter-1.2018.

Thank you for uploading your work to CPAN.  Congratulations!
All tests were successful.

Sections of this report:

    * Tester comments
    * Program output
    * Prerequisites
    * Environment and other context

------------------------------
TESTER COMMENTS
------------------------------

Additional comments from tester:

none provided

------------------------------
PROGRAM OUTPUT
------------------------------

Output from './Build test':

t/00_compile.t .............. ok
Secret string too short at /home/cpansand/.cpan/build/2017121009/HTTP-Session2-1.09-4/blib/lib/HTTP/Session2/Base.pm line 79.
	HTTP::Session2::Base::__ANON__(HTTP::Session2::ServerStore=HASH(0x55d484401710), "s3cret") called at t/01_server_side.t line 23
	main::__ANON__("client -> server: request without cookie", CODE(0x55d4843f77d8)) called at t/01_server_side.t line 25
	main::__ANON__() called at /opt/perl-5.27.6/lib/site_perl/5.27.6/Test/Builder.pm line 337
	eval {...} called at /opt/perl-5.27.6/lib/site_perl/5.27.6/Test/Builder.pm line 337
	Test::Builder::subtest(Test::Builder=HASH(0x55d483b2e168), "First request", CODE(0x55d4841ef3b8)) called at /opt/perl-5.27.6/lib/site_perl/5.27.6/Test/More.pm line 807
	Test::More::subtest("First request", CODE(0x55d4841ef3b8)) called at t/01_server_side.t line 11
	main::scenario("First request", CODE(0x55d4841ef3b8)) called at t/01_server_side.t line 31
Secret string too short at /home/cpansand/.cpan/build/2017121009/HTTP-Session2-1.09-4/blib/lib/HTTP/Session2/Base.pm line 79.
	HTTP::Session2::Base::__ANON__(HTTP::Session2::ServerStore=HASH(0x55d484408d00), "s3cret") called at t/01_server_side.t line 40
	main::__ANON__("client -> server: request without cookie", CODE(0x55d4844089e8)) called at t/01_server_side.t line 42
	main::__ANON__() called at /opt/perl-5.27.6/lib/site_perl/5.27.6/Test/Builder.pm line 337
	eval {...} called at /opt/perl-5.27.6/lib/site_perl/5.27.6/Test/Builder.pm line 337
	Test::Builder::subtest(Test::Builder=HASH(0x55d483b2e168), "Store something without login", CODE(0x55d4843cf3c8)) called at /opt/perl-5.27.6/lib/site_perl/5.27.6/Test/More.pm line 807
	Test::More::subtest("Store something without login", CODE(0x55d4843cf3c8)) called at t/01_server_side.t line 11
	main::scenario("Store something without login", CODE(0x55d4843cf3c8)) called at t/01_server_side.t line 58
Secret string too short at /home/cpansand/.cpan/build/2017121009/HTTP-Session2-1.09-4/blib/lib/HTTP/Session2/Base.pm line 79.
	HTTP::Session2::Base::__ANON__(HTTP::Session2::ServerStore=HASH(0x55d484413ea8), "s3cret") called at t/01_server_side.t line 70
	main::__ANON__("client -> server: request without cookie", CODE(0x55d48440eda8)) called at t/01_server_side.t line 72
	main::__ANON__() called at /opt/perl-5.27.6/lib/site_perl/5.27.6/Test/Builder.pm line 337
	eval {...} called at /opt/perl-5.27.6/lib/site_perl/5.27.6/Test/Builder.pm line 337
	Test::Builder::subtest(Test::Builder=HASH(0x55d483b2e168), "Login", CODE(0x55d4843e19e8)) called at /opt/perl-5.27.6/lib/site_perl/5.27.6/Test/More.pm line 807
	Test::More::subtest("Login", CODE(0x55d4843e19e8)) called at t/01_server_side.t line 11
	main::scenario("Login", CODE(0x55d4843e19e8)) called at t/01_server_side.t line 96
Secret string too short at /home/cpansand/.cpan/build/2017121009/HTTP-Session2-1.09-4/blib/lib/HTTP/Session2/Base.pm line 79.
	HTTP::Session2::Base::__ANON__(HTTP::Session2::ServerStore=HASH(0x55d48441c1d0), "s3cret") called at t/01_server_side.t line 108
	main::__ANON__("client -> server: request without cookie", CODE(0x55d484408580)) called at t/01_server_side.t line 110
	main::__ANON__() called at /opt/perl-5.27.6/lib/site_perl/5.27.6/Test/Builder.pm line 337
	eval {...} called at /opt/perl-5.27.6/lib/site_perl/5.27.6/Test/Builder.pm line 337
	Test::Builder::subtest(Test::Builder=HASH(0x55d483b2e168), "In a login session", CODE(0x55d4843e20a8)) called at /opt/perl-5.27.6/lib/site_perl/5.27.6/Test/More.pm line 807
	Test::More::subtest("In a login session", CODE(0x55d4843e20a8)) called at t/01_server_side.t line 11
	main::scenario("In a login session", CODE(0x55d4843e20a8)) called at t/01_server_side.t line 124
Secret string too short at /home/cpansand/.cpan/build/2017121009/HTTP-Session2-1.09-4/blib/lib/HTTP/Session2/Base.pm line 79.
	HTTP::Session2::Base::__ANON__(HTTP::Session2::ServerStore=HASH(0x55d48441eb18), "s3cret") called at t/01_server_side.t line 131
	main::__ANON__("client -> server: request without cookie", CODE(0x55d48441e398)) called at t/01_server_side.t line 138
	main::__ANON__() called at /opt/perl-5.27.6/lib/site_perl/5.27.6/Test/Builder.pm line 337
	eval {...} called at /opt/perl-5.27.6/lib/site_perl/5.27.6/Test/Builder.pm line 337
	Test::Builder::subtest(Test::Builder=HASH(0x55d483b2e168), "Logout", CODE(0x55d4843e2780)) called at /opt/perl-5.27.6/lib/site_perl/5.27.6/Test/More.pm line 807
	Test::More::subtest("Logout", CODE(0x55d4843e2780)) called at t/01_server_side.t line 11
	main::scenario("Logout", CODE(0x55d4843e2780)) called at t/01_server_side.t line 153
t/01_server_side.t .......... ok
Secret string too short at /home/cpansand/.cpan/build/2017121009/HTTP-Session2-1.09-4/blib/lib/HTTP/Session2/Base.pm line 79.
	HTTP::Session2::Base::__ANON__(HTTP::Session2::ClientStore=HASH(0x55cc755a40b0), "s3cret") called at t/02_client_side.t line 17
	main::__ANON__("client -> server: request without cookie", CODE(0x55cc755a3d20)) called at t/02_client_side.t line 22
	main::__ANON__() called at /opt/perl-5.27.6/lib/site_perl/5.27.6/Test/Builder.pm line 337
	eval {...} called at /opt/perl-5.27.6/lib/site_perl/5.27.6/Test/Builder.pm line 337
	Test::Builder::subtest(Test::Builder=HASH(0x55cc74ca3018), "First request", CODE(0x55cc75295538)) called at /opt/perl-5.27.6/lib/site_perl/5.27.6/Test/More.pm line 807
	Test::More::subtest("First request", CODE(0x55cc75295538)) called at t/02_client_side.t line 9
	main::scenario("First request", CODE(0x55cc75295538)) called at t/02_client_side.t line 28
Secret string too short at /home/cpansand/.cpan/build/2017121009/HTTP-Session2-1.09-4/blib/lib/HTTP/Session2/Base.pm line 79.
	HTTP::Session2::Base::__ANON__(HTTP::Session2::ClientStore=HASH(0x55cc755af788), "s3cret") called at t/02_client_side.t line 33
	main::__ANON__("client -> server: request without cookie", CODE(0x55cc755a8170)) called at t/02_client_side.t line 38
	main::__ANON__() called at /opt/perl-5.27.6/lib/site_perl/5.27.6/Test/Builder.pm line 337
	eval {...} called at /opt/perl-5.27.6/lib/site_perl/5.27.6/Test/Builder.pm line 337
	Test::Builder::subtest(Test::Builder=HASH(0x55cc74ca3018), "Store something without login", CODE(0x55cc7557ff40)) called at /opt/perl-5.27.6/lib/site_perl/5.27.6/Test/More.pm line 807
	Test::More::subtest("Store something without login", CODE(0x55cc7557ff40)) called at t/02_client_side.t line 9
	main::scenario("Store something without login", CODE(0x55cc7557ff40)) called at t/02_client_side.t line 54
Do not use HTTP::Session2::ClientStore. Use HTTP::Session2::ServerStore or HTTP::Session2::ClientStore2 instead. at /home/cpansand/.cpan/build/2017121009/HTTP-Session2-1.09-4/blib/lib/HTTP/Session2/ClientStore.pm line 25.
Secret string too short at /home/cpansand/.cpan/build/2017121009/HTTP-Session2-1.09-4/blib/lib/HTTP/Session2/Base.pm line 79.
	HTTP::Session2::Base::__ANON__(HTTP::Session2::ClientStore=HASH(0x55cc755b97f0), "s3cret") called at t/02_client_side.t line 60
	main::__ANON__("client -> server: request without cookie", CODE(0x55cc755aff50)) called at t/02_client_side.t line 66
	main::__ANON__() called at /opt/perl-5.27.6/lib/site_perl/5.27.6/Test/Builder.pm line 337
	eval {...} called at /opt/perl-5.27.6/lib/site_perl/5.27.6/Test/Builder.pm line 337
	Test::Builder::subtest(Test::Builder=HASH(0x55cc74ca3018), "Login", CODE(0x55cc75580168)) called at /opt/perl-5.27.6/lib/site_perl/5.27.6/Test/More.pm line 807
	Test::More::subtest("Login", CODE(0x55cc75580168)) called at t/02_client_side.t line 9
	main::scenario("Login", CODE(0x55cc75580168)) called at t/02_client_side.t line 86
Do not use HTTP::Session2::ClientStore. Use HTTP::Session2::ServerStore or HTTP::Session2::ClientStore2 instead. at /home/cpansand/.cpan/build/2017121009/HTTP-Session2-1.09-4/blib/lib/HTTP/Session2/ClientStore.pm line 35.
Do not use HTTP::Session2::ClientStore. Use HTTP::Session2::ServerStore or HTTP::Session2::ClientStore2 instead. at /home/cpansand/.cpan/build/2017121009/HTTP-Session2-1.09-4/blib/lib/HTTP/Session2/ClientStore.pm line 25.
Secret string too short at /home/cpansand/.cpan/build/2017121009/HTTP-Session2-1.09-4/blib/lib/HTTP/Session2/Base.pm line 79.
	HTTP::Session2::Base::__ANON__(HTTP::Session2::ClientStore=HASH(0x55cc755c13b8), "s3cret") called at t/02_client_side.t line 92
	main::__ANON__("client -> server: request without cookie", CODE(0x55cc755c1220)) called at t/02_client_side.t line 98
	main::__ANON__() called at /opt/perl-5.27.6/lib/site_perl/5.27.6/Test/Builder.pm line 337
	eval {...} called at /opt/perl-5.27.6/lib/site_perl/5.27.6/Test/Builder.pm line 337
	Test::Builder::subtest(Test::Builder=HASH(0x55cc74ca3018), "In a login session", CODE(0x55cc7558c1a8)) called at /opt/perl-5.27.6/lib/site_perl/5.27.6/Test/More.pm line 807
	Test::More::subtest("In a login session", CODE(0x55cc7558c1a8)) called at t/02_client_side.t line 9
	main::scenario("In a login session", CODE(0x55cc7558c1a8)) called at t/02_client_side.t line 107
Do not use HTTP::Session2::ClientStore. Use HTTP::Session2::ServerStore or HTTP::Session2::ClientStore2 instead. at /home/cpansand/.cpan/build/2017121009/HTTP-Session2-1.09-4/blib/lib/HTTP/Session2/ClientStore.pm line 35.
Do not use HTTP::Session2::ClientStore. Use HTTP::Session2::ServerStore or HTTP::Session2::ClientStore2 instead. at /home/cpansand/.cpan/build/2017121009/HTTP-Session2-1.09-4/blib/lib/HTTP/Session2/ClientStore.pm line 25.
Secret string too short at /home/cpansand/.cpan/build/2017121009/HTTP-Session2-1.09-4/blib/lib/HTTP/Session2/Base.pm line 79.
	HTTP::Session2::Base::__ANON__(HTTP::Session2::ClientStore=HASH(0x55cc755c4118), "s3cret") called at t/02_client_side.t line 112
	main::__ANON__("client -> server: request without cookie", CODE(0x55cc755c3650)) called at t/02_client_side.t line 118
	main::__ANON__() called at /opt/perl-5.27.6/lib/site_perl/5.27.6/Test/Builder.pm line 337
	eval {...} called at /opt/perl-5.27.6/lib/site_perl/5.27.6/Test/Builder.pm line 337
	Test::Builder::subtest(Test::Builder=HASH(0x55cc74ca3018), "Logout", CODE(0x55cc7558c220)) called at /opt/perl-5.27.6/lib/site_perl/5.27.6/Test/More.pm line 807
	Test::More::subtest("Logout", CODE(0x55cc7558c220)) called at t/02_client_side.t line 9
	main::scenario("Logout", CODE(0x55cc7558c220)) called at t/02_client_side.t line 131
t/02_client_side.t .......... ok
Secret string too short at /home/cpansand/.cpan/build/2017121009/HTTP-Session2-1.09-4/blib/lib/HTTP/Session2/Base.pm line 79.
	HTTP::Session2::Base::__ANON__(HTTP::Session2::ServerStore=HASH(0x564e314822a0), "s3cret") called at t/03_mech.t line 121
	main::server_session(HASH(0x564e31114790)) called at t/03_mech.t line 17
	main::__ANON__(HASH(0x564e31114790)) called at /opt/perl-5.27.6/lib/site_perl/5.27.6/Test/WWW/Mechanize/PSGI.pm line 43
	Test::WWW::Mechanize::PSGI::try {...} () called at /opt/perl-5.27.6/lib/site_perl/5.27.6/Try/Tiny.pm line 103
	eval {...} called at /opt/perl-5.27.6/lib/site_perl/5.27.6/Try/Tiny.pm line 94
	Try::Tiny::try(CODE(0x564e31476570), Try::Tiny::Catch=REF(0x564e306e1bc8)) called at /opt/perl-5.27.6/lib/site_perl/5.27.6/Test/WWW/Mechanize/PSGI.pm line 50
	Test::WWW::Mechanize::PSGI::simple_request(Test::WWW::Mechanize::PSGI=HASH(0x564e31318988), HTTP::Request=HASH(0x564e313cc978), undef, undef) called at /opt/perl-5.27.6/lib/site_perl/5.27.6/LWP/UserAgent.pm line 297
	LWP::UserAgent::request(Test::WWW::Mechanize::PSGI=HASH(0x564e31318988), HTTP::Request=HASH(0x564e313cc978)) called at /opt/perl-5.27.6/lib/site_perl/5.27.6/WWW/Mechanize.pm line 1413
	WWW::Mechanize::_make_request(Test::WWW::Mechanize::PSGI=HASH(0x564e31318988), HTTP::Request=HASH(0x564e313cc978)) called at /opt/perl-5.27.6/lib/site_perl/5.27.6/WWW/Mechanize.pm line 1253
	WWW::Mechanize::request(Test::WWW::Mechanize::PSGI=HASH(0x564e31318988), HTTP::Request=HASH(0x564e313cc978)) called at /opt/perl-5.27.6/lib/site_perl/5.27.6/LWP/UserAgent.pm line 435
	LWP::UserAgent::get(Test::WWW::Mechanize::PSGI=HASH(0x564e31318988), "/") called at /opt/perl-5.27.6/lib/site_perl/5.27.6/WWW/Mechanize.pm line 117
	WWW::Mechanize::get(Test::WWW::Mechanize::PSGI=HASH(0x564e31318988), "/") called at /opt/perl-5.27.6/lib/site_perl/5.27.6/Test/WWW/Mechanize.pm line 160
	Test::WWW::Mechanize::get_ok(Test::WWW::Mechanize::PSGI=HASH(0x564e31318988), "/") called at t/03_mech.t line 74
Secret string too short at /home/cpansand/.cpan/build/2017121009/HTTP-Session2-1.09-4/blib/lib/HTTP/Session2/Base.pm line 79.
	HTTP::Session2::Base::__ANON__(HTTP::Session2::ServerStore=HASH(0x564e31483008), "s3cret") called at t/03_mech.t line 121
	main::server_session(HASH(0x564e2ff35b30)) called at t/03_mech.t line 17
	main::__ANON__(HASH(0x564e2ff35b30)) called at /opt/perl-5.27.6/lib/site_perl/5.27.6/Test/WWW/Mechanize/PSGI.pm line 43
	Test::WWW::Mechanize::PSGI::try {...} () called at /opt/perl-5.27.6/lib/site_perl/5.27.6/Try/Tiny.pm line 103
	eval {...} called at /opt/perl-5.27.6/lib/site_perl/5.27.6/Try/Tiny.pm line 94
	Try::Tiny::try(CODE(0x564e31482b28), Try::Tiny::Catch=REF(0x564e314767c8)) called at /opt/perl-5.27.6/lib/site_perl/5.27.6/Test/WWW/Mechanize/PSGI.pm line 50
	Test::WWW::Mechanize::PSGI::simple_request(Test::WWW::Mechanize::PSGI=HASH(0x564e31318988), HTTP::Request=HASH(0x564e31482228), undef, undef) called at /opt/perl-5.27.6/lib/site_perl/5.27.6/LWP/UserAgent.pm line 297
	LWP::UserAgent::request(Test::WWW::Mechanize::PSGI=HASH(0x564e31318988), HTTP::Request=HASH(0x564e31482228)) called at /opt/perl-5.27.6/lib/site_perl/5.27.6/WWW/Mechanize.pm line 1413
	WWW::Mechanize::_make_request(Test::WWW::Mechanize::PSGI=HASH(0x564e31318988), HTTP::Request=HASH(0x564e31482228)) called at /opt/perl-5.27.6/lib/site_perl/5.27.6/WWW/Mechanize.pm line 1253
	WWW::Mechanize::request(Test::WWW::Mechanize::PSGI=HASH(0x564e31318988), HTTP::Request=HASH(0x564e31482228)) called at /opt/perl-5.27.6/lib/site_perl/5.27.6/LWP/UserAgent.pm line 478
	LWP::UserAgent::post(Test::WWW::Mechanize::PSGI=HASH(0x564e31318988), "/wishlist?foo", HASH(0x564e30ff5418)) called at /opt/perl-5.27.6/lib/site_perl/5.27.6/Test/WWW/Mechanize.pm line 237
	Test::WWW::Mechanize::post_ok(Test::WWW::Mechanize::PSGI=HASH(0x564e31318988), "/wishlist?foo") called at t/03_mech.t line 75
Secret string too short at /home/cpansand/.cpan/build/2017121009/HTTP-Session2-1.09-4/blib/lib/HTTP/Session2/Base.pm line 79.
	HTTP::Session2::Base::__ANON__(HTTP::Session2::ServerStore=HASH(0x564e3148f000), "s3cret") called at t/03_mech.t line 121
	main::server_session(HASH(0x564e3148ec58)) called at t/03_mech.t line 17
	main::__ANON__(HASH(0x564e3148ec58)) called at /opt/perl-5.27.6/lib/site_perl/5.27.6/Test/WWW/Mechanize/PSGI.pm line 43
	Test::WWW::Mechanize::PSGI::try {...} () called at /opt/perl-5.27.6/lib/site_perl/5.27.6/Try/Tiny.pm line 103
	eval {...} called at /opt/perl-5.27.6/lib/site_perl/5.27.6/Try/Tiny.pm line 94
	Try::Tiny::try(CODE(0x564e31482978), Try::Tiny::Catch=REF(0x564e31482ee8)) called at /opt/perl-5.27.6/lib/site_perl/5.27.6/Test/WWW/Mechanize/PSGI.pm line 50
	Test::WWW::Mechanize::PSGI::simple_request(Test::WWW::Mechanize::PSGI=HASH(0x564e31318988), HTTP::Request=HASH(0x564e3148ebb0), undef, undef) called at /opt/perl-5.27.6/lib/site_perl/5.27.6/LWP/UserAgent.pm line 297
	LWP::UserAgent::request(Test::WWW::Mechanize::PSGI=HASH(0x564e31318988), HTTP::Request=HASH(0x564e3148ebb0)) called at /opt/perl-5.27.6/lib/site_perl/5.27.6/WWW/Mechanize.pm line 1413
	WWW::Mechanize::_make_request(Test::WWW::Mechanize::PSGI=HASH(0x564e31318988), HTTP::Request=HASH(0x564e3148ebb0)) called at /opt/perl-5.27.6/lib/site_perl/5.27.6/WWW/Mechanize.pm line 1253
	WWW::Mechanize::request(Test::WWW::Mechanize::PSGI=HASH(0x564e31318988), HTTP::Request=HASH(0x564e3148ebb0)) called at /opt/perl-5.27.6/lib/site_perl/5.27.6/LWP/UserAgent.pm line 435
	LWP::UserAgent::get(Test::WWW::Mechanize::PSGI=HASH(0x564e31318988), "http://localhost/wishlist") called at /opt/perl-5.27.6/lib/site_perl/5.27.6/WWW/Mechanize.pm line 117
	WWW::Mechanize::get(Test::WWW::Mechanize::PSGI=HASH(0x564e31318988), "/wishlist") called at /opt/perl-5.27.6/lib/site_perl/5.27.6/Test/WWW/Mechanize.pm line 160
	Test::WWW::Mechanize::get_ok(Test::WWW::Mechanize::PSGI=HASH(0x564e31318988), "/wishlist") called at t/03_mech.t line 76
Secret string too short at /home/cpansand/.cpan/build/2017121009/HTTP-Session2-1.09-4/blib/lib/HTTP/Session2/Base.pm line 79.
	HTTP::Session2::Base::__ANON__(HTTP::Session2::ServerStore=HASH(0x564e3148f288), "s3cret") called at t/03_mech.t line 121
	main::server_session(HASH(0x564e3148f300)) called at t/03_mech.t line 17
	main::__ANON__(HASH(0x564e3148f300)) called at /opt/perl-5.27.6/lib/site_perl/5.27.6/Test/WWW/Mechanize/PSGI.pm line 43
	Test::WWW::Mechanize::PSGI::try {...} () called at /opt/perl-5.27.6/lib/site_perl/5.27.6/Try/Tiny.pm line 103
	eval {...} called at /opt/perl-5.27.6/lib/site_perl/5.27.6/Try/Tiny.pm line 94
	Try::Tiny::try(CODE(0x564e3148ead8), Try::Tiny::Catch=REF(0x564e3148eeb0)) called at /opt/perl-5.27.6/lib/site_perl/5.27.6/Test/WWW/Mechanize/PSGI.pm line 50
	Test::WWW::Mechanize::PSGI::simple_request(Test::WWW::Mechanize::PSGI=HASH(0x564e31318988), HTTP::Request=HASH(0x564e31482bb8), undef, undef) called at /opt/perl-5.27.6/lib/site_perl/5.27.6/LWP/UserAgent.pm line 297
	LWP::UserAgent::request(Test::WWW::Mechanize::PSGI=HASH(0x564e31318988), HTTP::Request=HASH(0x564e31482bb8)) called at /opt/perl-5.27.6/lib/site_perl/5.27.6/WWW/Mechanize.pm line 1413
	WWW::Mechanize::_make_request(Test::WWW::Mechanize::PSGI=HASH(0x564e31318988), HTTP::Request=HASH(0x564e31482bb8)) called at /opt/perl-5.27.6/lib/site_perl/5.27.6/WWW/Mechanize.pm line 1253
	WWW::Mechanize::request(Test::WWW::Mechanize::PSGI=HASH(0x564e31318988), HTTP::Request=HASH(0x564e31482bb8)) called at /opt/perl-5.27.6/lib/site_perl/5.27.6/LWP/UserAgent.pm line 478
	LWP::UserAgent::post(Test::WWW::Mechanize::PSGI=HASH(0x564e31318988), "/wishlist?bar") called at t/03_mech.t line 78
Secret string too short at /home/cpansand/.cpan/build/2017121009/HTTP-Session2-1.09-4/blib/lib/HTTP/Session2/Base.pm line 79.
	HTTP::Session2::Base::__ANON__(HTTP::Session2::ServerStore=HASH(0x564e31494800), "s3cret") called at t/03_mech.t line 121
	main::server_session(HASH(0x564e3148f750)) called at t/03_mech.t line 17
	main::__ANON__(HASH(0x564e3148f750)) called at /opt/perl-5.27.6/lib/site_perl/5.27.6/Test/WWW/Mechanize/PSGI.pm line 43
	Test::WWW::Mechanize::PSGI::try {...} () called at /opt/perl-5.27.6/lib/site_perl/5.27.6/Try/Tiny.pm line 103
	eval {...} called at /opt/perl-5.27.6/lib/site_perl/5.27.6/Try/Tiny.pm line 94
	Try::Tiny::try(CODE(0x564e3148f378), Try::Tiny::Catch=REF(0x564e3148f4f8)) called at /opt/perl-5.27.6/lib/site_perl/5.27.6/Test/WWW/Mechanize/PSGI.pm line 50
	Test::WWW::Mechanize::PSGI::simple_request(Test::WWW::Mechanize::PSGI=HASH(0x564e31318988), HTTP::Request=HASH(0x564e3148eb50), undef, undef) called at /opt/perl-5.27.6/lib/site_perl/5.27.6/LWP/UserAgent.pm line 297
	LWP::UserAgent::request(Test::WWW::Mechanize::PSGI=HASH(0x564e31318988), HTTP::Request=HASH(0x564e3148eb50)) called at /opt/perl-5.27.6/lib/site_perl/5.27.6/WWW/Mechanize.pm line 1413
	WWW::Mechanize::_make_request(Test::WWW::Mechanize::PSGI=HASH(0x564e31318988), HTTP::Request=HASH(0x564e3148eb50)) called at /opt/perl-5.27.6/lib/site_perl/5.27.6/WWW/Mechanize.pm line 1253
	WWW::Mechanize::request(Test::WWW::Mechanize::PSGI=HASH(0x564e31318988), HTTP::Request=HASH(0x564e3148eb50)) called at /opt/perl-5.27.6/lib/site_perl/5.27.6/LWP/UserAgent.pm line 478
	LWP::UserAgent::post(Test::WWW::Mechanize::PSGI=HASH(0x564e31318988), "/wishlist?bar", HASH(0x564e30ff5418)) called at /opt/perl-5.27.6/lib/site_perl/5.27.6/Test/WWW/Mechanize.pm line 237
	Test::WWW::Mechanize::post_ok(Test::WWW::Mechanize::PSGI=HASH(0x564e31318988), "/wishlist?bar") called at t/03_mech.t line 81
Secret string too short at /home/cpansand/.cpan/build/2017121009/HTTP-Session2-1.09-4/blib/lib/HTTP/Session2/Base.pm line 79.
	HTTP::Session2::Base::__ANON__(HTTP::Session2::ServerStore=HASH(0x564e31494b60), "s3cret") called at t/03_mech.t line 121
	main::server_session(HASH(0x564e31494a28)) called at t/03_mech.t line 17
	main::__ANON__(HASH(0x564e31494a28)) called at /opt/perl-5.27.6/lib/site_perl/5.27.6/Test/WWW/Mechanize/PSGI.pm line 43
	Test::WWW::Mechanize::PSGI::try {...} () called at /opt/perl-5.27.6/lib/site_perl/5.27.6/Try/Tiny.pm line 103
	eval {...} called at /opt/perl-5.27.6/lib/site_perl/5.27.6/Try/Tiny.pm line 94
	Try::Tiny::try(CODE(0x564e31494770), Try::Tiny::Catch=REF(0x564e3148f558)) called at /opt/perl-5.27.6/lib/site_perl/5.27.6/Test/WWW/Mechanize/PSGI.pm line 50
	Test::WWW::Mechanize::PSGI::simple_request(Test::WWW::Mechanize::PSGI=HASH(0x564e31318988), HTTP::Request=HASH(0x564e3148f288), undef, undef) called at /opt/perl-5.27.6/lib/site_perl/5.27.6/LWP/UserAgent.pm line 297
	LWP::UserAgent::request(Test::WWW::Mechanize::PSGI=HASH(0x564e31318988), HTTP::Request=HASH(0x564e3148f288)) called at /opt/perl-5.27.6/lib/site_perl/5.27.6/WWW/Mechanize.pm line 1413
	WWW::Mechanize::_make_request(Test::WWW::Mechanize::PSGI=HASH(0x564e31318988), HTTP::Request=HASH(0x564e3148f288)) called at /opt/perl-5.27.6/lib/site_perl/5.27.6/WWW/Mechanize.pm line 1253
	WWW::Mechanize::request(Test::WWW::Mechanize::PSGI=HASH(0x564e31318988), HTTP::Request=HASH(0x564e3148f288)) called at /opt/perl-5.27.6/lib/site_perl/5.27.6/LWP/UserAgent.pm line 435
	LWP::UserAgent::get(Test::WWW::Mechanize::PSGI=HASH(0x564e31318988), "http://localhost/wishlist") called at /opt/perl-5.27.6/lib/site_perl/5.27.6/WWW/Mechanize.pm line 117
	WWW::Mechanize::get(Test::WWW::Mechanize::PSGI=HASH(0x564e31318988), "/wishlist") called at /opt/perl-5.27.6/lib/site_perl/5.27.6/Test/WWW/Mechanize.pm line 160
	Test::WWW::Mechanize::get_ok(Test::WWW::Mechanize::PSGI=HASH(0x564e31318988), "/wishlist") called at t/03_mech.t line 82
Secret string too short at /home/cpansand/.cpan/build/2017121009/HTTP-Session2-1.09-4/blib/lib/HTTP/Session2/Base.pm line 79.
	HTTP::Session2::Base::__ANON__(HTTP::Session2::ServerStore=HASH(0x564e31494a58), "s3cret") called at t/03_mech.t line 121
	main::server_session(HASH(0x564e31494a70)) called at t/03_mech.t line 17
	main::__ANON__(HASH(0x564e31494a70)) called at /opt/perl-5.27.6/lib/site_perl/5.27.6/Test/WWW/Mechanize/PSGI.pm line 43
	Test::WWW::Mechanize::PSGI::try {...} () called at /opt/perl-5.27.6/lib/site_perl/5.27.6/Try/Tiny.pm line 103
	eval {...} called at /opt/perl-5.27.6/lib/site_perl/5.27.6/Try/Tiny.pm line 94
	Try::Tiny::try(CODE(0x564e31494758), Try::Tiny::Catch=REF(0x564e3148f570)) called at /opt/perl-5.27.6/lib/site_perl/5.27.6/Test/WWW/Mechanize/PSGI.pm line 50
	Test::WWW::Mechanize::PSGI::simple_request(Test::WWW::Mechanize::PSGI=HASH(0x564e31318988), HTTP::Request=HASH(0x564e3148f060), undef, undef) called at /opt/perl-5.27.6/lib/site_perl/5.27.6/LWP/UserAgent.pm line 297
	LWP::UserAgent::request(Test::WWW::Mechanize::PSGI=HASH(0x564e31318988), HTTP::Request=HASH(0x564e3148f060)) called at /opt/perl-5.27.6/lib/site_perl/5.27.6/WWW/Mechanize.pm line 1413
	WWW::Mechanize::_make_request(Test::WWW::Mechanize::PSGI=HASH(0x564e31318988), HTTP::Request=HASH(0x564e3148f060)) called at /opt/perl-5.27.6/lib/site_perl/5.27.6/WWW/Mechanize.pm line 1253
	WWW::Mechanize::request(Test::WWW::Mechanize::PSGI=HASH(0x564e31318988), HTTP::Request=HASH(0x564e3148f060)) called at /opt/perl-5.27.6/lib/site_perl/5.27.6/LWP/UserAgent.pm line 478
	LWP::UserAgent::post(Test::WWW::Mechanize::PSGI=HASH(0x564e31318988), "/account/login?john", HASH(0x564e30ff5418)) called at /opt/perl-5.27.6/lib/site_perl/5.27.6/Test/WWW/Mechanize.pm line 237
	Test::WWW::Mechanize::post_ok(Test::WWW::Mechanize::PSGI=HASH(0x564e31318988), "/account/login?john") called at t/03_mech.t line 84
Secret string too short at /home/cpansand/.cpan/build/2017121009/HTTP-Session2-1.09-4/blib/lib/HTTP/Session2/Base.pm line 79.
	HTTP::Session2::Base::__ANON__(HTTP::Session2::ServerStore=HASH(0x564e31494d58), "s3cret") called at t/03_mech.t line 121
	main::server_session(HASH(0x564e31495388)) called at t/03_mech.t line 17
	main::__ANON__(HASH(0x564e31495388)) called at /opt/perl-5.27.6/lib/site_perl/5.27.6/Test/WWW/Mechanize/PSGI.pm line 43
	Test::WWW::Mechanize::PSGI::try {...} () called at /opt/perl-5.27.6/lib/site_perl/5.27.6/Try/Tiny.pm line 103
	eval {...} called at /opt/perl-5.27.6/lib/site_perl/5.27.6/Try/Tiny.pm line 94
	Try::Tiny::try(CODE(0x564e314949c8), Try::Tiny::Catch=REF(0x564e31494cb0)) called at /opt/perl-5.27.6/lib/site_perl/5.27.6/Test/WWW/Mechanize/PSGI.pm line 50
	Test::WWW::Mechanize::PSGI::simple_request(Test::WWW::Mechanize::PSGI=HASH(0x564e31318988), HTTP::Request=HASH(0x564e31494da0), undef, undef) called at /opt/perl-5.27.6/lib/site_perl/5.27.6/LWP/UserAgent.pm line 297
	LWP::UserAgent::request(Test::WWW::Mechanize::PSGI=HASH(0x564e31318988), HTTP::Request=HASH(0x564e31494da0)) called at /opt/perl-5.27.6/lib/site_perl/5.27.6/WWW/Mechanize.pm line 1413
	WWW::Mechanize::_make_request(Test::WWW::Mechanize::PSGI=HASH(0x564e31318988), HTTP::Request=HASH(0x564e31494da0)) called at /opt/perl-5.27.6/lib/site_perl/5.27.6/WWW/Mechanize.pm line 1253
	WWW::Mechanize::request(Test::WWW::Mechanize::PSGI=HASH(0x564e31318988), HTTP::Request=HASH(0x564e31494da0)) called at /opt/perl-5.27.6/lib/site_perl/5.27.6/LWP/UserAgent.pm line 435
	LWP::UserAgent::get(Test::WWW::Mechanize::PSGI=HASH(0x564e31318988), "http://localhost/wishlist") called at /opt/perl-5.27.6/lib/site_perl/5.27.6/WWW/Mechanize.pm line 117
	WWW::Mechanize::get(Test::WWW::Mechanize::PSGI=HASH(0x564e31318988), "/wishlist") called at /opt/perl-5.27.6/lib/site_perl/5.27.6/Test/WWW/Mechanize.pm line 160
	Test::WWW::Mechanize::get_ok(Test::WWW::Mechanize::PSGI=HASH(0x564e31318988), "/wishlist", "Wishlist is still available") called at t/03_mech.t line 85
Secret string too short at /home/cpansand/.cpan/build/2017121009/HTTP-Session2-1.09-4/blib/lib/HTTP/Session2/Base.pm line 79.
	HTTP::Session2::Base::__ANON__(HTTP::Session2::ServerStore=HASH(0x564e31499030), "s3cret") called at t/03_mech.t line 121
	main::server_session(HASH(0x564e31498f28)) called at t/03_mech.t line 17
	main::__ANON__(HASH(0x564e31498f28)) called at /opt/perl-5.27.6/lib/site_perl/5.27.6/Test/WWW/Mechanize/PSGI.pm line 43
	Test::WWW::Mechanize::PSGI::try {...} () called at /opt/perl-5.27.6/lib/site_perl/5.27.6/Try/Tiny.pm line 103
	eval {...} called at /opt/perl-5.27.6/lib/site_perl/5.27.6/Try/Tiny.pm line 94
	Try::Tiny::try(CODE(0x564e31495478), Try::Tiny::Catch=REF(0x564e31494bd8)) called at /opt/perl-5.27.6/lib/site_perl/5.27.6/Test/WWW/Mechanize/PSGI.pm line 50
	Test::WWW::Mechanize::PSGI::simple_request(Test::WWW::Mechanize::PSGI=HASH(0x564e31318988), HTTP::Request=HASH(0x564e3148ea18), undef, undef) called at /opt/perl-5.27.6/lib/site_perl/5.27.6/LWP/UserAgent.pm line 297
	LWP::UserAgent::request(Test::WWW::Mechanize::PSGI=HASH(0x564e31318988), HTTP::Request=HASH(0x564e3148ea18)) called at /opt/perl-5.27.6/lib/site_perl/5.27.6/WWW/Mechanize.pm line 1413
	WWW::Mechanize::_make_request(Test::WWW::Mechanize::PSGI=HASH(0x564e31318988), HTTP::Request=HASH(0x564e3148ea18)) called at /opt/perl-5.27.6/lib/site_perl/5.27.6/WWW/Mechanize.pm line 1253
	WWW::Mechanize::request(Test::WWW::Mechanize::PSGI=HASH(0x564e31318988), HTTP::Request=HASH(0x564e3148ea18)) called at /opt/perl-5.27.6/lib/site_perl/5.27.6/LWP/UserAgent.pm line 478
	LWP::UserAgent::post(Test::WWW::Mechanize::PSGI=HASH(0x564e31318988), "/wishlist?baz") called at t/03_mech.t line 87
Secret string too short at /home/cpansand/.cpan/build/2017121009/HTTP-Session2-1.09-4/blib/lib/HTTP/Session2/Base.pm line 79.
	HTTP::Session2::Base::__ANON__(HTTP::Session2::ServerStore=HASH(0x564e31494e90), "s3cret") called at t/03_mech.t line 121
	main::server_session(HASH(0x564e31499408)) called at t/03_mech.t line 17
	main::__ANON__(HASH(0x564e31499408)) called at /opt/perl-5.27.6/lib/site_perl/5.27.6/Test/WWW/Mechanize/PSGI.pm line 43
	Test::WWW::Mechanize::PSGI::try {...} () called at /opt/perl-5.27.6/lib/site_perl/5.27.6/Try/Tiny.pm line 103
	eval {...} called at /opt/perl-5.27.6/lib/site_perl/5.27.6/Try/Tiny.pm line 94
	Try::Tiny::try(CODE(0x564e31499510), Try::Tiny::Catch=REF(0x564e31499120)) called at /opt/perl-5.27.6/lib/site_perl/5.27.6/Test/WWW/Mechanize/PSGI.pm line 50
	Test::WWW::Mechanize::PSGI::simple_request(Test::WWW::Mechanize::PSGI=HASH(0x564e31318988), HTTP::Request=HASH(0x564e31498e80), undef, undef) called at /opt/perl-5.27.6/lib/site_perl/5.27.6/LWP/UserAgent.pm line 297
	LWP::UserAgent::request(Test::WWW::Mechanize::PSGI=HASH(0x564e31318988), HTTP::Request=HASH(0x564e31498e80)) called at /opt/perl-5.27.6/lib/site_perl/5.27.6/WWW/Mechanize.pm line 1413
	WWW::Mechanize::_make_request(Test::WWW::Mechanize::PSGI=HASH(0x564e31318988), HTTP::Request=HASH(0x564e31498e80)) called at /opt/perl-5.27.6/lib/site_perl/5.27.6/WWW/Mechanize.pm line 1253
	WWW::Mechanize::request(Test::WWW::Mechanize::PSGI=HASH(0x564e31318988), HTTP::Request=HASH(0x564e31498e80)) called at /opt/perl-5.27.6/lib/site_perl/5.27.6/LWP/UserAgent.pm line 478
	LWP::UserAgent::post(Test::WWW::Mechanize::PSGI=HASH(0x564e31318988), "/wishlist?baz", HASH(0x564e30ff5418)) called at /opt/perl-5.27.6/lib/site_perl/5.27.6/Test/WWW/Mechanize.pm line 237
	Test::WWW::Mechanize::post_ok(Test::WWW::Mechanize::PSGI=HASH(0x564e31318988), "/wishlist?baz") called at t/03_mech.t line 90
Secret string too short at /home/cpansand/.cpan/build/2017121009/HTTP-Session2-1.09-4/blib/lib/HTTP/Session2/Base.pm line 79.
	HTTP::Session2::Base::__ANON__(HTTP::Session2::ServerStore=HASH(0x564e31499ab0), "s3cret") called at t/03_mech.t line 121
	main::server_session(HASH(0x564e314997c8)) called at t/03_mech.t line 17
	main::__ANON__(HASH(0x564e314997c8)) called at /opt/perl-5.27.6/lib/site_perl/5.27.6/Test/WWW/Mechanize/PSGI.pm line 43
	Test::WWW::Mechanize::PSGI::try {...} () called at /opt/perl-5.27.6/lib/site_perl/5.27.6/Try/Tiny.pm line 103
	eval {...} called at /opt/perl-5.27.6/lib/site_perl/5.27.6/Try/Tiny.pm line 94
	Try::Tiny::try(CODE(0x564e314999c0), Try::Tiny::Catch=REF(0x564e31499738)) called at /opt/perl-5.27.6/lib/site_perl/5.27.6/Test/WWW/Mechanize/PSGI.pm line 50
	Test::WWW::Mechanize::PSGI::simple_request(Test::WWW::Mechanize::PSGI=HASH(0x564e31318988), HTTP::Request=HASH(0x564e31499ae0), undef, undef) called at /opt/perl-5.27.6/lib/site_perl/5.27.6/LWP/UserAgent.pm line 297
	LWP::UserAgent::request(Test::WWW::Mechanize::PSGI=HASH(0x564e31318988), HTTP::Request=HASH(0x564e31499ae0)) called at /opt/perl-5.27.6/lib/site_perl/5.27.6/WWW/Mechanize.pm line 1413
	WWW::Mechanize::_make_request(Test::WWW::Mechanize::PSGI=HASH(0x564e31318988), HTTP::Request=HASH(0x564e31499ae0)) called at /opt/perl-5.27.6/lib/site_perl/5.27.6/WWW/Mechanize.pm line 1253
	WWW::Mechanize::request(Test::WWW::Mechanize::PSGI=HASH(0x564e31318988), HTTP::Request=HASH(0x564e31499ae0)) called at /opt/perl-5.27.6/lib/site_perl/5.27.6/LWP/UserAgent.pm line 435
	LWP::UserAgent::get(Test::WWW::Mechanize::PSGI=HASH(0x564e31318988), "http://localhost/wishlist") called at /opt/perl-5.27.6/lib/site_perl/5.27.6/WWW/Mechanize.pm line 117
	WWW::Mechanize::get(Test::WWW::Mechanize::PSGI=HASH(0x564e31318988), "/wishlist") called at /opt/perl-5.27.6/lib/site_perl/5.27.6/Test/WWW/Mechanize.pm line 160
	Test::WWW::Mechanize::get_ok(Test::WWW::Mechanize::PSGI=HASH(0x564e31318988), "/wishlist", "Wishlist is still available") called at t/03_mech.t line 91
Secret string too short at /home/cpansand/.cpan/build/2017121009/HTTP-Session2-1.09-4/blib/lib/HTTP/Session2/Base.pm line 79.
	HTTP::Session2::Base::__ANON__(HTTP::Session2::ServerStore=HASH(0x564e3149d468), "s3cret") called at t/03_mech.t line 121
	main::server_session(HASH(0x564e3149d258)) called at t/03_mech.t line 17
	main::__ANON__(HASH(0x564e3149d258)) called at /opt/perl-5.27.6/lib/site_perl/5.27.6/Test/WWW/Mechanize/PSGI.pm line 43
	Test::WWW::Mechanize::PSGI::try {...} () called at /opt/perl-5.27.6/lib/site_perl/5.27.6/Try/Tiny.pm line 103
	eval {...} called at /opt/perl-5.27.6/lib/site_perl/5.27.6/Try/Tiny.pm line 94
	Try::Tiny::try(CODE(0x564e31499a50), Try::Tiny::Catch=REF(0x564e31498fe8)) called at /opt/perl-5.27.6/lib/site_perl/5.27.6/Test/WWW/Mechanize/PSGI.pm line 50
	Test::WWW::Mechanize::PSGI::simple_request(Test::WWW::Mechanize::PSGI=HASH(0x564e31318988), HTTP::Request=HASH(0x564e314996a8), undef, undef) called at /opt/perl-5.27.6/lib/site_perl/5.27.6/LWP/UserAgent.pm line 297
	LWP::UserAgent::request(Test::WWW::Mechanize::PSGI=HASH(0x564e31318988), HTTP::Request=HASH(0x564e314996a8)) called at /opt/perl-5.27.6/lib/site_perl/5.27.6/WWW/Mechanize.pm line 1413
	WWW::Mechanize::_make_request(Test::WWW::Mechanize::PSGI=HASH(0x564e31318988), HTTP::Request=HASH(0x564e314996a8)) called at /opt/perl-5.27.6/lib/site_perl/5.27.6/WWW/Mechanize.pm line 1253
	WWW::Mechanize::request(Test::WWW::Mechanize::PSGI=HASH(0x564e31318988), HTTP::Request=HASH(0x564e314996a8)) called at /opt/perl-5.27.6/lib/site_perl/5.27.6/LWP/UserAgent.pm line 435
	LWP::UserAgent::get(Test::WWW::Mechanize::PSGI=HASH(0x564e31318988), "http://localhost/my/name") called at /opt/perl-5.27.6/lib/site_perl/5.27.6/WWW/Mechanize.pm line 117
	WWW::Mechanize::get(Test::WWW::Mechanize::PSGI=HASH(0x564e31318988), "/my/name") called at /opt/perl-5.27.6/lib/site_perl/5.27.6/Test/WWW/Mechanize.pm line 160
	Test::WWW::Mechanize::get_ok(Test::WWW::Mechanize::PSGI=HASH(0x564e31318988), "/my/name") called at t/03_mech.t line 93
Secret string too short at /home/cpansand/.cpan/build/2017121009/HTTP-Session2-1.09-4/blib/lib/HTTP/Session2/Base.pm line 79.
	HTTP::Session2::Base::__ANON__(HTTP::Session2::ServerStore=HASH(0x564e3149d300), "s3cret") called at t/03_mech.t line 121
	main::server_session(HASH(0x564e3149d7e0)) called at t/03_mech.t line 17
	main::__ANON__(HASH(0x564e3149d7e0)) called at /opt/perl-5.27.6/lib/site_perl/5.27.6/Test/WWW/Mechanize/PSGI.pm line 43
	Test::WWW::Mechanize::PSGI::try {...} () called at /opt/perl-5.27.6/lib/site_perl/5.27.6/Try/Tiny.pm line 103
	eval {...} called at /opt/perl-5.27.6/lib/site_perl/5.27.6/Try/Tiny.pm line 94
	Try::Tiny::try(CODE(0x564e3149d540), Try::Tiny::Catch=REF(0x564e3149d2e8)) called at /opt/perl-5.27.6/lib/site_perl/5.27.6/Test/WWW/Mechanize/PSGI.pm line 50
	Test::WWW::Mechanize::PSGI::simple_request(Test::WWW::Mechanize::PSGI=HASH(0x564e31318988), HTTP::Request=HASH(0x564e3149d3a8), undef, undef) called at /opt/perl-5.27.6/lib/site_perl/5.27.6/LWP/UserAgent.pm line 297
	LWP::UserAgent::request(Test::WWW::Mechanize::PSGI=HASH(0x564e31318988), HTTP::Request=HASH(0x564e3149d3a8)) called at /opt/perl-5.27.6/lib/site_perl/5.27.6/WWW/Mechanize.pm line 1413
	WWW::Mechanize::_make_request(Test::WWW::Mechanize::PSGI=HASH(0x564e31318988), HTTP::Request=HASH(0x564e3149d3a8)) called at /opt/perl-5.27.6/lib/site_perl/5.27.6/WWW/Mechanize.pm line 1253
	WWW::Mechanize::request(Test::WWW::Mechanize::PSGI=HASH(0x564e31318988), HTTP::Request=HASH(0x564e3149d3a8)) called at /opt/perl-5.27.6/lib/site_perl/5.27.6/LWP/UserAgent.pm line 478
	LWP::UserAgent::post(Test::WWW::Mechanize::PSGI=HASH(0x564e31318988), "/account/logout?john") called at t/03_mech.t line 97
Secret string too short at /home/cpansand/.cpan/build/2017121009/HTTP-Session2-1.09-4/blib/lib/HTTP/Session2/Base.pm line 79.
	HTTP::Session2::Base::__ANON__(HTTP::Session2::ClientStore=HASH(0x564e31483068), "s3cret") called at t/03_mech.t line 127
	main::client_session(HASH(0x564e313af388)) called at t/03_mech.t line 17
	main::__ANON__(HASH(0x564e313af388)) called at /opt/perl-5.27.6/lib/site_perl/5.27.6/Test/WWW/Mechanize/PSGI.pm line 43
	Test::WWW::Mechanize::PSGI::try {...} () called at /opt/perl-5.27.6/lib/site_perl/5.27.6/Try/Tiny.pm line 103
	eval {...} called at /opt/perl-5.27.6/lib/site_perl/5.27.6/Try/Tiny.pm line 94
	Try::Tiny::try(CODE(0x564e314828a0), Try::Tiny::Catch=REF(0x564e3149d8d0)) called at /opt/perl-5.27.6/lib/site_perl/5.27.6/Test/WWW/Mechanize/PSGI.pm line 50
	Test::WWW::Mechanize::PSGI::simple_request(Test::WWW::Mechanize::PSGI=HASH(0x564e314830f8), HTTP::Request=HASH(0x564e313cc648), undef, undef) called at /opt/perl-5.27.6/lib/site_perl/5.27.6/LWP/UserAgent.pm line 297
	LWP::UserAgent::request(Test::WWW::Mechanize::PSGI=HASH(0x564e314830f8), HTTP::Request=HASH(0x564e313cc648)) called at /opt/perl-5.27.6/lib/site_perl/5.27.6/WWW/Mechanize.pm line 1413
	WWW::Mechanize::_make_request(Test::WWW::Mechanize::PSGI=HASH(0x564e314830f8), HTTP::Request=HASH(0x564e313cc648)) called at /opt/perl-5.27.6/lib/site_perl/5.27.6/WWW/Mechanize.pm line 1253
	WWW::Mechanize::request(Test::WWW::Mechanize::PSGI=HASH(0x564e314830f8), HTTP::Request=HASH(0x564e313cc648)) called at /opt/perl-5.27.6/lib/site_perl/5.27.6/LWP/UserAgent.pm line 435
	LWP::UserAgent::get(Test::WWW::Mechanize::PSGI=HASH(0x564e314830f8), "/") called at /opt/perl-5.27.6/lib/site_perl/5.27.6/WWW/Mechanize.pm line 117
	WWW::Mechanize::get(Test::WWW::Mechanize::PSGI=HASH(0x564e314830f8), "/") called at /opt/perl-5.27.6/lib/site_perl/5.27.6/Test/WWW/Mechanize.pm line 160
	Test::WWW::Mechanize::get_ok(Test::WWW::Mechanize::PSGI=HASH(0x564e314830f8), "/") called at t/03_mech.t line 74
Secret string too short at /home/cpansand/.cpan/build/2017121009/HTTP-Session2-1.09-4/blib/lib/HTTP/Session2/Base.pm line 79.
	HTTP::Session2::Base::__ANON__(HTTP::Session2::ClientStore=HASH(0x564e3148e9d0), "s3cret") called at t/03_mech.t line 127
	main::client_session(HASH(0x564e31482e28)) called at t/03_mech.t line 17
	main::__ANON__(HASH(0x564e31482e28)) called at /opt/perl-5.27.6/lib/site_perl/5.27.6/Test/WWW/Mechanize/PSGI.pm line 43
	Test::WWW::Mechanize::PSGI::try {...} () called at /opt/perl-5.27.6/lib/site_perl/5.27.6/Try/Tiny.pm line 103
	eval {...} called at /opt/perl-5.27.6/lib/site_perl/5.27.6/Try/Tiny.pm line 94
	Try::Tiny::try(CODE(0x564e31482ee8), Try::Tiny::Catch=REF(0x564e30842ca0)) called at /opt/perl-5.27.6/lib/site_perl/5.27.6/Test/WWW/Mechanize/PSGI.pm line 50
	Test::WWW::Mechanize::PSGI::simple_request(Test::WWW::Mechanize::PSGI=HASH(0x564e314830f8), HTTP::Request=HASH(0x564e314831a0), undef, undef) called at /opt/perl-5.27.6/lib/site_perl/5.27.6/LWP/UserAgent.pm line 297
	LWP::UserAgent::request(Test::WWW::Mechanize::PSGI=HASH(0x564e314830f8), HTTP::Request=HASH(0x564e314831a0)) called at /opt/perl-5.27.6/lib/site_perl/5.27.6/WWW/Mechanize.pm line 1413
	WWW::Mechanize::_make_request(Test::WWW::Mechanize::PSGI=HASH(0x564e314830f8), HTTP::Request=HASH(0x564e314831a0)) called at /opt/perl-5.27.6/lib/site_perl/5.27.6/WWW/Mechanize.pm line 1253
	WWW::Mechanize::request(Test::WWW::Mechanize::PSGI=HASH(0x564e314830f8), HTTP::Request=HASH(0x564e314831a0)) called at /opt/perl-5.27.6/lib/site_perl/5.27.6/LWP/UserAgent.pm line 478
	LWP::UserAgent::post(Test::WWW::Mechanize::PSGI=HASH(0x564e314830f8), "/wishlist?foo", HASH(0x564e30ff5418)) called at /opt/perl-5.27.6/lib/site_perl/5.27.6/Test/WWW/Mechanize.pm line 237
	Test::WWW::Mechanize::post_ok(Test::WWW::Mechanize::PSGI=HASH(0x564e314830f8), "/wishlist?foo") called at t/03_mech.t line 75
Do not use HTTP::Session2::ClientStore. Use HTTP::Session2::ServerStore or HTTP::Session2::ClientStore2 instead. at /home/cpansand/.cpan/build/2017121009/HTTP-Session2-1.09-4/blib/lib/HTTP/Session2/ClientStore.pm line 25.
Secret string too short at /home/cpansand/.cpan/build/2017121009/HTTP-Session2-1.09-4/blib/lib/HTTP/Session2/Base.pm line 79.
	HTTP::Session2::Base::__ANON__(HTTP::Session2::ClientStore=HASH(0x564e31494ef0), "s3cret") called at t/03_mech.t line 127
	main::client_session(HASH(0x564e3148f288)) called at t/03_mech.t line 17
	main::__ANON__(HASH(0x564e3148f288)) called at /opt/perl-5.27.6/lib/site_perl/5.27.6/Test/WWW/Mechanize/PSGI.pm line 43
	Test::WWW::Mechanize::PSGI::try {...} () called at /opt/perl-5.27.6/lib/site_perl/5.27.6/Try/Tiny.pm line 103
	eval {...} called at /opt/perl-5.27.6/lib/site_perl/5.27.6/Try/Tiny.pm line 94
	Try::Tiny::try(CODE(0x564e3148ec10), Try::Tiny::Catch=REF(0x564e3148f540)) called at /opt/perl-5.27.6/lib/site_perl/5.27.6/Test/WWW/Mechanize/PSGI.pm line 50
	Test::WWW::Mechanize::PSGI::simple_request(Test::WWW::Mechanize::PSGI=HASH(0x564e314830f8), HTTP::Request=HASH(0x564e3148f318), undef, undef) called at /opt/perl-5.27.6/lib/site_perl/5.27.6/LWP/UserAgent.pm line 297
	LWP::UserAgent::request(Test::WWW::Mechanize::PSGI=HASH(0x564e314830f8), HTTP::Request=HASH(0x564e3148f318)) called at /opt/perl-5.27.6/lib/site_perl/5.27.6/WWW/Mechanize.pm line 1413
	WWW::Mechanize::_make_request(Test::WWW::Mechanize::PSGI=HASH(0x564e314830f8), HTTP::Request=HASH(0x564e3148f318)) called at /opt/perl-5.27.6/lib/site_perl/5.27.6/WWW/Mechanize.pm line 1253
	WWW::Mechanize::request(Test::WWW::Mechanize::PSGI=HASH(0x564e314830f8), HTTP::Request=HASH(0x564e3148f318)) called at /opt/perl-5.27.6/lib/site_perl/5.27.6/LWP/UserAgent.pm line 435
	LWP::UserAgent::get(Test::WWW::Mechanize::PSGI=HASH(0x564e314830f8), "http://localhost/wishlist") called at /opt/perl-5.27.6/lib/site_perl/5.27.6/WWW/Mechanize.pm line 117
	WWW::Mechanize::get(Test::WWW::Mechanize::PSGI=HASH(0x564e314830f8), "/wishlist") called at /opt/perl-5.27.6/lib/site_perl/5.27.6/Test/WWW/Mechanize.pm line 160
	Test::WWW::Mechanize::get_ok(Test::WWW::Mechanize::PSGI=HASH(0x564e314830f8), "/wishlist") called at t/03_mech.t line 76
Do not use HTTP::Session2::ClientStore. Use HTTP::Session2::ServerStore or HTTP::Session2::ClientStore2 instead. at /home/cpansand/.cpan/build/2017121009/HTTP-Session2-1.09-4/blib/lib/HTTP/Session2/ClientStore.pm line 35.
Secret string too short at /home/cpansand/.cpan/build/2017121009/HTTP-Session2-1.09-4/blib/lib/HTTP/Session2/Base.pm line 79.
	HTTP::Session2::Base::__ANON__(HTTP::Session2::ClientStore=HASH(0x564e31476648), "s3cret") called at t/03_mech.t line 127
	main::client_session(HASH(0x564e314950d0)) called at t/03_mech.t line 17
	main::__ANON__(HASH(0x564e314950d0)) called at /opt/perl-5.27.6/lib/site_perl/5.27.6/Test/WWW/Mechanize/PSGI.pm line 43
	Test::WWW::Mechanize::PSGI::try {...} () called at /opt/perl-5.27.6/lib/site_perl/5.27.6/Try/Tiny.pm line 103
	eval {...} called at /opt/perl-5.27.6/lib/site_perl/5.27.6/Try/Tiny.pm line 94
	Try::Tiny::try(CODE(0x564e3148f378), Try::Tiny::Catch=REF(0x564e3148f1e0)) called at /opt/perl-5.27.6/lib/site_perl/5.27.6/Test/WWW/Mechanize/PSGI.pm line 50
	Test::WWW::Mechanize::PSGI::simple_request(Test::WWW::Mechanize::PSGI=HASH(0x564e314830f8), HTTP::Request=HASH(0x564e3148efb8), undef, undef) called at /opt/perl-5.27.6/lib/site_perl/5.27.6/LWP/UserAgent.pm line 297
	LWP::UserAgent::request(Test::WWW::Mechanize::PSGI=HASH(0x564e314830f8), HTTP::Request=HASH(0x564e3148efb8)) called at /opt/perl-5.27.6/lib/site_perl/5.27.6/WWW/Mechanize.pm line 1413
	WWW::Mechanize::_make_request(Test::WWW::Mechanize::PSGI=HASH(0x564e314830f8), HTTP::Request=HASH(0x564e3148efb8)) called at /opt/perl-5.27.6/lib/site_perl/5.27.6/WWW/Mechanize.pm line 1253
	WWW::Mechanize::request(Test::WWW::Mechanize::PSGI=HASH(0x564e314830f8), HTTP::Request=HASH(0x564e3148efb8)) called at /opt/perl-5.27.6/lib/site_perl/5.27.6/LWP/UserAgent.pm line 478
	LWP::UserAgent::post(Test::WWW::Mechanize::PSGI=HASH(0x564e314830f8), "/wishlist?bar") called at t/03_mech.t line 78
Do not use HTTP::Session2::ClientStore. Use HTTP::Session2::ServerStore or HTTP::Session2::ClientStore2 instead. at /home/cpansand/.cpan/build/2017121009/HTTP-Session2-1.09-4/blib/lib/HTTP/Session2/ClientStore.pm line 35.
Secret string too short at /home/cpansand/.cpan/build/2017121009/HTTP-Session2-1.09-4/blib/lib/HTTP/Session2/Base.pm line 79.
	HTTP::Session2::Base::__ANON__(HTTP::Session2::ClientStore=HASH(0x564e314953a0), "s3cret") called at t/03_mech.t line 127
	main::client_session(HASH(0x564e31499210)) called at t/03_mech.t line 17
	main::__ANON__(HASH(0x564e31499210)) called at /opt/perl-5.27.6/lib/site_perl/5.27.6/Test/WWW/Mechanize/PSGI.pm line 43
	Test::WWW::Mechanize::PSGI::try {...} () called at /opt/perl-5.27.6/lib/site_perl/5.27.6/Try/Tiny.pm line 103
	eval {...} called at /opt/perl-5.27.6/lib/site_perl/5.27.6/Try/Tiny.pm line 94
	Try::Tiny::try(CODE(0x564e314952c8), Try::Tiny::Catch=REF(0x564e314953e8)) called at /opt/perl-5.27.6/lib/site_perl/5.27.6/Test/WWW/Mechanize/PSGI.pm line 50
	Test::WWW::Mechanize::PSGI::simple_request(Test::WWW::Mechanize::PSGI=HASH(0x564e314830f8), HTTP::Request=HASH(0x564e31494b18), undef, undef) called at /opt/perl-5.27.6/lib/site_perl/5.27.6/LWP/UserAgent.pm line 297
	LWP::UserAgent::request(Test::WWW::Mechanize::PSGI=HASH(0x564e314830f8), HTTP::Request=HASH(0x564e31494b18)) called at /opt/perl-5.27.6/lib/site_perl/5.27.6/WWW/Mechanize.pm line 1413
	WWW::Mechanize::_make_request(Test::WWW::Mechanize::PSGI=HASH(0x564e314830f8), HTTP::Request=HASH(0x564e31494b18)) called at /opt/perl-5.27.6/lib/site_perl/5.27.6/WWW/Mechanize.pm line 1253
	WWW::Mechanize::request(Test::WWW::Mechanize::PSGI=HASH(0x564e314830f8), HTTP::Request=HASH(0x564e31494b18)) called at /opt/perl-5.27.6/lib/site_perl/5.27.6/LWP/UserAgent.pm line 478
	LWP::UserAgent::post(Test::WWW::Mechanize::PSGI=HASH(0x564e314830f8), "/wishlist?bar", HASH(0x564e30ff5418)) called at /opt/perl-5.27.6/lib/site_perl/5.27.6/Test/WWW/Mechanize.pm line 237
	Test::WWW::Mechanize::post_ok(Test::WWW::Mechanize::PSGI=HASH(0x564e314830f8), "/wishlist?bar") called at t/03_mech.t line 81
Do not use HTTP::Session2::ClientStore. Use HTTP::Session2::ServerStore or HTTP::Session2::ClientStore2 instead. at /home/cpansand/.cpan/build/2017121009/HTTP-Session2-1.09-4/blib/lib/HTTP/Session2/ClientStore.pm line 35.
Do not use HTTP::Session2::ClientStore. Use HTTP::Session2::ServerStore or HTTP::Session2::ClientStore2 instead. at /home/cpansand/.cpan/build/2017121009/HTTP-Session2-1.09-4/blib/lib/HTTP/Session2/ClientStore.pm line 25.
Secret string too short at /home/cpansand/.cpan/build/2017121009/HTTP-Session2-1.09-4/blib/lib/HTTP/Session2/Base.pm line 79.
	HTTP::Session2::Base::__ANON__(HTTP::Session2::ClientStore=HASH(0x564e314991c8), "s3cret") called at t/03_mech.t line 127
	main::client_session(HASH(0x564e31494b90)) called at t/03_mech.t line 17
	main::__ANON__(HASH(0x564e31494b90)) called at /opt/perl-5.27.6/lib/site_perl/5.27.6/Test/WWW/Mechanize/PSGI.pm line 43
	Test::WWW::Mechanize::PSGI::try {...} () called at /opt/perl-5.27.6/lib/site_perl/5.27.6/Try/Tiny.pm line 103
	eval {...} called at /opt/perl-5.27.6/lib/site_perl/5.27.6/Try/Tiny.pm line 94
	Try::Tiny::try(CODE(0x564e3148ec40), Try::Tiny::Catch=REF(0x564e31494cb0)) called at /opt/perl-5.27.6/lib/site_perl/5.27.6/Test/WWW/Mechanize/PSGI.pm line 50
	Test::WWW::Mechanize::PSGI::simple_request(Test::WWW::Mechanize::PSGI=HASH(0x564e314830f8), HTTP::Request=HASH(0x564e314995b8), undef, undef) called at /opt/perl-5.27.6/lib/site_perl/5.27.6/LWP/UserAgent.pm line 297
	LWP::UserAgent::request(Test::WWW::Mechanize::PSGI=HASH(0x564e314830f8), HTTP::Request=HASH(0x564e314995b8)) called at /opt/perl-5.27.6/lib/site_perl/5.27.6/WWW/Mechanize.pm line 1413
	WWW::Mechanize::_make_request(Test::WWW::Mechanize::PSGI=HASH(0x564e314830f8), HTTP::Request=HASH(0x564e314995b8)) called at /opt/perl-5.27.6/lib/site_perl/5.27.6/WWW/Mechanize.pm line 1253
	WWW::Mechanize::request(Test::WWW::Mechanize::PSGI=HASH(0x564e314830f8), HTTP::Request=HASH(0x564e314995b8)) called at /opt/perl-5.27.6/lib/site_perl/5.27.6/LWP/UserAgent.pm line 435
	LWP::UserAgent::get(Test::WWW::Mechanize::PSGI=HASH(0x564e314830f8), "http://localhost/wishlist") called at /opt/perl-5.27.6/lib/site_perl/5.27.6/WWW/Mechanize.pm line 117
	WWW::Mechanize::get(Test::WWW::Mechanize::PSGI=HASH(0x564e314830f8), "/wishlist") called at /opt/perl-5.27.6/lib/site_perl/5.27.6/Test/WWW/Mechanize.pm line 160
	Test::WWW::Mechanize::get_ok(Test::WWW::Mechanize::PSGI=HASH(0x564e314830f8), "/wishlist") called at t/03_mech.t line 82
Do not use HTTP::Session2::ClientStore. Use HTTP::Session2::ServerStore or HTTP::Session2::ClientStore2 instead. at /home/cpansand/.cpan/build/2017121009/HTTP-Session2-1.09-4/blib/lib/HTTP/Session2/ClientStore.pm line 35.
Secret string too short at /home/cpansand/.cpan/build/2017121009/HTTP-Session2-1.09-4/blib/lib/HTTP/Session2/Base.pm line 79.
	HTTP::Session2::Base::__ANON__(HTTP::Session2::ClientStore=HASH(0x564e31498eb0), "s3cret") called at t/03_mech.t line 127
	main::client_session(HASH(0x564e31499660)) called at t/03_mech.t line 17
	main::__ANON__(HASH(0x564e31499660)) called at /opt/perl-5.27.6/lib/site_perl/5.27.6/Test/WWW/Mechanize/PSGI.pm line 43
	Test::WWW::Mechanize::PSGI::try {...} () called at /opt/perl-5.27.6/lib/site_perl/5.27.6/Try/Tiny.pm line 103
	eval {...} called at /opt/perl-5.27.6/lib/site_perl/5.27.6/Try/Tiny.pm line 94
	Try::Tiny::try(CODE(0x564e3148ee08), Try::Tiny::Catch=REF(0x564e31498f58)) called at /opt/perl-5.27.6/lib/site_perl/5.27.6/Test/WWW/Mechanize/PSGI.pm line 50
	Test::WWW::Mechanize::PSGI::simple_request(Test::WWW::Mechanize::PSGI=HASH(0x564e314830f8), HTTP::Request=HASH(0x564e31494908), undef, undef) called at /opt/perl-5.27.6/lib/site_perl/5.27.6/LWP/UserAgent.pm line 297
	LWP::UserAgent::request(Test::WWW::Mechanize::PSGI=HASH(0x564e314830f8), HTTP::Request=HASH(0x564e31494908)) called at /opt/perl-5.27.6/lib/site_perl/5.27.6/WWW/Mechanize.pm line 1413
	WWW::Mechanize::_make_request(Test::WWW::Mechanize::PSGI=HASH(0x564e314830f8), HTTP::Request=HASH(0x564e31494908)) called at /opt/perl-5.27.6/lib/site_perl/5.27.6/WWW/Mechanize.pm line 1253
	WWW::Mechanize::request(Test::WWW::Mechanize::PSGI=HASH(0x564e314830f8), HTTP::Request=HASH(0x564e31494908)) called at /opt/perl-5.27.6/lib/site_perl/5.27.6/LWP/UserAgent.pm line 478
	LWP::UserAgent::post(Test::WWW::Mechanize::PSGI=HASH(0x564e314830f8), "/account/login?john", HASH(0x564e30ff5418)) called at /opt/perl-5.27.6/lib/site_perl/5.27.6/Test/WWW/Mechanize.pm line 237
	Test::WWW::Mechanize::post_ok(Test::WWW::Mechanize::PSGI=HASH(0x564e314830f8), "/account/login?john") called at t/03_mech.t line 84
Do not use HTTP::Session2::ClientStore. Use HTTP::Session2::ServerStore or HTTP::Session2::ClientStore2 instead. at /home/cpansand/.cpan/build/2017121009/HTTP-Session2-1.09-4/blib/lib/HTTP/Session2/ClientStore.pm line 35.
Do not use HTTP::Session2::ClientStore. Use HTTP::Session2::ServerStore or HTTP::Session2::ClientStore2 instead. at /home/cpansand/.cpan/build/2017121009/HTTP-Session2-1.09-4/blib/lib/HTTP/Session2/ClientStore.pm line 35.
Do not use HTTP::Session2::ClientStore. Use HTTP::Session2::ServerStore or HTTP::Session2::ClientStore2 instead. at /home/cpansand/.cpan/build/2017121009/HTTP-Session2-1.09-4/blib/lib/HTTP/Session2/ClientStore.pm line 25.
Secret string too short at /home/cpansand/.cpan/build/2017121009/HTTP-Session2-1.09-4/blib/lib/HTTP/Session2/Base.pm line 79.
	HTTP::Session2::Base::__ANON__(HTTP::Session2::ClientStore=HASH(0x564e31318a00), "s3cret") called at t/03_mech.t line 127
	main::client_session(HASH(0x564e31498d90)) called at t/03_mech.t line 17
	main::__ANON__(HASH(0x564e31498d90)) called at /opt/perl-5.27.6/lib/site_perl/5.27.6/Test/WWW/Mechanize/PSGI.pm line 43
	Test::WWW::Mechanize::PSGI::try {...} () called at /opt/perl-5.27.6/lib/site_perl/5.27.6/Try/Tiny.pm line 103
	eval {...} called at /opt/perl-5.27.6/lib/site_perl/5.27.6/Try/Tiny.pm line 94
	Try::Tiny::try(CODE(0x564e3115b0b0), Try::Tiny::Catch=REF(0x564e3149d210)) called at /opt/perl-5.27.6/lib/site_perl/5.27.6/Test/WWW/Mechanize/PSGI.pm line 50
	Test::WWW::Mechanize::PSGI::simple_request(Test::WWW::Mechanize::PSGI=HASH(0x564e314830f8), HTTP::Request=HASH(0x564e314992e8), undef, undef) called at /opt/perl-5.27.6/lib/site_perl/5.27.6/LWP/UserAgent.pm line 297
	LWP::UserAgent::request(Test::WWW::Mechanize::PSGI=HASH(0x564e314830f8), HTTP::Request=HASH(0x564e314992e8)) called at /opt/perl-5.27.6/lib/site_perl/5.27.6/WWW/Mechanize.pm line 1413
	WWW::Mechanize::_make_request(Test::WWW::Mechanize::PSGI=HASH(0x564e314830f8), HTTP::Request=HASH(0x564e314992e8)) called at /opt/perl-5.27.6/lib/site_perl/5.27.6/WWW/Mechanize.pm line 1253
	WWW::Mechanize::request(Test::WWW::Mechanize::PSGI=HASH(0x564e314830f8), HTTP::Request=HASH(0x564e314992e8)) called at /opt/perl-5.27.6/lib/site_perl/5.27.6/LWP/UserAgent.pm line 435
	LWP::UserAgent::get(Test::WWW::Mechanize::PSGI=HASH(0x564e314830f8), "http://localhost/wishlist") called at /opt/perl-5.27.6/lib/site_perl/5.27.6/WWW/Mechanize.pm line 117
	WWW::Mechanize::get(Test::WWW::Mechanize::PSGI=HASH(0x564e314830f8), "/wishlist") called at /opt/perl-5.27.6/lib/site_perl/5.27.6/Test/WWW/Mechanize.pm line 160
	Test::WWW::Mechanize::get_ok(Test::WWW::Mechanize::PSGI=HASH(0x564e314830f8), "/wishlist", "Wishlist is still available") called at t/03_mech.t line 85
Do not use HTTP::Session2::ClientStore. Use HTTP::Session2::ServerStore or HTTP::Session2::ClientStore2 instead. at /home/cpansand/.cpan/build/2017121009/HTTP-Session2-1.09-4/blib/lib/HTTP/Session2/ClientStore.pm line 35.
Secret string too short at /home/cpansand/.cpan/build/2017121009/HTTP-Session2-1.09-4/blib/lib/HTTP/Session2/Base.pm line 79.
	HTTP::Session2::Base::__ANON__(HTTP::Session2::ClientStore=HASH(0x564e31499600), "s3cret") called at t/03_mech.t line 127
	main::client_session(HASH(0x564e31499b88)) called at t/03_mech.t line 17
	main::__ANON__(HASH(0x564e31499b88)) called at /opt/perl-5.27.6/lib/site_perl/5.27.6/Test/WWW/Mechanize/PSGI.pm line 43
	Test::WWW::Mechanize::PSGI::try {...} () called at /opt/perl-5.27.6/lib/site_perl/5.27.6/Try/Tiny.pm line 103
	eval {...} called at /opt/perl-5.27.6/lib/site_perl/5.27.6/Try/Tiny.pm line 94
	Try::Tiny::try(CODE(0x564e2ff35a28), Try::Tiny::Catch=REF(0x564e31499888)) called at /opt/perl-5.27.6/lib/site_perl/5.27.6/Test/WWW/Mechanize/PSGI.pm line 50
	Test::WWW::Mechanize::PSGI::simple_request(Test::WWW::Mechanize::PSGI=HASH(0x564e314830f8), HTTP::Request=HASH(0x564e314949e0), undef, undef) called at /opt/perl-5.27.6/lib/site_perl/5.27.6/LWP/UserAgent.pm line 297
	LWP::UserAgent::request(Test::WWW::Mechanize::PSGI=HASH(0x564e314830f8), HTTP::Request=HASH(0x564e314949e0)) called at /opt/perl-5.27.6/lib/site_perl/5.27.6/WWW/Mechanize.pm line 1413
	WWW::Mechanize::_make_request(Test::WWW::Mechanize::PSGI=HASH(0x564e314830f8), HTTP::Request=HASH(0x564e314949e0)) called at /opt/perl-5.27.6/lib/site_perl/5.27.6/WWW/Mechanize.pm line 1253
	WWW::Mechanize::request(Test::WWW::Mechanize::PSGI=HASH(0x564e314830f8), HTTP::Request=HASH(0x564e314949e0)) called at /opt/perl-5.27.6/lib/site_perl/5.27.6/LWP/UserAgent.pm line 478
	LWP::UserAgent::post(Test::WWW::Mechanize::PSGI=HASH(0x564e314830f8), "/wishlist?baz") called at t/03_mech.t line 87
Do not use HTTP::Session2::ClientStore. Use HTTP::Session2::ServerStore or HTTP::Session2::ClientStore2 instead. at /home/cpansand/.cpan/build/2017121009/HTTP-Session2-1.09-4/blib/lib/HTTP/Session2/ClientStore.pm line 35.
Secret string too short at /home/cpansand/.cpan/build/2017121009/HTTP-Session2-1.09-4/blib/lib/HTTP/Session2/Base.pm line 79.
	HTTP::Session2::Base::__ANON__(HTTP::Session2::ClientStore=HASH(0x564e2ff35c08), "s3cret") called at t/03_mech.t line 127
	main::client_session(HASH(0x564e3149d780)) called at t/03_mech.t line 17
	main::__ANON__(HASH(0x564e3149d780)) called at /opt/perl-5.27.6/lib/site_perl/5.27.6/Test/WWW/Mechanize/PSGI.pm line 43
	Test::WWW::Mechanize::PSGI::try {...} () called at /opt/perl-5.27.6/lib/site_perl/5.27.6/Try/Tiny.pm line 103
	eval {...} called at /opt/perl-5.27.6/lib/site_perl/5.27.6/Try/Tiny.pm line 94
	Try::Tiny::try(CODE(0x564e31498ca0), Try::Tiny::Catch=REF(0x564e313cc678)) called at /opt/perl-5.27.6/lib/site_perl/5.27.6/Test/WWW/Mechanize/PSGI.pm line 50
	Test::WWW::Mechanize::PSGI::simple_request(Test::WWW::Mechanize::PSGI=HASH(0x564e314830f8), HTTP::Request=HASH(0x564e3149d738), undef, undef) called at /opt/perl-5.27.6/lib/site_perl/5.27.6/LWP/UserAgent.pm line 297
	LWP::UserAgent::request(Test::WWW::Mechanize::PSGI=HASH(0x564e314830f8), HTTP::Request=HASH(0x564e3149d738)) called at /opt/perl-5.27.6/lib/site_perl/5.27.6/WWW/Mechanize.pm line 1413
	WWW::Mechanize::_make_request(Test::WWW::Mechanize::PSGI=HASH(0x564e314830f8), HTTP::Request=HASH(0x564e3149d738)) called at /opt/perl-5.27.6/lib/site_perl/5.27.6/WWW/Mechanize.pm line 1253
	WWW::Mechanize::request(Test::WWW::Mechanize::PSGI=HASH(0x564e314830f8), HTTP::Request=HASH(0x564e3149d738)) called at /opt/perl-5.27.6/lib/site_perl/5.27.6/LWP/UserAgent.pm line 478
	LWP::UserAgent::post(Test::WWW::Mechanize::PSGI=HASH(0x564e314830f8), "/wishlist?baz", HASH(0x564e30ff5418)) called at /opt/perl-5.27.6/lib/site_perl/5.27.6/Test/WWW/Mechanize.pm line 237
	Test::WWW::Mechanize::post_ok(Test::WWW::Mechanize::PSGI=HASH(0x564e314830f8), "/wishlist?baz") called at t/03_mech.t line 90
Do not use HTTP::Session2::ClientStore. Use HTTP::Session2::ServerStore or HTTP::Session2::ClientStore2 instead. at /home/cpansand/.cpan/build/2017121009/HTTP-Session2-1.09-4/blib/lib/HTTP/Session2/ClientStore.pm line 35.
Do not use HTTP::Session2::ClientStore. Use HTTP::Session2::ServerStore or HTTP::Session2::ClientStore2 instead. at /home/cpansand/.cpan/build/2017121009/HTTP-Session2-1.09-4/blib/lib/HTTP/Session2/ClientStore.pm line 25.
Secret string too short at /home/cpansand/.cpan/build/2017121009/HTTP-Session2-1.09-4/blib/lib/HTTP/Session2/Base.pm line 79.
	HTTP::Session2::Base::__ANON__(HTTP::Session2::ClientStore=HASH(0x564e31494b30), "s3cret") called at t/03_mech.t line 127
	main::client_session(HASH(0x564e3149d318)) called at t/03_mech.t line 17
	main::__ANON__(HASH(0x564e3149d318)) called at /opt/perl-5.27.6/lib/site_perl/5.27.6/Test/WWW/Mechanize/PSGI.pm line 43
	Test::WWW::Mechanize::PSGI::try {...} () called at /opt/perl-5.27.6/lib/site_perl/5.27.6/Try/Tiny.pm line 103
	eval {...} called at /opt/perl-5.27.6/lib/site_perl/5.27.6/Try/Tiny.pm line 94
	Try::Tiny::try(CODE(0x564e3149df90), Try::Tiny::Catch=REF(0x564e31499a98)) called at /opt/perl-5.27.6/lib/site_perl/5.27.6/Test/WWW/Mechanize/PSGI.pm line 50
	Test::WWW::Mechanize::PSGI::simple_request(Test::WWW::Mechanize::PSGI=HASH(0x564e314830f8), HTTP::Request=HASH(0x564e3149d9c0), undef, undef) called at /opt/perl-5.27.6/lib/site_perl/5.27.6/LWP/UserAgent.pm line 297
	LWP::UserAgent::request(Test::WWW::Mechanize::PSGI=HASH(0x564e314830f8), HTTP::Request=HASH(0x564e3149d9c0)) called at /opt/perl-5.27.6/lib/site_perl/5.27.6/WWW/Mechanize.pm line 1413
	WWW::Mechanize::_make_request(Test::WWW::Mechanize::PSGI=HASH(0x564e314830f8), HTTP::Request=HASH(0x564e3149d9c0)) called at /opt/perl-5.27.6/lib/site_perl/5.27.6/WWW/Mechanize.pm line 1253
	WWW::Mechanize::request(Test::WWW::Mechanize::PSGI=HASH(0x564e314830f8), HTTP::Request=HASH(0x564e3149d9c0)) called at /opt/perl-5.27.6/lib/site_perl/5.27.6/LWP/UserAgent.pm line 435
	LWP::UserAgent::get(Test::WWW::Mechanize::PSGI=HASH(0x564e314830f8), "http://localhost/wishlist") called at /opt/perl-5.27.6/lib/site_perl/5.27.6/WWW/Mechanize.pm line 117
	WWW::Mechanize::get(Test::WWW::Mechanize::PSGI=HASH(0x564e314830f8), "/wishlist") called at /opt/perl-5.27.6/lib/site_perl/5.27.6/Test/WWW/Mechanize.pm line 160
	Test::WWW::Mechanize::get_ok(Test::WWW::Mechanize::PSGI=HASH(0x564e314830f8), "/wishlist", "Wishlist is still available") called at t/03_mech.t line 91
Do not use HTTP::Session2::ClientStore. Use HTTP::Session2::ServerStore or HTTP::Session2::ClientStore2 instead. at /home/cpansand/.cpan/build/2017121009/HTTP-Session2-1.09-4/blib/lib/HTTP/Session2/ClientStore.pm line 35.
Secret string too short at /home/cpansand/.cpan/build/2017121009/HTTP-Session2-1.09-4/blib/lib/HTTP/Session2/Base.pm line 79.
	HTTP::Session2::Base::__ANON__(HTTP::Session2::ClientStore=HASH(0x564e3148f000), "s3cret") called at t/03_mech.t line 127
	main::client_session(HASH(0x564e2ff286d0)) called at t/03_mech.t line 17
	main::__ANON__(HASH(0x564e2ff286d0)) called at /opt/perl-5.27.6/lib/site_perl/5.27.6/Test/WWW/Mechanize/PSGI.pm line 43
	Test::WWW::Mechanize::PSGI::try {...} () called at /opt/perl-5.27.6/lib/site_perl/5.27.6/Try/Tiny.pm line 103
	eval {...} called at /opt/perl-5.27.6/lib/site_perl/5.27.6/Try/Tiny.pm line 94
	Try::Tiny::try(CODE(0x564e314a2170), Try::Tiny::Catch=REF(0x564e3149ddc8)) called at /opt/perl-5.27.6/lib/site_perl/5.27.6/Test/WWW/Mechanize/PSGI.pm line 50
	Test::WWW::Mechanize::PSGI::simple_request(Test::WWW::Mechanize::PSGI=HASH(0x564e314830f8), HTTP::Request=HASH(0x564e3149d6f0), undef, undef) called at /opt/perl-5.27.6/lib/site_perl/5.27.6/LWP/UserAgent.pm line 297
	LWP::UserAgent::request(Test::WWW::Mechanize::PSGI=HASH(0x564e314830f8), HTTP::Request=HASH(0x564e3149d6f0)) called at /opt/perl-5.27.6/lib/site_perl/5.27.6/WWW/Mechanize.pm line 1413
	WWW::Mechanize::_make_request(Test::WWW::Mechanize::PSGI=HASH(0x564e314830f8), HTTP::Request=HASH(0x564e3149d6f0)) called at /opt/perl-5.27.6/lib/site_perl/5.27.6/WWW/Mechanize.pm line 1253
	WWW::Mechanize::request(Test::WWW::Mechanize::PSGI=HASH(0x564e314830f8), HTTP::Request=HASH(0x564e3149d6f0)) called at /opt/perl-5.27.6/lib/site_perl/5.27.6/LWP/UserAgent.pm line 435
	LWP::UserAgent::get(Test::WWW::Mechanize::PSGI=HASH(0x564e314830f8), "http://localhost/my/name") called at /opt/perl-5.27.6/lib/site_perl/5.27.6/WWW/Mechanize.pm line 117
	WWW::Mechanize::get(Test::WWW::Mechanize::PSGI=HASH(0x564e314830f8), "/my/name") called at /opt/perl-5.27.6/lib/site_perl/5.27.6/Test/WWW/Mechanize.pm line 160
	Test::WWW::Mechanize::get_ok(Test::WWW::Mechanize::PSGI=HASH(0x564e314830f8), "/my/name") called at t/03_mech.t line 93
Do not use HTTP::Session2::ClientStore. Use HTTP::Session2::ServerStore or HTTP::Session2::ClientStore2 instead. at /home/cpansand/.cpan/build/2017121009/HTTP-Session2-1.09-4/blib/lib/HTTP/Session2/ClientStore.pm line 35.
Secret string too short at /home/cpansand/.cpan/build/2017121009/HTTP-Session2-1.09-4/blib/lib/HTTP/Session2/Base.pm line 79.
	HTTP::Session2::Base::__ANON__(HTTP::Session2::ClientStore=HASH(0x564e314a2b00), "s3cret") called at t/03_mech.t line 127
	main::client_session(HASH(0x564e314a2a88)) called at t/03_mech.t line 17
	main::__ANON__(HASH(0x564e314a2a88)) called at /opt/perl-5.27.6/lib/site_perl/5.27.6/Test/WWW/Mechanize/PSGI.pm line 43
	Test::WWW::Mechanize::PSGI::try {...} () called at /opt/perl-5.27.6/lib/site_perl/5.27.6/Try/Tiny.pm line 103
	eval {...} called at /opt/perl-5.27.6/lib/site_perl/5.27.6/Try/Tiny.pm line 94
	Try::Tiny::try(CODE(0x564e314a22a8), Try::Tiny::Catch=REF(0x564e314a2110)) called at /opt/perl-5.27.6/lib/site_perl/5.27.6/Test/WWW/Mechanize/PSGI.pm line 50
	Test::WWW::Mechanize::PSGI::simple_request(Test::WWW::Mechanize::PSGI=HASH(0x564e314830f8), HTTP::Request=HASH(0x564e314a2098), undef, undef) called at /opt/perl-5.27.6/lib/site_perl/5.27.6/LWP/UserAgent.pm line 297
	LWP::UserAgent::request(Test::WWW::Mechanize::PSGI=HASH(0x564e314830f8), HTTP::Request=HASH(0x564e314a2098)) called at /opt/perl-5.27.6/lib/site_perl/5.27.6/WWW/Mechanize.pm line 1413
	WWW::Mechanize::_make_request(Test::WWW::Mechanize::PSGI=HASH(0x564e314830f8), HTTP::Request=HASH(0x564e314a2098)) called at /opt/perl-5.27.6/lib/site_perl/5.27.6/WWW/Mechanize.pm line 1253
	WWW::Mechanize::request(Test::WWW::Mechanize::PSGI=HASH(0x564e314830f8), HTTP::Request=HASH(0x564e314a2098)) called at /opt/perl-5.27.6/lib/site_perl/5.27.6/LWP/UserAgent.pm line 478
	LWP::UserAgent::post(Test::WWW::Mechanize::PSGI=HASH(0x564e314830f8), "/account/logout?john") called at t/03_mech.t line 97
Do not use HTTP::Session2::ClientStore. Use HTTP::Session2::ServerStore or HTTP::Session2::ClientStore2 instead. at /home/cpansand/.cpan/build/2017121009/HTTP-Session2-1.09-4/blib/lib/HTTP/Session2/ClientStore.pm line 35.
Do not use HTTP::Session2::ClientStore. Use HTTP::Session2::ServerStore or HTTP::Session2::ClientStore2 instead. at /home/cpansand/.cpan/build/2017121009/HTTP-Session2-1.09-4/blib/lib/HTTP/Session2/ClientStore.pm line 35.
t/03_mech.t ................. ok
Do not use HTTP::Session2::ClientStore. Use HTTP::Session2::ServerStore or HTTP::Session2::ClientStore2 instead. at /home/cpansand/.cpan/build/2017121009/HTTP-Session2-1.09-4/blib/lib/HTTP/Session2/ClientStore.pm line 25.
t/04_plack_response.t ....... ok
Secret string too short at /home/cpansand/.cpan/build/2017121009/HTTP-Session2-1.09-4/blib/lib/HTTP/Session2/Base.pm line 79.
	HTTP::Session2::Base::__ANON__(HTTP::Session2::ClientStore=HASH(0x562d0f55e3d0), "s3cret") called at t/05_keep_me_signed_in.t line 20
Do not use HTTP::Session2::ClientStore. Use HTTP::Session2::ServerStore or HTTP::Session2::ClientStore2 instead. at /home/cpansand/.cpan/build/2017121009/HTTP-Session2-1.09-4/blib/lib/HTTP/Session2/ClientStore.pm line 25.
t/05_keep_me_signed_in.t .... ok
Secret string too short at /home/cpansand/.cpan/build/2017121009/HTTP-Session2-1.09-4/blib/lib/HTTP/Session2/Base.pm line 79.
	HTTP::Session2::Base::__ANON__(HTTP::Session2::Base=HASH(0x5605384f99d8), "i am secret") called at t/06_base_abstract.t line 7
t/06_base_abstract.t ........ ok
Secret string too short at /home/cpansand/.cpan/build/2017121009/HTTP-Session2-1.09-4/blib/lib/HTTP/Session2/Base.pm line 79.
	HTTP::Session2::Base::__ANON__(HTTP::Session2::ClientStore=HASH(0x562e21af8430), "secret") called at t/07_client_store.t line 23
	main::__ANON__() called at /opt/perl-5.27.6/lib/site_perl/5.27.6/Test/Builder.pm line 337
	eval {...} called at /opt/perl-5.27.6/lib/site_perl/5.27.6/Test/Builder.pm line 337
	Test::Builder::subtest(Test::Builder=HASH(0x562e20d848d8), "get/set/remove", CODE(0x562e216646b8)) called at /opt/perl-5.27.6/lib/site_perl/5.27.6/Test/More.pm line 807
	Test::More::subtest("get/set/remove", CODE(0x562e216646b8)) called at t/07_client_store.t line 31
Secret string too short at /home/cpansand/.cpan/build/2017121009/HTTP-Session2-1.09-4/blib/lib/HTTP/Session2/Base.pm line 79.
	HTTP::Session2::Base::__ANON__(HTTP::Session2::ClientStore=HASH(0x562e21afd2f0), "secret") called at t/07_client_store.t line 35
	main::__ANON__() called at /opt/perl-5.27.6/lib/site_perl/5.27.6/Test/Builder.pm line 337
	eval {...} called at /opt/perl-5.27.6/lib/site_perl/5.27.6/Test/Builder.pm line 337
	Test::Builder::subtest(Test::Builder=HASH(0x562e20d848d8), "validate_token", CODE(0x562e21ad0730)) called at /opt/perl-5.27.6/lib/site_perl/5.27.6/Test/More.pm line 807
	Test::More::subtest("validate_token", CODE(0x562e21ad0730)) called at t/07_client_store.t line 71
Do not use HTTP::Session2::ClientStore. Use HTTP::Session2::ServerStore or HTTP::Session2::ClientStore2 instead. at /home/cpansand/.cpan/build/2017121009/HTTP-Session2-1.09-4/blib/lib/HTTP/Session2/ClientStore.pm line 25.
Secret string too short at /home/cpansand/.cpan/build/2017121009/HTTP-Session2-1.09-4/blib/lib/HTTP/Session2/Base.pm line 79.
	HTTP::Session2::Base::__ANON__(HTTP::Session2::ClientStore=HASH(0x562e21b0b510), "secret") called at t/07_client_store.t line 51
	main::__ANON__() called at /opt/perl-5.27.6/lib/site_perl/5.27.6/Test/Builder.pm line 337
	eval {...} called at /opt/perl-5.27.6/lib/site_perl/5.27.6/Test/Builder.pm line 337
	Test::Builder::subtest(Test::Builder=HASH(0x562e20d848d8), "bad", CODE(0x562e21b07898)) called at /opt/perl-5.27.6/lib/site_perl/5.27.6/Test/More.pm line 807
	Test::More::subtest("bad", CODE(0x562e21b07898)) called at t/07_client_store.t line 57
	main::__ANON__() called at /opt/perl-5.27.6/lib/site_perl/5.27.6/Test/Builder.pm line 337
	eval {...} called at /opt/perl-5.27.6/lib/site_perl/5.27.6/Test/Builder.pm line 337
	Test::Builder::subtest(Test::Builder=HASH(0x562e20d848d8), "validate_token", CODE(0x562e21ad0730)) called at /opt/perl-5.27.6/lib/site_perl/5.27.6/Test/More.pm line 807
	Test::More::subtest("validate_token", CODE(0x562e21ad0730)) called at t/07_client_store.t line 71
Do not use HTTP::Session2::ClientStore. Use HTTP::Session2::ServerStore or HTTP::Session2::ClientStore2 instead. at /home/cpansand/.cpan/build/2017121009/HTTP-Session2-1.09-4/blib/lib/HTTP/Session2/ClientStore.pm line 35.
Secret string too short at /home/cpansand/.cpan/build/2017121009/HTTP-Session2-1.09-4/blib/lib/HTTP/Session2/Base.pm line 79.
	HTTP::Session2::Base::__ANON__(HTTP::Session2::ClientStore=HASH(0x562e21b133f8), "secret") called at t/07_client_store.t line 65
	main::__ANON__() called at /opt/perl-5.27.6/lib/site_perl/5.27.6/Test/Builder.pm line 337
	eval {...} called at /opt/perl-5.27.6/lib/site_perl/5.27.6/Test/Builder.pm line 337
	Test::Builder::subtest(Test::Builder=HASH(0x562e20d848d8), "good", CODE(0x562e21b07898)) called at /opt/perl-5.27.6/lib/site_perl/5.27.6/Test/More.pm line 807
	Test::More::subtest("good", CODE(0x562e21b07898)) called at t/07_client_store.t line 70
	main::__ANON__() called at /opt/perl-5.27.6/lib/site_perl/5.27.6/Test/Builder.pm line 337
	eval {...} called at /opt/perl-5.27.6/lib/site_perl/5.27.6/Test/Builder.pm line 337
	Test::Builder::subtest(Test::Builder=HASH(0x562e20d848d8), "validate_token", CODE(0x562e21ad0730)) called at /opt/perl-5.27.6/lib/site_perl/5.27.6/Test/More.pm line 807
	Test::More::subtest("validate_token", CODE(0x562e21ad0730)) called at t/07_client_store.t line 71
Do not use HTTP::Session2::ClientStore. Use HTTP::Session2::ServerStore or HTTP::Session2::ClientStore2 instead. at /home/cpansand/.cpan/build/2017121009/HTTP-Session2-1.09-4/blib/lib/HTTP/Session2/ClientStore.pm line 35.
Secret string too short at /home/cpansand/.cpan/build/2017121009/HTTP-Session2-1.09-4/blib/lib/HTTP/Session2/Base.pm line 79.
	HTTP::Session2::Base::__ANON__(HTTP::Session2::ClientStore=HASH(0x562e21664778), "secret") called at t/07_client_store.t line 76
	main::__ANON__() called at /opt/perl-5.27.6/lib/site_perl/5.27.6/Test/Builder.pm line 337
	eval {...} called at /opt/perl-5.27.6/lib/site_perl/5.27.6/Test/Builder.pm line 337
	Test::Builder::subtest(Test::Builder=HASH(0x562e20d848d8), "ignore_old", CODE(0x562e21aeb980)) called at /opt/perl-5.27.6/lib/site_perl/5.27.6/Test/More.pm line 807
	Test::More::subtest("ignore_old", CODE(0x562e21aeb980)) called at t/07_client_store.t line 106
Do not use HTTP::Session2::ClientStore. Use HTTP::Session2::ServerStore or HTTP::Session2::ClientStore2 instead. at /home/cpansand/.cpan/build/2017121009/HTTP-Session2-1.09-4/blib/lib/HTTP/Session2/ClientStore.pm line 25.
Secret string too short at /home/cpansand/.cpan/build/2017121009/HTTP-Session2-1.09-4/blib/lib/HTTP/Session2/Base.pm line 79.
	HTTP::Session2::Base::__ANON__(HTTP::Session2::ClientStore=HASH(0x562e21b1a170), "secret") called at t/07_client_store.t line 87
	main::__ANON__() called at /opt/perl-5.27.6/lib/site_perl/5.27.6/Test/Builder.pm line 337
	eval {...} called at /opt/perl-5.27.6/lib/site_perl/5.27.6/Test/Builder.pm line 337
	Test::Builder::subtest(Test::Builder=HASH(0x562e20d848d8), "ignore_old disabled", CODE(0x562e21b13f08)) called at /opt/perl-5.27.6/lib/site_perl/5.27.6/Test/More.pm line 807
	Test::More::subtest("ignore_old disabled", CODE(0x562e21b13f08)) called at t/07_client_store.t line 95
	main::__ANON__() called at /opt/perl-5.27.6/lib/site_perl/5.27.6/Test/Builder.pm line 337
	eval {...} called at /opt/perl-5.27.6/lib/site_perl/5.27.6/Test/Builder.pm line 337
	Test::Builder::subtest(Test::Builder=HASH(0x562e20d848d8), "ignore_old", CODE(0x562e21aeb980)) called at /opt/perl-5.27.6/lib/site_perl/5.27.6/Test/More.pm line 807
	Test::More::subtest("ignore_old", CODE(0x562e21aeb980)) called at t/07_client_store.t line 106
Do not use HTTP::Session2::ClientStore. Use HTTP::Session2::ServerStore or HTTP::Session2::ClientStore2 instead. at /home/cpansand/.cpan/build/2017121009/HTTP-Session2-1.09-4/blib/lib/HTTP/Session2/ClientStore.pm line 35.
Secret string too short at /home/cpansand/.cpan/build/2017121009/HTTP-Session2-1.09-4/blib/lib/HTTP/Session2/Base.pm line 79.
	HTTP::Session2::Base::__ANON__(HTTP::Session2::ClientStore=HASH(0x562e21b1abd8), "secret") called at t/07_client_store.t line 97
	main::__ANON__() called at /opt/perl-5.27.6/lib/site_perl/5.27.6/Test/Builder.pm line 337
	eval {...} called at /opt/perl-5.27.6/lib/site_perl/5.27.6/Test/Builder.pm line 337
	Test::Builder::subtest(Test::Builder=HASH(0x562e20d848d8), "ignore_old enabled", CODE(0x562e21b13f08)) called at /opt/perl-5.27.6/lib/site_perl/5.27.6/Test/More.pm line 807
	Test::More::subtest("ignore_old enabled", CODE(0x562e21b13f08)) called at t/07_client_store.t line 105
	main::__ANON__() called at /opt/perl-5.27.6/lib/site_perl/5.27.6/Test/Builder.pm line 337
	eval {...} called at /opt/perl-5.27.6/lib/site_perl/5.27.6/Test/Builder.pm line 337
	Test::Builder::subtest(Test::Builder=HASH(0x562e20d848d8), "ignore_old", CODE(0x562e21aeb980)) called at /opt/perl-5.27.6/lib/site_perl/5.27.6/Test/More.pm line 807
	Test::More::subtest("ignore_old", CODE(0x562e21aeb980)) called at t/07_client_store.t line 106
t/07_client_store.t ......... ok
Secret string too short at /home/cpansand/.cpan/build/2017121009/HTTP-Session2-1.09-4/blib/lib/HTTP/Session2/Base.pm line 79.
	HTTP::Session2::Base::__ANON__(HTTP::Session2::Expired=HASH(0x563d27a882b8), 33333) called at t/08_expired.t line 7
t/08_expired.t .............. ok
# /dev/urandom available
# /dev/urandom(1): bC7LObHxB6t-WQymAQD_is1_wRSJVp5
# /dev/urandom(2): huX6BumNj6AdVggRfvgF6oT9avN1Tro
# perl:            0edc9c734f76f5349784e692a47b448
t/09_random.t ............... ok
t/11_secret_string.t ........ ok
Secret string too short at /home/cpansand/.cpan/build/2017121009/HTTP-Session2-1.09-4/blib/lib/HTTP/Session2/Base.pm line 79.
	HTTP::Session2::Base::__ANON__(HTTP::Session2::ClientStore2=HASH(0x55f6da792f60), "s3cret") called at t/client_store2/01_basic.t line 24
	main::__ANON__("client -> server: request without cookie", CODE(0x55f6da792cc0)) called at t/client_store2/01_basic.t line 30
	main::__ANON__() called at /opt/perl-5.27.6/lib/site_perl/5.27.6/Test/Builder.pm line 337
	eval {...} called at /opt/perl-5.27.6/lib/site_perl/5.27.6/Test/Builder.pm line 337
	Test::Builder::subtest(Test::Builder=HASH(0x55f6d9dff158), "First request", CODE(0x55f6d9dba190)) called at /opt/perl-5.27.6/lib/site_perl/5.27.6/Test/More.pm line 807
	Test::More::subtest("First request", CODE(0x55f6d9dba190)) called at t/client_store2/01_basic.t line 9
	main::scenario("First request", CODE(0x55f6d9dba190)) called at t/client_store2/01_basic.t line 36
Secret string too short at /home/cpansand/.cpan/build/2017121009/HTTP-Session2-1.09-4/blib/lib/HTTP/Session2/Base.pm line 79.
	HTTP::Session2::Base::__ANON__(HTTP::Session2::ClientStore2=HASH(0x55f6da79a1d0), "s3cret") called at t/client_store2/01_basic.t line 41
	main::__ANON__("client -> server: request without cookie", CODE(0x55f6da799fc0)) called at t/client_store2/01_basic.t line 47
	main::__ANON__() called at /opt/perl-5.27.6/lib/site_perl/5.27.6/Test/Builder.pm line 337
	eval {...} called at /opt/perl-5.27.6/lib/site_perl/5.27.6/Test/Builder.pm line 337
	Test::Builder::subtest(Test::Builder=HASH(0x55f6d9dff158), "Store something without login", CODE(0x55f6d9dba190)) called at /opt/perl-5.27.6/lib/site_perl/5.27.6/Test/More.pm line 807
	Test::More::subtest("Store something without login", CODE(0x55f6d9dba190)) called at t/client_store2/01_basic.t line 9
	main::scenario("Store something without login", CODE(0x55f6d9dba190)) called at t/client_store2/01_basic.t line 63
Secret string too short at /home/cpansand/.cpan/build/2017121009/HTTP-Session2-1.09-4/blib/lib/HTTP/Session2/Base.pm line 79.
	HTTP::Session2::Base::__ANON__(HTTP::Session2::ClientStore2=HASH(0x55f6da7a6548), "s3cret") called at t/client_store2/01_basic.t line 69
	main::__ANON__("client -> server: request without cookie", CODE(0x55f6da7a63c8)) called at t/client_store2/01_basic.t line 76
	main::__ANON__() called at /opt/perl-5.27.6/lib/site_perl/5.27.6/Test/Builder.pm line 337
	eval {...} called at /opt/perl-5.27.6/lib/site_perl/5.27.6/Test/Builder.pm line 337
	Test::Builder::subtest(Test::Builder=HASH(0x55f6d9dff158), "Login", CODE(0x55f6d9dba190)) called at /opt/perl-5.27.6/lib/site_perl/5.27.6/Test/More.pm line 807
	Test::More::subtest("Login", CODE(0x55f6d9dba190)) called at t/client_store2/01_basic.t line 9
	main::scenario("Login", CODE(0x55f6d9dba190)) called at t/client_store2/01_basic.t line 96
Ciphertext does not begin with a valid header for 'salt' header mode at /home/cpansand/.cpan/build/2017121009/HTTP-Session2-1.09-4/blib/lib/HTTP/Session2/ClientStore2.pm line 81.
Ciphertext does not begin with a valid header for 'salt' header mode at /home/cpansand/.cpan/build/2017121009/HTTP-Session2-1.09-4/blib/lib/HTTP/Session2/ClientStore2.pm line 81.
Secret string too short at /home/cpansand/.cpan/build/2017121009/HTTP-Session2-1.09-4/blib/lib/HTTP/Session2/Base.pm line 79.
	HTTP::Session2::Base::__ANON__(HTTP::Session2::ClientStore2=HASH(0x55f6da7b0dd0), "s3cret") called at t/client_store2/01_basic.t line 102
	main::__ANON__("client -> server: request without cookie", CODE(0x55f6da7b0c38)) called at t/client_store2/01_basic.t line 109
	main::__ANON__() called at /opt/perl-5.27.6/lib/site_perl/5.27.6/Test/Builder.pm line 337
	eval {...} called at /opt/perl-5.27.6/lib/site_perl/5.27.6/Test/Builder.pm line 337
	Test::Builder::subtest(Test::Builder=HASH(0x55f6d9dff158), "In a login session", CODE(0x55f6d9dba190)) called at /opt/perl-5.27.6/lib/site_perl/5.27.6/Test/More.pm line 807
	Test::More::subtest("In a login session", CODE(0x55f6d9dba190)) called at t/client_store2/01_basic.t line 9
	main::scenario("In a login session", CODE(0x55f6d9dba190)) called at t/client_store2/01_basic.t line 118
Ciphertext does not begin with a valid header for 'salt' header mode at /home/cpansand/.cpan/build/2017121009/HTTP-Session2-1.09-4/blib/lib/HTTP/Session2/ClientStore2.pm line 81.
Secret string too short at /home/cpansand/.cpan/build/2017121009/HTTP-Session2-1.09-4/blib/lib/HTTP/Session2/Base.pm line 79.
	HTTP::Session2::Base::__ANON__(HTTP::Session2::ClientStore2=HASH(0x55f6da7b3a28), "s3cret") called at t/client_store2/01_basic.t line 123
	main::__ANON__("client -> server: request without cookie", CODE(0x55f6da7b3560)) called at t/client_store2/01_basic.t line 130
	main::__ANON__() called at /opt/perl-5.27.6/lib/site_perl/5.27.6/Test/Builder.pm line 337
	eval {...} called at /opt/perl-5.27.6/lib/site_perl/5.27.6/Test/Builder.pm line 337
	Test::Builder::subtest(Test::Builder=HASH(0x55f6d9dff158), "Logout", CODE(0x55f6d9dba190)) called at /opt/perl-5.27.6/lib/site_perl/5.27.6/Test/More.pm line 807
	Test::More::subtest("Logout", CODE(0x55f6d9dba190)) called at t/client_store2/01_basic.t line 9
	main::scenario("Logout", CODE(0x55f6d9dba190)) called at t/client_store2/01_basic.t line 143
Ciphertext does not begin with a valid header for 'salt' header mode at /home/cpansand/.cpan/build/2017121009/HTTP-Session2-1.09-4/blib/lib/HTTP/Session2/ClientStore2.pm line 81.
t/client_store2/01_basic.t .. ok
t/client_store2/02_mech.t ... ok
t/client_store2/03_colon.t .. ok
All tests successful.
Files=14, Tests=83,  2 wallclock secs ( 0.06 usr  0.09 sys +  1.35 cusr  0.26 csys =  1.76 CPU)
Result: PASS

------------------------------
PREREQUISITES
------------------------------

Prerequisite modules loaded:

requires:

    Module                     Need     Have    
    -------------------------- -------- --------
    Cookie::Baker              0        0.08    
    Crypt::CBC                 0        2.33    
    Data::MessagePack          0        1.00    
    Digest::HMAC               0        1.03    
    Digest::SHA                0        5.98    
    Digest::SHA1               0        2.13    
    MIME::Base64               3.11     3.15    
    Mouse                      0        v2.5.0  
    parent                     0        0.236   
    perl                       5.008005 5.027006
    Time::HiRes                0        1.9747  

build_requires:

    Module                     Need     Have    
    -------------------------- -------- --------
    Crypt::Rijndael            0        1.13    
    Plack::Request             0        1.0044  
    Plack::Response            0        1.0044  
    Test::More                 0.98     1.302120
    Test::WWW::Mechanize::PSGI 0        0.38    

configure_requires:

    Module                     Need     Have    
    -------------------------- -------- --------
    Module::Build              0.38     0.4224  


------------------------------
ENVIRONMENT AND OTHER CONTEXT
------------------------------

Environment variables:

    LANG = C
    PATH = /usr/local/bin:/usr/bin:/bin:/usr/local/sbin:/usr/sbin:/sbin:/home/cpansand/bin/linux-gnu:/home/cpansand/bin/sh:/home/cpansand/bin:/usr/games:/home/cpansand/devel:/home/eserte/src/srezic-misc/scripts
    PERL5LIB = /home/cpansand/.cpan/build/2017121009/HTML-FillInForm-Lite-1.15-3/blib/arch:/home/cpansand/.cpan/build/2017121009/HTML-FillInForm-Lite-1.15-3/blib/lib
    PERL5OPT = 
    PERL5_CPANPLUS_IS_RUNNING = 2756
    PERL5_CPAN_IS_RUNNING = 2756
    PERL5_CPAN_IS_RUNNING_IN_RECURSION = 13354,2756
    PERLDOC = -MPod::Perldoc::ToTextOverstrike
    PERL_BATCH = yes
    PERL_CANARY_STABILITY_NOPROMPT = 1
    PERL_CPAN_REPORTER_CONFIG = /var/tmp/cpansmoker-1023/2017121009/cpanreporter_000_config.ini
    PERL_EXTUTILS_AUTOINSTALL = --defaultdeps
    PERL_USE_UNSAFE_INC = 1
    SHELL = /usr/bin/zsh
    TERM = screen
    TMPDIR = /var/tmp/cpansmoker-1023/2017121009

Perl special variables (and OS-specific diagnostics, for MSWin32):

    $^X = /opt/perl-5.27.6/bin/perl5.27.6
    $UID/$EUID = 1023 / 1023
    $GID = 1023 1023
    $EGID = 1023 1023

Perl module toolchain versions installed:

    Module              Have    
    ------------------- --------
    CPAN                2.18    
    CPAN::Meta          2.150010
    Cwd                 3.70    
    ExtUtils::CBuilder  0.280230
    ExtUtils::Command   7.30    
    ExtUtils::Install   2.14    
    ExtUtils::MakeMaker 7.30    
    ExtUtils::Manifest  1.70    
    ExtUtils::ParseXS   3.36    
    File::Spec          3.69    
    JSON                2.97000 
    JSON::PP            2.97000 
    Module::Build       0.4224  
    Module::Signature   0.81    
    Parse::CPAN::Meta   2.150010
    Test::Harness       3.39    
    Test::More          1.302120
    YAML                1.24    
    YAML::Syck          1.30    
    version             0.9918  


--

Summary of my perl5 (revision 5 version 27 subversion 6) configuration:
   
  Platform:
    osname=linux
    osvers=4.9.0-3-amd64
    archname=x86_64-linux
    uname='linux debian9 4.9.0-3-amd64 #1 smp debian 4.9.30-2+deb9u5 (2017-09-19) x86_64 gnulinux '
    config_args='-ds -e -Dprefix=/opt/perl-5.27.6 -Dusedevel -Dusemallocwrap=no -Dcf_email=srezic@cpan.org'
    hint=recommended
    useposix=true
    d_sigaction=define
    useithreads=undef
    usemultiplicity=undef
    use64bitint=define
    use64bitall=define
    uselongdouble=undef
    usemymalloc=n
    default_inc_excludes_dot=define
    bincompat5005=undef
  Compiler:
    cc='cc'
    ccflags ='-fwrapv -fno-strict-aliasing -pipe -fstack-protector-strong -I/usr/local/include -D_LARGEFILE_SOURCE -D_FILE_OFFSET_BITS=64 -D_FORTIFY_SOURCE=2'
    optimize='-O2'
    cppflags='-fwrapv -fno-strict-aliasing -pipe -fstack-protector-strong -I/usr/local/include'
    ccversion=''
    gccversion='6.3.0 20170516'
    gccosandvers=''
    intsize=4
    longsize=8
    ptrsize=8
    doublesize=8
    byteorder=12345678
    doublekind=3
    d_longlong=define
    longlongsize=8
    d_longdbl=define
    longdblsize=16
    longdblkind=3
    ivtype='long'
    ivsize=8
    nvtype='double'
    nvsize=8
    Off_t='off_t'
    lseeksize=8
    alignbytes=8
    prototype=define
  Linker and Libraries:
    ld='cc'
    ldflags =' -fstack-protector-strong -L/usr/local/lib'
    libpth=/usr/local/lib /usr/lib/gcc/x86_64-linux-gnu/6/include-fixed /usr/include/x86_64-linux-gnu /usr/lib /lib/x86_64-linux-gnu /lib/../lib /usr/lib/x86_64-linux-gnu /usr/lib/../lib /lib
    libs=-lpthread -lnsl -lgdbm -ldb -ldl -lm -lcrypt -lutil -lc -lgdbm_compat
    perllibs=-lpthread -lnsl -ldl -lm -lcrypt -lutil -lc
    libc=libc-2.24.so
    so=so
    useshrplib=false
    libperl=libperl.a
    gnulibc_version='2.24'
  Dynamic Linking:
    dlsrc=dl_dlopen.xs
    dlext=so
    d_dlsymun=undef
    ccdlflags='-Wl,-E'
    cccdlflags='-fPIC'
    lddlflags='-shared -O2 -L/usr/local/lib -fstack-protector-strong'


Characteristics of this binary (from libperl): 
  Compile-time options:
    HAS_TIMES
    PERLIO_LAYERS
    PERL_COPY_ON_WRITE
    PERL_DONT_CREATE_GVSV
    PERL_OP_PARENT
    PERL_PRESERVE_IVUV
    PERL_USE_DEVEL
    USE_64_BIT_ALL
    USE_64_BIT_INT
    USE_LARGE_FILES
    USE_LOCALE
    USE_LOCALE_COLLATE
    USE_LOCALE_CTYPE
    USE_LOCALE_NUMERIC
    USE_LOCALE_TIME
    USE_PERLIO
    USE_PERL_ATOF
  Built under linux
  Compiled at Nov 21 2017 06:13:15
  %ENV:
    PERL5LIB="/home/cpansand/.cpan/build/2017121009/HTML-FillInForm-Lite-1.15-3/blib/arch:/home/cpansand/.cpan/build/2017121009/HTML-FillInForm-Lite-1.15-3/blib/lib"
    PERL5OPT=""
    PERL5_CPANPLUS_IS_RUNNING="2756"
    PERL5_CPAN_IS_RUNNING="2756"
    PERL5_CPAN_IS_RUNNING_IN_RECURSION="13354,2756"
    PERLDOC="-MPod::Perldoc::ToTextOverstrike"
    PERL_BATCH="yes"
    PERL_CANARY_STABILITY_NOPROMPT="1"
    PERL_CPAN_REPORTER_CONFIG="/var/tmp/cpansmoker-1023/2017121009/cpanreporter_000_config.ini"
    PERL_EXTUTILS_AUTOINSTALL="--defaultdeps"
    PERL_USE_UNSAFE_INC="1"
  @INC:
    /home/cpansand/.cpan/build/2017121009/HTML-FillInForm-Lite-1.15-3/blib/arch
    /home/cpansand/.cpan/build/2017121009/HTML-FillInForm-Lite-1.15-3/blib/lib
    /opt/perl-5.27.6/lib/site_perl/5.27.6/x86_64-linux
    /opt/perl-5.27.6/lib/site_perl/5.27.6
    /opt/perl-5.27.6/lib/5.27.6/x86_64-linux
    /opt/perl-5.27.6/lib/5.27.6
    .