Plack-Test-AnyEvent v0.04 Perl 5 v5.10.1 x86_64-linux-ld
- Status
- Pass
- From
- Andreas J. König (ANDK)
- Dist
-
Plack-Test-AnyEvent v0.04
- Platform
- Perl 5 v5.10.1 x86_64-linux-ld
- Date
- 2013-05-23 22:06:24
- ID
- 01f4fe40-c3f5-11e2-9eb4-e31e989cd64d
This distribution has been tested as part of the CPAN Testers
project, supporting the Perl programming language. See
http://wiki.cpantesters.org/ for more information or email
questions to cpan-testers-discuss@perl.org
--
Dear Rob Hoelz,
This is a computer-generated report for Plack-Test-AnyEvent-0.04
on perl 5.10.1, created by CPAN-Reporter-1.2009.
Thank you for uploading your work to CPAN. Congratulations!
All tests were successful.
Sections of this report:
* Tester comments
* Program output
* Prerequisites
* Environment and other context
------------------------------
TESTER COMMENTS
------------------------------
Additional comments from tester:
this report is from an automated smoke testing program
and was not reviewed by a human for accuracy
------------------------------
PROGRAM OUTPUT
------------------------------
Output from './Build test':
t/00-compile.t ... ok
# Running on AnyEvent::Impl::EV
EV: error in callback (ignoring): bad apple at /tmp/loop_over_bdir-11140-p_iZdh/Plack-Test-AnyEvent-0.04-XbJxC_/t/lib/Plack/Test/AnyEvent/Test.pm line 279.
EV: error in callback (ignoring): bad apple at /tmp/loop_over_bdir-11140-p_iZdh/Plack-Test-AnyEvent-0.04-XbJxC_/t/lib/Plack/Test/AnyEvent/Test.pm line 395.
EV: error in callback (ignoring): bad apple at /tmp/loop_over_bdir-11140-p_iZdh/Plack-Test-AnyEvent-0.04-XbJxC_/t/lib/Plack/Test/AnyEvent/Test.pm line 214.
print() on closed filehandle GEN2 at /home/src/perl/repoperls/installed-perls/perl/perl-5.10.1/5da8/lib/5.10.1/x86_64-linux/IO/Handle.pm line 457.
print() on closed filehandle GEN2 at /home/src/perl/repoperls/installed-perls/perl/perl-5.10.1/5da8/lib/5.10.1/x86_64-linux/IO/Handle.pm line 457.
print() on closed filehandle GEN2 at /home/src/perl/repoperls/installed-perls/perl/perl-5.10.1/5da8/lib/5.10.1/x86_64-linux/IO/Handle.pm line 457.
print() on closed filehandle GEN2 at /home/src/perl/repoperls/installed-perls/perl/perl-5.10.1/5da8/lib/5.10.1/x86_64-linux/IO/Handle.pm line 457.
print() on closed filehandle GEN2 at /home/src/perl/repoperls/installed-perls/perl/perl-5.10.1/5da8/lib/5.10.1/x86_64-linux/IO/Handle.pm line 457.
print() on closed filehandle GEN2 at /home/src/perl/repoperls/installed-perls/perl/perl-5.10.1/5da8/lib/5.10.1/x86_64-linux/IO/Handle.pm line 457.
print() on closed filehandle GEN3 at /home/src/perl/repoperls/installed-perls/perl/perl-5.10.1/5da8/lib/5.10.1/x86_64-linux/IO/Handle.pm line 457.
print() on closed filehandle GEN2 at /home/src/perl/repoperls/installed-perls/perl/perl-5.10.1/5da8/lib/5.10.1/x86_64-linux/IO/Handle.pm line 457.
print() on closed filehandle GEN3 at /home/src/perl/repoperls/installed-perls/perl/perl-5.10.1/5da8/lib/5.10.1/x86_64-linux/IO/Handle.pm line 457.
print() on closed filehandle GEN2 at /home/src/perl/repoperls/installed-perls/perl/perl-5.10.1/5da8/lib/5.10.1/x86_64-linux/IO/Handle.pm line 457.
print() on closed filehandle GEN3 at /home/src/perl/repoperls/installed-perls/perl/perl-5.10.1/5da8/lib/5.10.1/x86_64-linux/IO/Handle.pm line 457.
print() on closed filehandle GEN2 at /home/src/perl/repoperls/installed-perls/perl/perl-5.10.1/5da8/lib/5.10.1/x86_64-linux/IO/Handle.pm line 457.
print() on closed filehandle GEN3 at /home/src/perl/repoperls/installed-perls/perl/perl-5.10.1/5da8/lib/5.10.1/x86_64-linux/IO/Handle.pm line 457.
print() on closed filehandle GEN2 at /home/src/perl/repoperls/installed-perls/perl/perl-5.10.1/5da8/lib/5.10.1/x86_64-linux/IO/Handle.pm line 457.
print() on closed filehandle GEN3 at /home/src/perl/repoperls/installed-perls/perl/perl-5.10.1/5da8/lib/5.10.1/x86_64-linux/IO/Handle.pm line 457.
print() on closed filehandle GEN2 at /home/src/perl/repoperls/installed-perls/perl/perl-5.10.1/5da8/lib/5.10.1/x86_64-linux/IO/Handle.pm line 457.
print() on closed filehandle GEN3 at /home/src/perl/repoperls/installed-perls/perl/perl-5.10.1/5da8/lib/5.10.1/x86_64-linux/IO/Handle.pm line 457.
print() on closed filehandle GEN2 at /home/src/perl/repoperls/installed-perls/perl/perl-5.10.1/5da8/lib/5.10.1/x86_64-linux/IO/Handle.pm line 457.
print() on closed filehandle GEN3 at /home/src/perl/repoperls/installed-perls/perl/perl-5.10.1/5da8/lib/5.10.1/x86_64-linux/IO/Handle.pm line 457.
print() on closed filehandle GEN2 at /home/src/perl/repoperls/installed-perls/perl/perl-5.10.1/5da8/lib/5.10.1/x86_64-linux/IO/Handle.pm line 457.
print() on closed filehandle GEN3 at /home/src/perl/repoperls/installed-perls/perl/perl-5.10.1/5da8/lib/5.10.1/x86_64-linux/IO/Handle.pm line 457.
print() on closed filehandle GEN2 at /home/src/perl/repoperls/installed-perls/perl/perl-5.10.1/5da8/lib/5.10.1/x86_64-linux/IO/Handle.pm line 457.
print() on closed filehandle GEN3 at /home/src/perl/repoperls/installed-perls/perl/perl-5.10.1/5da8/lib/5.10.1/x86_64-linux/IO/Handle.pm line 457.
print() on closed filehandle GEN2 at /home/src/perl/repoperls/installed-perls/perl/perl-5.10.1/5da8/lib/5.10.1/x86_64-linux/IO/Handle.pm line 457.
print() on closed filehandle GEN3 at /home/src/perl/repoperls/installed-perls/perl/perl-5.10.1/5da8/lib/5.10.1/x86_64-linux/IO/Handle.pm line 457.
print() on closed filehandle GEN2 at /home/src/perl/repoperls/installed-perls/perl/perl-5.10.1/5da8/lib/5.10.1/x86_64-linux/IO/Handle.pm line 457.
print() on closed filehandle GEN3 at /home/src/perl/repoperls/installed-perls/perl/perl-5.10.1/5da8/lib/5.10.1/x86_64-linux/IO/Handle.pm line 457.
print() on closed filehandle GEN2 at /home/src/perl/repoperls/installed-perls/perl/perl-5.10.1/5da8/lib/5.10.1/x86_64-linux/IO/Handle.pm line 457.
print() on closed filehandle GEN3 at /home/src/perl/repoperls/installed-perls/perl/perl-5.10.1/5da8/lib/5.10.1/x86_64-linux/IO/Handle.pm line 457.
print() on closed filehandle GEN2 at /home/src/perl/repoperls/installed-perls/perl/perl-5.10.1/5da8/lib/5.10.1/x86_64-linux/IO/Handle.pm line 457.
print() on closed filehandle GEN3 at /home/src/perl/repoperls/installed-perls/perl/perl-5.10.1/5da8/lib/5.10.1/x86_64-linux/IO/Handle.pm line 457.
print() on closed filehandle GEN2 at /home/src/perl/repoperls/installed-perls/perl/perl-5.10.1/5da8/lib/5.10.1/x86_64-linux/IO/Handle.pm line 457.
print() on closed filehandle GEN3 at /home/src/perl/repoperls/installed-perls/perl/perl-5.10.1/5da8/lib/5.10.1/x86_64-linux/IO/Handle.pm line 457.
print() on closed filehandle GEN2 at /home/src/perl/repoperls/installed-perls/perl/perl-5.10.1/5da8/lib/5.10.1/x86_64-linux/IO/Handle.pm line 457.
print() on closed filehandle GEN3 at /home/src/perl/repoperls/installed-perls/perl/perl-5.10.1/5da8/lib/5.10.1/x86_64-linux/IO/Handle.pm line 457.
print() on closed filehandle GEN2 at /home/src/perl/repoperls/installed-perls/perl/perl-5.10.1/5da8/lib/5.10.1/x86_64-linux/IO/Handle.pm line 457.
print() on closed filehandle GEN3 at /home/src/perl/repoperls/installed-perls/perl/perl-5.10.1/5da8/lib/5.10.1/x86_64-linux/IO/Handle.pm line 457.
print() on closed filehandle GEN2 at /home/src/perl/repoperls/installed-perls/perl/perl-5.10.1/5da8/lib/5.10.1/x86_64-linux/IO/Handle.pm line 457.
print() on closed filehandle GEN3 at /home/src/perl/repoperls/installed-perls/perl/perl-5.10.1/5da8/lib/5.10.1/x86_64-linux/IO/Handle.pm line 457.
print() on closed filehandle GEN2 at /home/src/perl/repoperls/installed-perls/perl/perl-5.10.1/5da8/lib/5.10.1/x86_64-linux/IO/Handle.pm line 457.
print() on closed filehandle GEN3 at /home/src/perl/repoperls/installed-perls/perl/perl-5.10.1/5da8/lib/5.10.1/x86_64-linux/IO/Handle.pm line 457.
print() on closed filehandle GEN2 at /home/src/perl/repoperls/installed-perls/perl/perl-5.10.1/5da8/lib/5.10.1/x86_64-linux/IO/Handle.pm line 457.
print() on closed filehandle GEN3 at /home/src/perl/repoperls/installed-perls/perl/perl-5.10.1/5da8/lib/5.10.1/x86_64-linux/IO/Handle.pm line 457.
print() on closed filehandle GEN2 at /home/src/perl/repoperls/installed-perls/perl/perl-5.10.1/5da8/lib/5.10.1/x86_64-linux/IO/Handle.pm line 457.
print() on closed filehandle GEN3 at /home/src/perl/repoperls/installed-perls/perl/perl-5.10.1/5da8/lib/5.10.1/x86_64-linux/IO/Handle.pm line 457.
print() on closed filehandle GEN2 at /home/src/perl/repoperls/installed-perls/perl/perl-5.10.1/5da8/lib/5.10.1/x86_64-linux/IO/Handle.pm line 457.
print() on closed filehandle GEN3 at /home/src/perl/repoperls/installed-perls/perl/perl-5.10.1/5da8/lib/5.10.1/x86_64-linux/IO/Handle.pm line 457.
print() on closed filehandle GEN2 at /home/src/perl/repoperls/installed-perls/perl/perl-5.10.1/5da8/lib/5.10.1/x86_64-linux/IO/Handle.pm line 457.
print() on closed filehandle GEN3 at /home/src/perl/repoperls/installed-perls/perl/perl-5.10.1/5da8/lib/5.10.1/x86_64-linux/IO/Handle.pm line 457.
print() on closed filehandle GEN2 at /home/src/perl/repoperls/installed-perls/perl/perl-5.10.1/5da8/lib/5.10.1/x86_64-linux/IO/Handle.pm line 457.
print() on closed filehandle GEN3 at /home/src/perl/repoperls/installed-perls/perl/perl-5.10.1/5da8/lib/5.10.1/x86_64-linux/IO/Handle.pm line 457.
print() on closed filehandle GEN2 at /home/src/perl/repoperls/installed-perls/perl/perl-5.10.1/5da8/lib/5.10.1/x86_64-linux/IO/Handle.pm line 457.
print() on closed filehandle GEN3 at /home/src/perl/repoperls/installed-perls/perl/perl-5.10.1/5da8/lib/5.10.1/x86_64-linux/IO/Handle.pm line 457.
print() on closed filehandle GEN2 at /home/src/perl/repoperls/installed-perls/perl/perl-5.10.1/5da8/lib/5.10.1/x86_64-linux/IO/Handle.pm line 457.
print() on closed filehandle GEN3 at /home/src/perl/repoperls/installed-perls/perl/perl-5.10.1/5da8/lib/5.10.1/x86_64-linux/IO/Handle.pm line 457.
print() on closed filehandle GEN2 at /home/src/perl/repoperls/installed-perls/perl/perl-5.10.1/5da8/lib/5.10.1/x86_64-linux/IO/Handle.pm line 457.
print() on closed filehandle GEN3 at /home/src/perl/repoperls/installed-perls/perl/perl-5.10.1/5da8/lib/5.10.1/x86_64-linux/IO/Handle.pm line 457.
print() on closed filehandle GEN2 at /home/src/perl/repoperls/installed-perls/perl/perl-5.10.1/5da8/lib/5.10.1/x86_64-linux/IO/Handle.pm line 457.
print() on closed filehandle GEN3 at /home/src/perl/repoperls/installed-perls/perl/perl-5.10.1/5da8/lib/5.10.1/x86_64-linux/IO/Handle.pm line 457.
print() on closed filehandle GEN2 at /home/src/perl/repoperls/installed-perls/perl/perl-5.10.1/5da8/lib/5.10.1/x86_64-linux/IO/Handle.pm line 457.
print() on closed filehandle GEN3 at /home/src/perl/repoperls/installed-perls/perl/perl-5.10.1/5da8/lib/5.10.1/x86_64-linux/IO/Handle.pm line 457.
print() on closed filehandle GEN2 at /home/src/perl/repoperls/installed-perls/perl/perl-5.10.1/5da8/lib/5.10.1/x86_64-linux/IO/Handle.pm line 457.
print() on closed filehandle GEN3 at /home/src/perl/repoperls/installed-perls/perl/perl-5.10.1/5da8/lib/5.10.1/x86_64-linux/IO/Handle.pm line 457.
print() on closed filehandle GEN2 at /home/src/perl/repoperls/installed-perls/perl/perl-5.10.1/5da8/lib/5.10.1/x86_64-linux/IO/Handle.pm line 457.
print() on closed filehandle GEN3 at /home/src/perl/repoperls/installed-perls/perl/perl-5.10.1/5da8/lib/5.10.1/x86_64-linux/IO/Handle.pm line 457.
print() on closed filehandle GEN2 at /home/src/perl/repoperls/installed-perls/perl/perl-5.10.1/5da8/lib/5.10.1/x86_64-linux/IO/Handle.pm line 457.
print() on closed filehandle GEN3 at /home/src/perl/repoperls/installed-perls/perl/perl-5.10.1/5da8/lib/5.10.1/x86_64-linux/IO/Handle.pm line 457.
print() on closed filehandle GEN2 at /home/src/perl/repoperls/installed-perls/perl/perl-5.10.1/5da8/lib/5.10.1/x86_64-linux/IO/Handle.pm line 457.
print() on closed filehandle GEN3 at /home/src/perl/repoperls/installed-perls/perl/perl-5.10.1/5da8/lib/5.10.1/x86_64-linux/IO/Handle.pm line 457.
print() on closed filehandle GEN2 at /home/src/perl/repoperls/installed-perls/perl/perl-5.10.1/5da8/lib/5.10.1/x86_64-linux/IO/Handle.pm line 457.
print() on closed filehandle GEN3 at /home/src/perl/repoperls/installed-perls/perl/perl-5.10.1/5da8/lib/5.10.1/x86_64-linux/IO/Handle.pm line 457.
print() on closed filehandle GEN2 at /home/src/perl/repoperls/installed-perls/perl/perl-5.10.1/5da8/lib/5.10.1/x86_64-linux/IO/Handle.pm line 457.
print() on closed filehandle GEN3 at /home/src/perl/repoperls/installed-perls/perl/perl-5.10.1/5da8/lib/5.10.1/x86_64-linux/IO/Handle.pm line 457.
print() on closed filehandle GEN2 at /home/src/perl/repoperls/installed-perls/perl/perl-5.10.1/5da8/lib/5.10.1/x86_64-linux/IO/Handle.pm line 457.
print() on closed filehandle GEN3 at /home/src/perl/repoperls/installed-perls/perl/perl-5.10.1/5da8/lib/5.10.1/x86_64-linux/IO/Handle.pm line 457.
print() on closed filehandle GEN2 at /home/src/perl/repoperls/installed-perls/perl/perl-5.10.1/5da8/lib/5.10.1/x86_64-linux/IO/Handle.pm line 457.
print() on closed filehandle GEN3 at /home/src/perl/repoperls/installed-perls/perl/perl-5.10.1/5da8/lib/5.10.1/x86_64-linux/IO/Handle.pm line 457.
print() on closed filehandle GEN2 at /home/src/perl/repoperls/installed-perls/perl/perl-5.10.1/5da8/lib/5.10.1/x86_64-linux/IO/Handle.pm line 457.
print() on closed filehandle GEN3 at /home/src/perl/repoperls/installed-perls/perl/perl-5.10.1/5da8/lib/5.10.1/x86_64-linux/IO/Handle.pm line 457.
print() on closed filehandle GEN2 at /home/src/perl/repoperls/installed-perls/perl/perl-5.10.1/5da8/lib/5.10.1/x86_64-linux/IO/Handle.pm line 457.
print() on closed filehandle GEN3 at /home/src/perl/repoperls/installed-perls/perl/perl-5.10.1/5da8/lib/5.10.1/x86_64-linux/IO/Handle.pm line 457.
print() on closed filehandle GEN2 at /home/src/perl/repoperls/installed-perls/perl/perl-5.10.1/5da8/lib/5.10.1/x86_64-linux/IO/Handle.pm line 457.
print() on closed filehandle GEN3 at /home/src/perl/repoperls/installed-perls/perl/perl-5.10.1/5da8/lib/5.10.1/x86_64-linux/IO/Handle.pm line 457.
print() on closed filehandle GEN2 at /home/src/perl/repoperls/installed-perls/perl/perl-5.10.1/5da8/lib/5.10.1/x86_64-linux/IO/Handle.pm line 457.
print() on closed filehandle GEN3 at /home/src/perl/repoperls/installed-perls/perl/perl-5.10.1/5da8/lib/5.10.1/x86_64-linux/IO/Handle.pm line 457.
t/01-ae.t ........ ok
# Running on AnyEvent::Impl::EV
EV: error in callback (ignoring): bad apple at /tmp/loop_over_bdir-11140-p_iZdh/Plack-Test-AnyEvent-0.04-XbJxC_/t/lib/Plack/Test/AnyEvent/Test.pm line 279.
EV: error in callback (ignoring): bad apple at /tmp/loop_over_bdir-11140-p_iZdh/Plack-Test-AnyEvent-0.04-XbJxC_/t/lib/Plack/Test/AnyEvent/Test.pm line 395.
EV: error in callback (ignoring): bad apple at /tmp/loop_over_bdir-11140-p_iZdh/Plack-Test-AnyEvent-0.04-XbJxC_/t/lib/Plack/Test/AnyEvent/Test.pm line 214.
print() on closed filehandle GEN2 at /home/src/perl/repoperls/installed-perls/perl/perl-5.10.1/5da8/lib/5.10.1/x86_64-linux/IO/Handle.pm line 457.
print() on closed filehandle GEN2 at /home/src/perl/repoperls/installed-perls/perl/perl-5.10.1/5da8/lib/5.10.1/x86_64-linux/IO/Handle.pm line 457.
print() on closed filehandle GEN2 at /home/src/perl/repoperls/installed-perls/perl/perl-5.10.1/5da8/lib/5.10.1/x86_64-linux/IO/Handle.pm line 457.
print() on closed filehandle GEN2 at /home/src/perl/repoperls/installed-perls/perl/perl-5.10.1/5da8/lib/5.10.1/x86_64-linux/IO/Handle.pm line 457.
print() on closed filehandle GEN2 at /home/src/perl/repoperls/installed-perls/perl/perl-5.10.1/5da8/lib/5.10.1/x86_64-linux/IO/Handle.pm line 457.
print() on closed filehandle GEN2 at /home/src/perl/repoperls/installed-perls/perl/perl-5.10.1/5da8/lib/5.10.1/x86_64-linux/IO/Handle.pm line 457.
print() on closed filehandle GEN3 at /home/src/perl/repoperls/installed-perls/perl/perl-5.10.1/5da8/lib/5.10.1/x86_64-linux/IO/Handle.pm line 457.
print() on closed filehandle GEN2 at /home/src/perl/repoperls/installed-perls/perl/perl-5.10.1/5da8/lib/5.10.1/x86_64-linux/IO/Handle.pm line 457.
print() on closed filehandle GEN3 at /home/src/perl/repoperls/installed-perls/perl/perl-5.10.1/5da8/lib/5.10.1/x86_64-linux/IO/Handle.pm line 457.
print() on closed filehandle GEN2 at /home/src/perl/repoperls/installed-perls/perl/perl-5.10.1/5da8/lib/5.10.1/x86_64-linux/IO/Handle.pm line 457.
print() on closed filehandle GEN3 at /home/src/perl/repoperls/installed-perls/perl/perl-5.10.1/5da8/lib/5.10.1/x86_64-linux/IO/Handle.pm line 457.
print() on closed filehandle GEN2 at /home/src/perl/repoperls/installed-perls/perl/perl-5.10.1/5da8/lib/5.10.1/x86_64-linux/IO/Handle.pm line 457.
print() on closed filehandle GEN3 at /home/src/perl/repoperls/installed-perls/perl/perl-5.10.1/5da8/lib/5.10.1/x86_64-linux/IO/Handle.pm line 457.
print() on closed filehandle GEN2 at /home/src/perl/repoperls/installed-perls/perl/perl-5.10.1/5da8/lib/5.10.1/x86_64-linux/IO/Handle.pm line 457.
print() on closed filehandle GEN3 at /home/src/perl/repoperls/installed-perls/perl/perl-5.10.1/5da8/lib/5.10.1/x86_64-linux/IO/Handle.pm line 457.
print() on closed filehandle GEN2 at /home/src/perl/repoperls/installed-perls/perl/perl-5.10.1/5da8/lib/5.10.1/x86_64-linux/IO/Handle.pm line 457.
print() on closed filehandle GEN3 at /home/src/perl/repoperls/installed-perls/perl/perl-5.10.1/5da8/lib/5.10.1/x86_64-linux/IO/Handle.pm line 457.
print() on closed filehandle GEN2 at /home/src/perl/repoperls/installed-perls/perl/perl-5.10.1/5da8/lib/5.10.1/x86_64-linux/IO/Handle.pm line 457.
print() on closed filehandle GEN3 at /home/src/perl/repoperls/installed-perls/perl/perl-5.10.1/5da8/lib/5.10.1/x86_64-linux/IO/Handle.pm line 457.
print() on closed filehandle GEN2 at /home/src/perl/repoperls/installed-perls/perl/perl-5.10.1/5da8/lib/5.10.1/x86_64-linux/IO/Handle.pm line 457.
print() on closed filehandle GEN3 at /home/src/perl/repoperls/installed-perls/perl/perl-5.10.1/5da8/lib/5.10.1/x86_64-linux/IO/Handle.pm line 457.
print() on closed filehandle GEN2 at /home/src/perl/repoperls/installed-perls/perl/perl-5.10.1/5da8/lib/5.10.1/x86_64-linux/IO/Handle.pm line 457.
print() on closed filehandle GEN3 at /home/src/perl/repoperls/installed-perls/perl/perl-5.10.1/5da8/lib/5.10.1/x86_64-linux/IO/Handle.pm line 457.
print() on closed filehandle GEN2 at /home/src/perl/repoperls/installed-perls/perl/perl-5.10.1/5da8/lib/5.10.1/x86_64-linux/IO/Handle.pm line 457.
print() on closed filehandle GEN3 at /home/src/perl/repoperls/installed-perls/perl/perl-5.10.1/5da8/lib/5.10.1/x86_64-linux/IO/Handle.pm line 457.
print() on closed filehandle GEN2 at /home/src/perl/repoperls/installed-perls/perl/perl-5.10.1/5da8/lib/5.10.1/x86_64-linux/IO/Handle.pm line 457.
print() on closed filehandle GEN3 at /home/src/perl/repoperls/installed-perls/perl/perl-5.10.1/5da8/lib/5.10.1/x86_64-linux/IO/Handle.pm line 457.
print() on closed filehandle GEN2 at /home/src/perl/repoperls/installed-perls/perl/perl-5.10.1/5da8/lib/5.10.1/x86_64-linux/IO/Handle.pm line 457.
print() on closed filehandle GEN3 at /home/src/perl/repoperls/installed-perls/perl/perl-5.10.1/5da8/lib/5.10.1/x86_64-linux/IO/Handle.pm line 457.
print() on closed filehandle GEN2 at /home/src/perl/repoperls/installed-perls/perl/perl-5.10.1/5da8/lib/5.10.1/x86_64-linux/IO/Handle.pm line 457.
print() on closed filehandle GEN3 at /home/src/perl/repoperls/installed-perls/perl/perl-5.10.1/5da8/lib/5.10.1/x86_64-linux/IO/Handle.pm line 457.
print() on closed filehandle GEN2 at /home/src/perl/repoperls/installed-perls/perl/perl-5.10.1/5da8/lib/5.10.1/x86_64-linux/IO/Handle.pm line 457.
print() on closed filehandle GEN3 at /home/src/perl/repoperls/installed-perls/perl/perl-5.10.1/5da8/lib/5.10.1/x86_64-linux/IO/Handle.pm line 457.
print() on closed filehandle GEN2 at /home/src/perl/repoperls/installed-perls/perl/perl-5.10.1/5da8/lib/5.10.1/x86_64-linux/IO/Handle.pm line 457.
print() on closed filehandle GEN3 at /home/src/perl/repoperls/installed-perls/perl/perl-5.10.1/5da8/lib/5.10.1/x86_64-linux/IO/Handle.pm line 457.
print() on closed filehandle GEN2 at /home/src/perl/repoperls/installed-perls/perl/perl-5.10.1/5da8/lib/5.10.1/x86_64-linux/IO/Handle.pm line 457.
print() on closed filehandle GEN3 at /home/src/perl/repoperls/installed-perls/perl/perl-5.10.1/5da8/lib/5.10.1/x86_64-linux/IO/Handle.pm line 457.
print() on closed filehandle GEN2 at /home/src/perl/repoperls/installed-perls/perl/perl-5.10.1/5da8/lib/5.10.1/x86_64-linux/IO/Handle.pm line 457.
print() on closed filehandle GEN3 at /home/src/perl/repoperls/installed-perls/perl/perl-5.10.1/5da8/lib/5.10.1/x86_64-linux/IO/Handle.pm line 457.
print() on closed filehandle GEN2 at /home/src/perl/repoperls/installed-perls/perl/perl-5.10.1/5da8/lib/5.10.1/x86_64-linux/IO/Handle.pm line 457.
print() on closed filehandle GEN3 at /home/src/perl/repoperls/installed-perls/perl/perl-5.10.1/5da8/lib/5.10.1/x86_64-linux/IO/Handle.pm line 457.
print() on closed filehandle GEN2 at /home/src/perl/repoperls/installed-perls/perl/perl-5.10.1/5da8/lib/5.10.1/x86_64-linux/IO/Handle.pm line 457.
print() on closed filehandle GEN3 at /home/src/perl/repoperls/installed-perls/perl/perl-5.10.1/5da8/lib/5.10.1/x86_64-linux/IO/Handle.pm line 457.
print() on closed filehandle GEN2 at /home/src/perl/repoperls/installed-perls/perl/perl-5.10.1/5da8/lib/5.10.1/x86_64-linux/IO/Handle.pm line 457.
print() on closed filehandle GEN3 at /home/src/perl/repoperls/installed-perls/perl/perl-5.10.1/5da8/lib/5.10.1/x86_64-linux/IO/Handle.pm line 457.
print() on closed filehandle GEN2 at /home/src/perl/repoperls/installed-perls/perl/perl-5.10.1/5da8/lib/5.10.1/x86_64-linux/IO/Handle.pm line 457.
print() on closed filehandle GEN3 at /home/src/perl/repoperls/installed-perls/perl/perl-5.10.1/5da8/lib/5.10.1/x86_64-linux/IO/Handle.pm line 457.
print() on closed filehandle GEN2 at /home/src/perl/repoperls/installed-perls/perl/perl-5.10.1/5da8/lib/5.10.1/x86_64-linux/IO/Handle.pm line 457.
print() on closed filehandle GEN3 at /home/src/perl/repoperls/installed-perls/perl/perl-5.10.1/5da8/lib/5.10.1/x86_64-linux/IO/Handle.pm line 457.
print() on closed filehandle GEN2 at /home/src/perl/repoperls/installed-perls/perl/perl-5.10.1/5da8/lib/5.10.1/x86_64-linux/IO/Handle.pm line 457.
print() on closed filehandle GEN3 at /home/src/perl/repoperls/installed-perls/perl/perl-5.10.1/5da8/lib/5.10.1/x86_64-linux/IO/Handle.pm line 457.
print() on closed filehandle GEN2 at /home/src/perl/repoperls/installed-perls/perl/perl-5.10.1/5da8/lib/5.10.1/x86_64-linux/IO/Handle.pm line 457.
print() on closed filehandle GEN3 at /home/src/perl/repoperls/installed-perls/perl/perl-5.10.1/5da8/lib/5.10.1/x86_64-linux/IO/Handle.pm line 457.
print() on closed filehandle GEN2 at /home/src/perl/repoperls/installed-perls/perl/perl-5.10.1/5da8/lib/5.10.1/x86_64-linux/IO/Handle.pm line 457.
print() on closed filehandle GEN3 at /home/src/perl/repoperls/installed-perls/perl/perl-5.10.1/5da8/lib/5.10.1/x86_64-linux/IO/Handle.pm line 457.
print() on closed filehandle GEN2 at /home/src/perl/repoperls/installed-perls/perl/perl-5.10.1/5da8/lib/5.10.1/x86_64-linux/IO/Handle.pm line 457.
print() on closed filehandle GEN3 at /home/src/perl/repoperls/installed-perls/perl/perl-5.10.1/5da8/lib/5.10.1/x86_64-linux/IO/Handle.pm line 457.
print() on closed filehandle GEN2 at /home/src/perl/repoperls/installed-perls/perl/perl-5.10.1/5da8/lib/5.10.1/x86_64-linux/IO/Handle.pm line 457.
print() on closed filehandle GEN3 at /home/src/perl/repoperls/installed-perls/perl/perl-5.10.1/5da8/lib/5.10.1/x86_64-linux/IO/Handle.pm line 457.
print() on closed filehandle GEN2 at /home/src/perl/repoperls/installed-perls/perl/perl-5.10.1/5da8/lib/5.10.1/x86_64-linux/IO/Handle.pm line 457.
print() on closed filehandle GEN3 at /home/src/perl/repoperls/installed-perls/perl/perl-5.10.1/5da8/lib/5.10.1/x86_64-linux/IO/Handle.pm line 457.
print() on closed filehandle GEN2 at /home/src/perl/repoperls/installed-perls/perl/perl-5.10.1/5da8/lib/5.10.1/x86_64-linux/IO/Handle.pm line 457.
print() on closed filehandle GEN3 at /home/src/perl/repoperls/installed-perls/perl/perl-5.10.1/5da8/lib/5.10.1/x86_64-linux/IO/Handle.pm line 457.
print() on closed filehandle GEN2 at /home/src/perl/repoperls/installed-perls/perl/perl-5.10.1/5da8/lib/5.10.1/x86_64-linux/IO/Handle.pm line 457.
print() on closed filehandle GEN3 at /home/src/perl/repoperls/installed-perls/perl/perl-5.10.1/5da8/lib/5.10.1/x86_64-linux/IO/Handle.pm line 457.
print() on closed filehandle GEN2 at /home/src/perl/repoperls/installed-perls/perl/perl-5.10.1/5da8/lib/5.10.1/x86_64-linux/IO/Handle.pm line 457.
print() on closed filehandle GEN3 at /home/src/perl/repoperls/installed-perls/perl/perl-5.10.1/5da8/lib/5.10.1/x86_64-linux/IO/Handle.pm line 457.
print() on closed filehandle GEN2 at /home/src/perl/repoperls/installed-perls/perl/perl-5.10.1/5da8/lib/5.10.1/x86_64-linux/IO/Handle.pm line 457.
print() on closed filehandle GEN3 at /home/src/perl/repoperls/installed-perls/perl/perl-5.10.1/5da8/lib/5.10.1/x86_64-linux/IO/Handle.pm line 457.
print() on closed filehandle GEN2 at /home/src/perl/repoperls/installed-perls/perl/perl-5.10.1/5da8/lib/5.10.1/x86_64-linux/IO/Handle.pm line 457.
print() on closed filehandle GEN3 at /home/src/perl/repoperls/installed-perls/perl/perl-5.10.1/5da8/lib/5.10.1/x86_64-linux/IO/Handle.pm line 457.
print() on closed filehandle GEN2 at /home/src/perl/repoperls/installed-perls/perl/perl-5.10.1/5da8/lib/5.10.1/x86_64-linux/IO/Handle.pm line 457.
print() on closed filehandle GEN3 at /home/src/perl/repoperls/installed-perls/perl/perl-5.10.1/5da8/lib/5.10.1/x86_64-linux/IO/Handle.pm line 457.
print() on closed filehandle GEN2 at /home/src/perl/repoperls/installed-perls/perl/perl-5.10.1/5da8/lib/5.10.1/x86_64-linux/IO/Handle.pm line 457.
print() on closed filehandle GEN3 at /home/src/perl/repoperls/installed-perls/perl/perl-5.10.1/5da8/lib/5.10.1/x86_64-linux/IO/Handle.pm line 457.
print() on closed filehandle GEN2 at /home/src/perl/repoperls/installed-perls/perl/perl-5.10.1/5da8/lib/5.10.1/x86_64-linux/IO/Handle.pm line 457.
print() on closed filehandle GEN3 at /home/src/perl/repoperls/installed-perls/perl/perl-5.10.1/5da8/lib/5.10.1/x86_64-linux/IO/Handle.pm line 457.
print() on closed filehandle GEN2 at /home/src/perl/repoperls/installed-perls/perl/perl-5.10.1/5da8/lib/5.10.1/x86_64-linux/IO/Handle.pm line 457.
print() on closed filehandle GEN3 at /home/src/perl/repoperls/installed-perls/perl/perl-5.10.1/5da8/lib/5.10.1/x86_64-linux/IO/Handle.pm line 457.
print() on closed filehandle GEN2 at /home/src/perl/repoperls/installed-perls/perl/perl-5.10.1/5da8/lib/5.10.1/x86_64-linux/IO/Handle.pm line 457.
print() on closed filehandle GEN3 at /home/src/perl/repoperls/installed-perls/perl/perl-5.10.1/5da8/lib/5.10.1/x86_64-linux/IO/Handle.pm line 457.
print() on closed filehandle GEN2 at /home/src/perl/repoperls/installed-perls/perl/perl-5.10.1/5da8/lib/5.10.1/x86_64-linux/IO/Handle.pm line 457.
print() on closed filehandle GEN3 at /home/src/perl/repoperls/installed-perls/perl/perl-5.10.1/5da8/lib/5.10.1/x86_64-linux/IO/Handle.pm line 457.
print() on closed filehandle GEN2 at /home/src/perl/repoperls/installed-perls/perl/perl-5.10.1/5da8/lib/5.10.1/x86_64-linux/IO/Handle.pm line 457.
print() on closed filehandle GEN3 at /home/src/perl/repoperls/installed-perls/perl/perl-5.10.1/5da8/lib/5.10.1/x86_64-linux/IO/Handle.pm line 457.
t/02-anyevent.t .. ok
t/03-cocoa.t ..... skipped: You need Cocoa::EventLoop to run this test
# Running on AnyEvent::Impl::EV
EV: error in callback (ignoring): bad apple at /tmp/loop_over_bdir-11140-p_iZdh/Plack-Test-AnyEvent-0.04-XbJxC_/t/lib/Plack/Test/AnyEvent/Test.pm line 279.
EV: error in callback (ignoring): bad apple at /tmp/loop_over_bdir-11140-p_iZdh/Plack-Test-AnyEvent-0.04-XbJxC_/t/lib/Plack/Test/AnyEvent/Test.pm line 395.
EV: error in callback (ignoring): bad apple at /tmp/loop_over_bdir-11140-p_iZdh/Plack-Test-AnyEvent-0.04-XbJxC_/t/lib/Plack/Test/AnyEvent/Test.pm line 214.
print() on closed filehandle GEN2 at /home/src/perl/repoperls/installed-perls/perl/perl-5.10.1/5da8/lib/5.10.1/x86_64-linux/IO/Handle.pm line 457.
print() on closed filehandle GEN2 at /home/src/perl/repoperls/installed-perls/perl/perl-5.10.1/5da8/lib/5.10.1/x86_64-linux/IO/Handle.pm line 457.
print() on closed filehandle GEN2 at /home/src/perl/repoperls/installed-perls/perl/perl-5.10.1/5da8/lib/5.10.1/x86_64-linux/IO/Handle.pm line 457.
print() on closed filehandle GEN2 at /home/src/perl/repoperls/installed-perls/perl/perl-5.10.1/5da8/lib/5.10.1/x86_64-linux/IO/Handle.pm line 457.
print() on closed filehandle GEN2 at /home/src/perl/repoperls/installed-perls/perl/perl-5.10.1/5da8/lib/5.10.1/x86_64-linux/IO/Handle.pm line 457.
print() on closed filehandle GEN2 at /home/src/perl/repoperls/installed-perls/perl/perl-5.10.1/5da8/lib/5.10.1/x86_64-linux/IO/Handle.pm line 457.
print() on closed filehandle GEN3 at /home/src/perl/repoperls/installed-perls/perl/perl-5.10.1/5da8/lib/5.10.1/x86_64-linux/IO/Handle.pm line 457.
print() on closed filehandle GEN2 at /home/src/perl/repoperls/installed-perls/perl/perl-5.10.1/5da8/lib/5.10.1/x86_64-linux/IO/Handle.pm line 457.
print() on closed filehandle GEN3 at /home/src/perl/repoperls/installed-perls/perl/perl-5.10.1/5da8/lib/5.10.1/x86_64-linux/IO/Handle.pm line 457.
print() on closed filehandle GEN2 at /home/src/perl/repoperls/installed-perls/perl/perl-5.10.1/5da8/lib/5.10.1/x86_64-linux/IO/Handle.pm line 457.
print() on closed filehandle GEN3 at /home/src/perl/repoperls/installed-perls/perl/perl-5.10.1/5da8/lib/5.10.1/x86_64-linux/IO/Handle.pm line 457.
print() on closed filehandle GEN2 at /home/src/perl/repoperls/installed-perls/perl/perl-5.10.1/5da8/lib/5.10.1/x86_64-linux/IO/Handle.pm line 457.
print() on closed filehandle GEN3 at /home/src/perl/repoperls/installed-perls/perl/perl-5.10.1/5da8/lib/5.10.1/x86_64-linux/IO/Handle.pm line 457.
print() on closed filehandle GEN2 at /home/src/perl/repoperls/installed-perls/perl/perl-5.10.1/5da8/lib/5.10.1/x86_64-linux/IO/Handle.pm line 457.
print() on closed filehandle GEN3 at /home/src/perl/repoperls/installed-perls/perl/perl-5.10.1/5da8/lib/5.10.1/x86_64-linux/IO/Handle.pm line 457.
print() on closed filehandle GEN2 at /home/src/perl/repoperls/installed-perls/perl/perl-5.10.1/5da8/lib/5.10.1/x86_64-linux/IO/Handle.pm line 457.
print() on closed filehandle GEN3 at /home/src/perl/repoperls/installed-perls/perl/perl-5.10.1/5da8/lib/5.10.1/x86_64-linux/IO/Handle.pm line 457.
print() on closed filehandle GEN2 at /home/src/perl/repoperls/installed-perls/perl/perl-5.10.1/5da8/lib/5.10.1/x86_64-linux/IO/Handle.pm line 457.
print() on closed filehandle GEN3 at /home/src/perl/repoperls/installed-perls/perl/perl-5.10.1/5da8/lib/5.10.1/x86_64-linux/IO/Handle.pm line 457.
print() on closed filehandle GEN2 at /home/src/perl/repoperls/installed-perls/perl/perl-5.10.1/5da8/lib/5.10.1/x86_64-linux/IO/Handle.pm line 457.
print() on closed filehandle GEN3 at /home/src/perl/repoperls/installed-perls/perl/perl-5.10.1/5da8/lib/5.10.1/x86_64-linux/IO/Handle.pm line 457.
print() on closed filehandle GEN2 at /home/src/perl/repoperls/installed-perls/perl/perl-5.10.1/5da8/lib/5.10.1/x86_64-linux/IO/Handle.pm line 457.
print() on closed filehandle GEN3 at /home/src/perl/repoperls/installed-perls/perl/perl-5.10.1/5da8/lib/5.10.1/x86_64-linux/IO/Handle.pm line 457.
print() on closed filehandle GEN2 at /home/src/perl/repoperls/installed-perls/perl/perl-5.10.1/5da8/lib/5.10.1/x86_64-linux/IO/Handle.pm line 457.
print() on closed filehandle GEN3 at /home/src/perl/repoperls/installed-perls/perl/perl-5.10.1/5da8/lib/5.10.1/x86_64-linux/IO/Handle.pm line 457.
print() on closed filehandle GEN2 at /home/src/perl/repoperls/installed-perls/perl/perl-5.10.1/5da8/lib/5.10.1/x86_64-linux/IO/Handle.pm line 457.
print() on closed filehandle GEN3 at /home/src/perl/repoperls/installed-perls/perl/perl-5.10.1/5da8/lib/5.10.1/x86_64-linux/IO/Handle.pm line 457.
print() on closed filehandle GEN2 at /home/src/perl/repoperls/installed-perls/perl/perl-5.10.1/5da8/lib/5.10.1/x86_64-linux/IO/Handle.pm line 457.
print() on closed filehandle GEN3 at /home/src/perl/repoperls/installed-perls/perl/perl-5.10.1/5da8/lib/5.10.1/x86_64-linux/IO/Handle.pm line 457.
print() on closed filehandle GEN2 at /home/src/perl/repoperls/installed-perls/perl/perl-5.10.1/5da8/lib/5.10.1/x86_64-linux/IO/Handle.pm line 457.
print() on closed filehandle GEN3 at /home/src/perl/repoperls/installed-perls/perl/perl-5.10.1/5da8/lib/5.10.1/x86_64-linux/IO/Handle.pm line 457.
print() on closed filehandle GEN2 at /home/src/perl/repoperls/installed-perls/perl/perl-5.10.1/5da8/lib/5.10.1/x86_64-linux/IO/Handle.pm line 457.
print() on closed filehandle GEN3 at /home/src/perl/repoperls/installed-perls/perl/perl-5.10.1/5da8/lib/5.10.1/x86_64-linux/IO/Handle.pm line 457.
print() on closed filehandle GEN2 at /home/src/perl/repoperls/installed-perls/perl/perl-5.10.1/5da8/lib/5.10.1/x86_64-linux/IO/Handle.pm line 457.
print() on closed filehandle GEN3 at /home/src/perl/repoperls/installed-perls/perl/perl-5.10.1/5da8/lib/5.10.1/x86_64-linux/IO/Handle.pm line 457.
print() on closed filehandle GEN2 at /home/src/perl/repoperls/installed-perls/perl/perl-5.10.1/5da8/lib/5.10.1/x86_64-linux/IO/Handle.pm line 457.
print() on closed filehandle GEN3 at /home/src/perl/repoperls/installed-perls/perl/perl-5.10.1/5da8/lib/5.10.1/x86_64-linux/IO/Handle.pm line 457.
print() on closed filehandle GEN2 at /home/src/perl/repoperls/installed-perls/perl/perl-5.10.1/5da8/lib/5.10.1/x86_64-linux/IO/Handle.pm line 457.
print() on closed filehandle GEN3 at /home/src/perl/repoperls/installed-perls/perl/perl-5.10.1/5da8/lib/5.10.1/x86_64-linux/IO/Handle.pm line 457.
print() on closed filehandle GEN2 at /home/src/perl/repoperls/installed-perls/perl/perl-5.10.1/5da8/lib/5.10.1/x86_64-linux/IO/Handle.pm line 457.
print() on closed filehandle GEN3 at /home/src/perl/repoperls/installed-perls/perl/perl-5.10.1/5da8/lib/5.10.1/x86_64-linux/IO/Handle.pm line 457.
print() on closed filehandle GEN2 at /home/src/perl/repoperls/installed-perls/perl/perl-5.10.1/5da8/lib/5.10.1/x86_64-linux/IO/Handle.pm line 457.
print() on closed filehandle GEN3 at /home/src/perl/repoperls/installed-perls/perl/perl-5.10.1/5da8/lib/5.10.1/x86_64-linux/IO/Handle.pm line 457.
print() on closed filehandle GEN2 at /home/src/perl/repoperls/installed-perls/perl/perl-5.10.1/5da8/lib/5.10.1/x86_64-linux/IO/Handle.pm line 457.
print() on closed filehandle GEN3 at /home/src/perl/repoperls/installed-perls/perl/perl-5.10.1/5da8/lib/5.10.1/x86_64-linux/IO/Handle.pm line 457.
print() on closed filehandle GEN2 at /home/src/perl/repoperls/installed-perls/perl/perl-5.10.1/5da8/lib/5.10.1/x86_64-linux/IO/Handle.pm line 457.
print() on closed filehandle GEN3 at /home/src/perl/repoperls/installed-perls/perl/perl-5.10.1/5da8/lib/5.10.1/x86_64-linux/IO/Handle.pm line 457.
print() on closed filehandle GEN2 at /home/src/perl/repoperls/installed-perls/perl/perl-5.10.1/5da8/lib/5.10.1/x86_64-linux/IO/Handle.pm line 457.
print() on closed filehandle GEN3 at /home/src/perl/repoperls/installed-perls/perl/perl-5.10.1/5da8/lib/5.10.1/x86_64-linux/IO/Handle.pm line 457.
print() on closed filehandle GEN2 at /home/src/perl/repoperls/installed-perls/perl/perl-5.10.1/5da8/lib/5.10.1/x86_64-linux/IO/Handle.pm line 457.
print() on closed filehandle GEN3 at /home/src/perl/repoperls/installed-perls/perl/perl-5.10.1/5da8/lib/5.10.1/x86_64-linux/IO/Handle.pm line 457.
print() on closed filehandle GEN2 at /home/src/perl/repoperls/installed-perls/perl/perl-5.10.1/5da8/lib/5.10.1/x86_64-linux/IO/Handle.pm line 457.
print() on closed filehandle GEN3 at /home/src/perl/repoperls/installed-perls/perl/perl-5.10.1/5da8/lib/5.10.1/x86_64-linux/IO/Handle.pm line 457.
print() on closed filehandle GEN2 at /home/src/perl/repoperls/installed-perls/perl/perl-5.10.1/5da8/lib/5.10.1/x86_64-linux/IO/Handle.pm line 457.
print() on closed filehandle GEN3 at /home/src/perl/repoperls/installed-perls/perl/perl-5.10.1/5da8/lib/5.10.1/x86_64-linux/IO/Handle.pm line 457.
print() on closed filehandle GEN2 at /home/src/perl/repoperls/installed-perls/perl/perl-5.10.1/5da8/lib/5.10.1/x86_64-linux/IO/Handle.pm line 457.
print() on closed filehandle GEN3 at /home/src/perl/repoperls/installed-perls/perl/perl-5.10.1/5da8/lib/5.10.1/x86_64-linux/IO/Handle.pm line 457.
print() on closed filehandle GEN2 at /home/src/perl/repoperls/installed-perls/perl/perl-5.10.1/5da8/lib/5.10.1/x86_64-linux/IO/Handle.pm line 457.
print() on closed filehandle GEN3 at /home/src/perl/repoperls/installed-perls/perl/perl-5.10.1/5da8/lib/5.10.1/x86_64-linux/IO/Handle.pm line 457.
print() on closed filehandle GEN2 at /home/src/perl/repoperls/installed-perls/perl/perl-5.10.1/5da8/lib/5.10.1/x86_64-linux/IO/Handle.pm line 457.
print() on closed filehandle GEN3 at /home/src/perl/repoperls/installed-perls/perl/perl-5.10.1/5da8/lib/5.10.1/x86_64-linux/IO/Handle.pm line 457.
print() on closed filehandle GEN2 at /home/src/perl/repoperls/installed-perls/perl/perl-5.10.1/5da8/lib/5.10.1/x86_64-linux/IO/Handle.pm line 457.
print() on closed filehandle GEN3 at /home/src/perl/repoperls/installed-perls/perl/perl-5.10.1/5da8/lib/5.10.1/x86_64-linux/IO/Handle.pm line 457.
print() on closed filehandle GEN2 at /home/src/perl/repoperls/installed-perls/perl/perl-5.10.1/5da8/lib/5.10.1/x86_64-linux/IO/Handle.pm line 457.
print() on closed filehandle GEN3 at /home/src/perl/repoperls/installed-perls/perl/perl-5.10.1/5da8/lib/5.10.1/x86_64-linux/IO/Handle.pm line 457.
print() on closed filehandle GEN2 at /home/src/perl/repoperls/installed-perls/perl/perl-5.10.1/5da8/lib/5.10.1/x86_64-linux/IO/Handle.pm line 457.
print() on closed filehandle GEN3 at /home/src/perl/repoperls/installed-perls/perl/perl-5.10.1/5da8/lib/5.10.1/x86_64-linux/IO/Handle.pm line 457.
print() on closed filehandle GEN2 at /home/src/perl/repoperls/installed-perls/perl/perl-5.10.1/5da8/lib/5.10.1/x86_64-linux/IO/Handle.pm line 457.
print() on closed filehandle GEN3 at /home/src/perl/repoperls/installed-perls/perl/perl-5.10.1/5da8/lib/5.10.1/x86_64-linux/IO/Handle.pm line 457.
print() on closed filehandle GEN2 at /home/src/perl/repoperls/installed-perls/perl/perl-5.10.1/5da8/lib/5.10.1/x86_64-linux/IO/Handle.pm line 457.
print() on closed filehandle GEN3 at /home/src/perl/repoperls/installed-perls/perl/perl-5.10.1/5da8/lib/5.10.1/x86_64-linux/IO/Handle.pm line 457.
print() on closed filehandle GEN2 at /home/src/perl/repoperls/installed-perls/perl/perl-5.10.1/5da8/lib/5.10.1/x86_64-linux/IO/Handle.pm line 457.
print() on closed filehandle GEN3 at /home/src/perl/repoperls/installed-perls/perl/perl-5.10.1/5da8/lib/5.10.1/x86_64-linux/IO/Handle.pm line 457.
print() on closed filehandle GEN2 at /home/src/perl/repoperls/installed-perls/perl/perl-5.10.1/5da8/lib/5.10.1/x86_64-linux/IO/Handle.pm line 457.
print() on closed filehandle GEN3 at /home/src/perl/repoperls/installed-perls/perl/perl-5.10.1/5da8/lib/5.10.1/x86_64-linux/IO/Handle.pm line 457.
print() on closed filehandle GEN2 at /home/src/perl/repoperls/installed-perls/perl/perl-5.10.1/5da8/lib/5.10.1/x86_64-linux/IO/Handle.pm line 457.
print() on closed filehandle GEN3 at /home/src/perl/repoperls/installed-perls/perl/perl-5.10.1/5da8/lib/5.10.1/x86_64-linux/IO/Handle.pm line 457.
print() on closed filehandle GEN2 at /home/src/perl/repoperls/installed-perls/perl/perl-5.10.1/5da8/lib/5.10.1/x86_64-linux/IO/Handle.pm line 457.
print() on closed filehandle GEN3 at /home/src/perl/repoperls/installed-perls/perl/perl-5.10.1/5da8/lib/5.10.1/x86_64-linux/IO/Handle.pm line 457.
print() on closed filehandle GEN2 at /home/src/perl/repoperls/installed-perls/perl/perl-5.10.1/5da8/lib/5.10.1/x86_64-linux/IO/Handle.pm line 457.
print() on closed filehandle GEN3 at /home/src/perl/repoperls/installed-perls/perl/perl-5.10.1/5da8/lib/5.10.1/x86_64-linux/IO/Handle.pm line 457.
print() on closed filehandle GEN2 at /home/src/perl/repoperls/installed-perls/perl/perl-5.10.1/5da8/lib/5.10.1/x86_64-linux/IO/Handle.pm line 457.
print() on closed filehandle GEN3 at /home/src/perl/repoperls/installed-perls/perl/perl-5.10.1/5da8/lib/5.10.1/x86_64-linux/IO/Handle.pm line 457.
print() on closed filehandle GEN2 at /home/src/perl/repoperls/installed-perls/perl/perl-5.10.1/5da8/lib/5.10.1/x86_64-linux/IO/Handle.pm line 457.
print() on closed filehandle GEN3 at /home/src/perl/repoperls/installed-perls/perl/perl-5.10.1/5da8/lib/5.10.1/x86_64-linux/IO/Handle.pm line 457.
t/03-ev.t ........ ok
# Running on AnyEvent::Impl::Event
Event: trapped error in `?? Event.pm:41': ?
Event: trapped error in `?? Event.pm:41': ?
Event: trapped error in `?? Event.pm:41': ?
print() on closed filehandle GEN2 at /home/src/perl/repoperls/installed-perls/perl/perl-5.10.1/5da8/lib/5.10.1/x86_64-linux/IO/Handle.pm line 457.
print() on closed filehandle GEN2 at /home/src/perl/repoperls/installed-perls/perl/perl-5.10.1/5da8/lib/5.10.1/x86_64-linux/IO/Handle.pm line 457.
print() on closed filehandle GEN2 at /home/src/perl/repoperls/installed-perls/perl/perl-5.10.1/5da8/lib/5.10.1/x86_64-linux/IO/Handle.pm line 457.
print() on closed filehandle GEN2 at /home/src/perl/repoperls/installed-perls/perl/perl-5.10.1/5da8/lib/5.10.1/x86_64-linux/IO/Handle.pm line 457.
print() on closed filehandle GEN2 at /home/src/perl/repoperls/installed-perls/perl/perl-5.10.1/5da8/lib/5.10.1/x86_64-linux/IO/Handle.pm line 457.
print() on closed filehandle GEN2 at /home/src/perl/repoperls/installed-perls/perl/perl-5.10.1/5da8/lib/5.10.1/x86_64-linux/IO/Handle.pm line 457.
print() on closed filehandle GEN2 at /home/src/perl/repoperls/installed-perls/perl/perl-5.10.1/5da8/lib/5.10.1/x86_64-linux/IO/Handle.pm line 457.
print() on closed filehandle GEN3 at /home/src/perl/repoperls/installed-perls/perl/perl-5.10.1/5da8/lib/5.10.1/x86_64-linux/IO/Handle.pm line 457.
print() on closed filehandle GEN2 at /home/src/perl/repoperls/installed-perls/perl/perl-5.10.1/5da8/lib/5.10.1/x86_64-linux/IO/Handle.pm line 457.
print() on closed filehandle GEN3 at /home/src/perl/repoperls/installed-perls/perl/perl-5.10.1/5da8/lib/5.10.1/x86_64-linux/IO/Handle.pm line 457.
print() on closed filehandle GEN2 at /home/src/perl/repoperls/installed-perls/perl/perl-5.10.1/5da8/lib/5.10.1/x86_64-linux/IO/Handle.pm line 457.
print() on closed filehandle GEN3 at /home/src/perl/repoperls/installed-perls/perl/perl-5.10.1/5da8/lib/5.10.1/x86_64-linux/IO/Handle.pm line 457.
print() on closed filehandle GEN2 at /home/src/perl/repoperls/installed-perls/perl/perl-5.10.1/5da8/lib/5.10.1/x86_64-linux/IO/Handle.pm line 457.
print() on closed filehandle GEN3 at /home/src/perl/repoperls/installed-perls/perl/perl-5.10.1/5da8/lib/5.10.1/x86_64-linux/IO/Handle.pm line 457.
print() on closed filehandle GEN2 at /home/src/perl/repoperls/installed-perls/perl/perl-5.10.1/5da8/lib/5.10.1/x86_64-linux/IO/Handle.pm line 457.
print() on closed filehandle GEN3 at /home/src/perl/repoperls/installed-perls/perl/perl-5.10.1/5da8/lib/5.10.1/x86_64-linux/IO/Handle.pm line 457.
print() on closed filehandle GEN2 at /home/src/perl/repoperls/installed-perls/perl/perl-5.10.1/5da8/lib/5.10.1/x86_64-linux/IO/Handle.pm line 457.
print() on closed filehandle GEN3 at /home/src/perl/repoperls/installed-perls/perl/perl-5.10.1/5da8/lib/5.10.1/x86_64-linux/IO/Handle.pm line 457.
print() on closed filehandle GEN2 at /home/src/perl/repoperls/installed-perls/perl/perl-5.10.1/5da8/lib/5.10.1/x86_64-linux/IO/Handle.pm line 457.
print() on closed filehandle GEN3 at /home/src/perl/repoperls/installed-perls/perl/perl-5.10.1/5da8/lib/5.10.1/x86_64-linux/IO/Handle.pm line 457.
print() on closed filehandle GEN2 at /home/src/perl/repoperls/installed-perls/perl/perl-5.10.1/5da8/lib/5.10.1/x86_64-linux/IO/Handle.pm line 457.
print() on closed filehandle GEN3 at /home/src/perl/repoperls/installed-perls/perl/perl-5.10.1/5da8/lib/5.10.1/x86_64-linux/IO/Handle.pm line 457.
print() on closed filehandle GEN2 at /home/src/perl/repoperls/installed-perls/perl/perl-5.10.1/5da8/lib/5.10.1/x86_64-linux/IO/Handle.pm line 457.
print() on closed filehandle GEN3 at /home/src/perl/repoperls/installed-perls/perl/perl-5.10.1/5da8/lib/5.10.1/x86_64-linux/IO/Handle.pm line 457.
print() on closed filehandle GEN2 at /home/src/perl/repoperls/installed-perls/perl/perl-5.10.1/5da8/lib/5.10.1/x86_64-linux/IO/Handle.pm line 457.
print() on closed filehandle GEN3 at /home/src/perl/repoperls/installed-perls/perl/perl-5.10.1/5da8/lib/5.10.1/x86_64-linux/IO/Handle.pm line 457.
print() on closed filehandle GEN2 at /home/src/perl/repoperls/installed-perls/perl/perl-5.10.1/5da8/lib/5.10.1/x86_64-linux/IO/Handle.pm line 457.
print() on closed filehandle GEN3 at /home/src/perl/repoperls/installed-perls/perl/perl-5.10.1/5da8/lib/5.10.1/x86_64-linux/IO/Handle.pm line 457.
print() on closed filehandle GEN2 at /home/src/perl/repoperls/installed-perls/perl/perl-5.10.1/5da8/lib/5.10.1/x86_64-linux/IO/Handle.pm line 457.
print() on closed filehandle GEN3 at /home/src/perl/repoperls/installed-perls/perl/perl-5.10.1/5da8/lib/5.10.1/x86_64-linux/IO/Handle.pm line 457.
print() on closed filehandle GEN2 at /home/src/perl/repoperls/installed-perls/perl/perl-5.10.1/5da8/lib/5.10.1/x86_64-linux/IO/Handle.pm line 457.
print() on closed filehandle GEN3 at /home/src/perl/repoperls/installed-perls/perl/perl-5.10.1/5da8/lib/5.10.1/x86_64-linux/IO/Handle.pm line 457.
print() on closed filehandle GEN2 at /home/src/perl/repoperls/installed-perls/perl/perl-5.10.1/5da8/lib/5.10.1/x86_64-linux/IO/Handle.pm line 457.
print() on closed filehandle GEN3 at /home/src/perl/repoperls/installed-perls/perl/perl-5.10.1/5da8/lib/5.10.1/x86_64-linux/IO/Handle.pm line 457.
print() on closed filehandle GEN2 at /home/src/perl/repoperls/installed-perls/perl/perl-5.10.1/5da8/lib/5.10.1/x86_64-linux/IO/Handle.pm line 457.
print() on closed filehandle GEN3 at /home/src/perl/repoperls/installed-perls/perl/perl-5.10.1/5da8/lib/5.10.1/x86_64-linux/IO/Handle.pm line 457.
print() on closed filehandle GEN2 at /home/src/perl/repoperls/installed-perls/perl/perl-5.10.1/5da8/lib/5.10.1/x86_64-linux/IO/Handle.pm line 457.
print() on closed filehandle GEN3 at /home/src/perl/repoperls/installed-perls/perl/perl-5.10.1/5da8/lib/5.10.1/x86_64-linux/IO/Handle.pm line 457.
print() on closed filehandle GEN2 at /home/src/perl/repoperls/installed-perls/perl/perl-5.10.1/5da8/lib/5.10.1/x86_64-linux/IO/Handle.pm line 457.
print() on closed filehandle GEN3 at /home/src/perl/repoperls/installed-perls/perl/perl-5.10.1/5da8/lib/5.10.1/x86_64-linux/IO/Handle.pm line 457.
print() on closed filehandle GEN2 at /home/src/perl/repoperls/installed-perls/perl/perl-5.10.1/5da8/lib/5.10.1/x86_64-linux/IO/Handle.pm line 457.
print() on closed filehandle GEN3 at /home/src/perl/repoperls/installed-perls/perl/perl-5.10.1/5da8/lib/5.10.1/x86_64-linux/IO/Handle.pm line 457.
print() on closed filehandle GEN2 at /home/src/perl/repoperls/installed-perls/perl/perl-5.10.1/5da8/lib/5.10.1/x86_64-linux/IO/Handle.pm line 457.
print() on closed filehandle GEN3 at /home/src/perl/repoperls/installed-perls/perl/perl-5.10.1/5da8/lib/5.10.1/x86_64-linux/IO/Handle.pm line 457.
print() on closed filehandle GEN2 at /home/src/perl/repoperls/installed-perls/perl/perl-5.10.1/5da8/lib/5.10.1/x86_64-linux/IO/Handle.pm line 457.
print() on closed filehandle GEN3 at /home/src/perl/repoperls/installed-perls/perl/perl-5.10.1/5da8/lib/5.10.1/x86_64-linux/IO/Handle.pm line 457.
print() on closed filehandle GEN2 at /home/src/perl/repoperls/installed-perls/perl/perl-5.10.1/5da8/lib/5.10.1/x86_64-linux/IO/Handle.pm line 457.
print() on closed filehandle GEN3 at /home/src/perl/repoperls/installed-perls/perl/perl-5.10.1/5da8/lib/5.10.1/x86_64-linux/IO/Handle.pm line 457.
print() on closed filehandle GEN2 at /home/src/perl/repoperls/installed-perls/perl/perl-5.10.1/5da8/lib/5.10.1/x86_64-linux/IO/Handle.pm line 457.
print() on closed filehandle GEN3 at /home/src/perl/repoperls/installed-perls/perl/perl-5.10.1/5da8/lib/5.10.1/x86_64-linux/IO/Handle.pm line 457.
print() on closed filehandle GEN2 at /home/src/perl/repoperls/installed-perls/perl/perl-5.10.1/5da8/lib/5.10.1/x86_64-linux/IO/Handle.pm line 457.
print() on closed filehandle GEN3 at /home/src/perl/repoperls/installed-perls/perl/perl-5.10.1/5da8/lib/5.10.1/x86_64-linux/IO/Handle.pm line 457.
print() on closed filehandle GEN2 at /home/src/perl/repoperls/installed-perls/perl/perl-5.10.1/5da8/lib/5.10.1/x86_64-linux/IO/Handle.pm line 457.
print() on closed filehandle GEN3 at /home/src/perl/repoperls/installed-perls/perl/perl-5.10.1/5da8/lib/5.10.1/x86_64-linux/IO/Handle.pm line 457.
print() on closed filehandle GEN2 at /home/src/perl/repoperls/installed-perls/perl/perl-5.10.1/5da8/lib/5.10.1/x86_64-linux/IO/Handle.pm line 457.
print() on closed filehandle GEN3 at /home/src/perl/repoperls/installed-perls/perl/perl-5.10.1/5da8/lib/5.10.1/x86_64-linux/IO/Handle.pm line 457.
print() on closed filehandle GEN2 at /home/src/perl/repoperls/installed-perls/perl/perl-5.10.1/5da8/lib/5.10.1/x86_64-linux/IO/Handle.pm line 457.
print() on closed filehandle GEN3 at /home/src/perl/repoperls/installed-perls/perl/perl-5.10.1/5da8/lib/5.10.1/x86_64-linux/IO/Handle.pm line 457.
print() on closed filehandle GEN2 at /home/src/perl/repoperls/installed-perls/perl/perl-5.10.1/5da8/lib/5.10.1/x86_64-linux/IO/Handle.pm line 457.
print() on closed filehandle GEN3 at /home/src/perl/repoperls/installed-perls/perl/perl-5.10.1/5da8/lib/5.10.1/x86_64-linux/IO/Handle.pm line 457.
print() on closed filehandle GEN2 at /home/src/perl/repoperls/installed-perls/perl/perl-5.10.1/5da8/lib/5.10.1/x86_64-linux/IO/Handle.pm line 457.
print() on closed filehandle GEN3 at /home/src/perl/repoperls/installed-perls/perl/perl-5.10.1/5da8/lib/5.10.1/x86_64-linux/IO/Handle.pm line 457.
print() on closed filehandle GEN2 at /home/src/perl/repoperls/installed-perls/perl/perl-5.10.1/5da8/lib/5.10.1/x86_64-linux/IO/Handle.pm line 457.
print() on closed filehandle GEN3 at /home/src/perl/repoperls/installed-perls/perl/perl-5.10.1/5da8/lib/5.10.1/x86_64-linux/IO/Handle.pm line 457.
print() on closed filehandle GEN2 at /home/src/perl/repoperls/installed-perls/perl/perl-5.10.1/5da8/lib/5.10.1/x86_64-linux/IO/Handle.pm line 457.
print() on closed filehandle GEN3 at /home/src/perl/repoperls/installed-perls/perl/perl-5.10.1/5da8/lib/5.10.1/x86_64-linux/IO/Handle.pm line 457.
print() on closed filehandle GEN2 at /home/src/perl/repoperls/installed-perls/perl/perl-5.10.1/5da8/lib/5.10.1/x86_64-linux/IO/Handle.pm line 457.
print() on closed filehandle GEN3 at /home/src/perl/repoperls/installed-perls/perl/perl-5.10.1/5da8/lib/5.10.1/x86_64-linux/IO/Handle.pm line 457.
print() on closed filehandle GEN2 at /home/src/perl/repoperls/installed-perls/perl/perl-5.10.1/5da8/lib/5.10.1/x86_64-linux/IO/Handle.pm line 457.
print() on closed filehandle GEN3 at /home/src/perl/repoperls/installed-perls/perl/perl-5.10.1/5da8/lib/5.10.1/x86_64-linux/IO/Handle.pm line 457.
print() on closed filehandle GEN2 at /home/src/perl/repoperls/installed-perls/perl/perl-5.10.1/5da8/lib/5.10.1/x86_64-linux/IO/Handle.pm line 457.
print() on closed filehandle GEN3 at /home/src/perl/repoperls/installed-perls/perl/perl-5.10.1/5da8/lib/5.10.1/x86_64-linux/IO/Handle.pm line 457.
print() on closed filehandle GEN2 at /home/src/perl/repoperls/installed-perls/perl/perl-5.10.1/5da8/lib/5.10.1/x86_64-linux/IO/Handle.pm line 457.
print() on closed filehandle GEN3 at /home/src/perl/repoperls/installed-perls/perl/perl-5.10.1/5da8/lib/5.10.1/x86_64-linux/IO/Handle.pm line 457.
print() on closed filehandle GEN2 at /home/src/perl/repoperls/installed-perls/perl/perl-5.10.1/5da8/lib/5.10.1/x86_64-linux/IO/Handle.pm line 457.
print() on closed filehandle GEN3 at /home/src/perl/repoperls/installed-perls/perl/perl-5.10.1/5da8/lib/5.10.1/x86_64-linux/IO/Handle.pm line 457.
print() on closed filehandle GEN2 at /home/src/perl/repoperls/installed-perls/perl/perl-5.10.1/5da8/lib/5.10.1/x86_64-linux/IO/Handle.pm line 457.
print() on closed filehandle GEN3 at /home/src/perl/repoperls/installed-perls/perl/perl-5.10.1/5da8/lib/5.10.1/x86_64-linux/IO/Handle.pm line 457.
print() on closed filehandle GEN2 at /home/src/perl/repoperls/installed-perls/perl/perl-5.10.1/5da8/lib/5.10.1/x86_64-linux/IO/Handle.pm line 457.
print() on closed filehandle GEN3 at /home/src/perl/repoperls/installed-perls/perl/perl-5.10.1/5da8/lib/5.10.1/x86_64-linux/IO/Handle.pm line 457.
print() on closed filehandle GEN2 at /home/src/perl/repoperls/installed-perls/perl/perl-5.10.1/5da8/lib/5.10.1/x86_64-linux/IO/Handle.pm line 457.
print() on closed filehandle GEN3 at /home/src/perl/repoperls/installed-perls/perl/perl-5.10.1/5da8/lib/5.10.1/x86_64-linux/IO/Handle.pm line 457.
print() on closed filehandle GEN2 at /home/src/perl/repoperls/installed-perls/perl/perl-5.10.1/5da8/lib/5.10.1/x86_64-linux/IO/Handle.pm line 457.
print() on closed filehandle GEN3 at /home/src/perl/repoperls/installed-perls/perl/perl-5.10.1/5da8/lib/5.10.1/x86_64-linux/IO/Handle.pm line 457.
print() on closed filehandle GEN2 at /home/src/perl/repoperls/installed-perls/perl/perl-5.10.1/5da8/lib/5.10.1/x86_64-linux/IO/Handle.pm line 457.
print() on closed filehandle GEN3 at /home/src/perl/repoperls/installed-perls/perl/perl-5.10.1/5da8/lib/5.10.1/x86_64-linux/IO/Handle.pm line 457.
print() on closed filehandle GEN2 at /home/src/perl/repoperls/installed-perls/perl/perl-5.10.1/5da8/lib/5.10.1/x86_64-linux/IO/Handle.pm line 457.
print() on closed filehandle GEN3 at /home/src/perl/repoperls/installed-perls/perl/perl-5.10.1/5da8/lib/5.10.1/x86_64-linux/IO/Handle.pm line 457.
print() on closed filehandle GEN2 at /home/src/perl/repoperls/installed-perls/perl/perl-5.10.1/5da8/lib/5.10.1/x86_64-linux/IO/Handle.pm line 457.
print() on closed filehandle GEN3 at /home/src/perl/repoperls/installed-perls/perl/perl-5.10.1/5da8/lib/5.10.1/x86_64-linux/IO/Handle.pm line 457.
print() on closed filehandle GEN2 at /home/src/perl/repoperls/installed-perls/perl/perl-5.10.1/5da8/lib/5.10.1/x86_64-linux/IO/Handle.pm line 457.
print() on closed filehandle GEN3 at /home/src/perl/repoperls/installed-perls/perl/perl-5.10.1/5da8/lib/5.10.1/x86_64-linux/IO/Handle.pm line 457.
print() on closed filehandle GEN2 at /home/src/perl/repoperls/installed-perls/perl/perl-5.10.1/5da8/lib/5.10.1/x86_64-linux/IO/Handle.pm line 457.
print() on closed filehandle GEN3 at /home/src/perl/repoperls/installed-perls/perl/perl-5.10.1/5da8/lib/5.10.1/x86_64-linux/IO/Handle.pm line 457.
print() on closed filehandle GEN2 at /home/src/perl/repoperls/installed-perls/perl/perl-5.10.1/5da8/lib/5.10.1/x86_64-linux/IO/Handle.pm line 457.
print() on closed filehandle GEN3 at /home/src/perl/repoperls/installed-perls/perl/perl-5.10.1/5da8/lib/5.10.1/x86_64-linux/IO/Handle.pm line 457.
print() on closed filehandle GEN2 at /home/src/perl/repoperls/installed-perls/perl/perl-5.10.1/5da8/lib/5.10.1/x86_64-linux/IO/Handle.pm line 457.
print() on closed filehandle GEN3 at /home/src/perl/repoperls/installed-perls/perl/perl-5.10.1/5da8/lib/5.10.1/x86_64-linux/IO/Handle.pm line 457.
print() on closed filehandle GEN2 at /home/src/perl/repoperls/installed-perls/perl/perl-5.10.1/5da8/lib/5.10.1/x86_64-linux/IO/Handle.pm line 457.
print() on closed filehandle GEN3 at /home/src/perl/repoperls/installed-perls/perl/perl-5.10.1/5da8/lib/5.10.1/x86_64-linux/IO/Handle.pm line 457.
print() on closed filehandle GEN2 at /home/src/perl/repoperls/installed-perls/perl/perl-5.10.1/5da8/lib/5.10.1/x86_64-linux/IO/Handle.pm line 457.
print() on closed filehandle GEN3 at /home/src/perl/repoperls/installed-perls/perl/perl-5.10.1/5da8/lib/5.10.1/x86_64-linux/IO/Handle.pm line 457.
print() on closed filehandle GEN2 at /home/src/perl/repoperls/installed-perls/perl/perl-5.10.1/5da8/lib/5.10.1/x86_64-linux/IO/Handle.pm line 457.
print() on closed filehandle GEN3 at /home/src/perl/repoperls/installed-perls/perl/perl-5.10.1/5da8/lib/5.10.1/x86_64-linux/IO/Handle.pm line 457.
print() on closed filehandle GEN2 at /home/src/perl/repoperls/installed-perls/perl/perl-5.10.1/5da8/lib/5.10.1/x86_64-linux/IO/Handle.pm line 457.
print() on closed filehandle GEN3 at /home/src/perl/repoperls/installed-perls/perl/perl-5.10.1/5da8/lib/5.10.1/x86_64-linux/IO/Handle.pm line 457.
t/03-event.t ..... ok
# Running on AnyEvent::Impl::Glib
*** unhandled exception in callback:
*** bad apple at /tmp/loop_over_bdir-11140-p_iZdh/Plack-Test-AnyEvent-0.04-XbJxC_/t/lib/Plack/Test/AnyEvent/Test.pm line 279.
*** ignoring at /home/src/perl/repoperls/installed-perls/perl/perl-5.10.1/5da8/lib/site_perl/5.10.1/x86_64-linux/AnyEvent/Impl/Glib.pm line 137.
*** unhandled exception in callback:
*** bad apple at /tmp/loop_over_bdir-11140-p_iZdh/Plack-Test-AnyEvent-0.04-XbJxC_/t/lib/Plack/Test/AnyEvent/Test.pm line 395.
*** ignoring at /home/src/perl/repoperls/installed-perls/perl/perl-5.10.1/5da8/lib/site_perl/5.10.1/x86_64-linux/AnyEvent/Impl/Glib.pm line 137.
*** unhandled exception in callback:
*** bad apple at /tmp/loop_over_bdir-11140-p_iZdh/Plack-Test-AnyEvent-0.04-XbJxC_/t/lib/Plack/Test/AnyEvent/Test.pm line 214.
*** ignoring at /home/src/perl/repoperls/installed-perls/perl/perl-5.10.1/5da8/lib/site_perl/5.10.1/x86_64-linux/AnyEvent/Impl/Glib.pm line 137.
print() on closed filehandle GEN2 at /home/src/perl/repoperls/installed-perls/perl/perl-5.10.1/5da8/lib/5.10.1/x86_64-linux/IO/Handle.pm line 457.
print() on closed filehandle GEN2 at /home/src/perl/repoperls/installed-perls/perl/perl-5.10.1/5da8/lib/5.10.1/x86_64-linux/IO/Handle.pm line 457.
print() on closed filehandle GEN2 at /home/src/perl/repoperls/installed-perls/perl/perl-5.10.1/5da8/lib/5.10.1/x86_64-linux/IO/Handle.pm line 457.
print() on closed filehandle GEN2 at /home/src/perl/repoperls/installed-perls/perl/perl-5.10.1/5da8/lib/5.10.1/x86_64-linux/IO/Handle.pm line 457.
print() on closed filehandle GEN2 at /home/src/perl/repoperls/installed-perls/perl/perl-5.10.1/5da8/lib/5.10.1/x86_64-linux/IO/Handle.pm line 457.
print() on closed filehandle GEN2 at /home/src/perl/repoperls/installed-perls/perl/perl-5.10.1/5da8/lib/5.10.1/x86_64-linux/IO/Handle.pm line 457.
print() on closed filehandle GEN3 at /home/src/perl/repoperls/installed-perls/perl/perl-5.10.1/5da8/lib/5.10.1/x86_64-linux/IO/Handle.pm line 457.
print() on closed filehandle GEN2 at /home/src/perl/repoperls/installed-perls/perl/perl-5.10.1/5da8/lib/5.10.1/x86_64-linux/IO/Handle.pm line 457.
print() on closed filehandle GEN3 at /home/src/perl/repoperls/installed-perls/perl/perl-5.10.1/5da8/lib/5.10.1/x86_64-linux/IO/Handle.pm line 457.
print() on closed filehandle GEN2 at /home/src/perl/repoperls/installed-perls/perl/perl-5.10.1/5da8/lib/5.10.1/x86_64-linux/IO/Handle.pm line 457.
print() on closed filehandle GEN3 at /home/src/perl/repoperls/installed-perls/perl/perl-5.10.1/5da8/lib/5.10.1/x86_64-linux/IO/Handle.pm line 457.
print() on closed filehandle GEN2 at /home/src/perl/repoperls/installed-perls/perl/perl-5.10.1/5da8/lib/5.10.1/x86_64-linux/IO/Handle.pm line 457.
print() on closed filehandle GEN3 at /home/src/perl/repoperls/installed-perls/perl/perl-5.10.1/5da8/lib/5.10.1/x86_64-linux/IO/Handle.pm line 457.
print() on closed filehandle GEN2 at /home/src/perl/repoperls/installed-perls/perl/perl-5.10.1/5da8/lib/5.10.1/x86_64-linux/IO/Handle.pm line 457.
print() on closed filehandle GEN3 at /home/src/perl/repoperls/installed-perls/perl/perl-5.10.1/5da8/lib/5.10.1/x86_64-linux/IO/Handle.pm line 457.
print() on closed filehandle GEN2 at /home/src/perl/repoperls/installed-perls/perl/perl-5.10.1/5da8/lib/5.10.1/x86_64-linux/IO/Handle.pm line 457.
print() on closed filehandle GEN3 at /home/src/perl/repoperls/installed-perls/perl/perl-5.10.1/5da8/lib/5.10.1/x86_64-linux/IO/Handle.pm line 457.
print() on closed filehandle GEN2 at /home/src/perl/repoperls/installed-perls/perl/perl-5.10.1/5da8/lib/5.10.1/x86_64-linux/IO/Handle.pm line 457.
print() on closed filehandle GEN3 at /home/src/perl/repoperls/installed-perls/perl/perl-5.10.1/5da8/lib/5.10.1/x86_64-linux/IO/Handle.pm line 457.
print() on closed filehandle GEN2 at /home/src/perl/repoperls/installed-perls/perl/perl-5.10.1/5da8/lib/5.10.1/x86_64-linux/IO/Handle.pm line 457.
print() on closed filehandle GEN3 at /home/src/perl/repoperls/installed-perls/perl/perl-5.10.1/5da8/lib/5.10.1/x86_64-linux/IO/Handle.pm line 457.
print() on closed filehandle GEN2 at /home/src/perl/repoperls/installed-perls/perl/perl-5.10.1/5da8/lib/5.10.1/x86_64-linux/IO/Handle.pm line 457.
print() on closed filehandle GEN3 at /home/src/perl/repoperls/installed-perls/perl/perl-5.10.1/5da8/lib/5.10.1/x86_64-linux/IO/Handle.pm line 457.
print() on closed filehandle GEN2 at /home/src/perl/repoperls/installed-perls/perl/perl-5.10.1/5da8/lib/5.10.1/x86_64-linux/IO/Handle.pm line 457.
print() on closed filehandle GEN3 at /home/src/perl/repoperls/installed-perls/perl/perl-5.10.1/5da8/lib/5.10.1/x86_64-linux/IO/Handle.pm line 457.
print() on closed filehandle GEN2 at /home/src/perl/repoperls/installed-perls/perl/perl-5.10.1/5da8/lib/5.10.1/x86_64-linux/IO/Handle.pm line 457.
print() on closed filehandle GEN3 at /home/src/perl/repoperls/installed-perls/perl/perl-5.10.1/5da8/lib/5.10.1/x86_64-linux/IO/Handle.pm line 457.
print() on closed filehandle GEN2 at /home/src/perl/repoperls/installed-perls/perl/perl-5.10.1/5da8/lib/5.10.1/x86_64-linux/IO/Handle.pm line 457.
print() on closed filehandle GEN3 at /home/src/perl/repoperls/installed-perls/perl/perl-5.10.1/5da8/lib/5.10.1/x86_64-linux/IO/Handle.pm line 457.
print() on closed filehandle GEN2 at /home/src/perl/repoperls/installed-perls/perl/perl-5.10.1/5da8/lib/5.10.1/x86_64-linux/IO/Handle.pm line 457.
print() on closed filehandle GEN3 at /home/src/perl/repoperls/installed-perls/perl/perl-5.10.1/5da8/lib/5.10.1/x86_64-linux/IO/Handle.pm line 457.
print() on closed filehandle GEN2 at /home/src/perl/repoperls/installed-perls/perl/perl-5.10.1/5da8/lib/5.10.1/x86_64-linux/IO/Handle.pm line 457.
print() on closed filehandle GEN3 at /home/src/perl/repoperls/installed-perls/perl/perl-5.10.1/5da8/lib/5.10.1/x86_64-linux/IO/Handle.pm line 457.
print() on closed filehandle GEN2 at /home/src/perl/repoperls/installed-perls/perl/perl-5.10.1/5da8/lib/5.10.1/x86_64-linux/IO/Handle.pm line 457.
print() on closed filehandle GEN3 at /home/src/perl/repoperls/installed-perls/perl/perl-5.10.1/5da8/lib/5.10.1/x86_64-linux/IO/Handle.pm line 457.
print() on closed filehandle GEN2 at /home/src/perl/repoperls/installed-perls/perl/perl-5.10.1/5da8/lib/5.10.1/x86_64-linux/IO/Handle.pm line 457.
print() on closed filehandle GEN3 at /home/src/perl/repoperls/installed-perls/perl/perl-5.10.1/5da8/lib/5.10.1/x86_64-linux/IO/Handle.pm line 457.
print() on closed filehandle GEN2 at /home/src/perl/repoperls/installed-perls/perl/perl-5.10.1/5da8/lib/5.10.1/x86_64-linux/IO/Handle.pm line 457.
print() on closed filehandle GEN3 at /home/src/perl/repoperls/installed-perls/perl/perl-5.10.1/5da8/lib/5.10.1/x86_64-linux/IO/Handle.pm line 457.
print() on closed filehandle GEN2 at /home/src/perl/repoperls/installed-perls/perl/perl-5.10.1/5da8/lib/5.10.1/x86_64-linux/IO/Handle.pm line 457.
print() on closed filehandle GEN3 at /home/src/perl/repoperls/installed-perls/perl/perl-5.10.1/5da8/lib/5.10.1/x86_64-linux/IO/Handle.pm line 457.
print() on closed filehandle GEN2 at /home/src/perl/repoperls/installed-perls/perl/perl-5.10.1/5da8/lib/5.10.1/x86_64-linux/IO/Handle.pm line 457.
print() on closed filehandle GEN3 at /home/src/perl/repoperls/installed-perls/perl/perl-5.10.1/5da8/lib/5.10.1/x86_64-linux/IO/Handle.pm line 457.
print() on closed filehandle GEN2 at /home/src/perl/repoperls/installed-perls/perl/perl-5.10.1/5da8/lib/5.10.1/x86_64-linux/IO/Handle.pm line 457.
print() on closed filehandle GEN3 at /home/src/perl/repoperls/installed-perls/perl/perl-5.10.1/5da8/lib/5.10.1/x86_64-linux/IO/Handle.pm line 457.
print() on closed filehandle GEN2 at /home/src/perl/repoperls/installed-perls/perl/perl-5.10.1/5da8/lib/5.10.1/x86_64-linux/IO/Handle.pm line 457.
print() on closed filehandle GEN3 at /home/src/perl/repoperls/installed-perls/perl/perl-5.10.1/5da8/lib/5.10.1/x86_64-linux/IO/Handle.pm line 457.
print() on closed filehandle GEN2 at /home/src/perl/repoperls/installed-perls/perl/perl-5.10.1/5da8/lib/5.10.1/x86_64-linux/IO/Handle.pm line 457.
print() on closed filehandle GEN3 at /home/src/perl/repoperls/installed-perls/perl/perl-5.10.1/5da8/lib/5.10.1/x86_64-linux/IO/Handle.pm line 457.
print() on closed filehandle GEN2 at /home/src/perl/repoperls/installed-perls/perl/perl-5.10.1/5da8/lib/5.10.1/x86_64-linux/IO/Handle.pm line 457.
print() on closed filehandle GEN3 at /home/src/perl/repoperls/installed-perls/perl/perl-5.10.1/5da8/lib/5.10.1/x86_64-linux/IO/Handle.pm line 457.
print() on closed filehandle GEN2 at /home/src/perl/repoperls/installed-perls/perl/perl-5.10.1/5da8/lib/5.10.1/x86_64-linux/IO/Handle.pm line 457.
print() on closed filehandle GEN3 at /home/src/perl/repoperls/installed-perls/perl/perl-5.10.1/5da8/lib/5.10.1/x86_64-linux/IO/Handle.pm line 457.
print() on closed filehandle GEN2 at /home/src/perl/repoperls/installed-perls/perl/perl-5.10.1/5da8/lib/5.10.1/x86_64-linux/IO/Handle.pm line 457.
print() on closed filehandle GEN3 at /home/src/perl/repoperls/installed-perls/perl/perl-5.10.1/5da8/lib/5.10.1/x86_64-linux/IO/Handle.pm line 457.
print() on closed filehandle GEN2 at /home/src/perl/repoperls/installed-perls/perl/perl-5.10.1/5da8/lib/5.10.1/x86_64-linux/IO/Handle.pm line 457.
print() on closed filehandle GEN3 at /home/src/perl/repoperls/installed-perls/perl/perl-5.10.1/5da8/lib/5.10.1/x86_64-linux/IO/Handle.pm line 457.
print() on closed filehandle GEN2 at /home/src/perl/repoperls/installed-perls/perl/perl-5.10.1/5da8/lib/5.10.1/x86_64-linux/IO/Handle.pm line 457.
print() on closed filehandle GEN3 at /home/src/perl/repoperls/installed-perls/perl/perl-5.10.1/5da8/lib/5.10.1/x86_64-linux/IO/Handle.pm line 457.
print() on closed filehandle GEN2 at /home/src/perl/repoperls/installed-perls/perl/perl-5.10.1/5da8/lib/5.10.1/x86_64-linux/IO/Handle.pm line 457.
print() on closed filehandle GEN3 at /home/src/perl/repoperls/installed-perls/perl/perl-5.10.1/5da8/lib/5.10.1/x86_64-linux/IO/Handle.pm line 457.
print() on closed filehandle GEN2 at /home/src/perl/repoperls/installed-perls/perl/perl-5.10.1/5da8/lib/5.10.1/x86_64-linux/IO/Handle.pm line 457.
print() on closed filehandle GEN3 at /home/src/perl/repoperls/installed-perls/perl/perl-5.10.1/5da8/lib/5.10.1/x86_64-linux/IO/Handle.pm line 457.
print() on closed filehandle GEN2 at /home/src/perl/repoperls/installed-perls/perl/perl-5.10.1/5da8/lib/5.10.1/x86_64-linux/IO/Handle.pm line 457.
print() on closed filehandle GEN3 at /home/src/perl/repoperls/installed-perls/perl/perl-5.10.1/5da8/lib/5.10.1/x86_64-linux/IO/Handle.pm line 457.
print() on closed filehandle GEN2 at /home/src/perl/repoperls/installed-perls/perl/perl-5.10.1/5da8/lib/5.10.1/x86_64-linux/IO/Handle.pm line 457.
print() on closed filehandle GEN3 at /home/src/perl/repoperls/installed-perls/perl/perl-5.10.1/5da8/lib/5.10.1/x86_64-linux/IO/Handle.pm line 457.
print() on closed filehandle GEN2 at /home/src/perl/repoperls/installed-perls/perl/perl-5.10.1/5da8/lib/5.10.1/x86_64-linux/IO/Handle.pm line 457.
print() on closed filehandle GEN3 at /home/src/perl/repoperls/installed-perls/perl/perl-5.10.1/5da8/lib/5.10.1/x86_64-linux/IO/Handle.pm line 457.
print() on closed filehandle GEN2 at /home/src/perl/repoperls/installed-perls/perl/perl-5.10.1/5da8/lib/5.10.1/x86_64-linux/IO/Handle.pm line 457.
print() on closed filehandle GEN3 at /home/src/perl/repoperls/installed-perls/perl/perl-5.10.1/5da8/lib/5.10.1/x86_64-linux/IO/Handle.pm line 457.
print() on closed filehandle GEN2 at /home/src/perl/repoperls/installed-perls/perl/perl-5.10.1/5da8/lib/5.10.1/x86_64-linux/IO/Handle.pm line 457.
print() on closed filehandle GEN3 at /home/src/perl/repoperls/installed-perls/perl/perl-5.10.1/5da8/lib/5.10.1/x86_64-linux/IO/Handle.pm line 457.
print() on closed filehandle GEN2 at /home/src/perl/repoperls/installed-perls/perl/perl-5.10.1/5da8/lib/5.10.1/x86_64-linux/IO/Handle.pm line 457.
print() on closed filehandle GEN3 at /home/src/perl/repoperls/installed-perls/perl/perl-5.10.1/5da8/lib/5.10.1/x86_64-linux/IO/Handle.pm line 457.
print() on closed filehandle GEN2 at /home/src/perl/repoperls/installed-perls/perl/perl-5.10.1/5da8/lib/5.10.1/x86_64-linux/IO/Handle.pm line 457.
print() on closed filehandle GEN3 at /home/src/perl/repoperls/installed-perls/perl/perl-5.10.1/5da8/lib/5.10.1/x86_64-linux/IO/Handle.pm line 457.
print() on closed filehandle GEN2 at /home/src/perl/repoperls/installed-perls/perl/perl-5.10.1/5da8/lib/5.10.1/x86_64-linux/IO/Handle.pm line 457.
print() on closed filehandle GEN3 at /home/src/perl/repoperls/installed-perls/perl/perl-5.10.1/5da8/lib/5.10.1/x86_64-linux/IO/Handle.pm line 457.
print() on closed filehandle GEN2 at /home/src/perl/repoperls/installed-perls/perl/perl-5.10.1/5da8/lib/5.10.1/x86_64-linux/IO/Handle.pm line 457.
print() on closed filehandle GEN3 at /home/src/perl/repoperls/installed-perls/perl/perl-5.10.1/5da8/lib/5.10.1/x86_64-linux/IO/Handle.pm line 457.
print() on closed filehandle GEN2 at /home/src/perl/repoperls/installed-perls/perl/perl-5.10.1/5da8/lib/5.10.1/x86_64-linux/IO/Handle.pm line 457.
print() on closed filehandle GEN3 at /home/src/perl/repoperls/installed-perls/perl/perl-5.10.1/5da8/lib/5.10.1/x86_64-linux/IO/Handle.pm line 457.
t/03-glib.t ...... ok
# Running on AnyEvent::Impl::Perl
print() on closed filehandle GEN2 at /home/src/perl/repoperls/installed-perls/perl/perl-5.10.1/5da8/lib/5.10.1/x86_64-linux/IO/Handle.pm line 457.
print() on closed filehandle GEN2 at /home/src/perl/repoperls/installed-perls/perl/perl-5.10.1/5da8/lib/5.10.1/x86_64-linux/IO/Handle.pm line 457.
print() on closed filehandle GEN2 at /home/src/perl/repoperls/installed-perls/perl/perl-5.10.1/5da8/lib/5.10.1/x86_64-linux/IO/Handle.pm line 457.
print() on closed filehandle GEN2 at /home/src/perl/repoperls/installed-perls/perl/perl-5.10.1/5da8/lib/5.10.1/x86_64-linux/IO/Handle.pm line 457.
print() on closed filehandle GEN2 at /home/src/perl/repoperls/installed-perls/perl/perl-5.10.1/5da8/lib/5.10.1/x86_64-linux/IO/Handle.pm line 457.
print() on closed filehandle GEN2 at /home/src/perl/repoperls/installed-perls/perl/perl-5.10.1/5da8/lib/5.10.1/x86_64-linux/IO/Handle.pm line 457.
print() on closed filehandle GEN3 at /home/src/perl/repoperls/installed-perls/perl/perl-5.10.1/5da8/lib/5.10.1/x86_64-linux/IO/Handle.pm line 457.
print() on closed filehandle GEN2 at /home/src/perl/repoperls/installed-perls/perl/perl-5.10.1/5da8/lib/5.10.1/x86_64-linux/IO/Handle.pm line 457.
print() on closed filehandle GEN3 at /home/src/perl/repoperls/installed-perls/perl/perl-5.10.1/5da8/lib/5.10.1/x86_64-linux/IO/Handle.pm line 457.
print() on closed filehandle GEN2 at /home/src/perl/repoperls/installed-perls/perl/perl-5.10.1/5da8/lib/5.10.1/x86_64-linux/IO/Handle.pm line 457.
print() on closed filehandle GEN3 at /home/src/perl/repoperls/installed-perls/perl/perl-5.10.1/5da8/lib/5.10.1/x86_64-linux/IO/Handle.pm line 457.
print() on closed filehandle GEN2 at /home/src/perl/repoperls/installed-perls/perl/perl-5.10.1/5da8/lib/5.10.1/x86_64-linux/IO/Handle.pm line 457.
print() on closed filehandle GEN3 at /home/src/perl/repoperls/installed-perls/perl/perl-5.10.1/5da8/lib/5.10.1/x86_64-linux/IO/Handle.pm line 457.
print() on closed filehandle GEN2 at /home/src/perl/repoperls/installed-perls/perl/perl-5.10.1/5da8/lib/5.10.1/x86_64-linux/IO/Handle.pm line 457.
print() on closed filehandle GEN3 at /home/src/perl/repoperls/installed-perls/perl/perl-5.10.1/5da8/lib/5.10.1/x86_64-linux/IO/Handle.pm line 457.
print() on closed filehandle GEN2 at /home/src/perl/repoperls/installed-perls/perl/perl-5.10.1/5da8/lib/5.10.1/x86_64-linux/IO/Handle.pm line 457.
print() on closed filehandle GEN3 at /home/src/perl/repoperls/installed-perls/perl/perl-5.10.1/5da8/lib/5.10.1/x86_64-linux/IO/Handle.pm line 457.
print() on closed filehandle GEN2 at /home/src/perl/repoperls/installed-perls/perl/perl-5.10.1/5da8/lib/5.10.1/x86_64-linux/IO/Handle.pm line 457.
print() on closed filehandle GEN3 at /home/src/perl/repoperls/installed-perls/perl/perl-5.10.1/5da8/lib/5.10.1/x86_64-linux/IO/Handle.pm line 457.
print() on closed filehandle GEN2 at /home/src/perl/repoperls/installed-perls/perl/perl-5.10.1/5da8/lib/5.10.1/x86_64-linux/IO/Handle.pm line 457.
print() on closed filehandle GEN3 at /home/src/perl/repoperls/installed-perls/perl/perl-5.10.1/5da8/lib/5.10.1/x86_64-linux/IO/Handle.pm line 457.
print() on closed filehandle GEN2 at /home/src/perl/repoperls/installed-perls/perl/perl-5.10.1/5da8/lib/5.10.1/x86_64-linux/IO/Handle.pm line 457.
print() on closed filehandle GEN3 at /home/src/perl/repoperls/installed-perls/perl/perl-5.10.1/5da8/lib/5.10.1/x86_64-linux/IO/Handle.pm line 457.
print() on closed filehandle GEN2 at /home/src/perl/repoperls/installed-perls/perl/perl-5.10.1/5da8/lib/5.10.1/x86_64-linux/IO/Handle.pm line 457.
print() on closed filehandle GEN3 at /home/src/perl/repoperls/installed-perls/perl/perl-5.10.1/5da8/lib/5.10.1/x86_64-linux/IO/Handle.pm line 457.
print() on closed filehandle GEN2 at /home/src/perl/repoperls/installed-perls/perl/perl-5.10.1/5da8/lib/5.10.1/x86_64-linux/IO/Handle.pm line 457.
print() on closed filehandle GEN3 at /home/src/perl/repoperls/installed-perls/perl/perl-5.10.1/5da8/lib/5.10.1/x86_64-linux/IO/Handle.pm line 457.
print() on closed filehandle GEN2 at /home/src/perl/repoperls/installed-perls/perl/perl-5.10.1/5da8/lib/5.10.1/x86_64-linux/IO/Handle.pm line 457.
print() on closed filehandle GEN3 at /home/src/perl/repoperls/installed-perls/perl/perl-5.10.1/5da8/lib/5.10.1/x86_64-linux/IO/Handle.pm line 457.
print() on closed filehandle GEN2 at /home/src/perl/repoperls/installed-perls/perl/perl-5.10.1/5da8/lib/5.10.1/x86_64-linux/IO/Handle.pm line 457.
print() on closed filehandle GEN3 at /home/src/perl/repoperls/installed-perls/perl/perl-5.10.1/5da8/lib/5.10.1/x86_64-linux/IO/Handle.pm line 457.
print() on closed filehandle GEN2 at /home/src/perl/repoperls/installed-perls/perl/perl-5.10.1/5da8/lib/5.10.1/x86_64-linux/IO/Handle.pm line 457.
print() on closed filehandle GEN3 at /home/src/perl/repoperls/installed-perls/perl/perl-5.10.1/5da8/lib/5.10.1/x86_64-linux/IO/Handle.pm line 457.
print() on closed filehandle GEN2 at /home/src/perl/repoperls/installed-perls/perl/perl-5.10.1/5da8/lib/5.10.1/x86_64-linux/IO/Handle.pm line 457.
print() on closed filehandle GEN3 at /home/src/perl/repoperls/installed-perls/perl/perl-5.10.1/5da8/lib/5.10.1/x86_64-linux/IO/Handle.pm line 457.
print() on closed filehandle GEN2 at /home/src/perl/repoperls/installed-perls/perl/perl-5.10.1/5da8/lib/5.10.1/x86_64-linux/IO/Handle.pm line 457.
print() on closed filehandle GEN3 at /home/src/perl/repoperls/installed-perls/perl/perl-5.10.1/5da8/lib/5.10.1/x86_64-linux/IO/Handle.pm line 457.
print() on closed filehandle GEN2 at /home/src/perl/repoperls/installed-perls/perl/perl-5.10.1/5da8/lib/5.10.1/x86_64-linux/IO/Handle.pm line 457.
print() on closed filehandle GEN3 at /home/src/perl/repoperls/installed-perls/perl/perl-5.10.1/5da8/lib/5.10.1/x86_64-linux/IO/Handle.pm line 457.
print() on closed filehandle GEN2 at /home/src/perl/repoperls/installed-perls/perl/perl-5.10.1/5da8/lib/5.10.1/x86_64-linux/IO/Handle.pm line 457.
print() on closed filehandle GEN3 at /home/src/perl/repoperls/installed-perls/perl/perl-5.10.1/5da8/lib/5.10.1/x86_64-linux/IO/Handle.pm line 457.
print() on closed filehandle GEN2 at /home/src/perl/repoperls/installed-perls/perl/perl-5.10.1/5da8/lib/5.10.1/x86_64-linux/IO/Handle.pm line 457.
print() on closed filehandle GEN3 at /home/src/perl/repoperls/installed-perls/perl/perl-5.10.1/5da8/lib/5.10.1/x86_64-linux/IO/Handle.pm line 457.
print() on closed filehandle GEN2 at /home/src/perl/repoperls/installed-perls/perl/perl-5.10.1/5da8/lib/5.10.1/x86_64-linux/IO/Handle.pm line 457.
print() on closed filehandle GEN3 at /home/src/perl/repoperls/installed-perls/perl/perl-5.10.1/5da8/lib/5.10.1/x86_64-linux/IO/Handle.pm line 457.
print() on closed filehandle GEN2 at /home/src/perl/repoperls/installed-perls/perl/perl-5.10.1/5da8/lib/5.10.1/x86_64-linux/IO/Handle.pm line 457.
print() on closed filehandle GEN3 at /home/src/perl/repoperls/installed-perls/perl/perl-5.10.1/5da8/lib/5.10.1/x86_64-linux/IO/Handle.pm line 457.
print() on closed filehandle GEN2 at /home/src/perl/repoperls/installed-perls/perl/perl-5.10.1/5da8/lib/5.10.1/x86_64-linux/IO/Handle.pm line 457.
print() on closed filehandle GEN3 at /home/src/perl/repoperls/installed-perls/perl/perl-5.10.1/5da8/lib/5.10.1/x86_64-linux/IO/Handle.pm line 457.
print() on closed filehandle GEN2 at /home/src/perl/repoperls/installed-perls/perl/perl-5.10.1/5da8/lib/5.10.1/x86_64-linux/IO/Handle.pm line 457.
print() on closed filehandle GEN3 at /home/src/perl/repoperls/installed-perls/perl/perl-5.10.1/5da8/lib/5.10.1/x86_64-linux/IO/Handle.pm line 457.
print() on closed filehandle GEN2 at /home/src/perl/repoperls/installed-perls/perl/perl-5.10.1/5da8/lib/5.10.1/x86_64-linux/IO/Handle.pm line 457.
print() on closed filehandle GEN3 at /home/src/perl/repoperls/installed-perls/perl/perl-5.10.1/5da8/lib/5.10.1/x86_64-linux/IO/Handle.pm line 457.
print() on closed filehandle GEN2 at /home/src/perl/repoperls/installed-perls/perl/perl-5.10.1/5da8/lib/5.10.1/x86_64-linux/IO/Handle.pm line 457.
print() on closed filehandle GEN3 at /home/src/perl/repoperls/installed-perls/perl/perl-5.10.1/5da8/lib/5.10.1/x86_64-linux/IO/Handle.pm line 457.
print() on closed filehandle GEN2 at /home/src/perl/repoperls/installed-perls/perl/perl-5.10.1/5da8/lib/5.10.1/x86_64-linux/IO/Handle.pm line 457.
print() on closed filehandle GEN3 at /home/src/perl/repoperls/installed-perls/perl/perl-5.10.1/5da8/lib/5.10.1/x86_64-linux/IO/Handle.pm line 457.
print() on closed filehandle GEN2 at /home/src/perl/repoperls/installed-perls/perl/perl-5.10.1/5da8/lib/5.10.1/x86_64-linux/IO/Handle.pm line 457.
print() on closed filehandle GEN3 at /home/src/perl/repoperls/installed-perls/perl/perl-5.10.1/5da8/lib/5.10.1/x86_64-linux/IO/Handle.pm line 457.
print() on closed filehandle GEN2 at /home/src/perl/repoperls/installed-perls/perl/perl-5.10.1/5da8/lib/5.10.1/x86_64-linux/IO/Handle.pm line 457.
print() on closed filehandle GEN3 at /home/src/perl/repoperls/installed-perls/perl/perl-5.10.1/5da8/lib/5.10.1/x86_64-linux/IO/Handle.pm line 457.
print() on closed filehandle GEN2 at /home/src/perl/repoperls/installed-perls/perl/perl-5.10.1/5da8/lib/5.10.1/x86_64-linux/IO/Handle.pm line 457.
print() on closed filehandle GEN3 at /home/src/perl/repoperls/installed-perls/perl/perl-5.10.1/5da8/lib/5.10.1/x86_64-linux/IO/Handle.pm line 457.
print() on closed filehandle GEN2 at /home/src/perl/repoperls/installed-perls/perl/perl-5.10.1/5da8/lib/5.10.1/x86_64-linux/IO/Handle.pm line 457.
print() on closed filehandle GEN3 at /home/src/perl/repoperls/installed-perls/perl/perl-5.10.1/5da8/lib/5.10.1/x86_64-linux/IO/Handle.pm line 457.
print() on closed filehandle GEN2 at /home/src/perl/repoperls/installed-perls/perl/perl-5.10.1/5da8/lib/5.10.1/x86_64-linux/IO/Handle.pm line 457.
print() on closed filehandle GEN3 at /home/src/perl/repoperls/installed-perls/perl/perl-5.10.1/5da8/lib/5.10.1/x86_64-linux/IO/Handle.pm line 457.
print() on closed filehandle GEN2 at /home/src/perl/repoperls/installed-perls/perl/perl-5.10.1/5da8/lib/5.10.1/x86_64-linux/IO/Handle.pm line 457.
print() on closed filehandle GEN3 at /home/src/perl/repoperls/installed-perls/perl/perl-5.10.1/5da8/lib/5.10.1/x86_64-linux/IO/Handle.pm line 457.
print() on closed filehandle GEN2 at /home/src/perl/repoperls/installed-perls/perl/perl-5.10.1/5da8/lib/5.10.1/x86_64-linux/IO/Handle.pm line 457.
print() on closed filehandle GEN3 at /home/src/perl/repoperls/installed-perls/perl/perl-5.10.1/5da8/lib/5.10.1/x86_64-linux/IO/Handle.pm line 457.
print() on closed filehandle GEN2 at /home/src/perl/repoperls/installed-perls/perl/perl-5.10.1/5da8/lib/5.10.1/x86_64-linux/IO/Handle.pm line 457.
print() on closed filehandle GEN3 at /home/src/perl/repoperls/installed-perls/perl/perl-5.10.1/5da8/lib/5.10.1/x86_64-linux/IO/Handle.pm line 457.
print() on closed filehandle GEN2 at /home/src/perl/repoperls/installed-perls/perl/perl-5.10.1/5da8/lib/5.10.1/x86_64-linux/IO/Handle.pm line 457.
print() on closed filehandle GEN3 at /home/src/perl/repoperls/installed-perls/perl/perl-5.10.1/5da8/lib/5.10.1/x86_64-linux/IO/Handle.pm line 457.
print() on closed filehandle GEN2 at /home/src/perl/repoperls/installed-perls/perl/perl-5.10.1/5da8/lib/5.10.1/x86_64-linux/IO/Handle.pm line 457.
print() on closed filehandle GEN3 at /home/src/perl/repoperls/installed-perls/perl/perl-5.10.1/5da8/lib/5.10.1/x86_64-linux/IO/Handle.pm line 457.
print() on closed filehandle GEN2 at /home/src/perl/repoperls/installed-perls/perl/perl-5.10.1/5da8/lib/5.10.1/x86_64-linux/IO/Handle.pm line 457.
print() on closed filehandle GEN3 at /home/src/perl/repoperls/installed-perls/perl/perl-5.10.1/5da8/lib/5.10.1/x86_64-linux/IO/Handle.pm line 457.
print() on closed filehandle GEN2 at /home/src/perl/repoperls/installed-perls/perl/perl-5.10.1/5da8/lib/5.10.1/x86_64-linux/IO/Handle.pm line 457.
print() on closed filehandle GEN3 at /home/src/perl/repoperls/installed-perls/perl/perl-5.10.1/5da8/lib/5.10.1/x86_64-linux/IO/Handle.pm line 457.
print() on closed filehandle GEN2 at /home/src/perl/repoperls/installed-perls/perl/perl-5.10.1/5da8/lib/5.10.1/x86_64-linux/IO/Handle.pm line 457.
print() on closed filehandle GEN3 at /home/src/perl/repoperls/installed-perls/perl/perl-5.10.1/5da8/lib/5.10.1/x86_64-linux/IO/Handle.pm line 457.
print() on closed filehandle GEN2 at /home/src/perl/repoperls/installed-perls/perl/perl-5.10.1/5da8/lib/5.10.1/x86_64-linux/IO/Handle.pm line 457.
print() on closed filehandle GEN3 at /home/src/perl/repoperls/installed-perls/perl/perl-5.10.1/5da8/lib/5.10.1/x86_64-linux/IO/Handle.pm line 457.
t/03-perl.t ...... ok
All tests successful.
Files=8, Tests=213, 66 wallclock secs ( 0.08 usr 0.02 sys + 0.90 cusr 0.22 csys = 1.22 CPU)
Result: PASS
------------------------------
PREREQUISITES
------------------------------
Prerequisite modules loaded:
requires:
Module Need Have
--------------------- ------ --------
AnyEvent 0 7.04
autodie 0 2.18
perl v5.8.8 5.010001
Plack 0 1.0024
build_requires:
Module Need Have
--------------------- ------ --------
HTTP::Request::Common 0 6.04
Module::Build 0.3601 0.4005
parent 0 0.225
Test::Class 0 0.39
Test::More 0 0.98
configure_requires:
Module Need Have
--------------------- ------ --------
Module::Build 0.3601 0.4005
------------------------------
ENVIRONMENT AND OTHER CONTEXT
------------------------------
Environment variables:
AUTOMATED_TESTING = 1
LANG = en_US.UTF-8
LANGUAGE = en_US:en
PATH = /usr/lib/ccache:/home/sand/bin:/usr/local/bin:/usr/bin:/bin:/usr/bin/X11:/usr/games:/usr/local/perl/bin:/usr/X11/bin:/sbin:/usr/sbin
PERL5LIB =
PERL5OPT =
PERL5_CPANPLUS_IS_RUNNING = 11141
PERL5_CPAN_IS_RUNNING = 11141
PERL_MM_USE_DEFAULT = 1
SHELL = /usr/bin/zsh
TERM = screen
Perl special variables (and OS-specific diagnostics, for MSWin32):
$^X = /home/sand/src/perl/repoperls/installed-perls/perl/perl-5.10.1/5da8/bin/perl
$UID/$EUID = 1005 / 1005
$GID = 1005 1005
$EGID = 1005 1005
Perl module toolchain versions installed:
Module Have
------------------- --------
CPAN 2.00
CPAN::Meta 2.130880
Cwd 3.40
ExtUtils::CBuilder 0.280205
ExtUtils::Command 1.16
ExtUtils::Install 1.54
ExtUtils::MakeMaker 6.64
ExtUtils::Manifest 1.60
ExtUtils::ParseXS 3.18
File::Spec 3.40
JSON 2.58
JSON::PP 2.27200
Module::Build 0.4005
Module::Signature 0.70
Parse::CPAN::Meta 1.4404
Test::Harness 3.28
Test::More 0.98
YAML 0.84
YAML::Syck 1.27
version 0.9902
--
Summary of my perl5 (revision 5 version 10 subversion 1) configuration:
Commit id: 5348debf9fd57fc15c26529386769684fab96e57
Platform:
osname=linux, osvers=3.2.0-4-amd64, archname=x86_64-linux
uname='linux k83 3.2.0-4-amd64 #1 smp debian 3.2.41-2 x86_64 gnulinux '
config_args='-Dprefix=/home/src/perl/repoperls/installed-perls/perl/perl-5.10.1/5da8 -Dmyhostname=k83 -Dinstallusrbinperl=n -Uversiononly -Dusedevel -des -Ui_db -Uuseithreads -Uuselongdouble -DDEBUGGING=-g -Dusedl -Ddlsrc=dl_dlopen.xs -Dlibs=-lnsl -ldb -ldl -lm -lcrypt -lutil -lc -Dlibpth=/usr/lib/x86_64-linux-gnu /usr/local/lib /lib /usr/lib'
hint=recommended, useposix=true, d_sigaction=define
useithreads=undef, usemultiplicity=undef
useperlio=define, d_sfio=undef, uselargefiles=define, usesocks=undef
use64bitint=define, use64bitall=define, uselongdouble=undef
usemymalloc=n, bincompat5005=undef
Compiler:
cc='cc', ccflags ='-fno-strict-aliasing -pipe -fstack-protector -I/usr/local/include -D_LARGEFILE_SOURCE -D_FILE_OFFSET_BITS=64',
optimize='-O2 -g',
cppflags='-fno-strict-aliasing -pipe -fstack-protector -I/usr/local/include'
ccversion='', gccversion='4.7.2', gccosandvers=''
intsize=4, longsize=8, ptrsize=8, doublesize=8, byteorder=12345678
d_longlong=define, longlongsize=8, d_longdbl=define, longdblsize=16
ivtype='long', ivsize=8, nvtype='double', nvsize=8, Off_t='off_t', lseeksize=8
alignbytes=8, prototype=define
Linker and Libraries:
ld='cc', ldflags =' -fstack-protector -L/usr/local/lib'
libpth=/usr/lib/x86_64-linux-gnu /usr/local/lib /lib /usr/lib
libs=-lnsl -ldb -ldl -lm -lcrypt -lutil -lc
perllibs=-lnsl -ldl -lm -lcrypt -lutil -lc
libc=, so=so, useshrplib=false, libperl=libperl.a
gnulibc_version='2.13'
Dynamic Linking:
dlsrc=dl_dlopen.xs, dlext=so, d_dlsymun=undef, ccdlflags='-Wl,-E'
cccdlflags='-fPIC', lddlflags='-shared -O2 -g -L/usr/local/lib -fstack-protector'
Characteristics of this binary (from libperl):
Compile-time options: PERL_DONT_CREATE_GVSV PERL_MALLOC_WRAP PERL_USE_DEVEL
USE_64_BIT_ALL USE_64_BIT_INT USE_LARGE_FILES
USE_PERLIO
Built under linux
Compiled at Apr 7 2013 11:28:37
%ENV:
PERL5LIB=""
PERL5OPT=""
PERL5_CPANPLUS_IS_RUNNING="11141"
PERL5_CPAN_IS_RUNNING="11141"
PERL_MM_USE_DEFAULT="1"
@INC:
/home/src/perl/repoperls/installed-perls/perl/perl-5.10.1/5da8/lib/5.10.1/x86_64-linux
/home/src/perl/repoperls/installed-perls/perl/perl-5.10.1/5da8/lib/5.10.1
/home/src/perl/repoperls/installed-perls/perl/perl-5.10.1/5da8/lib/site_perl/5.10.1/x86_64-linux
/home/src/perl/repoperls/installed-perls/perl/perl-5.10.1/5da8/lib/site_perl/5.10.1
.